{"text_format":"1","workbook":"xlsx","n_sheets":4,"sheets":["QRY___SchoolPANsandCapacity","PivotTableA","PivotTableB","Report"],"not_rendered":{"charts":32,"images":4,"macros":1,"external_links":1,"defined_names":7,"comments":0,"pivot_tables":2},"unopened":[],"bounds":{"document_bytes":16777216,"sheet_cells":100000,"rows_first":2000,"rows_last":500,"rows_between":2000,"halvings":0,"cell_chars":16384,"cell_head_chars":4096},"cells_cut":0,"cells_raw":0,"read":"whole","date_system":"1900"}

{"sheet":"QRY___SchoolPANsandCapacity","index":0,"n_rows":666,"n_cols":29,"rows_kept":666,"cut":false,"hidden":true,"merged":[]}
["SchoolName","SubsidiaryName","SchoolURN","SchoolReferenceNo","SchoolControlType","State","AcademyConversionDate","Schooltype","SchoolSector","PhaseType","Tier","Denominationtext","SchoolIntakeYear","YearStart","CENSUSTerm","PAN","TemporaryPlaces","PlannedPlaces","BoardingPlaces","MothballedPlaces","NetCapacity","CurrentYrStart","Area","Subarea","GeoLocalityName","ParishName","Ward","SEN","Closed"]
["Alexander First School","Alexander First School",529,"8682155","Community","State",null,"First","First","Primary","Three Tier","None","R",2013,1,24,6,0,0,0,135,2018,"Windsor","Windsor South","Alexander","Bray","Clewer South",false,false]
["Alexander First School","Alexander First School",529,"8682155","Community","State",null,"First","First","Primary","Three Tier","None","R",2014,1,30,0,0,0,0,150,2018,"Windsor","Windsor South","Alexander","Bray","Clewer South",false,false]
["Alexander First School","Alexander First School",529,"8682155","Community","State",null,"First","First","Primary","Three Tier","None","R",2015,1,30,0,0,0,0,150,2018,"Windsor","Windsor South","Alexander","Bray","Clewer South",false,false]
["Alexander First School","Alexander First School",529,"8682155","Community","State",null,"First","First","Primary","Three Tier","None","R",2016,1,30,0,0,0,0,150,2018,"Windsor","Windsor South","Alexander","Bray","Clewer South",false,false]
["Alexander First School","Alexander First School",529,"8682155","Community","State",null,"First","First","Primary","Three Tier","None","R",2017,1,30,0,0,0,0,150,2018,"Windsor","Windsor South","Alexander","Bray","Clewer South",false,false]
["Alexander First School","Alexander First School",529,"8682155","Community","State",null,"First","First","Primary","Three Tier","None","R",2018,1,30,0,0,0,0,150,2018,"Windsor","Windsor South","Alexander","Bray","Clewer South",false,false]
["Alexander First School","Alexander First School",529,"8682155","Community","State",null,"First","First","Primary","Three Tier","None","R",2019,1,30,0,0,0,0,150,2018,"Windsor","Windsor South","Alexander","Bray","Clewer South",false,false]
["Alexander First School","Alexander First School",529,"8682155","Community","State",null,"First","First","Primary","Three Tier","None","R",2020,1,30,0,0,0,0,150,2018,"Windsor","Windsor South","Alexander","Bray","Clewer South",false,false]
["Alexander First School","Alexander First School",529,"8682155","Community","State",null,"First","First","Primary","Three Tier","None","R",2021,1,30,0,0,0,0,150,2018,"Windsor","Windsor South","Alexander","Bray","Clewer South",false,false]
["Alexander First School","Alexander First School",529,"8682155","Community","State",null,"First","First","Primary","Three Tier","None","R",2022,1,30,0,0,0,0,150,2018,"Windsor","Windsor South","Alexander","Bray","Clewer South",false,false]
["All Saints Church of England Junior School","All Saints Church of England Junior School",577,"8683059","Voluntary Controlled","State",null,"Junior","Primary","Primary","Two Tier","Church of England","3",2013,1,67,0,0,0,0,240,2018,"Maidenhead","Central Maidenhead","Boyn Hill","None","Boyn Hill",false,false]
["All Saints Church of England Junior School","All Saints Church of England Junior School",577,"8683059","Voluntary Controlled","State",null,"Junior","Primary","Primary","Two Tier","Church of England","3",2014,1,67,23,0,0,0,240,2018,"Maidenhead","Central Maidenhead","Boyn Hill","None","Boyn Hill",false,false]
["All Saints Church of England Junior School","All Saints Church of England Junior School",577,"8683059","Voluntary Controlled","State",null,"Junior","Primary","Primary","Two Tier","Church of England","3",2015,1,90,0,0,0,0,360,2018,"Maidenhead","Central Maidenhead","Boyn Hill","None","Boyn Hill",false,false]
["All Saints Church of England Junior School","All Saints Church of England Junior School",577,"8683059","Voluntary Controlled","State",null,"Junior","Primary","Primary","Two Tier","Church of England","3",2016,1,90,0,0,0,0,360,2018,"Maidenhead","Central Maidenhead","Boyn Hill","None","Boyn Hill",false,false]
["All Saints Church of England Junior School","All Saints Church of England Junior School",577,"8683059","Voluntary Controlled","State",null,"Junior","Primary","Primary","Two Tier","Church of England","3",2017,1,90,0,0,0,0,360,2018,"Maidenhead","Central Maidenhead","Boyn Hill","None","Boyn Hill",false,false]
["All Saints Church of England Junior School","All Saints Church of England Junior School",577,"8683059","Voluntary Controlled","State",null,"Junior","Primary","Primary","Two Tier","Church of England","3",2018,1,90,0,0,0,0,360,2018,"Maidenhead","Central Maidenhead","Boyn Hill","None","Boyn Hill",false,false]
["All Saints Church of England Junior School","All Saints Church of England Junior School",577,"8683059","Voluntary Controlled","State",null,"Junior","Primary","Primary","Two Tier","Church of England","3",2019,1,90,0,0,0,0,360,2018,"Maidenhead","Central Maidenhead","Boyn Hill","None","Boyn Hill",false,false]
["All Saints Church of England Junior School","All Saints Church of England Junior School",577,"8683059","Voluntary Controlled","State",null,"Junior","Primary","Primary","Two Tier","Church of England","3",2020,1,90,0,0,0,0,360,2018,"Maidenhead","Central Maidenhead","Boyn Hill","None","Boyn Hill",false,false]
["All Saints Church of England Junior School","All Saints Church of England Junior School",577,"8683059","Voluntary Controlled","State",null,"Junior","Primary","Primary","Two Tier","Church of England","3",2021,1,90,0,0,0,0,360,2018,"Maidenhead","Central Maidenhead","Boyn Hill","None","Boyn Hill",false,false]
["All Saints Church of England Junior School","All Saints Church of England Junior School",577,"8683059","Voluntary Controlled","State",null,"Junior","Primary","Primary","Two Tier","Church of England","3",2022,1,90,0,0,0,0,360,2018,"Maidenhead","Central Maidenhead","Boyn Hill","None","Boyn Hill",false,false]
["Altwood Church of England School","Altwood Church of England School",581,"8684506","Academy","State","2012-09-01","Secondary","Secondary","Secondary","Two Tier","Church of England","7",2013,1,150,0,0,0,0,897,2018,"Maidenhead","Central Maidenhead","Tittle Row","None","Boyn Hill",false,false]
["Altwood Church of England School","Altwood Church of England School",581,"8684506","Academy","State","2012-09-01","Secondary","Secondary","Secondary","Two Tier","Church of England","7",2014,1,150,0,0,0,0,897,2018,"Maidenhead","Central Maidenhead","Tittle Row","None","Boyn Hill",false,false]
["Altwood Church of England School","Altwood Church of England School",581,"8684506","Academy","State","2012-09-01","Secondary","Secondary","Secondary","Two Tier","Church of England","7",2015,1,150,0,0,0,0,897,2018,"Maidenhead","Central Maidenhead","Tittle Row","None","Boyn Hill",false,false]
["Altwood Church of England School","Altwood Church of England School",581,"8684506","Academy","State","2012-09-01","Secondary","Secondary","Secondary","Two Tier","Church of England","7",2016,1,150,0,0,0,0,897,2018,"Maidenhead","Central Maidenhead","Tittle Row","None","Boyn Hill",false,false]
["Altwood Church of England School","Altwood Church of England School",581,"8684506","Academy","State","2012-09-01","Secondary","Secondary","Secondary","Two Tier","Church of England","7",2017,1,150,0,0,0,0,909,2018,"Maidenhead","Central Maidenhead","Tittle Row","None","Boyn Hill",false,false]
["Altwood Church of England School","Altwood Church of England School",581,"8684506","Academy","State","2012-09-01","Secondary","Secondary","Secondary","Two Tier","Church of England","7",2018,1,150,0,0,0,0,909,2018,"Maidenhead","Central Maidenhead","Tittle Row","None","Boyn Hill",false,false]
["Altwood Church of England School","Altwood Church of England School",581,"8684506","Academy","State","2012-09-01","Secondary","Secondary","Secondary","Two Tier","Church of England","7",2019,1,150,0,0,0,0,909,2018,"Maidenhead","Central Maidenhead","Tittle Row","None","Boyn Hill",false,false]
["Altwood Church of England School","Altwood Church of England School",581,"8684506","Academy","State","2012-09-01","Secondary","Secondary","Secondary","Two Tier","Church of England","7",2020,1,150,0,0,0,0,909,2018,"Maidenhead","Central Maidenhead","Tittle Row","None","Boyn Hill",false,false]
["Altwood Church of England School","Altwood Church of England School",581,"8684506","Academy","State","2012-09-01","Secondary","Secondary","Secondary","Two Tier","Church of England","7",2021,1,150,0,0,0,0,909,2018,"Maidenhead","Central Maidenhead","Tittle Row","None","Boyn Hill",false,false]
["Altwood Church of England School","Altwood Church of England School",581,"8684506","Academy","State","2012-09-01","Secondary","Secondary","Secondary","Two Tier","Church of England","7",2022,1,150,0,0,0,0,909,2018,"Maidenhead","Central Maidenhead","Tittle Row","None","Boyn Hill",false,false]
["Alwyn Infant School","Alwyn Infant School",587,"8682071","Community","State",null,"Infants","Primary","Primary","Two Tier","None","R",2013,1,101,4,0,0,0,295,2018,"Maidenhead","North West Maidenhead","St Mark's","None","Pinkneys Green",false,false]
["Alwyn Infant School","Alwyn Infant School",587,"8682071","Community","State",null,"Infants","Primary","Primary","Two Tier","None","R",2014,1,101,0,0,0,0,295,2018,"Maidenhead","North West Maidenhead","St Mark's","None","Pinkneys Green",false,false]
["Alwyn Infant School","Alwyn Infant School",587,"8682071","Community","State",null,"Infants","Primary","Primary","Two Tier","None","R",2015,1,101,0,0,0,0,295,2018,"Maidenhead","North West Maidenhead","St Mark's","None","Pinkneys Green",false,false]
["Alwyn Infant School","Alwyn Infant School",587,"8682071","Community","State",null,"Infants","Primary","Primary","Two Tier","None","R",2016,1,101,3,0,0,0,295,2018,"Maidenhead","North West Maidenhead","St Mark's","None","Pinkneys Green",false,false]
["Alwyn Infant School","Alwyn Infant School",587,"8682071","Community","State",null,"Infants","Primary","Primary","Two Tier","None","R",2017,1,101,0,0,0,0,303,2018,"Maidenhead","North West Maidenhead","St Mark's","None","Pinkneys Green",false,false]
["Alwyn Infant School","Alwyn Infant School",587,"8682071","Community","State",null,"Infants","Primary","Primary","Two Tier","None","R",2018,1,90,0,0,0,11,303,2018,"Maidenhead","North West Maidenhead","St Mark's","None","Pinkneys Green",false,false]
["Alwyn Infant School","Alwyn Infant School",587,"8682071","Community","State",null,"Infants","Primary","Primary","Two Tier","None","R",2019,1,90,0,0,0,11,303,2018,"Maidenhead","North West Maidenhead","St Mark's","None","Pinkneys Green",false,false]
["Alwyn Infant School","Alwyn Infant School",587,"8682071","Community","State",null,"Infants","Primary","Primary","Two Tier","None","R",2020,1,90,0,0,0,11,303,2018,"Maidenhead","North West Maidenhead","St Mark's","None","Pinkneys Green",false,false]
["Alwyn Infant School","Alwyn Infant School",587,"8682071","Community","State",null,"Infants","Primary","Primary","Two Tier","None","R",2021,1,90,0,0,0,11,303,2018,"Maidenhead","North West Maidenhead","St Mark's","None","Pinkneys Green",false,false]
["Alwyn Infant School","Alwyn Infant School",587,"8682071","Community","State",null,"Infants","Primary","Primary","Two Tier","None","R",2022,1,90,0,0,0,11,303,2018,"Maidenhead","North West Maidenhead","St Mark's","None","Pinkneys Green",false,false]
["Bisham C of E Primary School","Bisham C of E Primary School",607,"8683010","Voluntary Controlled","State",null,"JMI","Primary","Primary","Two Tier","Church of England","R",2013,1,16,0,0,0,0,112,2018,"Maidenhead","Bisham and Cookham","Bisham","Bisham","Bisham and Cookham",false,false]
["Bisham C of E Primary School","Bisham C of E Primary School",607,"8683010","Voluntary Controlled","State",null,"JMI","Primary","Primary","Two Tier","Church of England","R",2014,1,16,0,0,0,0,112,2018,"Maidenhead","Bisham and Cookham","Bisham","Bisham","Bisham and Cookham",false,false]
["Bisham C of E Primary School","Bisham C of E Primary School",607,"8683010","Voluntary Controlled","State",null,"JMI","Primary","Primary","Two Tier","Church of England","R",2015,1,16,0,0,0,0,112,2018,"Maidenhead","Bisham and Cookham","Bisham","Bisham","Bisham and Cookham",false,false]
["Bisham C of E Primary School","Bisham C of E Primary School",607,"8683010","Voluntary Controlled","State",null,"JMI","Primary","Primary","Two Tier","Church of England","R",2016,1,16,0,0,0,0,112,2018,"Maidenhead","Bisham and Cookham","Bisham","Bisham","Bisham and Cookham",false,false]
["Bisham C of E Primary School","Bisham C of E Primary School",607,"8683010","Academy","State",null,"JMI","Primary","Primary","Two Tier","Church of England","R",2017,1,16,14,0,0,0,120,2018,"Maidenhead","Bisham and Cookham","Bisham","Bisham","Bisham and Cookham",false,false]
["Bisham C of E Primary School","Bisham C of E Primary School",607,"8683010","Academy","State",null,"JMI","Primary","Primary","Two Tier","Church of England","R",2018,1,16,14,0,0,0,120,2018,"Maidenhead","Bisham and Cookham","Bisham","Bisham","Bisham and Cookham",false,false]
["Bisham C of E Primary School","Bisham C of E Primary School",607,"8683010","Academy","State",null,"JMI","Primary","Primary","Two Tier","Church of England","R",2019,1,16,14,0,0,0,120,2018,"Maidenhead","Bisham and Cookham","Bisham","Bisham","Bisham and Cookham",false,false]
["Bisham C of E Primary School","Bisham C of E Primary School",607,"8683010","Academy","State",null,"JMI","Primary","Primary","Two Tier","Church of England","R",2020,1,16,14,0,0,0,120,2018,"Maidenhead","Bisham and Cookham","Bisham","Bisham","Bisham and Cookham",false,false]
["Bisham C of E Primary School","Bisham C of E Primary School",607,"8683010","Academy","State",null,"JMI","Primary","Primary","Two Tier","Church of England","R",2021,1,16,14,0,0,0,120,2018,"Maidenhead","Bisham and Cookham","Bisham","Bisham","Bisham and Cookham",false,false]
["Bisham C of E Primary School","Bisham C of E Primary School",607,"8683010","Academy","State",null,"JMI","Primary","Primary","Two Tier","Church of England","R",2022,1,16,14,0,0,0,120,2018,"Maidenhead","Bisham and Cookham","Bisham","Bisham","Bisham and Cookham",false,false]
["Boyne Hill C of E Infant and Nursery School","Boyne Hill C of E Infant and Nursery School",579,"8683031","Voluntary Controlled","State",null,"Infants","Primary","Primary","Two Tier","Church of England","R",2013,1,60,0,0,0,0,179,2018,"Maidenhead","Central Maidenhead","Boyn Hill","None","Boyn Hill",false,false]
["Boyne Hill C of E Infant and Nursery School","Boyne Hill C of E Infant and Nursery School",579,"8683031","Voluntary Controlled","State",null,"Infants","Primary","Primary","Two Tier","Church of England","R",2014,1,60,0,0,0,0,179,2018,"Maidenhead","Central Maidenhead","Boyn Hill","None","Boyn Hill",false,false]
["Boyne Hill C of E Infant and Nursery School","Boyne Hill C of E Infant and Nursery School",579,"8683031","Voluntary Controlled","State",null,"Infants","Primary","Primary","Two Tier","Church of England","R",2015,1,60,0,0,0,0,179,2018,"Maidenhead","Central Maidenhead","Boyn Hill","None","Boyn Hill",false,false]
["Boyne Hill C of E Infant and Nursery School","Boyne Hill C of E Infant and Nursery School",579,"8683031","Voluntary Controlled","State",null,"Infants","Primary","Primary","Two Tier","Church of England","R",2016,1,60,0,0,0,0,179,2018,"Maidenhead","Central Maidenhead","Boyn Hill","None","Boyn Hill",false,false]
["Boyne Hill C of E Infant and Nursery School","Boyne Hill C of E Infant and Nursery School",579,"8683031","Voluntary Controlled","State",null,"Infants","Primary","Primary","Two Tier","Church of England","R",2017,1,60,0,0,0,0,180,2018,"Maidenhead","Central Maidenhead","Boyn Hill","None","Boyn Hill",false,false]
["Boyne Hill C of E Infant and Nursery School","Boyne Hill C of E Infant and Nursery School",579,"8683031","Voluntary Controlled","State",null,"Infants","Primary","Primary","Two Tier","Church of England","R",2018,1,60,0,0,0,0,180,2018,"Maidenhead","Central Maidenhead","Boyn Hill","None","Boyn Hill",false,false]
["Boyne Hill C of E Infant and Nursery School","Boyne Hill C of E Infant and Nursery School",579,"8683031","Voluntary Controlled","State",null,"Infants","Primary","Primary","Two Tier","Church of England","R",2019,1,60,0,0,0,0,180,2018,"Maidenhead","Central Maidenhead","Boyn Hill","None","Boyn Hill",false,false]
["Boyne Hill C of E Infant and Nursery School","Boyne Hill C of E Infant and Nursery School",579,"8683031","Voluntary Controlled","State",null,"Infants","Primary","Primary","Two Tier","Church of England","R",2020,1,60,0,0,0,0,180,2018,"Maidenhead","Central Maidenhead","Boyn Hill","None","Boyn Hill",false,false]
["Boyne Hill C of E Infant and Nursery School","Boyne Hill C of E Infant and Nursery School",579,"8683031","Voluntary Controlled","State",null,"Infants","Primary","Primary","Two Tier","Church of England","R",2021,1,60,0,0,0,0,180,2018,"Maidenhead","Central Maidenhead","Boyn Hill","None","Boyn Hill",false,false]
["Boyne Hill C of E Infant and Nursery School","Boyne Hill C of E Infant and Nursery School",579,"8683031","Voluntary Controlled","State",null,"Infants","Primary","Primary","Two Tier","Church of England","R",2022,1,60,0,0,0,0,180,2018,"Maidenhead","Central Maidenhead","Boyn Hill","None","Boyn Hill",false,false]
["Braywick Court School","Braywick Court School",563,"8682000","Free School","State",null,"JMI","Primary","Primary","Two Tier","None","R",2014,1,28,0,0,0,0,58,2018,"Maidenhead","South East Maidenhead","Bray","Bray","Bray",false,false]
["Braywick Court School","Braywick Court School",563,"8682000","Free School","State",null,"JMI","Primary","Primary","Two Tier","None","R",2015,1,30,0,0,0,0,58,2018,"Maidenhead","South East Maidenhead","Bray","Bray","Bray",false,false]
["Braywick Court School","Braywick Court School",563,"8682000","Free School","State",null,"JMI","Primary","Primary","Two Tier","None","R",2016,1,30,0,0,0,0,90,2018,"Maidenhead","South East Maidenhead","Bray","Bray","Bray",false,false]
["Braywick Court School","Braywick Court School",563,"8682000","Free School","State",null,"JMI","Primary","Primary","Two Tier","None","R",2017,1,30,0,0,0,0,115,2018,"Maidenhead","South East Maidenhead","Bray","Bray","Bray",false,false]
["Braywick Court School","Braywick Court School",563,"8682000","Free School","State",null,"JMI","Primary","Primary","Two Tier","None","R",2018,1,30,0,0,0,0,210,2018,"Maidenhead","South East Maidenhead","Bray","Bray","Bray",false,false]
["Braywick Court School","Braywick Court School",563,"8682000","Free School","State",null,"JMI","Primary","Primary","Two Tier","None","R",2019,1,30,0,0,0,0,210,2018,"Maidenhead","South East Maidenhead","Bray","Bray","Bray",false,false]
["Braywick Court School","Braywick Court School",563,"8682000","Free School","State",null,"JMI","Primary","Primary","Two Tier","None","R",2020,1,30,0,0,0,0,210,2018,"Maidenhead","South East Maidenhead","Bray","Bray","Bray",false,false]
["Braywick Court School","Braywick Court School",563,"8682000","Free School","State",null,"JMI","Primary","Primary","Two Tier","None","R",2021,1,30,0,0,0,0,210,2018,"Maidenhead","South East Maidenhead","Bray","Bray","Bray",false,false]
["Braywick Court School","Braywick Court School",563,"8682000","Free School","State",null,"JMI","Primary","Primary","Two Tier","None","R",2022,1,30,0,0,0,0,210,2018,"Maidenhead","South East Maidenhead","Bray","Bray","Bray",false,false]
["Braywood C of E First School","Braywood C of E First School",528,"8683011","Voluntary Controlled","State",null,"First","First","Primary","Three Tier","Church of England","R",2013,1,25,5,0,0,0,137,2018,"Windsor","Windsor Villages","Fifield","Bray","Bray",false,false]
["Braywood C of E First School","Braywood C of E First School",528,"8683011","Voluntary Controlled","State",null,"First","First","Primary","Three Tier","Church of England","R",2014,1,30,0,0,0,0,137,2018,"Windsor","Windsor Villages","Fifield","Bray","Bray",false,false]
["Braywood C of E First School","Braywood C of E First School",528,"8683011","Voluntary Controlled","State",null,"First","First","Primary","Three Tier","Church of England","R",2015,1,30,0,0,0,0,137,2018,"Windsor","Windsor Villages","Fifield","Bray","Bray",false,false]
["Braywood C of E First School","Braywood C of E First School",528,"8683011","Voluntary Controlled","State",null,"First","First","Primary","Three Tier","Church of England","R",2016,1,30,0,0,0,0,137,2018,"Windsor","Windsor Villages","Fifield","Bray","Bray",false,false]
["Braywood C of E First School","Braywood C of E First School",528,"8683011","Voluntary Controlled","State",null,"First","First","Primary","Three Tier","Church of England","R",2017,1,30,0,0,0,0,137,2018,"Windsor","Windsor Villages","Fifield","Bray","Bray",false,false]
["Braywood C of E First School","Braywood C of E First School",528,"8683011","Voluntary Controlled","State",null,"First","First","Primary","Three Tier","Church of England","R",2018,1,30,0,0,0,0,137,2018,"Windsor","Windsor Villages","Fifield","Bray","Bray",false,false]
["Braywood C of E First School","Braywood C of E First School",528,"8683011","Voluntary Controlled","State",null,"First","First","Primary","Three Tier","Church of England","R",2019,1,30,0,0,0,0,137,2018,"Windsor","Windsor Villages","Fifield","Bray","Bray",false,false]
["Braywood C of E First School","Braywood C of E First School",528,"8683011","Voluntary Controlled","State",null,"First","First","Primary","Three Tier","Church of England","R",2020,1,30,0,0,0,0,137,2018,"Windsor","Windsor Villages","Fifield","Bray","Bray",false,false]
["Braywood C of E First School","Braywood C of E First School",528,"8683011","Voluntary Controlled","State",null,"First","First","Primary","Three Tier","Church of England","R",2021,1,30,0,0,0,0,137,2018,"Windsor","Windsor Villages","Fifield","Bray","Bray",false,false]
["Braywood C of E First School","Braywood C of E First School",528,"8683011","Voluntary Controlled","State",null,"First","First","Primary","Three Tier","Church of England","R",2022,1,30,0,0,0,0,137,2018,"Windsor","Windsor Villages","Fifield","Bray","Bray",false,false]
["Burchetts Green CE Infant School","Burchetts Green CE Infant School",590,"8683027","Voluntary Controlled","State","2014-12-01","Infants","Primary","Primary","Two Tier","Church of England","R",2013,1,20,0,0,0,0,60,2018,"Maidenhead","Maidenhead Villages","Burchett's Green","Hurley","Hurley and Walthams",false,false]
["Burchetts Green CE Infant School","Burchetts Green CE Infant School",590,"8683027","Voluntary Controlled","State","2014-12-01","Infants","Primary","Primary","Two Tier","Church of England","R",2014,1,20,0,0,0,0,60,2018,"Maidenhead","Maidenhead Villages","Burchett's Green","Hurley","Hurley and Walthams",false,false]
["Burchetts Green CE Infant School","Burchetts Green CE Infant School",590,"8683027","Academy","State","2014-12-01","Infants","Primary","Primary","Two Tier","Church of England","R",2015,1,20,0,0,0,0,60,2018,"Maidenhead","Maidenhead Villages","Burchett's Green","Hurley","Hurley and Walthams",false,false]
["Burchetts Green CE Infant School","Burchetts Green CE Infant School",590,"8683027","Academy","State","2014-12-01","Infants","Primary","Primary","Two Tier","Church of England","R",2016,1,20,5,0,0,0,60,2018,"Maidenhead","Maidenhead Villages","Burchett's Green","Hurley","Hurley and Walthams",false,false]
["Burchetts Green CE Infant School","Burchetts Green CE Infant School",590,"8683027","Academy","State","2014-12-01","Infants","Primary","Primary","Two Tier","Church of England","R",2017,1,22,3,0,0,0,60,2018,"Maidenhead","Maidenhead Villages","Burchett's Green","Hurley","Hurley and Walthams",false,false]
["Burchetts Green CE Infant School","Burchetts Green CE Infant School",590,"8683027","Academy","State","2014-12-01","Infants","Primary","Primary","Two Tier","Church of England","R",2018,1,22,3,0,0,0,60,2018,"Maidenhead","Maidenhead Villages","Burchett's Green","Hurley","Hurley and Walthams",false,false]
["Burchetts Green CE Infant School","Burchetts Green CE Infant School",590,"8683027","Academy","State","2014-12-01","Infants","Primary","Primary","Two Tier","Church of England","R",2019,1,22,0,0,0,0,60,2018,"Maidenhead","Maidenhead Villages","Burchett's Green","Hurley","Hurley and Walthams",false,false]
["Burchetts Green CE Infant School","Burchetts Green CE Infant School",590,"8683027","Academy","State","2014-12-01","Infants","Primary","Primary","Two Tier","Church of England","R",2020,1,22,0,0,0,0,60,2018,"Maidenhead","Maidenhead Villages","Burchett's Green","Hurley","Hurley and Walthams",false,false]
["Burchetts Green CE Infant School","Burchetts Green CE Infant School",590,"8683027","Academy","State","2014-12-01","Infants","Primary","Primary","Two Tier","Church of England","R",2021,1,22,0,0,0,0,60,2018,"Maidenhead","Maidenhead Villages","Burchett's Green","Hurley","Hurley and Walthams",false,false]
["Burchetts Green CE Infant School","Burchetts Green CE Infant School",590,"8683027","Academy","State","2014-12-01","Infants","Primary","Primary","Two Tier","Church of England","R",2022,1,22,0,0,0,0,60,2018,"Maidenhead","Maidenhead Villages","Burchett's Green","Hurley","Hurley and Walthams",false,false]
["Charters School","Charters School",555,"8684029","Academy","State","2012-10-01","Secondary","Secondary","Secondary","Two Tier","None","7",2013,1,240,0,0,0,0,1666,2018,"Ascot","Ascot","South Sunningdale","Sunningdale","Sunningdale",false,false]
["Charters School","Charters School",555,"8684029","Academy","State","2012-10-01","Secondary","Secondary","Secondary","Two Tier","None","7",2014,1,240,0,0,0,0,1666,2018,"Ascot","Ascot","South Sunningdale","Sunningdale","Sunningdale",false,false]
["Charters School","Charters School",555,"8684029","Academy","State","2012-10-01","Secondary","Secondary","Secondary","Two Tier","None","7",2015,1,240,0,0,0,0,1685,2018,"Ascot","Ascot","South Sunningdale","Sunningdale","Sunningdale",false,false]
["Charters School","Charters School",555,"8684029","Academy","State","2012-10-01","Secondary","Secondary","Secondary","Two Tier","None","7",2016,1,240,0,0,0,0,1685,2018,"Ascot","Ascot","South Sunningdale","Sunningdale","Sunningdale",false,false]
["Charters School","Charters School",555,"8684029","Academy","State","2012-10-01","Secondary","Secondary","Secondary","Two Tier","None","7",2017,1,240,30,0,0,0,1642,2018,"Ascot","Ascot","South Sunningdale","Sunningdale","Sunningdale",false,false]
["Charters School","Charters School",555,"8684029","Academy","State","2012-10-01","Secondary","Secondary","Secondary","Two Tier","None","7",2018,1,240,0,30,0,0,1816,2018,"Ascot","Ascot","South Sunningdale","Sunningdale","Sunningdale",false,false]
["Charters School","Charters School",555,"8684029","Academy","State","2012-10-01","Secondary","Secondary","Secondary","Two Tier","None","7",2019,1,240,0,30,0,0,1816,2018,"Ascot","Ascot","South Sunningdale","Sunningdale","Sunningdale",false,false]
["Charters School","Charters School",555,"8684029","Academy","State","2012-10-01","Secondary","Secondary","Secondary","Two Tier","None","7",2020,1,240,0,30,0,0,1816,2018,"Ascot","Ascot","South Sunningdale","Sunningdale","Sunningdale",false,false]
["Charters School","Charters School",555,"8684029","Academy","State","2012-10-01","Secondary","Secondary","Secondary","Two Tier","None","7",2021,1,240,0,30,0,0,1816,2018,"Ascot","Ascot","South Sunningdale","Sunningdale","Sunningdale",false,false]
["Charters School","Charters School",555,"8684029","Academy","State","2012-10-01","Secondary","Secondary","Secondary","Two Tier","None","7",2022,1,240,0,30,0,0,1816,2018,"Ascot","Ascot","South Sunningdale","Sunningdale","Sunningdale",false,false]
["Cheapside CE Primary School","Cheapside CE Primary School",546,"8683324","Voluntary Aided","State",null,"JMI","Primary","Primary","Two Tier","Church of England","R",2013,1,16,0,0,0,0,112,2018,"Ascot","Ascot","Cheapside","Sunninghill & Ascot","Ascot & Cheapside",false,false]
["Cheapside CE Primary School","Cheapside CE Primary School",546,"8683324","Voluntary Aided","State",null,"JMI","Primary","Primary","Two Tier","Church of England","R",2014,1,16,0,0,0,0,112,2018,"Ascot","Ascot","Cheapside","Sunninghill & Ascot","Ascot & Cheapside",false,false]
["Cheapside CE Primary School","Cheapside CE Primary School",546,"8683324","Voluntary Aided","State",null,"JMI","Primary","Primary","Two Tier","Church of England","R",2015,1,16,0,0,0,0,112,2018,"Ascot","Ascot","Cheapside","Sunninghill & Ascot","Ascot & Cheapside",false,false]
["Cheapside CE Primary School","Cheapside CE Primary School",546,"8683324","Voluntary Aided","State",null,"JMI","Primary","Primary","Two Tier","Church of England","R",2016,1,16,0,0,0,0,112,2018,"Ascot","Ascot","Cheapside","Sunninghill & Ascot","Ascot & Cheapside",false,false]
["Cheapside CE Primary School","Cheapside CE Primary School",546,"8683324","Voluntary Aided","State",null,"JMI","Primary","Primary","Two Tier","Church of England","R",2017,1,30,0,0,0,0,112,2018,"Ascot","Ascot","Cheapside","Sunninghill & Ascot","Ascot & Cheapside",false,false]
["Cheapside CE Primary School","Cheapside CE Primary School",546,"8683324","Voluntary Aided","State",null,"JMI","Primary","Primary","Two Tier","Church of England","R",2018,1,30,0,0,0,0,210,2018,"Ascot","Ascot","Cheapside","Sunninghill & Ascot","Ascot & Cheapside",false,false]
["Cheapside CE Primary School","Cheapside CE Primary School",546,"8683324","Voluntary Aided","State",null,"JMI","Primary","Primary","Two Tier","Church of England","R",2019,1,30,0,0,0,0,210,2018,"Ascot","Ascot","Cheapside","Sunninghill & Ascot","Ascot & Cheapside",false,false]
["Cheapside CE Primary School","Cheapside CE Primary School",546,"8683324","Voluntary Aided","State",null,"JMI","Primary","Primary","Two Tier","Church of England","R",2020,1,30,0,0,0,0,210,2018,"Ascot","Ascot","Cheapside","Sunninghill & Ascot","Ascot & Cheapside",false,false]
["Cheapside CE Primary School","Cheapside CE Primary School",546,"8683324","Voluntary Aided","State",null,"JMI","Primary","Primary","Two Tier","Church of England","R",2021,1,30,0,0,0,0,210,2018,"Ascot","Ascot","Cheapside","Sunninghill & Ascot","Ascot & Cheapside",false,false]
["Cheapside CE Primary School","Cheapside CE Primary School",546,"8683324","Voluntary Aided","State",null,"JMI","Primary","Primary","Two Tier","Church of England","R",2022,1,30,0,0,0,0,210,2018,"Ascot","Ascot","Cheapside","Sunninghill & Ascot","Ascot & Cheapside",false,false]
["Churchmead Church of England School","Churchmead Church of England School",511,"8684084","Voluntary Aided","State",null,"Secondary","Secondary","Secondary","Two Tier","Church of England","7",2013,1,140,0,0,0,0,744,2018,"Datchet & Wraysbury","Datchet and Wraysbury","Datchet East","Datchet","Datchet",false,false]
["Churchmead Church of England School","Churchmead Church of England School",511,"8684084","Voluntary Aided","State",null,"Secondary","Secondary","Secondary","Two Tier","Church of England","7",2014,1,140,0,0,0,0,744,2018,"Datchet & Wraysbury","Datchet and Wraysbury","Datchet East","Datchet","Datchet",false,false]
["Churchmead Church of England School","Churchmead Church of England School",511,"8684084","Voluntary Aided","State",null,"Secondary","Secondary","Secondary","Two Tier","Church of England","7",2015,1,140,0,0,0,0,744,2018,"Datchet & Wraysbury","Datchet and Wraysbury","Datchet East","Datchet","Datchet",false,false]
["Churchmead Church of England School","Churchmead Church of England School",511,"8684084","Voluntary Aided","State",null,"Secondary","Secondary","Secondary","Two Tier","Church of England","7",2016,1,140,0,0,0,0,744,2018,"Datchet & Wraysbury","Datchet and Wraysbury","Datchet East","Datchet","Datchet",false,false]
["Churchmead Church of England School","Churchmead Church of England School",511,"8684084","Voluntary Aided","State",null,"Secondary","Secondary","Secondary","Two Tier","Church of England","7",2017,1,140,0,0,0,0,713,2018,"Datchet & Wraysbury","Datchet and Wraysbury","Datchet East","Datchet","Datchet",false,false]
["Churchmead Church of England School","Churchmead Church of England School",511,"8684084","Voluntary Aided","State",null,"Secondary","Secondary","Secondary","Two Tier","Church of England","7",2018,1,110,0,0,0,30,713,2018,"Datchet & Wraysbury","Datchet and Wraysbury","Datchet East","Datchet","Datchet",false,false]
["Churchmead Church of England School","Churchmead Church of England School",511,"8684084","Voluntary Aided","State",null,"Secondary","Secondary","Secondary","Two Tier","Church of England","7",2019,1,110,0,0,0,30,713,2018,"Datchet & Wraysbury","Datchet and Wraysbury","Datchet East","Datchet","Datchet",false,false]
["Churchmead Church of England School","Churchmead Church of England School",511,"8684084","Voluntary Aided","State",null,"Secondary","Secondary","Secondary","Two Tier","Church of England","7",2020,1,110,0,0,0,30,713,2018,"Datchet & Wraysbury","Datchet and Wraysbury","Datchet East","Datchet","Datchet",false,false]
["Churchmead Church of England School","Churchmead Church of England School",511,"8684084","Voluntary Aided","State",null,"Secondary","Secondary","Secondary","Two Tier","Church of England","7",2021,1,110,0,0,0,30,713,2018,"Datchet & Wraysbury","Datchet and Wraysbury","Datchet East","Datchet","Datchet",false,false]
["Churchmead Church of England School","Churchmead Church of England School",511,"8684084","Voluntary Aided","State",null,"Secondary","Secondary","Secondary","Two Tier","Church of England","7",2022,1,110,0,0,0,30,713,2018,"Datchet & Wraysbury","Datchet and Wraysbury","Datchet East","Datchet","Datchet",false,false]
["Clewer Green CE School","Clewer Green CE School",523,"8683326","Voluntary Aided","State",null,"First","First","Primary","Three Tier","Church of England","R",2013,1,60,0,0,0,0,300,2018,"Windsor","Windsor South","New Town","None","Clewer East",false,false]
["Clewer Green CE School","Clewer Green CE School",523,"8683326","Voluntary Aided","State",null,"First","First","Primary","Three Tier","Church of England","R",2014,1,60,0,0,0,0,300,2018,"Windsor","Windsor South","New Town","None","Clewer East",false,false]
["Clewer Green CE School","Clewer Green CE School",523,"8683326","Voluntary Aided","State",null,"First","First","Primary","Three Tier","Church of England","R",2015,1,60,0,0,0,0,300,2018,"Windsor","Windsor South","New Town","None","Clewer East",false,false]
["Clewer Green CE School","Clewer Green CE School",523,"8683326","Voluntary Aided","State",null,"First","First","Primary","Three Tier","Church of England","R",2016,1,60,0,0,0,0,300,2018,"Windsor","Windsor South","New Town","None","Clewer East",false,false]
["Clewer Green CE School","Clewer Green CE School",523,"8683326","Voluntary Aided","State",null,"First","First","Primary","Three Tier","Church of England","R",2017,1,60,0,0,0,0,300,2018,"Windsor","Windsor South","New Town","None","Clewer East",false,false]
["Clewer Green CE School","Clewer Green CE School",523,"8683326","Voluntary Aided","State",null,"First","First","Primary","Three Tier","Church of England","R",2018,1,60,0,0,0,0,300,2018,"Windsor","Windsor South","New Town","None","Clewer East",false,false]
["Clewer Green CE School","Clewer Green CE School",523,"8683326","Voluntary Aided","State",null,"First","First","Primary","Three Tier","Church of England","R",2019,1,60,0,0,0,0,300,2018,"Windsor","Windsor South","New Town","None","Clewer East",false,false]
["Clewer Green CE School","Clewer Green CE School",523,"8683326","Voluntary Aided","State",null,"First","First","Primary","Three Tier","Church of England","R",2020,1,60,0,0,0,0,300,2018,"Windsor","Windsor South","New Town","None","Clewer East",false,false]
["Clewer Green CE School","Clewer Green CE School",523,"8683326","Voluntary Aided","State",null,"First","First","Primary","Three Tier","Church of England","R",2021,1,60,0,0,0,0,300,2018,"Windsor","Windsor South","New Town","None","Clewer East",false,false]
["Clewer Green CE School","Clewer Green CE School",523,"8683326","Voluntary Aided","State",null,"First","First","Primary","Three Tier","Church of England","R",2022,1,60,0,0,0,0,300,2018,"Windsor","Windsor South","New Town","None","Clewer East",false,false]
["Cookham Dean CE Primary School","Cookham Dean CE Primary School",602,"8683021","Voluntary Aided","State",null,"JMI","Primary","Primary","Two Tier","Church of England","R",2013,1,26,0,0,0,0,189,2018,"Maidenhead","Bisham and Cookham","Cookham Dean South","Cookham","Bisham and Cookham",false,false]
["Cookham Dean CE Primary School","Cookham Dean CE Primary School",602,"8683021","Voluntary Aided","State",null,"JMI","Primary","Primary","Two Tier","Church of England","R",2014,1,26,0,0,0,0,189,2018,"Maidenhead","Bisham and Cookham","Cookham Dean South","Cookham","Bisham and Cookham",false,false]
["Cookham Dean CE Primary School","Cookham Dean CE Primary School",602,"8683021","Voluntary Aided","State",null,"JMI","Primary","Primary","Two Tier","Church of England","R",2015,1,27,0,0,0,0,189,2018,"Maidenhead","Bisham and Cookham","Cookham Dean South","Cookham","Bisham and Cookham",false,false]
["Cookham Dean CE Primary School","Cookham Dean CE Primary School",602,"8683021","Voluntary Aided","State",null,"JMI","Primary","Primary","Two Tier","Church of England","R",2016,1,27,0,0,0,0,189,2018,"Maidenhead","Bisham and Cookham","Cookham Dean South","Cookham","Bisham and Cookham",false,false]
["Cookham Dean CE Primary School","Cookham Dean CE Primary School",602,"8683021","Voluntary Aided","State",null,"JMI","Primary","Primary","Two Tier","Church of England","R",2017,1,27,0,0,0,0,189,2018,"Maidenhead","Bisham and Cookham","Cookham Dean South","Cookham","Bisham and Cookham",false,false]
["Cookham Dean CE Primary School","Cookham Dean CE Primary School",602,"8683021","Voluntary Aided","State",null,"JMI","Primary","Primary","Two Tier","Church of England","R",2018,1,27,0,0,0,0,189,2018,"Maidenhead","Bisham and Cookham","Cookham Dean South","Cookham","Bisham and Cookham",false,false]
["Cookham Dean CE Primary School","Cookham Dean CE Primary School",602,"8683021","Voluntary Aided","State",null,"JMI","Primary","Primary","Two Tier","Church of England","R",2019,1,27,0,0,0,0,189,2018,"Maidenhead","Bisham and Cookham","Cookham Dean South","Cookham","Bisham and Cookham",false,false]
["Cookham Dean CE Primary School","Cookham Dean CE Primary School",602,"8683021","Voluntary Aided","State",null,"JMI","Primary","Primary","Two Tier","Church of England","R",2020,1,27,0,0,0,0,189,2018,"Maidenhead","Bisham and Cookham","Cookham Dean South","Cookham","Bisham and Cookham",false,false]
["Cookham Dean CE Primary School","Cookham Dean CE Primary School",602,"8683021","Voluntary Aided","State",null,"JMI","Primary","Primary","Two Tier","Church of England","R",2021,1,27,0,0,0,0,189,2018,"Maidenhead","Bisham and Cookham","Cookham Dean South","Cookham","Bisham and Cookham",false,false]
["Cookham Dean CE Primary School","Cookham Dean CE Primary School",602,"8683021","Voluntary Aided","State",null,"JMI","Primary","Primary","Two Tier","Church of England","R",2022,1,27,0,0,0,0,189,2018,"Maidenhead","Bisham and Cookham","Cookham Dean South","Cookham","Bisham and Cookham",false,false]
["Cookham Nursery School","Cookham Nursery School",600,"8681011","Community","State",null,"Nursery School","Early Years","Early Years","NA","None","E1",2013,1,0,0,0,0,0,0,2018,"Maidenhead","Bisham and Cookham","Cookham","Cookham","Bisham and Cookham",false,false]
["Cookham Nursery School","Cookham Nursery School",600,"8681011","Community","State",null,"Nursery School","Early Years","Early Years","NA","None","E1",2014,1,0,0,0,0,0,0,2018,"Maidenhead","Bisham and Cookham","Cookham","Cookham","Bisham and Cookham",false,false]
["Cookham Nursery School","Cookham Nursery School",600,"8681011","Community","State",null,"Nursery School","Early Years","Early Years","NA","None","E1",2015,1,0,0,0,0,0,0,2018,"Maidenhead","Bisham and Cookham","Cookham","Cookham","Bisham and Cookham",false,false]
["Cookham Nursery School","Cookham Nursery School",600,"8681011","Community","State",null,"Nursery School","Early Years","Early Years","NA","None","E1",2016,1,0,0,0,0,0,0,2018,"Maidenhead","Bisham and Cookham","Cookham","Cookham","Bisham and Cookham",false,false]
["Cookham Nursery School","Cookham Nursery School",600,"8681011","Community","State",null,"Nursery School","Early Years","Early Years","NA","None","E1",2017,1,0,0,0,0,0,0,2018,"Maidenhead","Bisham and Cookham","Cookham","Cookham","Bisham and Cookham",false,false]
["Cookham Nursery School","Cookham Nursery School",600,"8681011","Community","State",null,"Nursery School","Early Years","Early Years","NA","None","E1",2018,1,0,0,0,0,0,0,2018,"Maidenhead","Bisham and Cookham","Cookham","Cookham","Bisham and Cookham",false,false]
["Cookham Nursery School","Cookham Nursery School",600,"8681011","Community","State",null,"Nursery School","Early Years","Early Years","NA","None","E1",2019,1,0,0,0,0,0,0,2018,"Maidenhead","Bisham and Cookham","Cookham","Cookham","Bisham and Cookham",false,false]
["Cookham Nursery School","Cookham Nursery School",600,"8681011","Community","State",null,"Nursery School","Early Years","Early Years","NA","None","E1",2020,1,0,0,0,0,0,0,2018,"Maidenhead","Bisham and Cookham","Cookham","Cookham","Bisham and Cookham",false,false]
["Cookham Nursery School","Cookham Nursery School",600,"8681011","Community","State",null,"Nursery School","Early Years","Early Years","NA","None","E1",2021,1,0,0,0,0,0,0,2018,"Maidenhead","Bisham and Cookham","Cookham","Cookham","Bisham and Cookham",false,false]
["Cookham Nursery School","Cookham Nursery School",600,"8681011","Community","State",null,"Nursery School","Early Years","Early Years","NA","None","E1",2022,1,0,0,0,0,0,0,2018,"Maidenhead","Bisham and Cookham","Cookham","Cookham","Bisham and Cookham",false,false]
["Cookham Rise Primary School","Cookham Rise Primary School",601,"8682123","Community","State",null,"JMI","Primary","Primary","Two Tier","None","R",2013,1,30,0,0,0,0,210,2018,"Maidenhead","Bisham and Cookham","Cookham Rise","Cookham","Bisham and Cookham",false,false]
["Cookham Rise Primary School","Cookham Rise Primary School",601,"8682123","Community","State",null,"JMI","Primary","Primary","Two Tier","None","R",2014,1,30,0,0,0,0,210,2018,"Maidenhead","Bisham and Cookham","Cookham Rise","Cookham","Bisham and Cookham",false,false]
["Cookham Rise Primary School","Cookham Rise Primary School",601,"8682123","Community","State",null,"JMI","Primary","Primary","Two Tier","None","R",2015,1,30,0,0,0,0,210,2018,"Maidenhead","Bisham and Cookham","Cookham Rise","Cookham","Bisham and Cookham",false,false]
["Cookham Rise Primary School","Cookham Rise Primary School",601,"8682123","Community","State",null,"JMI","Primary","Primary","Two Tier","None","R",2016,1,30,0,0,0,0,210,2018,"Maidenhead","Bisham and Cookham","Cookham Rise","Cookham","Bisham and Cookham",false,false]
["Cookham Rise Primary School","Cookham Rise Primary School",601,"8682123","Community","State",null,"JMI","Primary","Primary","Two Tier","None","R",2017,1,30,0,0,0,0,210,2018,"Maidenhead","Bisham and Cookham","Cookham Rise","Cookham","Bisham and Cookham",false,false]
["Cookham Rise Primary School","Cookham Rise Primary School",601,"8682123","Community","State",null,"JMI","Primary","Primary","Two Tier","None","R",2018,1,30,0,0,0,0,210,2018,"Maidenhead","Bisham and Cookham","Cookham Rise","Cookham","Bisham and Cookham",false,false]
["Cookham Rise Primary School","Cookham Rise Primary School",601,"8682123","Community","State",null,"JMI","Primary","Primary","Two Tier","None","R",2019,1,30,0,0,0,0,210,2018,"Maidenhead","Bisham and Cookham","Cookham Rise","Cookham","Bisham and Cookham",false,false]
["Cookham Rise Primary School","Cookham Rise Primary School",601,"8682123","Community","State",null,"JMI","Primary","Primary","Two Tier","None","R",2020,1,30,0,0,0,0,210,2018,"Maidenhead","Bisham and Cookham","Cookham Rise","Cookham","Bisham and Cookham",false,false]
["Cookham Rise Primary School","Cookham Rise Primary School",601,"8682123","Community","State",null,"JMI","Primary","Primary","Two Tier","None","R",2021,1,30,0,0,0,0,210,2018,"Maidenhead","Bisham and Cookham","Cookham Rise","Cookham","Bisham and Cookham",false,false]
["Cookham Rise Primary School","Cookham Rise Primary School",601,"8682123","Community","State",null,"JMI","Primary","Primary","Two Tier","None","R",2022,1,30,0,0,0,0,210,2018,"Maidenhead","Bisham and Cookham","Cookham Rise","Cookham","Bisham and Cookham",false,false]
["Courthouse Junior School","Courthouse Junior School",583,"8682072","Community","State",null,"Junior","Primary","Primary","Two Tier","None","3",2013,1,105,0,0,0,0,420,2018,"Maidenhead","North West Maidenhead","St Mark's","None","Pinkneys Green",false,false]
["Courthouse Junior School","Courthouse Junior School",583,"8682072","Community","State",null,"Junior","Primary","Primary","Two Tier","None","3",2014,1,105,0,0,0,0,420,2018,"Maidenhead","North West Maidenhead","St Mark's","None","Pinkneys Green",false,false]
["Courthouse Junior School","Courthouse Junior School",583,"8682072","Community","State",null,"Junior","Primary","Primary","Two Tier","None","3",2015,1,105,0,0,0,0,420,2018,"Maidenhead","North West Maidenhead","St Mark's","None","Pinkneys Green",false,false]
["Courthouse Junior School","Courthouse Junior School",583,"8682072","Community","State",null,"Junior","Primary","Primary","Two Tier","None","3",2016,1,105,0,0,0,0,420,2018,"Maidenhead","North West Maidenhead","St Mark's","None","Pinkneys Green",false,false]
["Courthouse Junior School","Courthouse Junior School",583,"8682072","Community","State",null,"Junior","Primary","Primary","Two Tier","None","3",2017,1,105,0,0,0,0,420,2018,"Maidenhead","North West Maidenhead","St Mark's","None","Pinkneys Green",false,false]
["Courthouse Junior School","Courthouse Junior School",583,"8682072","Community","State",null,"Junior","Primary","Primary","Two Tier","None","3",2018,1,105,0,0,0,0,420,2018,"Maidenhead","North West Maidenhead","St Mark's","None","Pinkneys Green",false,false]
["Courthouse Junior School","Courthouse Junior School",583,"8682072","Community","State",null,"Junior","Primary","Primary","Two Tier","None","3",2019,1,105,0,0,0,0,420,2018,"Maidenhead","North West Maidenhead","St Mark's","None","Pinkneys Green",false,false]
["Courthouse Junior School","Courthouse Junior School",583,"8682072","Community","State",null,"Junior","Primary","Primary","Two Tier","None","3",2020,1,105,0,0,0,0,420,2018,"Maidenhead","North West Maidenhead","St Mark's","None","Pinkneys Green",false,false]
["Courthouse Junior School","Courthouse Junior School",583,"8682072","Community","State",null,"Junior","Primary","Primary","Two Tier","None","3",2021,1,105,0,0,0,0,420,2018,"Maidenhead","North West Maidenhead","St Mark's","None","Pinkneys Green",false,false]
["Courthouse Junior School","Courthouse Junior School",583,"8682072","Community","State",null,"Junior","Primary","Primary","Two Tier","None","3",2022,1,105,0,0,0,0,420,2018,"Maidenhead","North West Maidenhead","St Mark's","None","Pinkneys Green",false,false]
["Cox Green School","Cox Green School",573,"8684056","Academy","State","2011-12-01","Secondary","Secondary","Secondary","Two Tier","None","7",2013,1,176,0,0,0,0,1077,2018,"Maidenhead","South West Maidenhead","Lowbrook","Cox Green","Cox Green",false,false]
["Cox Green School","Cox Green School",573,"8684056","Academy","State","2011-12-01","Secondary","Secondary","Secondary","Two Tier","None","7",2014,1,176,0,0,0,0,1077,2018,"Maidenhead","South West Maidenhead","Lowbrook","Cox Green","Cox Green",false,false]
["Cox Green School","Cox Green School",573,"8684056","Academy","State","2011-12-01","Secondary","Secondary","Secondary","Two Tier","None","7",2015,1,176,0,0,0,0,1085,2018,"Maidenhead","South West Maidenhead","Lowbrook","Cox Green","Cox Green",false,false]
["Cox Green School","Cox Green School",573,"8684056","Academy","State","2011-12-01","Secondary","Secondary","Secondary","Two Tier","None","7",2016,1,176,30,0,0,0,1103,2018,"Maidenhead","South West Maidenhead","Lowbrook","Cox Green","Cox Green",false,false]
["Cox Green School","Cox Green School",573,"8684056","Academy","State","2011-12-01","Secondary","Secondary","Secondary","Two Tier","None","7",2017,1,176,30,0,0,0,1103,2018,"Maidenhead","South West Maidenhead","Lowbrook","Cox Green","Cox Green",false,false]
["Cox Green School","Cox Green School",573,"8684056","Academy","State","2011-12-01","Secondary","Secondary","Secondary","Two Tier","None","7",2018,1,206,4,0,0,0,1227,2018,"Maidenhead","South West Maidenhead","Lowbrook","Cox Green","Cox Green",false,false]
["Cox Green School","Cox Green School",573,"8684056","Academy","State","2011-12-01","Secondary","Secondary","Secondary","Two Tier","None","7",2019,1,210,0,0,0,0,1227,2018,"Maidenhead","South West Maidenhead","Lowbrook","Cox Green","Cox Green",false,false]
["Cox Green School","Cox Green School",573,"8684056","Academy","State","2011-12-01","Secondary","Secondary","Secondary","Two Tier","None","7",2020,1,210,0,0,0,0,1227,2018,"Maidenhead","South West Maidenhead","Lowbrook","Cox Green","Cox Green",false,false]
["Cox Green School","Cox Green School",573,"8684056","Academy","State","2011-12-01","Secondary","Secondary","Secondary","Two Tier","None","7",2021,1,210,0,0,0,0,1227,2018,"Maidenhead","South West Maidenhead","Lowbrook","Cox Green","Cox Green",false,false]
["Cox Green School","Cox Green School",573,"8684056","Academy","State","2011-12-01","Secondary","Secondary","Secondary","Two Tier","None","7",2022,1,210,0,0,0,0,1227,2018,"Maidenhead","South West Maidenhead","Lowbrook","Cox Green","Cox Green",false,false]
["Datchet St Mary's C of E Primary Academy","Datchet St Mary's C of E Primary Academy",510,"8683350","Academy","State","2012-01-01","JMI","Primary","Primary","Two Tier","Church of England","R",2013,1,30,0,0,0,0,204,2018,"Datchet & Wraysbury","Datchet and Wraysbury","Datchet East","Datchet","Datchet",false,false]
["Datchet St Mary's C of E Primary Academy","Datchet St Mary's C of E Primary Academy",510,"8683350","Academy","State","2012-01-01","JMI","Primary","Primary","Two Tier","Church of England","R",2014,1,30,30,0,0,0,234,2018,"Datchet & Wraysbury","Datchet and Wraysbury","Datchet East","Datchet","Datchet",false,false]
["Datchet St Mary's C of E Primary Academy","Datchet St Mary's C of E Primary Academy",510,"8683350","Academy","State","2012-01-01","JMI","Primary","Primary","Two Tier","Church of England","R",2015,1,30,0,0,0,0,234,2018,"Datchet & Wraysbury","Datchet and Wraysbury","Datchet East","Datchet","Datchet",false,false]
["Datchet St Mary's C of E Primary Academy","Datchet St Mary's C of E Primary Academy",510,"8683350","Academy","State","2012-01-01","JMI","Primary","Primary","Two Tier","Church of England","R",2016,1,30,0,0,0,0,234,2018,"Datchet & Wraysbury","Datchet and Wraysbury","Datchet East","Datchet","Datchet",false,false]
["Datchet St Mary's C of E Primary Academy","Datchet St Mary's C of E Primary Academy",510,"8683350","Academy","State","2012-01-01","JMI","Primary","Primary","Two Tier","Church of England","R",2017,1,30,0,0,0,0,234,2018,"Datchet & Wraysbury","Datchet and Wraysbury","Datchet East","Datchet","Datchet",false,false]
["Datchet St Mary's C of E Primary Academy","Datchet St Mary's C of E Primary Academy",510,"8683350","Academy","State","2012-01-01","JMI","Primary","Primary","Two Tier","Church of England","R",2018,1,30,0,0,0,0,234,2018,"Datchet & Wraysbury","Datchet and Wraysbury","Datchet East","Datchet","Datchet",false,false]
["Datchet St Mary's C of E Primary Academy","Datchet St Mary's C of E Primary Academy",510,"8683350","Academy","State","2012-01-01","JMI","Primary","Primary","Two Tier","Church of England","R",2019,1,30,0,0,0,0,234,2018,"Datchet & Wraysbury","Datchet and Wraysbury","Datchet East","Datchet","Datchet",false,false]
["Datchet St Mary's C of E Primary Academy","Datchet St Mary's C of E Primary Academy",510,"8683350","Academy","State","2012-01-01","JMI","Primary","Primary","Two Tier","Church of England","R",2020,1,30,0,0,0,0,234,2018,"Datchet & Wraysbury","Datchet and Wraysbury","Datchet East","Datchet","Datchet",false,false]
["Datchet St Mary's C of E Primary Academy","Datchet St Mary's C of E Primary Academy",510,"8683350","Academy","State","2012-01-01","JMI","Primary","Primary","Two Tier","Church of England","R",2021,1,30,0,0,0,0,204,2018,"Datchet & Wraysbury","Datchet and Wraysbury","Datchet East","Datchet","Datchet",false,false]
["Datchet St Mary's C of E Primary Academy","Datchet St Mary's C of E Primary Academy",510,"8683350","Academy","State","2012-01-01","JMI","Primary","Primary","Two Tier","Church of England","R",2022,1,30,0,0,0,0,204,2018,"Datchet & Wraysbury","Datchet and Wraysbury","Datchet East","Datchet","Datchet",false,false]
["Dedworth Green First School","Dedworth Green First School",534,"8682098","Community","State","2016-05-01","First","First","Primary","Three Tier","None","R",2013,1,30,0,0,0,0,150,2018,"Windsor","Windsor North","Dedworth","None","Clewer North",false,false]
["Dedworth Green First School","Dedworth Green First School",534,"8682098","Community","State","2016-05-01","First","First","Primary","Three Tier","None","R",2014,1,30,30,0,0,0,180,2018,"Windsor","Windsor North","Dedworth","None","Clewer North",false,false]
["Dedworth Green First School","Dedworth Green First School",534,"8682098","Community","State","2016-05-01","First","First","Primary","Three Tier","None","R",2015,1,30,0,0,0,0,180,2018,"Windsor","Windsor North","Dedworth","None","Clewer North",false,false]
["Dedworth Green First School","Dedworth Green First School",534,"8682098","Academy","State","2016-05-01","First","First","Primary","Three Tier","None","R",2016,1,30,0,0,0,0,180,2018,"Windsor","Windsor North","Dedworth","None","Clewer North",false,false]
["Dedworth Green First School","Dedworth Green First School",534,"8682098","Academy","State","2016-05-01","First","First","Primary","Three Tier","None","R",2017,1,30,0,0,0,0,180,2018,"Windsor","Windsor North","Dedworth","None","Clewer North",false,false]
["Dedworth Green First School","Dedworth Green First School",534,"8682098","Academy","State","2016-05-01","First","First","Primary","Three Tier","None","R",2018,1,30,0,0,0,0,180,2018,"Windsor","Windsor North","Dedworth","None","Clewer North",false,false]
["Dedworth Green First School","Dedworth Green First School",534,"8682098","Academy","State","2016-05-01","First","First","Primary","Three Tier","None","R",2019,1,30,0,0,0,0,150,2018,"Windsor","Windsor North","Dedworth","None","Clewer North",false,false]
["Dedworth Green First School","Dedworth Green First School",534,"8682098","Academy","State","2016-05-01","First","First","Primary","Three Tier","None","R",2020,1,30,0,0,0,0,150,2018,"Windsor","Windsor North","Dedworth","None","Clewer North",false,false]
["Dedworth Green First School","Dedworth Green First School",534,"8682098","Academy","State","2016-05-01","First","First","Primary","Three Tier","None","R",2021,1,30,0,0,0,0,150,2018,"Windsor","Windsor North","Dedworth","None","Clewer North",false,false]
["Dedworth Green First School","Dedworth Green First School",534,"8682098","Academy","State","2016-05-01","First","First","Primary","Three Tier","None","R",2022,1,30,0,0,0,0,150,2018,"Windsor","Windsor North","Dedworth","None","Clewer North",false,false]
["Dedworth Middle School","Dedworth Middle School",535,"8684063","Community","State","2016-05-01","Middle","Middle","Secondary","Three Tier","None","5",2013,1,120,0,0,0,0,524,2018,"Windsor","Windsor North","Dedworth","None","Clewer North",false,false]
["Dedworth Middle School","Dedworth Middle School",535,"8684063","Community","State","2016-05-01","Middle","Middle","Secondary","Three Tier","None","5",2014,1,120,0,0,0,0,524,2018,"Windsor","Windsor North","Dedworth","None","Clewer North",false,false]
["Dedworth Middle School","Dedworth Middle School",535,"8684063","Community","State","2016-05-01","Middle","Middle","Secondary","Three Tier","None","5",2015,1,120,0,0,0,0,541,2018,"Windsor","Windsor North","Dedworth","None","Clewer North",false,false]
["Dedworth Middle School","Dedworth Middle School",535,"8684063","Academy","State","2016-05-01","Middle","Middle","Secondary","Three Tier","None","5",2016,1,120,0,0,0,0,541,2018,"Windsor","Windsor North","Dedworth","None","Clewer North",false,false]
["Dedworth Middle School","Dedworth Middle School",535,"8684063","Academy","State","2016-05-01","Middle","Middle","Secondary","Three Tier","None","5",2017,1,150,0,0,0,0,541,2018,"Windsor","Windsor North","Dedworth","None","Clewer North",false,false]
["Dedworth Middle School","Dedworth Middle School",535,"8684063","Academy","State","2016-05-01","Middle","Middle","Secondary","Three Tier","None","5",2018,1,180,0,0,0,0,720,2018,"Windsor","Windsor North","Dedworth","None","Clewer North",false,false]
["Dedworth Middle School","Dedworth Middle School",535,"8684063","Academy","State","2016-05-01","Middle","Middle","Secondary","Three Tier","None","5",2019,1,180,0,0,0,0,720,2018,"Windsor","Windsor North","Dedworth","None","Clewer North",false,false]
["Dedworth Middle School","Dedworth Middle School",535,"8684063","Academy","State","2016-05-01","Middle","Middle","Secondary","Three Tier","None","5",2020,1,180,0,0,0,0,720,2018,"Windsor","Windsor North","Dedworth","None","Clewer North",false,false]
["Dedworth Middle School","Dedworth Middle School",535,"8684063","Academy","State","2016-05-01","Middle","Middle","Secondary","Three Tier","None","5",2021,1,180,0,0,0,0,720,2018,"Windsor","Windsor North","Dedworth","None","Clewer North",false,false]
["Dedworth Middle School","Dedworth Middle School",535,"8684063","Academy","State","2016-05-01","Middle","Middle","Secondary","Three Tier","None","5",2022,1,180,0,0,0,0,720,2018,"Windsor","Windsor North","Dedworth","None","Clewer North",false,false]
["Desborough College","Desborough College",567,"8684000","Academy","State","2012-10-01","Secondary","Secondary","Secondary","Two Tier","None","7",2013,1,189,0,0,0,0,1134,2018,"Maidenhead","Central Maidenhead","Larchfield East","None","Oldfield",false,false]
["Desborough College","Desborough College",567,"8684000","Academy","State","2012-10-01","Secondary","Secondary","Secondary","Two Tier","None","7",2014,1,189,0,0,0,0,1134,2018,"Maidenhead","Central Maidenhead","Larchfield East","None","Oldfield",false,false]
["Desborough College","Desborough College",567,"8684000","Academy","State","2012-10-01","Secondary","Secondary","Secondary","Two Tier","None","7",2015,1,189,0,0,0,0,1186,2018,"Maidenhead","Central Maidenhead","Larchfield East","None","Oldfield",false,false]
["Desborough College","Desborough College",567,"8684000","Academy","State","2012-10-01","Secondary","Secondary","Secondary","Two Tier","None","7",2016,1,189,0,0,0,0,1186,2018,"Maidenhead","Central Maidenhead","Larchfield East","None","Oldfield",false,false]
["Desborough College","Desborough College",567,"8684000","Academy","State","2012-10-01","Secondary","Secondary","Secondary","Two Tier","None","7",2017,1,189,0,0,0,0,1186,2018,"Maidenhead","Central Maidenhead","Larchfield East","None","Oldfield",false,false]
["Desborough College","Desborough College",567,"8684000","Academy","State","2012-10-01","Secondary","Secondary","Secondary","Two Tier","None","7",2018,1,189,0,0,0,0,1186,2018,"Maidenhead","Central Maidenhead","Larchfield East","None","Oldfield",false,false]
["Desborough College","Desborough College",567,"8684000","Academy","State","2012-10-01","Secondary","Secondary","Secondary","Two Tier","None","7",2019,1,189,0,0,0,0,1186,2018,"Maidenhead","Central Maidenhead","Larchfield East","None","Oldfield",false,false]
["Desborough College","Desborough College",567,"8684000","Academy","State","2012-10-01","Secondary","Secondary","Secondary","Two Tier","None","7",2020,1,189,0,0,0,0,1186,2018,"Maidenhead","Central Maidenhead","Larchfield East","None","Oldfield",false,false]
["Desborough College","Desborough College",567,"8684000","Academy","State","2012-10-01","Secondary","Secondary","Secondary","Two Tier","None","7",2021,1,189,0,0,0,0,1186,2018,"Maidenhead","Central Maidenhead","Larchfield East","None","Oldfield",false,false]
["Desborough College","Desborough College",567,"8684000","Academy","State","2012-10-01","Secondary","Secondary","Secondary","Two Tier","None","7",2022,1,189,0,0,0,0,1186,2018,"Maidenhead","Central Maidenhead","Larchfield East","None","Oldfield",false,false]
["Eton Porny C of E First School","Eton Porny C of E First School",537,"8682001","Voluntary Controlled","State","2016-02-01","First","First","Primary","Three Tier","Church of England","R",2013,1,30,0,0,0,0,136,2018,"Windsor","Eton","Eton","Eton Town Council","Eton and Castle",false,false]
["Eton Porny C of E First School","Eton Porny C of E First School",537,"8682001","Voluntary Controlled","State","2016-02-01","First","First","Primary","Three Tier","Church of England","R",2014,1,30,0,0,0,0,136,2018,"Windsor","Eton","Eton","Eton Town Council","Eton and Castle",false,false]
["Eton Porny C of E First School","Eton Porny C of E First School",537,"8682001","Voluntary Controlled","State","2016-02-01","First","First","Primary","Three Tier","Church of England","R",2015,1,30,0,0,0,0,136,2018,"Windsor","Eton","Eton","Eton Town Council","Eton and Castle",false,false]
["Eton Porny C of E First School","Eton Porny C of E First School",537,"8682001","Academy","State","2016-02-01","First","First","Primary","Three Tier","Church of England","R",2016,1,30,0,0,0,0,136,2018,"Windsor","Eton","Eton","Eton Town Council","Eton and Castle",false,false]
["Eton Porny C of E First School","Eton Porny C of E First School",537,"8682001","Academy","State","2016-02-01","First","First","Primary","Three Tier","Church of England","R",2017,1,30,0,0,0,0,136,2018,"Windsor","Eton","Eton","Eton Town Council","Eton and Castle",false,false]
["Eton Porny C of E First School","Eton Porny C of E First School",537,"8682001","Academy","State","2016-02-01","First","First","Primary","Three Tier","Church of England","R",2018,1,30,0,0,0,0,136,2018,"Windsor","Eton","Eton","Eton Town Council","Eton and Castle",false,false]
["Eton Porny C of E First School","Eton Porny C of E First School",537,"8682001","Academy","State","2016-02-01","First","First","Primary","Three Tier","Church of England","R",2019,1,30,0,0,0,0,136,2018,"Windsor","Eton","Eton","Eton Town Council","Eton and Castle",false,false]
["Eton Porny C of E First School","Eton Porny C of E First School",537,"8682001","Academy","State","2016-02-01","First","First","Primary","Three Tier","Church of England","R",2020,1,30,0,0,0,0,136,2018,"Windsor","Eton","Eton","Eton Town Council","Eton and Castle",false,false]
["Eton Porny C of E First School","Eton Porny C of E First School",537,"8682001","Academy","State","2016-02-01","First","First","Primary","Three Tier","Church of England","R",2021,1,30,0,0,0,0,136,2018,"Windsor","Eton","Eton","Eton Town Council","Eton and Castle",false,false]
["Eton Porny C of E First School","Eton Porny C of E First School",537,"8682001","Academy","State","2016-02-01","First","First","Primary","Three Tier","Church of England","R",2022,1,30,0,0,0,0,136,2018,"Windsor","Eton","Eton","Eton Town Council","Eton and Castle",false,false]
["Eton Wick C of E First School","Eton Wick C of E First School",539,"8683072","Voluntary Controlled","State",null,"First","First","Primary","Three Tier","Church of England","R",2013,1,30,0,0,0,0,165,2018,"Windsor","Eton","Eton Wick","Eton Town Council","Eton Wick",false,false]
["Eton Wick C of E First School","Eton Wick C of E First School",539,"8683072","Voluntary Controlled","State",null,"First","First","Primary","Three Tier","Church of England","R",2014,1,30,0,0,0,0,165,2018,"Windsor","Eton","Eton Wick","Eton Town Council","Eton Wick",false,false]
["Eton Wick C of E First School","Eton Wick C of E First School",539,"8683072","Voluntary Controlled","State",null,"First","First","Primary","Three Tier","Church of England","R",2015,1,30,0,0,0,0,150,2018,"Windsor","Eton","Eton Wick","Eton Town Council","Eton Wick",false,false]
["Eton Wick C of E First School","Eton Wick C of E First School",539,"8683072","Voluntary Controlled","State",null,"First","First","Primary","Three Tier","Church of England","R",2016,1,30,0,0,0,0,150,2018,"Windsor","Eton","Eton Wick","Eton Town Council","Eton Wick",false,false]
["Eton Wick C of E First School","Eton Wick C of E First School",539,"8683072","Voluntary Controlled","State",null,"First","First","Primary","Three Tier","Church of England","R",2017,1,30,0,0,0,0,150,2018,"Windsor","Eton","Eton Wick","Eton Town Council","Eton Wick",false,false]
["Eton Wick C of E First School","Eton Wick C of E First School",539,"8683072","Voluntary Controlled","State",null,"First","First","Primary","Three Tier","Church of England","R",2018,1,30,0,0,0,0,150,2018,"Windsor","Eton","Eton Wick","Eton Town Council","Eton Wick",false,false]
["Eton Wick C of E First School","Eton Wick C of E First School",539,"8683072","Voluntary Controlled","State",null,"First","First","Primary","Three Tier","Church of England","R",2019,1,30,0,0,0,0,150,2018,"Windsor","Eton","Eton Wick","Eton Town Council","Eton Wick",false,false]
["Eton Wick C of E First School","Eton Wick C of E First School",539,"8683072","Voluntary Controlled","State",null,"First","First","Primary","Three Tier","Church of England","R",2020,1,30,0,0,0,0,150,2018,"Windsor","Eton","Eton Wick","Eton Town Council","Eton Wick",false,false]
["Eton Wick C of E First School","Eton Wick C of E First School",539,"8683072","Voluntary Controlled","State",null,"First","First","Primary","Three Tier","Church of England","R",2021,1,30,0,0,0,0,150,2018,"Windsor","Eton","Eton Wick","Eton Town Council","Eton Wick",false,false]
["Eton Wick C of E First School","Eton Wick C of E First School",539,"8683072","Voluntary Controlled","State",null,"First","First","Primary","Three Tier","Church of England","R",2022,1,30,0,0,0,0,150,2018,"Windsor","Eton","Eton Wick","Eton Town Council","Eton Wick",false,false]
["Forest Bridge School","Forest Bridge School",565,"8687000","Free School","State",null,"All Years","All-through","All-through","NA","None","R",2015,1,10,0,0,0,0,100,2018,"Maidenhead","South East Maidenhead","Fishery","None","Oldfield",true,false]
["Forest Bridge School","Forest Bridge School",565,"8687000","Free School","State",null,"All Years","All-through","All-through","NA","None","R",2016,1,10,0,0,0,0,100,2018,"Maidenhead","South East Maidenhead","Fishery","None","Oldfield",true,false]
["Forest Bridge School","Forest Bridge School",565,"8687000","Free School","State",null,"All Years","All-through","All-through","NA","None","R",2017,1,10,0,0,0,0,100,2018,"Maidenhead","South East Maidenhead","Fishery","None","Oldfield",true,false]
["Forest Bridge School","Forest Bridge School",565,"8687000","Free School","State",null,"All Years","All-through","All-through","NA","None","R",2018,1,10,0,0,0,0,100,2018,"Maidenhead","South East Maidenhead","Fishery","None","Oldfield",true,false]
["Forest Bridge School","Forest Bridge School",565,"8687000","Free School","State",null,"All Years","All-through","All-through","NA","None","R",2019,1,10,0,0,0,0,100,2018,"Maidenhead","South East Maidenhead","Fishery","None","Oldfield",true,false]
["Forest Bridge School","Forest Bridge School",565,"8687000","Free School","State",null,"All Years","All-through","All-through","NA","None","R",2020,1,10,0,0,0,0,100,2018,"Maidenhead","South East Maidenhead","Fishery","None","Oldfield",true,false]
["Forest Bridge School","Forest Bridge School",565,"8687000","Free School","State",null,"All Years","All-through","All-through","NA","None","R",2021,1,10,0,0,0,0,100,2018,"Maidenhead","South East Maidenhead","Fishery","None","Oldfield",true,false]
["Forest Bridge School","Forest Bridge School",565,"8687000","Free School","State",null,"All Years","All-through","All-through","NA","None","R",2022,1,10,0,0,0,0,100,2018,"Maidenhead","South East Maidenhead","Fishery","None","Oldfield",true,false]
["Furze Platt Infant School","Furze Platt Infant School",589,"8682112","Community","State",null,"Infants","Primary","Primary","Two Tier","None","R",2013,1,90,0,0,0,0,270,2018,"Maidenhead","North West Maidenhead","Furze Platt","None","Furze Platt",false,false]
["Furze Platt Infant School","Furze Platt Infant School",589,"8682112","Community","State",null,"Infants","Primary","Primary","Two Tier","None","R",2014,1,90,0,0,0,0,270,2018,"Maidenhead","North West Maidenhead","Furze Platt","None","Furze Platt",false,false]
["Furze Platt Infant School","Furze Platt Infant School",589,"8682112","Community","State",null,"Infants","Primary","Primary","Two Tier","None","R",2015,1,90,0,0,0,0,270,2018,"Maidenhead","North West Maidenhead","Furze Platt","None","Furze Platt",false,false]
["Furze Platt Infant School","Furze Platt Infant School",589,"8682112","Community","State",null,"Infants","Primary","Primary","Two Tier","None","R",2016,1,90,0,0,0,0,270,2018,"Maidenhead","North West Maidenhead","Furze Platt","None","Furze Platt",false,false]
["Furze Platt Infant School","Furze Platt Infant School",589,"8682112","Community","State",null,"Infants","Primary","Primary","Two Tier","None","R",2017,1,90,0,0,0,0,270,2018,"Maidenhead","North West Maidenhead","Furze Platt","None","Furze Platt",false,false]
["Furze Platt Infant School","Furze Platt Infant School",589,"8682112","Community","State",null,"Infants","Primary","Primary","Two Tier","None","R",2018,1,90,0,0,0,0,270,2018,"Maidenhead","North West Maidenhead","Furze Platt","None","Furze Platt",false,false]
["Furze Platt Infant School","Furze Platt Infant School",589,"8682112","Community","State",null,"Infants","Primary","Primary","Two Tier","None","R",2019,1,90,0,0,0,0,270,2018,"Maidenhead","North West Maidenhead","Furze Platt","None","Furze Platt",false,false]
["Furze Platt Infant School","Furze Platt Infant School",589,"8682112","Community","State",null,"Infants","Primary","Primary","Two Tier","None","R",2020,1,90,0,0,0,0,270,2018,"Maidenhead","North West Maidenhead","Furze Platt","None","Furze Platt",false,false]
["Furze Platt Infant School","Furze Platt Infant School",589,"8682112","Community","State",null,"Infants","Primary","Primary","Two Tier","None","R",2021,1,90,0,0,0,0,270,2018,"Maidenhead","North West Maidenhead","Furze Platt","None","Furze Platt",false,false]
["Furze Platt Infant School","Furze Platt Infant School",589,"8682112","Community","State",null,"Infants","Primary","Primary","Two Tier","None","R",2022,1,90,0,0,0,0,270,2018,"Maidenhead","North West Maidenhead","Furze Platt","None","Furze Platt",false,false]
["Furze Platt Junior School","Furze Platt Junior School",588,"8682108","Community","State",null,"Junior","Primary","Primary","Two Tier","None","3",2013,1,90,0,0,0,0,330,2018,"Maidenhead","North West Maidenhead","Furze Platt","None","Furze Platt",false,false]
["Furze Platt Junior School","Furze Platt Junior School",588,"8682108","Community","State",null,"Junior","Primary","Primary","Two Tier","None","3",2014,1,90,0,0,0,0,360,2018,"Maidenhead","North West Maidenhead","Furze Platt","None","Furze Platt",false,false]
["Furze Platt Junior School","Furze Platt Junior School",588,"8682108","Community","State",null,"Junior","Primary","Primary","Two Tier","None","3",2015,1,90,0,0,0,0,360,2018,"Maidenhead","North West Maidenhead","Furze Platt","None","Furze Platt",false,false]
["Furze Platt Junior School","Furze Platt Junior School",588,"8682108","Community","State",null,"Junior","Primary","Primary","Two Tier","None","3",2016,1,90,0,0,0,0,360,2018,"Maidenhead","North West Maidenhead","Furze Platt","None","Furze Platt",false,false]
["Furze Platt Junior School","Furze Platt Junior School",588,"8682108","Community","State",null,"Junior","Primary","Primary","Two Tier","None","3",2017,1,90,0,0,0,0,360,2018,"Maidenhead","North West Maidenhead","Furze Platt","None","Furze Platt",false,false]
["Furze Platt Junior School","Furze Platt Junior School",588,"8682108","Community","State",null,"Junior","Primary","Primary","Two Tier","None","3",2018,1,90,0,0,0,0,360,2018,"Maidenhead","North West Maidenhead","Furze Platt","None","Furze Platt",false,false]
["Furze Platt Junior School","Furze Platt Junior School",588,"8682108","Community","State",null,"Junior","Primary","Primary","Two Tier","None","3",2019,1,90,0,0,0,0,360,2018,"Maidenhead","North West Maidenhead","Furze Platt","None","Furze Platt",false,false]
["Furze Platt Junior School","Furze Platt Junior School",588,"8682108","Community","State",null,"Junior","Primary","Primary","Two Tier","None","3",2020,1,90,0,0,0,0,360,2018,"Maidenhead","North West Maidenhead","Furze Platt","None","Furze Platt",false,false]
["Furze Platt Junior School","Furze Platt Junior School",588,"8682108","Community","State",null,"Junior","Primary","Primary","Two Tier","None","3",2021,1,90,0,0,0,0,360,2018,"Maidenhead","North West Maidenhead","Furze Platt","None","Furze Platt",false,false]
["Furze Platt Junior School","Furze Platt Junior School",588,"8682108","Community","State",null,"Junior","Primary","Primary","Two Tier","None","3",2022,1,90,0,0,0,0,360,2018,"Maidenhead","North West Maidenhead","Furze Platt","None","Furze Platt",false,false]
["Furze Platt Senior School","Furze Platt Senior School",596,"8684055","Academy","State","2011-12-01","Secondary","Secondary","Secondary","Two Tier","None","7",2013,1,193,0,0,0,0,1304,2018,"Maidenhead","North West Maidenhead","Furze Platt","None","Furze Platt",false,false]
["Furze Platt Senior School","Furze Platt Senior School",596,"8684055","Academy","State","2011-12-01","Secondary","Secondary","Secondary","Two Tier","None","7",2014,1,193,0,0,0,0,1304,2018,"Maidenhead","North West Maidenhead","Furze Platt","None","Furze Platt",false,false]
["Furze Platt Senior School","Furze Platt Senior School",596,"8684055","Academy","State","2011-12-01","Secondary","Secondary","Secondary","Two Tier","None","7",2015,1,193,0,0,0,0,1243,2018,"Maidenhead","North West Maidenhead","Furze Platt","None","Furze Platt",false,false]
["Furze Platt Senior School","Furze Platt Senior School",596,"8684055","Academy","State","2011-12-01","Secondary","Secondary","Secondary","Two Tier","None","7",2016,1,193,30,0,0,0,1339,2018,"Maidenhead","North West Maidenhead","Furze Platt","None","Furze Platt",false,false]
["Furze Platt Senior School","Furze Platt Senior School",596,"8684055","Academy","State","2011-12-01","Secondary","Secondary","Secondary","Two Tier","None","7",2017,1,193,30,0,0,0,1301,2018,"Maidenhead","North West Maidenhead","Furze Platt","None","Furze Platt",false,false]
["Furze Platt Senior School","Furze Platt Senior School",596,"8684055","Academy","State","2011-12-01","Secondary","Secondary","Secondary","Two Tier","None","7",2018,1,223,0,0,0,0,1454,2018,"Maidenhead","North West Maidenhead","Furze Platt","None","Furze Platt",false,false]
["Furze Platt Senior School","Furze Platt Senior School",596,"8684055","Academy","State","2011-12-01","Secondary","Secondary","Secondary","Two Tier","None","7",2019,1,253,0,0,0,0,1454,2018,"Maidenhead","North West Maidenhead","Furze Platt","None","Furze Platt",false,false]
["Furze Platt Senior School","Furze Platt Senior School",596,"8684055","Academy","State","2011-12-01","Secondary","Secondary","Secondary","Two Tier","None","7",2020,1,253,0,0,0,0,1454,2018,"Maidenhead","North West Maidenhead","Furze Platt","None","Furze Platt",false,false]
["Furze Platt Senior School","Furze Platt Senior School",596,"8684055","Academy","State","2011-12-01","Secondary","Secondary","Secondary","Two Tier","None","7",2021,1,253,0,0,0,0,1454,2018,"Maidenhead","North West Maidenhead","Furze Platt","None","Furze Platt",false,false]
["Furze Platt Senior School","Furze Platt Senior School",596,"8684055","Academy","State","2011-12-01","Secondary","Secondary","Secondary","Two Tier","None","7",2022,1,253,0,0,0,0,1454,2018,"Maidenhead","North West Maidenhead","Furze Platt","None","Furze Platt",false,false]
["Hilltop First School","Hilltop First School",527,"8682096","Community","State",null,"First","First","Primary","Three Tier","None","R",2013,1,45,0,0,0,0,225,2018,"Windsor","Windsor South","Hilltop","None","Clewer South",false,false]
["Hilltop First School","Hilltop First School",527,"8682096","Community","State",null,"First","First","Primary","Three Tier","None","R",2014,1,45,0,0,0,0,225,2018,"Windsor","Windsor South","Hilltop","None","Clewer South",false,false]
["Hilltop First School","Hilltop First School",527,"8682096","Community","State",null,"First","First","Primary","Three Tier","None","R",2015,1,45,0,0,0,0,225,2018,"Windsor","Windsor South","Hilltop","None","Clewer South",false,false]
["Hilltop First School","Hilltop First School",527,"8682096","Community","State",null,"First","First","Primary","Three Tier","None","R",2016,1,45,0,0,0,0,225,2018,"Windsor","Windsor South","Hilltop","None","Clewer South",false,false]
["Hilltop First School","Hilltop First School",527,"8682096","Community","State",null,"First","First","Primary","Three Tier","None","R",2017,1,45,0,0,0,0,225,2018,"Windsor","Windsor South","Hilltop","None","Clewer South",false,false]
["Hilltop First School","Hilltop First School",527,"8682096","Community","State",null,"First","First","Primary","Three Tier","None","R",2018,1,45,0,0,0,0,225,2018,"Windsor","Windsor South","Hilltop","None","Clewer South",false,false]
["Hilltop First School","Hilltop First School",527,"8682096","Community","State",null,"First","First","Primary","Three Tier","None","R",2019,1,45,0,0,0,0,225,2018,"Windsor","Windsor South","Hilltop","None","Clewer South",false,false]
["Hilltop First School","Hilltop First School",527,"8682096","Community","State",null,"First","First","Primary","Three Tier","None","R",2020,1,45,0,0,0,0,225,2018,"Windsor","Windsor South","Hilltop","None","Clewer South",false,false]
["Hilltop First School","Hilltop First School",527,"8682096","Community","State",null,"First","First","Primary","Three Tier","None","R",2021,1,45,0,0,0,0,225,2018,"Windsor","Windsor South","Hilltop","None","Clewer South",false,false]
["Hilltop First School","Hilltop First School",527,"8682096","Community","State",null,"First","First","Primary","Three Tier","None","R",2022,1,45,0,0,0,0,225,2018,"Windsor","Windsor South","Hilltop","None","Clewer South",false,false]
["Holy Trinity C of E Primary School, Cookham","Holy Trinity C of E Primary School, Cookham",603,"8683022","Voluntary Controlled","State",null,"JMI","Primary","Primary","Two Tier","Church of England","R",2013,1,32,0,0,0,0,224,2018,"Maidenhead","Bisham and Cookham","Cookham","Cookham","Bisham and Cookham",false,false]
["Holy Trinity C of E Primary School, Cookham","Holy Trinity C of E Primary School, Cookham",603,"8683022","Voluntary Controlled","State",null,"JMI","Primary","Primary","Two Tier","Church of England","R",2014,1,32,0,0,0,0,224,2018,"Maidenhead","Bisham and Cookham","Cookham","Cookham","Bisham and Cookham",false,false]
["Holy Trinity C of E Primary School, Cookham","Holy Trinity C of E Primary School, Cookham",603,"8683022","Voluntary Controlled","State",null,"JMI","Primary","Primary","Two Tier","Church of England","R",2015,1,30,0,0,0,0,222,2018,"Maidenhead","Bisham and Cookham","Cookham","Cookham","Bisham and Cookham",false,false]
["Holy Trinity C of E Primary School, Cookham","Holy Trinity C of E Primary School, Cookham",603,"8683022","Voluntary Controlled","State",null,"JMI","Primary","Primary","Two Tier","Church of England","R",2016,1,30,0,0,0,0,220,2018,"Maidenhead","Bisham and Cookham","Cookham","Cookham","Bisham and Cookham",false,false]
["Holy Trinity C of E Primary School, Cookham","Holy Trinity C of E Primary School, Cookham",603,"8683022","Voluntary Controlled","State",null,"JMI","Primary","Primary","Two Tier","Church of England","R",2017,1,30,0,0,0,0,210,2018,"Maidenhead","Bisham and Cookham","Cookham","Cookham","Bisham and Cookham",false,false]
["Holy Trinity C of E Primary School, Cookham","Holy Trinity C of E Primary School, Cookham",603,"8683022","Voluntary Controlled","State",null,"JMI","Primary","Primary","Two Tier","Church of England","R",2018,1,30,0,0,0,0,210,2018,"Maidenhead","Bisham and Cookham","Cookham","Cookham","Bisham and Cookham",false,false]
["Holy Trinity C of E Primary School, Cookham","Holy Trinity C of E Primary School, Cookham",603,"8683022","Voluntary Controlled","State",null,"JMI","Primary","Primary","Two Tier","Church of England","R",2019,1,30,0,0,0,0,210,2018,"Maidenhead","Bisham and Cookham","Cookham","Cookham","Bisham and Cookham",false,false]
["Holy Trinity C of E Primary School, Cookham","Holy Trinity C of E Primary School, Cookham",603,"8683022","Voluntary Controlled","State",null,"JMI","Primary","Primary","Two Tier","Church of England","R",2020,1,30,0,0,0,0,210,2018,"Maidenhead","Bisham and Cookham","Cookham","Cookham","Bisham and Cookham",false,false]
["Holy Trinity C of E Primary School, Cookham","Holy Trinity C of E Primary School, Cookham",603,"8683022","Voluntary Controlled","State",null,"JMI","Primary","Primary","Two Tier","Church of England","R",2021,1,30,0,0,0,0,210,2018,"Maidenhead","Bisham and Cookham","Cookham","Cookham","Bisham and Cookham",false,false]
["Holy Trinity C of E Primary School, Cookham","Holy Trinity C of E Primary School, Cookham",603,"8683022","Voluntary Controlled","State",null,"JMI","Primary","Primary","Two Tier","Church of England","R",2022,1,30,0,0,0,0,210,2018,"Maidenhead","Bisham and Cookham","Cookham","Cookham","Bisham and Cookham",false,false]
["Holy Trinity CE Primary School, Sunningdale","Holy Trinity CE Primary School, Sunningdale",540,"8683322","Voluntary Aided","State",null,"JMI","Primary","Primary","Two Tier","Church of England","R",2013,1,30,0,0,0,0,210,2018,"Ascot","Ascot","North Sunningdale","Sunningdale","Sunningdale",false,false]
["Holy Trinity CE Primary School, Sunningdale","Holy Trinity CE Primary School, Sunningdale",540,"8683322","Voluntary Aided","State",null,"JMI","Primary","Primary","Two Tier","Church of England","R",2014,1,30,0,0,0,0,210,2018,"Ascot","Ascot","North Sunningdale","Sunningdale","Sunningdale",false,false]
["Holy Trinity CE Primary School, Sunningdale","Holy Trinity CE Primary School, Sunningdale",540,"8683322","Voluntary Aided","State",null,"JMI","Primary","Primary","Two Tier","Church of England","R",2015,1,30,15,0,0,0,225,2018,"Ascot","Ascot","North Sunningdale","Sunningdale","Sunningdale",false,false]
["Holy Trinity CE Primary School, Sunningdale","Holy Trinity CE Primary School, Sunningdale",540,"8683322","Voluntary Aided","State",null,"JMI","Primary","Primary","Two Tier","Church of England","R",2016,1,30,0,0,0,0,225,2018,"Ascot","Ascot","North Sunningdale","Sunningdale","Sunningdale",false,false]
["Holy Trinity CE Primary School, Sunningdale","Holy Trinity CE Primary School, Sunningdale",540,"8683322","Voluntary Aided","State",null,"JMI","Primary","Primary","Two Tier","Church of England","R",2017,1,30,0,0,0,0,225,2018,"Ascot","Ascot","North Sunningdale","Sunningdale","Sunningdale",false,false]
["Holy Trinity CE Primary School, Sunningdale","Holy Trinity CE Primary School, Sunningdale",540,"8683322","Voluntary Aided","State",null,"JMI","Primary","Primary","Two Tier","Church of England","R",2018,1,30,0,0,0,0,225,2018,"Ascot","Ascot","North Sunningdale","Sunningdale","Sunningdale",false,false]
["Holy Trinity CE Primary School, Sunningdale","Holy Trinity CE Primary School, Sunningdale",540,"8683322","Voluntary Aided","State",null,"JMI","Primary","Primary","Two Tier","Church of England","R",2019,1,30,0,0,0,0,225,2018,"Ascot","Ascot","North Sunningdale","Sunningdale","Sunningdale",false,false]
["Holy Trinity CE Primary School, Sunningdale","Holy Trinity CE Primary School, Sunningdale",540,"8683322","Voluntary Aided","State",null,"JMI","Primary","Primary","Two Tier","Church of England","R",2020,1,30,0,0,0,0,225,2018,"Ascot","Ascot","North Sunningdale","Sunningdale","Sunningdale",false,false]
["Holy Trinity CE Primary School, Sunningdale","Holy Trinity CE Primary School, Sunningdale",540,"8683322","Voluntary Aided","State",null,"JMI","Primary","Primary","Two Tier","Church of England","R",2021,1,30,0,0,0,0,225,2018,"Ascot","Ascot","North Sunningdale","Sunningdale","Sunningdale",false,false]
["Holy Trinity CE Primary School, Sunningdale","Holy Trinity CE Primary School, Sunningdale",540,"8683322","Voluntary Aided","State",null,"JMI","Primary","Primary","Two Tier","Church of England","R",2022,1,30,0,0,0,0,225,2018,"Ascot","Ascot","North Sunningdale","Sunningdale","Sunningdale",false,false]
["Holyport C of E Primary School & Foundation Unit","Holyport C of E Primary School & Foundation Unit",566,"8683012","Voluntary Aided","State","2016-06-01","JMI","Primary","Primary","Two Tier","Church of England","R",2013,1,60,0,0,0,0,420,2018,"Maidenhead","South East Maidenhead","Holyport Rural","Bray","Bray",false,false]
["Holyport C of E Primary School & Foundation Unit","Holyport C of E Primary School & Foundation Unit",566,"8683012","Voluntary Aided","State","2016-06-01","JMI","Primary","Primary","Two Tier","Church of England","R",2014,1,60,0,0,0,0,420,2018,"Maidenhead","South East Maidenhead","Holyport Rural","Bray","Bray",false,false]
["Holyport C of E Primary School & Foundation Unit","Holyport C of E Primary School & Foundation Unit",566,"8683012","Voluntary Aided","State","2016-06-01","JMI","Primary","Primary","Two Tier","Church of England","R",2015,1,60,0,0,0,0,420,2018,"Maidenhead","South East Maidenhead","Holyport Rural","Bray","Bray",false,false]
["Holyport C of E Primary School & Foundation Unit","Holyport C of E Primary School & Foundation Unit",566,"8683012","Academy","State","2016-06-01","JMI","Primary","Primary","Two Tier","Church of England","R",2016,1,60,0,0,0,0,420,2018,"Maidenhead","South East Maidenhead","Holyport Rural","Bray","Bray",false,false]
["Holyport C of E Primary School & Foundation Unit","Holyport C of E Primary School & Foundation Unit",566,"8683012","Academy","State","2016-06-01","JMI","Primary","Primary","Two Tier","Church of England","R",2017,1,60,0,0,0,0,420,2018,"Maidenhead","South East Maidenhead","Holyport Rural","Bray","Bray",false,false]
["Holyport C of E Primary School & Foundation Unit","Holyport C of E Primary School & Foundation Unit",566,"8683012","Academy","State","2016-06-01","JMI","Primary","Primary","Two Tier","Church of England","R",2018,1,60,0,0,0,0,420,2018,"Maidenhead","South East Maidenhead","Holyport Rural","Bray","Bray",false,false]
["Holyport C of E Primary School & Foundation Unit","Holyport C of E Primary School & Foundation Unit",566,"8683012","Academy","State","2016-06-01","JMI","Primary","Primary","Two Tier","Church of England","R",2019,1,60,0,0,0,0,420,2018,"Maidenhead","South East Maidenhead","Holyport Rural","Bray","Bray",false,false]
["Holyport C of E Primary School & Foundation Unit","Holyport C of E Primary School & Foundation Unit",566,"8683012","Academy","State","2016-06-01","JMI","Primary","Primary","Two Tier","Church of England","R",2020,1,60,0,0,0,0,420,2018,"Maidenhead","South East Maidenhead","Holyport Rural","Bray","Bray",false,false]
["Holyport C of E Primary School & Foundation Unit","Holyport C of E Primary School & Foundation Unit",566,"8683012","Academy","State","2016-06-01","JMI","Primary","Primary","Two Tier","Church of England","R",2021,1,60,0,0,0,0,420,2018,"Maidenhead","South East Maidenhead","Holyport Rural","Bray","Bray",false,false]
["Holyport C of E Primary School & Foundation Unit","Holyport C of E Primary School & Foundation Unit",566,"8683012","Academy","State","2016-06-01","JMI","Primary","Primary","Two Tier","Church of England","R",2022,1,60,0,0,0,0,420,2018,"Maidenhead","South East Maidenhead","Holyport Rural","Bray","Bray",false,false]
["Holyport College","Holyport College (Year 7)",562,"8684001","Free School","State",null,"Secondary","Secondary","Secondary","Two Tier","None","7",2014,1,40,40,0,18,0,280,2018,"Maidenhead","South East Maidenhead","Holyport Rural","Bray","Bray",false,false]
["Holyport College","Holyport College (Year 7)",562,"8684001","Free School","State",null,"Secondary","Secondary","Secondary","Two Tier","None","7",2015,1,40,4,0,18,0,318,2018,"Maidenhead","South East Maidenhead","Holyport Rural","Bray","Bray",false,false]
["Holyport College","Holyport College (Year 7)",562,"8684001","Free School","State",null,"Secondary","Secondary","Secondary","Two Tier","None","7",2016,1,44,0,0,18,0,318,2018,"Maidenhead","South East Maidenhead","Holyport Rural","Bray","Bray",false,false]
["Holyport College","Holyport College (Year 7)",562,"8684001","Free School","State",null,"Secondary","Secondary","Secondary","Two Tier","None","7",2017,1,44,0,0,18,0,318,2018,"Maidenhead","South East Maidenhead","Holyport Rural","Bray","Bray",false,false]
["Holyport College","Holyport College (Year 7)",562,"8684001","Free School","State",null,"Secondary","Secondary","Secondary","Two Tier","None","7",2018,1,44,0,0,18,0,318,2018,"Maidenhead","South East Maidenhead","Holyport Rural","Bray","Bray",false,false]
["Holyport College","Holyport College (Year 7)",562,"8684001","Free School","State",null,"Secondary","Secondary","Secondary","Two Tier","None","7",2019,1,44,0,0,18,0,318,2018,"Maidenhead","South East Maidenhead","Holyport Rural","Bray","Bray",false,false]
["Holyport College","Holyport College (Year 7)",562,"8684001","Free School","State",null,"Secondary","Secondary","Secondary","Two Tier","None","7",2020,1,44,0,0,18,0,318,2018,"Maidenhead","South East Maidenhead","Holyport Rural","Bray","Bray",false,false]
["Holyport College","Holyport College (Year 7)",562,"8684001","Free School","State",null,"Secondary","Secondary","Secondary","Two Tier","None","7",2021,1,44,0,0,18,0,318,2018,"Maidenhead","South East Maidenhead","Holyport Rural","Bray","Bray",false,false]
["Holyport College","Holyport College (Year 7)",562,"8684001","Free School","State",null,"Secondary","Secondary","Secondary","Two Tier","None","7",2022,1,44,0,0,18,0,318,2018,"Maidenhead","South East Maidenhead","Holyport Rural","Bray","Bray",false,false]
["Holyport College","Holyport College (Year 9)",562,"8684001","Free School","State",null,"Upper","Upper","Secondary","Three Tier","None","9",2014,1,40,0,0,18,0,200,2018,"Windsor","Windsor Villages","Fifield","Bray","None",false,false]
["Holyport College","Holyport College (Year 9)",562,"8684001","Free School","State",null,"Upper","Upper","Secondary","Three Tier","None","9",2015,1,40,4,0,18,0,230,2018,"Windsor","Windsor Villages","Fifield","Bray","None",false,false]
["Holyport College","Holyport College (Year 9)",562,"8684001","Free School","State",null,"Upper","Upper","Secondary","Three Tier","None","9",2016,1,44,0,0,18,0,230,2018,"Windsor","Windsor Villages","Fifield","Bray","None",false,false]
["Holyport College","Holyport College (Year 9)",562,"8684001","Free School","State",null,"Upper","Upper","Secondary","Three Tier","None","9",2017,1,44,0,0,18,0,230,2018,"Windsor","Windsor Villages","Fifield","Bray","None",false,false]
["Holyport College","Holyport College (Year 9)",562,"8684001","Free School","State",null,"Upper","Upper","Secondary","Three Tier","None","9",2018,1,44,0,0,18,0,230,2018,"Windsor","Windsor Villages","Fifield","Bray","None",false,false]
["Holyport College","Holyport College (Year 9)",562,"8684001","Free School","State",null,"Upper","Upper","Secondary","Three Tier","None","9",2019,1,44,0,0,18,0,230,2018,"Windsor","Windsor Villages","Fifield","Bray","None",false,false]
["Holyport College","Holyport College (Year 9)",562,"8684001","Free School","State",null,"Upper","Upper","Secondary","Three Tier","None","9",2020,1,44,0,0,18,0,230,2018,"Windsor","Windsor Villages","Fifield","Bray","None",false,false]
["Holyport College","Holyport College (Year 9)",562,"8684001","Free School","State",null,"Upper","Upper","Secondary","Three Tier","None","9",2021,1,44,0,0,18,0,230,2018,"Windsor","Windsor Villages","Fifield","Bray","None",false,false]
["Holyport College","Holyport College (Year 9)",562,"8684001","Free School","State",null,"Upper","Upper","Secondary","Three Tier","None","9",2022,1,44,0,0,18,0,230,2018,"Windsor","Windsor Villages","Fifield","Bray","None",false,false]
["Homer First School and Nursery","Homer First School and Nursery",536,"8682143","Community","State",null,"First","First","Primary","Three Tier","None","R",2013,1,45,0,0,0,0,225,2018,"Windsor","Windsor North","Homer","None","Clewer North",false,false]
["Homer First School and Nursery","Homer First School and Nursery",536,"8682143","Community","State",null,"First","First","Primary","Three Tier","None","R",2014,1,45,30,0,0,0,255,2018,"Windsor","Windsor North","Homer","None","Clewer North",false,false]
["Homer First School and Nursery","Homer First School and Nursery",536,"8682143","Community","State",null,"First","First","Primary","Three Tier","None","R",2015,1,45,0,0,0,0,255,2018,"Windsor","Windsor North","Homer","None","Clewer North",false,false]
["Homer First School and Nursery","Homer First School and Nursery",536,"8682143","Community","State",null,"First","First","Primary","Three Tier","None","R",2016,1,45,30,0,0,0,255,2018,"Windsor","Windsor North","Homer","None","Clewer North",false,false]
["Homer First School and Nursery","Homer First School and Nursery",536,"8682143","Community","State",null,"First","First","Primary","Three Tier","None","R",2017,1,45,0,0,0,0,255,2018,"Windsor","Windsor North","Homer","None","Clewer North",false,false]
["Homer First School and Nursery","Homer First School and Nursery",536,"8682143","Community","State",null,"First","First","Primary","Three Tier","None","R",2018,1,45,0,0,0,0,255,2018,"Windsor","Windsor North","Homer","None","Clewer North",false,false]
["Homer First School and Nursery","Homer First School and Nursery",536,"8682143","Community","State",null,"First","First","Primary","Three Tier","None","R",2019,1,45,0,0,0,0,225,2018,"Windsor","Windsor North","Homer","None","Clewer North",false,false]
["Homer First School and Nursery","Homer First School and Nursery",536,"8682143","Community","State",null,"First","First","Primary","Three Tier","None","R",2020,1,45,0,0,0,0,225,2018,"Windsor","Windsor North","Homer","None","Clewer North",false,false]
["Homer First School and Nursery","Homer First School and Nursery",536,"8682143","Community","State",null,"First","First","Primary","Three Tier","None","R",2021,1,45,0,0,0,0,225,2018,"Windsor","Windsor North","Homer","None","Clewer North",false,false]
["Homer First School and Nursery","Homer First School and Nursery",536,"8682143","Community","State",null,"First","First","Primary","Three Tier","None","R",2022,1,45,0,0,0,0,225,2018,"Windsor","Windsor North","Homer","None","Clewer North",false,false]
["Kings Court First School","Kings Court First School",517,"8682085","Community","State",null,"First","First","Primary","Three Tier","None","R",2013,1,45,0,0,0,0,225,2018,"Windsor","Windsor Villages","Old Windsor","Old Windsor","Old Windsor",false,false]
["Kings Court First School","Kings Court First School",517,"8682085","Community","State",null,"First","First","Primary","Three Tier","None","R",2014,1,45,0,0,0,0,225,2018,"Windsor","Windsor Villages","Old Windsor","Old Windsor","Old Windsor",false,false]
["Kings Court First School","Kings Court First School",517,"8682085","Community","State",null,"First","First","Primary","Three Tier","None","R",2015,1,45,0,0,0,0,225,2018,"Windsor","Windsor Villages","Old Windsor","Old Windsor","Old Windsor",false,false]
["Kings Court First School","Kings Court First School",517,"8682085","Community","State",null,"First","First","Primary","Three Tier","None","R",2016,1,45,0,0,0,0,225,2018,"Windsor","Windsor Villages","Old Windsor","Old Windsor","Old Windsor",false,false]
["Kings Court First School","Kings Court First School",517,"8682085","Community","State",null,"First","First","Primary","Three Tier","None","R",2017,1,45,0,0,0,0,225,2018,"Windsor","Windsor Villages","Old Windsor","Old Windsor","Old Windsor",false,false]
["Kings Court First School","Kings Court First School",517,"8682085","Community","State",null,"First","First","Primary","Three Tier","None","R",2018,1,45,0,0,0,0,225,2018,"Windsor","Windsor Villages","Old Windsor","Old Windsor","Old Windsor",false,false]
["Kings Court First School","Kings Court First School",517,"8682085","Community","State",null,"First","First","Primary","Three Tier","None","R",2019,1,45,0,0,0,0,225,2018,"Windsor","Windsor Villages","Old Windsor","Old Windsor","Old Windsor",false,false]
["Kings Court First School","Kings Court First School",517,"8682085","Community","State",null,"First","First","Primary","Three Tier","None","R",2020,1,45,0,0,0,0,225,2018,"Windsor","Windsor Villages","Old Windsor","Old Windsor","Old Windsor",false,false]
["Kings Court First School","Kings Court First School",517,"8682085","Community","State",null,"First","First","Primary","Three Tier","None","R",2021,1,45,0,0,0,0,225,2018,"Windsor","Windsor Villages","Old Windsor","Old Windsor","Old Windsor",false,false]
["Kings Court First School","Kings Court First School",517,"8682085","Community","State",null,"First","First","Primary","Three Tier","None","R",2022,1,45,0,0,0,0,225,2018,"Windsor","Windsor Villages","Old Windsor","Old Windsor","Old Windsor",false,false]
["Knowl Hill C of E Academy","Knowl Hill C of E Academy",290,"8683028","Voluntary Controlled","State","2014-09-01","JMI","Primary","Primary","Two Tier","Church of England","R",2013,1,13,2,0,0,0,90,2018,"Maidenhead","Maidenhead Villages","Knowl Hill","Hurley","Hurley and Walthams",false,false]
["Knowl Hill C of E Academy","Knowl Hill C of E Academy",290,"8683028","Academy","State","2014-09-01","JMI","Primary","Primary","Two Tier","Church of England","R",2014,1,13,0,0,0,0,90,2018,"Maidenhead","Maidenhead Villages","Knowl Hill","Hurley","Hurley and Walthams",false,false]
["Knowl Hill C of E Academy","Knowl Hill C of E Academy",290,"8683028","Academy","State","2014-09-01","JMI","Primary","Primary","Two Tier","Church of England","R",2015,1,13,17,0,0,0,90,2018,"Maidenhead","Maidenhead Villages","Knowl Hill","Hurley","Hurley and Walthams",false,false]
["Knowl Hill C of E Academy","Knowl Hill C of E Academy",290,"8683028","Academy","State","2014-09-01","JMI","Primary","Primary","Two Tier","Church of England","R",2016,1,30,0,0,0,0,135,2018,"Maidenhead","Maidenhead Villages","Knowl Hill","Hurley","Hurley and Walthams",false,false]
["Knowl Hill C of E Academy","Knowl Hill C of E Academy",290,"8683028","Academy","State","2014-09-01","JMI","Primary","Primary","Two Tier","Church of England","R",2017,1,30,0,0,0,0,153,2018,"Maidenhead","Maidenhead Villages","Knowl Hill","Hurley","Hurley and Walthams",false,false]
["Knowl Hill C of E Academy","Knowl Hill C of E Academy",290,"8683028","Academy","State","2014-09-01","JMI","Primary","Primary","Two Tier","Church of England","R",2018,1,30,0,0,0,0,153,2018,"Maidenhead","Maidenhead Villages","Knowl Hill","Hurley","Hurley and Walthams",false,false]
["Knowl Hill C of E Academy","Knowl Hill C of E Academy",290,"8683028","Academy","State","2014-09-01","JMI","Primary","Primary","Two Tier","Church of England","R",2019,1,30,0,0,0,0,153,2018,"Maidenhead","Maidenhead Villages","Knowl Hill","Hurley","Hurley and Walthams",false,false]
["Knowl Hill C of E Academy","Knowl Hill C of E Academy",290,"8683028","Academy","State","2014-09-01","JMI","Primary","Primary","Two Tier","Church of England","R",2020,1,13,0,0,0,0,153,2018,"Maidenhead","Maidenhead Villages","Knowl Hill","Hurley","Hurley and Walthams",false,false]
["Knowl Hill C of E Academy","Knowl Hill C of E Academy",290,"8683028","Academy","State","2014-09-01","JMI","Primary","Primary","Two Tier","Church of England","R",2021,1,13,0,0,0,0,153,2018,"Maidenhead","Maidenhead Villages","Knowl Hill","Hurley","Hurley and Walthams",false,false]
["Knowl Hill C of E Academy","Knowl Hill C of E Academy",290,"8683028","Academy","State","2014-09-01","JMI","Primary","Primary","Two Tier","Church of England","R",2022,1,13,0,0,0,0,153,2018,"Maidenhead","Maidenhead Villages","Knowl Hill","Hurley","Hurley and Walthams",false,false]
["Larchfield Primary and Nursery School","Larchfield Primary and Nursery School",568,"8682247","Community","State",null,"JMI","Primary","Primary","Two Tier","None","R",2013,1,30,0,0,0,0,208,2018,"Maidenhead","Central Maidenhead","Larchfield West","None","Oldfield",false,false]
["Larchfield Primary and Nursery School","Larchfield Primary and Nursery School",568,"8682247","Community","State",null,"JMI","Primary","Primary","Two Tier","None","R",2014,1,30,0,0,0,0,208,2018,"Maidenhead","Central Maidenhead","Larchfield West","None","Oldfield",false,false]
["Larchfield Primary and Nursery School","Larchfield Primary and Nursery School",568,"8682247","Community","State",null,"JMI","Primary","Primary","Two Tier","None","R",2015,1,30,0,0,0,0,208,2018,"Maidenhead","Central Maidenhead","Larchfield West","None","Oldfield",false,false]
["Larchfield Primary and Nursery School","Larchfield Primary and Nursery School",568,"8682247","Community","State",null,"JMI","Primary","Primary","Two Tier","None","R",2016,1,30,0,0,0,0,208,2018,"Maidenhead","Central Maidenhead","Larchfield West","None","Oldfield",false,false]
["Larchfield Primary and Nursery School","Larchfield Primary and Nursery School",568,"8682247","Community","State",null,"JMI","Primary","Primary","Two Tier","None","R",2017,1,30,0,0,0,0,209,2018,"Maidenhead","Central Maidenhead","Larchfield West","None","Oldfield",false,false]
["Larchfield Primary and Nursery School","Larchfield Primary and Nursery School",568,"8682247","Community","State",null,"JMI","Primary","Primary","Two Tier","None","R",2018,1,30,0,0,0,0,209,2018,"Maidenhead","Central Maidenhead","Larchfield West","None","Oldfield",false,false]
["Larchfield Primary and Nursery School","Larchfield Primary and Nursery School",568,"8682247","Community","State",null,"JMI","Primary","Primary","Two Tier","None","R",2019,1,30,0,0,0,0,209,2018,"Maidenhead","Central Maidenhead","Larchfield West","None","Oldfield",false,false]
["Larchfield Primary and Nursery School","Larchfield Primary and Nursery School",568,"8682247","Community","State",null,"JMI","Primary","Primary","Two Tier","None","R",2020,1,30,0,0,0,0,209,2018,"Maidenhead","Central Maidenhead","Larchfield West","None","Oldfield",false,false]
["Larchfield Primary and Nursery School","Larchfield Primary and Nursery School",568,"8682247","Community","State",null,"JMI","Primary","Primary","Two Tier","None","R",2021,1,30,0,0,0,0,209,2018,"Maidenhead","Central Maidenhead","Larchfield West","None","Oldfield",false,false]
["Larchfield Primary and Nursery School","Larchfield Primary and Nursery School",568,"8682247","Community","State",null,"JMI","Primary","Primary","Two Tier","None","R",2022,1,30,0,0,0,0,209,2018,"Maidenhead","Central Maidenhead","Larchfield West","None","Oldfield",false,false]
["Lowbrook Academy","Lowbrook Academy",569,"8682186","Academy","State","2011-04-01","JMI","Primary","Primary","Two Tier","None","R",2013,1,30,30,0,0,0,270,2018,"Maidenhead","South West Maidenhead","Lowbrook","Cox Green","Cox Green",false,false]
["Lowbrook Academy","Lowbrook Academy",569,"8682186","Academy","State","2011-04-01","JMI","Primary","Primary","Two Tier","None","R",2014,1,30,30,0,0,0,270,2018,"Maidenhead","South West Maidenhead","Lowbrook","Cox Green","Cox Green",false,false]
["Lowbrook Academy","Lowbrook Academy",569,"8682186","Academy","State","2011-04-01","JMI","Primary","Primary","Two Tier","None","R",2015,1,30,30,0,0,0,300,2018,"Maidenhead","South West Maidenhead","Lowbrook","Cox Green","Cox Green",false,false]
["Lowbrook Academy","Lowbrook Academy",569,"8682186","Academy","State","2011-04-01","JMI","Primary","Primary","Two Tier","None","R",2016,1,30,30,0,0,0,330,2018,"Maidenhead","South West Maidenhead","Lowbrook","Cox Green","Cox Green",false,false]
["Lowbrook Academy","Lowbrook Academy",569,"8682186","Academy","State","2011-04-01","JMI","Primary","Primary","Two Tier","None","R",2017,1,30,0,0,0,0,330,2018,"Maidenhead","South West Maidenhead","Lowbrook","Cox Green","Cox Green",false,false]
["Lowbrook Academy","Lowbrook Academy",569,"8682186","Academy","State","2011-04-01","JMI","Primary","Primary","Two Tier","None","R",2018,1,30,0,0,0,0,330,2018,"Maidenhead","South West Maidenhead","Lowbrook","Cox Green","Cox Green",false,false]
["Lowbrook Academy","Lowbrook Academy",569,"8682186","Academy","State","2011-04-01","JMI","Primary","Primary","Two Tier","None","R",2019,1,30,0,0,0,0,330,2018,"Maidenhead","South West Maidenhead","Lowbrook","Cox Green","Cox Green",false,false]
["Lowbrook Academy","Lowbrook Academy",569,"8682186","Academy","State","2011-04-01","JMI","Primary","Primary","Two Tier","None","R",2020,1,30,0,0,0,0,330,2018,"Maidenhead","South West Maidenhead","Lowbrook","Cox Green","Cox Green",false,false]
["Lowbrook Academy","Lowbrook Academy",569,"8682186","Academy","State","2011-04-01","JMI","Primary","Primary","Two Tier","None","R",2021,1,30,0,0,0,0,300,2018,"Maidenhead","South West Maidenhead","Lowbrook","Cox Green","Cox Green",false,false]
["Lowbrook Academy","Lowbrook Academy",569,"8682186","Academy","State","2011-04-01","JMI","Primary","Primary","Two Tier","None","R",2022,1,30,0,0,0,0,300,2018,"Maidenhead","South West Maidenhead","Lowbrook","Cox Green","Cox Green",false,false]
["Maidenhead Nursery School","Maidenhead Nursery School",597,"8681013","Community","State",null,"Nursery School","Early Years","Early Years","NA","None","E1",2013,1,0,0,0,0,0,0,2018,"Maidenhead","North East Maidenhead","North Town","None","Furze Platt",false,false]
["Maidenhead Nursery School","Maidenhead Nursery School",597,"8681013","Community","State",null,"Nursery School","Early Years","Early Years","NA","None","E1",2014,1,0,0,0,0,0,0,2018,"Maidenhead","North East Maidenhead","North Town","None","Furze Platt",false,false]
["Maidenhead Nursery School","Maidenhead Nursery School",597,"8681013","Community","State",null,"Nursery School","Early Years","Early Years","NA","None","E1",2015,1,0,0,0,0,0,0,2018,"Maidenhead","North East Maidenhead","North Town","None","Furze Platt",false,false]
["Maidenhead Nursery School","Maidenhead Nursery School",597,"8681013","Community","State",null,"Nursery School","Early Years","Early Years","NA","None","E1",2016,1,0,0,0,0,0,0,2018,"Maidenhead","North East Maidenhead","North Town","None","Furze Platt",false,false]
["Maidenhead Nursery School","Maidenhead Nursery School",597,"8681013","Community","State",null,"Nursery School","Early Years","Early Years","NA","None","E1",2017,1,0,0,0,0,0,0,2018,"Maidenhead","North East Maidenhead","North Town","None","Furze Platt",false,false]
["Maidenhead Nursery School","Maidenhead Nursery School",597,"8681013","Community","State",null,"Nursery School","Early Years","Early Years","NA","None","E1",2018,1,0,0,0,0,0,0,2018,"Maidenhead","North East Maidenhead","North Town","None","Furze Platt",false,false]
["Maidenhead Nursery School","Maidenhead Nursery School",597,"8681013","Community","State",null,"Nursery School","Early Years","Early Years","NA","None","E1",2019,1,0,0,0,0,0,0,2018,"Maidenhead","North East Maidenhead","North Town","None","Furze Platt",false,false]
["Maidenhead Nursery School","Maidenhead Nursery School",597,"8681013","Community","State",null,"Nursery School","Early Years","Early Years","NA","None","E1",2020,1,0,0,0,0,0,0,2018,"Maidenhead","North East Maidenhead","North Town","None","Furze Platt",false,false]
["Maidenhead Nursery School","Maidenhead Nursery School",597,"8681013","Community","State",null,"Nursery School","Early Years","Early Years","NA","None","E1",2021,1,0,0,0,0,0,0,2018,"Maidenhead","North East Maidenhead","North Town","None","Furze Platt",false,false]
["Maidenhead Nursery School","Maidenhead Nursery School",597,"8681013","Community","State",null,"Nursery School","Early Years","Early Years","NA","None","E1",2022,1,0,0,0,0,0,0,2018,"Maidenhead","North East Maidenhead","North Town","None","Furze Platt",false,false]
["Manor Green School","Manor Green School",575,"8687009","Community","State",null,"All Years","All-through","All-through","NA","None","R",2013,1,25,0,0,0,0,100,2018,"Maidenhead","South West Maidenhead","Lowbrook","Cox Green","Cox Green",true,false]
["Manor Green School","Manor Green School",575,"8687009","Community","State",null,"All Years","All-through","All-through","NA","None","R",2014,1,25,0,0,0,0,100,2018,"Maidenhead","South West Maidenhead","Lowbrook","Cox Green","Cox Green",true,false]
["Manor Green School","Manor Green School",575,"8687009","Community","State",null,"All Years","All-through","All-through","NA","None","R",2015,1,25,0,0,0,0,100,2018,"Maidenhead","South West Maidenhead","Lowbrook","Cox Green","Cox Green",true,false]
["Manor Green School","Manor Green School",575,"8687009","Community","State",null,"All Years","All-through","All-through","NA","None","R",2016,1,25,0,0,0,0,100,2018,"Maidenhead","South West Maidenhead","Lowbrook","Cox Green","Cox Green",true,false]
["Manor Green School","Manor Green School",575,"8687009","Community","State",null,"All Years","All-through","All-through","NA","None","R",2017,1,25,0,0,0,0,100,2018,"Maidenhead","South West Maidenhead","Lowbrook","Cox Green","Cox Green",true,false]
["Manor Green School","Manor Green School",575,"8687009","Community","State",null,"All Years","All-through","All-through","NA","None","R",2018,1,25,0,0,0,0,100,2018,"Maidenhead","South West Maidenhead","Lowbrook","Cox Green","Cox Green",true,false]
["Manor Green School","Manor Green School",575,"8687009","Community","State",null,"All Years","All-through","All-through","NA","None","R",2019,1,25,0,0,0,0,100,2018,"Maidenhead","South West Maidenhead","Lowbrook","Cox Green","Cox Green",true,false]
["Manor Green School","Manor Green School",575,"8687009","Community","State",null,"All Years","All-through","All-through","NA","None","R",2020,1,25,0,0,0,0,100,2018,"Maidenhead","South West Maidenhead","Lowbrook","Cox Green","Cox Green",true,false]
["Manor Green School","Manor Green School",575,"8687009","Community","State",null,"All Years","All-through","All-through","NA","None","R",2021,1,25,0,0,0,0,100,2018,"Maidenhead","South West Maidenhead","Lowbrook","Cox Green","Cox Green",true,false]
["Manor Green School","Manor Green School",575,"8687009","Community","State",null,"All Years","All-through","All-through","NA","None","R",2022,1,25,0,0,0,0,100,2018,"Maidenhead","South West Maidenhead","Lowbrook","Cox Green","Cox Green",true,false]
["Newlands Girls' School","Newlands Girls' School",584,"8684036","Community","State","2015-10-01","Secondary","Secondary","Secondary","Two Tier","None","7",2013,1,186,0,0,0,0,1159,2018,"Maidenhead","North West Maidenhead","Highway","None","Pinkneys Green",false,false]
["Newlands Girls' School","Newlands Girls' School",584,"8684036","Community","State","2015-10-01","Secondary","Secondary","Secondary","Two Tier","None","7",2014,1,186,0,0,0,0,1159,2018,"Maidenhead","North West Maidenhead","Highway","None","Pinkneys Green",false,false]
["Newlands Girls' School","Newlands Girls' School",584,"8684036","Academy","State","2015-10-01","Secondary","Secondary","Secondary","Two Tier","None","7",2015,1,186,0,0,0,0,1148,2018,"Maidenhead","North West Maidenhead","Highway","None","Pinkneys Green",false,false]
["Newlands Girls' School","Newlands Girls' School",584,"8684036","Academy","State","2015-10-01","Secondary","Secondary","Secondary","Two Tier","None","7",2016,1,186,6,0,0,0,1185,2018,"Maidenhead","North West Maidenhead","Highway","None","Pinkneys Green",false,false]
["Newlands Girls' School","Newlands Girls' School",584,"8684036","Academy","State","2015-10-01","Secondary","Secondary","Secondary","Two Tier","None","7",2017,1,192,0,0,0,0,1188,2018,"Maidenhead","North West Maidenhead","Highway","None","Pinkneys Green",false,false]
["Newlands Girls' School","Newlands Girls' School",584,"8684036","Academy","State","2015-10-01","Secondary","Secondary","Secondary","Two Tier","None","7",2018,1,192,0,0,0,0,1188,2018,"Maidenhead","North West Maidenhead","Highway","None","Pinkneys Green",false,false]
["Newlands Girls' School","Newlands Girls' School",584,"8684036","Academy","State","2015-10-01","Secondary","Secondary","Secondary","Two Tier","None","7",2019,1,192,0,0,0,0,1188,2018,"Maidenhead","North West Maidenhead","Highway","None","Pinkneys Green",false,false]
["Newlands Girls' School","Newlands Girls' School",584,"8684036","Academy","State","2015-10-01","Secondary","Secondary","Secondary","Two Tier","None","7",2020,1,192,0,0,0,0,1188,2018,"Maidenhead","North West Maidenhead","Highway","None","Pinkneys Green",false,false]
["Newlands Girls' School","Newlands Girls' School",584,"8684036","Academy","State","2015-10-01","Secondary","Secondary","Secondary","Two Tier","None","7",2021,1,192,0,0,0,0,1188,2018,"Maidenhead","North West Maidenhead","Highway","None","Pinkneys Green",false,false]
["Newlands Girls' School","Newlands Girls' School",584,"8684036","Academy","State","2015-10-01","Secondary","Secondary","Secondary","Two Tier","None","7",2022,1,192,0,0,0,0,1188,2018,"Maidenhead","North West Maidenhead","Highway","None","Pinkneys Green",false,false]
["Oakfield First School","Oakfield First School",526,"8682176","Community","State",null,"First","First","Primary","Three Tier","None","R",2013,1,60,0,0,0,0,300,2018,"Windsor","East Windsor","Oakfield","None","Clewer East",false,false]
["Oakfield First School","Oakfield First School",526,"8682176","Community","State",null,"First","First","Primary","Three Tier","None","R",2014,1,60,0,0,0,0,300,2018,"Windsor","East Windsor","Oakfield","None","Clewer East",false,false]
["Oakfield First School","Oakfield First School",526,"8682176","Community","State",null,"First","First","Primary","Three Tier","None","R",2015,1,60,0,0,0,0,300,2018,"Windsor","East Windsor","Oakfield","None","Clewer East",false,false]
["Oakfield First School","Oakfield First School",526,"8682176","Community","State",null,"First","First","Primary","Three Tier","None","R",2016,1,60,0,0,0,0,300,2018,"Windsor","East Windsor","Oakfield","None","Clewer East",false,false]
["Oakfield First School","Oakfield First School",526,"8682176","Community","State",null,"First","First","Primary","Three Tier","None","R",2017,1,60,0,0,0,0,300,2018,"Windsor","East Windsor","Oakfield","None","Clewer East",false,false]
["Oakfield First School","Oakfield First School",526,"8682176","Community","State",null,"First","First","Primary","Three Tier","None","R",2018,1,60,0,0,0,0,300,2018,"Windsor","East Windsor","Oakfield","None","Clewer East",false,false]
["Oakfield First School","Oakfield First School",526,"8682176","Community","State",null,"First","First","Primary","Three Tier","None","R",2019,1,60,0,0,0,0,300,2018,"Windsor","East Windsor","Oakfield","None","Clewer East",false,false]
["Oakfield First School","Oakfield First School",526,"8682176","Community","State",null,"First","First","Primary","Three Tier","None","R",2020,1,60,0,0,0,0,300,2018,"Windsor","East Windsor","Oakfield","None","Clewer East",false,false]
["Oakfield First School","Oakfield First School",526,"8682176","Community","State",null,"First","First","Primary","Three Tier","None","R",2021,1,60,0,0,0,0,300,2018,"Windsor","East Windsor","Oakfield","None","Clewer East",false,false]
["Oakfield First School","Oakfield First School",526,"8682176","Community","State",null,"First","First","Primary","Three Tier","None","R",2022,1,60,0,0,0,0,300,2018,"Windsor","East Windsor","Oakfield","None","Clewer East",false,false]
["Oldfield Primary School","Oldfield Primary School",564,"8682159","Community","State",null,"JMI","Primary","Primary","Two Tier","None","R",2013,1,30,30,0,0,0,268,2018,"Maidenhead","South East Maidenhead","Fishery","None","Oldfield",false,false]
["Oldfield Primary School","Oldfield Primary School",564,"8682159","Community","State",null,"JMI","Primary","Primary","Two Tier","None","R",2014,1,60,0,0,0,0,298,2018,"Maidenhead","South East Maidenhead","Fishery","None","Oldfield",false,false]
["Oldfield Primary School","Oldfield Primary School",564,"8682159","Community","State",null,"JMI","Primary","Primary","Two Tier","None","R",2015,1,60,0,0,0,0,420,2018,"Maidenhead","South East Maidenhead","Fishery","None","Oldfield",false,false]
["Oldfield Primary School","Oldfield Primary School",564,"8682159","Community","State",null,"JMI","Primary","Primary","Two Tier","None","R",2016,1,60,0,0,0,0,420,2018,"Maidenhead","South East Maidenhead","Fishery","None","Oldfield",false,false]
["Oldfield Primary School","Oldfield Primary School",564,"8682159","Community","State",null,"JMI","Primary","Primary","Two Tier","None","R",2017,1,60,0,0,0,0,420,2018,"Maidenhead","South East Maidenhead","Fishery","None","Oldfield",false,false]
["Oldfield Primary School","Oldfield Primary School",564,"8682159","Community","State",null,"JMI","Primary","Primary","Two Tier","None","R",2018,1,60,0,0,0,0,420,2018,"Maidenhead","South East Maidenhead","Fishery","None","Oldfield",false,false]
["Oldfield Primary School","Oldfield Primary School",564,"8682159","Community","State",null,"JMI","Primary","Primary","Two Tier","None","R",2019,1,60,0,0,0,0,420,2018,"Maidenhead","South East Maidenhead","Fishery","None","Oldfield",false,false]
["Oldfield Primary School","Oldfield Primary School",564,"8682159","Community","State",null,"JMI","Primary","Primary","Two Tier","None","R",2020,1,60,0,0,0,0,420,2018,"Maidenhead","South East Maidenhead","Fishery","None","Oldfield",false,false]
["Oldfield Primary School","Oldfield Primary School",564,"8682159","Community","State",null,"JMI","Primary","Primary","Two Tier","None","R",2021,1,60,0,0,0,0,420,2018,"Maidenhead","South East Maidenhead","Fishery","None","Oldfield",false,false]
["Oldfield Primary School","Oldfield Primary School",564,"8682159","Community","State",null,"JMI","Primary","Primary","Two Tier","None","R",2022,1,60,0,0,0,0,420,2018,"Maidenhead","South East Maidenhead","Fishery","None","Oldfield",false,false]
["RISE Alternative Learning Provision","RISE Alternative Learning Provision",561,"8681103","Community","State",null,"Secondary PRU","Secondary","Secondary","Two Tier","None","7",2013,1,0,0,0,0,0,0,2018,"Maidenhead","South East Maidenhead","Central","None","Oldfield",false,false]
["RISE Alternative Learning Provision","RISE Alternative Learning Provision",561,"8681103","Community","State",null,"All-through PRU","All-through","All-through","NA","None","R",2014,1,0,0,0,0,0,0,2018,"Maidenhead","South East Maidenhead","Central","None","Oldfield",false,false]
["RISE Alternative Learning Provision","RISE Alternative Learning Provision",561,"8681103","Community","State",null,"All-through PRU","All-through","All-through","NA","None","R",2015,1,0,0,0,0,0,0,2018,"Maidenhead","South East Maidenhead","Central","None","Oldfield",false,false]
["RISE Alternative Learning Provision","RISE Alternative Learning Provision",561,"8681103","Community","State",null,"All-through PRU","All-through","All-through","NA","None","R",2016,1,0,0,0,0,0,0,2018,"Maidenhead","South East Maidenhead","Central","None","Oldfield",false,false]
["RISE Alternative Learning Provision","RISE Alternative Learning Provision",561,"8681103","Community","State",null,"All-through PRU","All-through","All-through","NA","None","R",2017,1,0,0,0,0,0,0,2018,"Maidenhead","South East Maidenhead","Central","None","Oldfield",false,false]
["RISE Alternative Learning Provision","RISE Alternative Learning Provision",561,"8681103","Community","State",null,"All-through PRU","All-through","All-through","NA","None","R",2018,1,0,0,0,0,0,0,2018,"Maidenhead","South East Maidenhead","Central","None","Oldfield",false,false]
["RISE Alternative Learning Provision","RISE Alternative Learning Provision",561,"8681103","Community","State",null,"All-through PRU","All-through","All-through","NA","None","R",2019,1,0,0,0,0,0,0,2018,"Maidenhead","South East Maidenhead","Central","None","Oldfield",false,false]
["RISE Alternative Learning Provision","RISE Alternative Learning Provision",561,"8681103","Community","State",null,"All-through PRU","All-through","All-through","NA","None","R",2020,1,0,0,0,0,0,0,2018,"Maidenhead","South East Maidenhead","Central","None","Oldfield",false,false]
["RISE Alternative Learning Provision","RISE Alternative Learning Provision",561,"8681103","Community","State",null,"All-through PRU","All-through","All-through","NA","None","R",2021,1,0,0,0,0,0,0,2018,"Maidenhead","South East Maidenhead","Central","None","Oldfield",false,false]
["RISE Alternative Learning Provision","RISE Alternative Learning Provision",561,"8681103","Community","State",null,"All-through PRU","All-through","All-through","NA","None","R",2022,1,0,0,0,0,0,0,2018,"Maidenhead","South East Maidenhead","Central","None","Oldfield",false,false]
["Riverside Primary School and Nursery","Riverside Primary School and Nursery",594,"8682074","Community","State",null,"JMI","Primary","Primary","Two Tier","None","R",2013,1,30,0,0,0,0,239,2018,"Maidenhead","North East Maidenhead","North Town","None","Maidenhead Riverside",false,false]
["Riverside Primary School and Nursery","Riverside Primary School and Nursery",594,"8682074","Community","State",null,"JMI","Primary","Primary","Two Tier","None","R",2014,1,60,0,0,0,0,239,2018,"Maidenhead","North East Maidenhead","North Town","None","Maidenhead Riverside",false,false]
["Riverside Primary School and Nursery","Riverside Primary School and Nursery",594,"8682074","Community","State",null,"JMI","Primary","Primary","Two Tier","None","R",2015,1,60,0,0,0,0,420,2018,"Maidenhead","North East Maidenhead","North Town","None","Maidenhead Riverside",false,false]
["Riverside Primary School and Nursery","Riverside Primary School and Nursery",594,"8682074","Community","State",null,"JMI","Primary","Primary","Two Tier","None","R",2016,1,60,0,0,0,0,300,2018,"Maidenhead","North East Maidenhead","North Town","None","Maidenhead Riverside",false,false]
["Riverside Primary School and Nursery","Riverside Primary School and Nursery",594,"8682074","Community","State",null,"JMI","Primary","Primary","Two Tier","None","R",2017,1,60,0,0,0,0,300,2018,"Maidenhead","North East Maidenhead","North Town","None","Maidenhead Riverside",false,false]
["Riverside Primary School and Nursery","Riverside Primary School and Nursery",594,"8682074","Community","State",null,"JMI","Primary","Primary","Two Tier","None","R",2018,1,60,0,0,0,0,420,2018,"Maidenhead","North East Maidenhead","North Town","None","Maidenhead Riverside",false,false]
["Riverside Primary School and Nursery","Riverside Primary School and Nursery",594,"8682074","Community","State",null,"JMI","Primary","Primary","Two Tier","None","R",2019,1,60,0,0,0,0,420,2018,"Maidenhead","North East Maidenhead","North Town","None","Maidenhead Riverside",false,false]
["Riverside Primary School and Nursery","Riverside Primary School and Nursery",594,"8682074","Community","State",null,"JMI","Primary","Primary","Two Tier","None","R",2020,1,60,0,0,0,0,420,2018,"Maidenhead","North East Maidenhead","North Town","None","Maidenhead Riverside",false,false]
["Riverside Primary School and Nursery","Riverside Primary School and Nursery",594,"8682074","Community","State",null,"JMI","Primary","Primary","Two Tier","None","R",2021,1,60,0,0,0,0,420,2018,"Maidenhead","North East Maidenhead","North Town","None","Maidenhead Riverside",false,false]
["Riverside Primary School and Nursery","Riverside Primary School and Nursery",594,"8682074","Community","State",null,"JMI","Primary","Primary","Two Tier","None","R",2022,1,60,0,0,0,0,420,2018,"Maidenhead","North East Maidenhead","North Town","None","Maidenhead Riverside",false,false]
["South Ascot Village Primary School","South Ascot Village Primary School",550,"8682109","Community","State",null,"JMI","Primary","Primary","Two Tier","None","R",2013,1,30,0,0,0,0,240,2018,"Ascot","Ascot","South Ascot","Sunninghill & Ascot","Sunninghill & South Ascot",false,false]
["South Ascot Village Primary School","South Ascot Village Primary School",550,"8682109","Community","State",null,"JMI","Primary","Primary","Two Tier","None","R",2014,1,30,0,0,0,0,240,2018,"Ascot","Ascot","South Ascot","Sunninghill & Ascot","Sunninghill & South Ascot",false,false]
["South Ascot Village Primary School","South Ascot Village Primary School",550,"8682109","Community","State",null,"JMI","Primary","Primary","Two Tier","None","R",2015,1,30,0,0,0,0,240,2018,"Ascot","Ascot","South Ascot","Sunninghill & Ascot","Sunninghill & South Ascot",false,false]
["South Ascot Village Primary School","South Ascot Village Primary School",550,"8682109","Community","State",null,"JMI","Primary","Primary","Two Tier","None","R",2016,1,30,0,0,0,0,240,2018,"Ascot","Ascot","South Ascot","Sunninghill & Ascot","Sunninghill & South Ascot",false,false]
["South Ascot Village Primary School","South Ascot Village Primary School",550,"8682109","Community","State",null,"JMI","Primary","Primary","Two Tier","None","R",2017,1,30,0,0,0,0,240,2018,"Ascot","Ascot","South Ascot","Sunninghill & Ascot","Sunninghill & South Ascot",false,false]
["South Ascot Village Primary School","South Ascot Village Primary School",550,"8682109","Community","State",null,"JMI","Primary","Primary","Two Tier","None","R",2018,1,30,0,0,0,0,240,2018,"Ascot","Ascot","South Ascot","Sunninghill & Ascot","Sunninghill & South Ascot",false,false]
["South Ascot Village Primary School","South Ascot Village Primary School",550,"8682109","Community","State",null,"JMI","Primary","Primary","Two Tier","None","R",2019,1,30,0,0,0,0,210,2018,"Ascot","Ascot","South Ascot","Sunninghill & Ascot","Sunninghill & South Ascot",false,false]
["South Ascot Village Primary School","South Ascot Village Primary School",550,"8682109","Community","State",null,"JMI","Primary","Primary","Two Tier","None","R",2020,1,30,0,0,0,0,210,2018,"Ascot","Ascot","South Ascot","Sunninghill & Ascot","Sunninghill & South Ascot",false,false]
["South Ascot Village Primary School","South Ascot Village Primary School",550,"8682109","Community","State",null,"JMI","Primary","Primary","Two Tier","None","R",2021,1,30,0,0,0,0,210,2018,"Ascot","Ascot","South Ascot","Sunninghill & Ascot","Sunninghill & South Ascot",false,false]
["South Ascot Village Primary School","South Ascot Village Primary School",550,"8682109","Community","State",null,"JMI","Primary","Primary","Two Tier","None","R",2022,1,30,0,0,0,0,210,2018,"Ascot","Ascot","South Ascot","Sunninghill & Ascot","Sunninghill & South Ascot",false,false]
["St Edmund Campion Catholic Primary School","St Edmund Campion Catholic Primary School",582,"8683337","Voluntary Aided","State","2017-07-01","JMI","Primary","Primary","Two Tier","Roman Catholic","R",2013,1,60,0,0,0,0,420,2018,"Maidenhead","Central Maidenhead","Tittle Row","None","Boyn Hill",false,false]
["St Edmund Campion Catholic Primary School","St Edmund Campion Catholic Primary School",582,"8683337","Voluntary Aided","State","2017-07-01","JMI","Primary","Primary","Two Tier","Roman Catholic","R",2014,1,60,0,0,0,0,420,2018,"Maidenhead","Central Maidenhead","Tittle Row","None","Boyn Hill",false,false]
["St Edmund Campion Catholic Primary School","St Edmund Campion Catholic Primary School",582,"8683337","Voluntary Aided","State","2017-07-01","JMI","Primary","Primary","Two Tier","Roman Catholic","R",2015,1,60,0,0,0,0,420,2018,"Maidenhead","Central Maidenhead","Tittle Row","None","Boyn Hill",false,false]
["St Edmund Campion Catholic Primary School","St Edmund Campion Catholic Primary School",582,"8683337","Voluntary Aided","State","2017-07-01","JMI","Primary","Primary","Two Tier","Roman Catholic","R",2016,1,60,0,0,0,0,420,2018,"Maidenhead","Central Maidenhead","Tittle Row","None","Boyn Hill",false,false]
["St Edmund Campion Catholic Primary School","St Edmund Campion Catholic Primary School",582,"8683337","Academy","State","2017-07-01","JMI","Primary","Primary","Two Tier","Roman Catholic","R",2017,1,60,0,0,0,0,420,2018,"Maidenhead","Central Maidenhead","Tittle Row","None","Boyn Hill",false,false]
["St Edmund Campion Catholic Primary School","St Edmund Campion Catholic Primary School",582,"8683337","Academy","State","2017-07-01","JMI","Primary","Primary","Two Tier","Roman Catholic","R",2018,1,60,0,0,0,0,420,2018,"Maidenhead","Central Maidenhead","Tittle Row","None","Boyn Hill",false,false]
["St Edmund Campion Catholic Primary School","St Edmund Campion Catholic Primary School",582,"8683337","Academy","State","2017-07-01","JMI","Primary","Primary","Two Tier","Roman Catholic","R",2019,1,60,0,0,0,0,420,2018,"Maidenhead","Central Maidenhead","Tittle Row","None","Boyn Hill",false,false]
["St Edmund Campion Catholic Primary School","St Edmund Campion Catholic Primary School",582,"8683337","Academy","State","2017-07-01","JMI","Primary","Primary","Two Tier","Roman Catholic","R",2020,1,60,0,0,0,0,420,2018,"Maidenhead","Central Maidenhead","Tittle Row","None","Boyn Hill",false,false]
["St Edmund Campion Catholic Primary School","St Edmund Campion Catholic Primary School",582,"8683337","Academy","State","2017-07-01","JMI","Primary","Primary","Two Tier","Roman Catholic","R",2021,1,60,0,0,0,0,420,2018,"Maidenhead","Central Maidenhead","Tittle Row","None","Boyn Hill",false,false]
["St Edmund Campion Catholic Primary School","St Edmund Campion Catholic Primary School",582,"8683337","Academy","State","2017-07-01","JMI","Primary","Primary","Two Tier","Roman Catholic","R",2022,1,60,0,0,0,0,420,2018,"Maidenhead","Central Maidenhead","Tittle Row","None","Boyn Hill",false,false]
["St Edward's Catholic First School","St Edward's Catholic First School",532,"8683338","Voluntary Aided","State",null,"First","First","Primary","Three Tier","Roman Catholic","R",2013,1,60,0,0,0,0,255,2018,"Windsor","Windsor North","Clewer Village","None","Clewer North",false,false]
["St Edward's Catholic First School","St Edward's Catholic First School",532,"8683338","Voluntary Aided","State",null,"First","First","Primary","Three Tier","Roman Catholic","R",2014,1,60,0,0,0,0,311,2018,"Windsor","Windsor North","Clewer Village","None","Clewer North",false,false]
["St Edward's Catholic First School","St Edward's Catholic First School",532,"8683338","Voluntary Aided","State",null,"First","First","Primary","Three Tier","Roman Catholic","R",2015,1,60,0,0,0,0,311,2018,"Windsor","Windsor North","Clewer Village","None","Clewer North",false,false]
["St Edward's Catholic First School","St Edward's Catholic First School",532,"8683338","Voluntary Aided","State",null,"First","First","Primary","Three Tier","Roman Catholic","R",2016,1,60,0,0,0,0,311,2018,"Windsor","Windsor North","Clewer Village","None","Clewer North",false,false]
["St Edward's Catholic First School","St Edward's Catholic First School",532,"8683338","Voluntary Aided","State",null,"First","First","Primary","Three Tier","Roman Catholic","R",2017,1,60,0,0,0,0,311,2018,"Windsor","Windsor North","Clewer Village","None","Clewer North",false,false]
["St Edward's Catholic First School","St Edward's Catholic First School",532,"8683338","Voluntary Aided","State",null,"First","First","Primary","Three Tier","Roman Catholic","R",2018,1,60,0,0,0,0,311,2018,"Windsor","Windsor North","Clewer Village","None","Clewer North",false,false]
["St Edward's Catholic First School","St Edward's Catholic First School",532,"8683338","Voluntary Aided","State",null,"First","First","Primary","Three Tier","Roman Catholic","R",2019,1,60,0,0,0,0,311,2018,"Windsor","Windsor North","Clewer Village","None","Clewer North",false,false]
["St Edward's Catholic First School","St Edward's Catholic First School",532,"8683338","Voluntary Aided","State",null,"First","First","Primary","Three Tier","Roman Catholic","R",2020,1,60,0,0,0,0,311,2018,"Windsor","Windsor North","Clewer Village","None","Clewer North",false,false]
["St Edward's Catholic First School","St Edward's Catholic First School",532,"8683338","Voluntary Aided","State",null,"First","First","Primary","Three Tier","Roman Catholic","R",2021,1,60,0,0,0,0,311,2018,"Windsor","Windsor North","Clewer Village","None","Clewer North",false,false]
["St Edward's Catholic First School","St Edward's Catholic First School",532,"8683338","Voluntary Aided","State",null,"First","First","Primary","Three Tier","Roman Catholic","R",2022,1,60,0,0,0,0,311,2018,"Windsor","Windsor North","Clewer Village","None","Clewer North",false,false]
["St Edward's Royal Free Ecumenical Middle School","St Edward's Royal Free Ecumenical Middle School",533,"8684704","Voluntary Aided","State",null,"Middle","Middle","Secondary","Three Tier","Ecumenical","5",2013,1,120,0,0,0,0,378,2018,"Windsor","Windsor North","Clewer Village","None","Clewer North",false,false]
["St Edward's Royal Free Ecumenical Middle School","St Edward's Royal Free Ecumenical Middle School",533,"8684704","Voluntary Aided","State",null,"Middle","Middle","Secondary","Three Tier","Ecumenical","5",2014,1,120,0,0,0,0,480,2018,"Windsor","Windsor North","Clewer Village","None","Clewer North",false,false]
["St Edward's Royal Free Ecumenical Middle School","St Edward's Royal Free Ecumenical Middle School",533,"8684704","Voluntary Aided","State",null,"Middle","Middle","Secondary","Three Tier","Ecumenical","5",2015,1,120,0,0,0,0,480,2018,"Windsor","Windsor North","Clewer Village","None","Clewer North",false,false]
["St Edward's Royal Free Ecumenical Middle School","St Edward's Royal Free Ecumenical Middle School",533,"8684704","Voluntary Aided","State",null,"Middle","Middle","Secondary","Three Tier","Ecumenical","5",2016,1,120,0,0,0,0,480,2018,"Windsor","Windsor North","Clewer Village","None","Clewer North",false,false]
["St Edward's Royal Free Ecumenical Middle School","St Edward's Royal Free Ecumenical Middle School",533,"8684704","Voluntary Aided","State",null,"Middle","Middle","Secondary","Three Tier","Ecumenical","5",2017,1,120,0,0,0,0,480,2018,"Windsor","Windsor North","Clewer Village","None","Clewer North",false,false]
["St Edward's Royal Free Ecumenical Middle School","St Edward's Royal Free Ecumenical Middle School",533,"8684704","Voluntary Aided","State",null,"Middle","Middle","Secondary","Three Tier","Ecumenical","5",2018,1,120,0,0,0,0,480,2018,"Windsor","Windsor North","Clewer Village","None","Clewer North",false,false]
["St Edward's Royal Free Ecumenical Middle School","St Edward's Royal Free Ecumenical Middle School",533,"8684704","Voluntary Aided","State",null,"Middle","Middle","Secondary","Three Tier","Ecumenical","5",2019,1,120,0,0,0,0,480,2018,"Windsor","Windsor North","Clewer Village","None","Clewer North",false,false]
["St Edward's Royal Free Ecumenical Middle School","St Edward's Royal Free Ecumenical Middle School",533,"8684704","Voluntary Aided","State",null,"Middle","Middle","Secondary","Three Tier","Ecumenical","5",2020,1,120,0,0,0,0,480,2018,"Windsor","Windsor North","Clewer Village","None","Clewer North",false,false]
["St Edward's Royal Free Ecumenical Middle School","St Edward's Royal Free Ecumenical Middle School",533,"8684704","Voluntary Aided","State",null,"Middle","Middle","Secondary","Three Tier","Ecumenical","5",2021,1,120,0,0,0,0,480,2018,"Windsor","Windsor North","Clewer Village","None","Clewer North",false,false]
["St Edward's Royal Free Ecumenical Middle School","St Edward's Royal Free Ecumenical Middle School",533,"8684704","Voluntary Aided","State",null,"Middle","Middle","Secondary","Three Tier","Ecumenical","5",2022,1,120,0,0,0,0,480,2018,"Windsor","Windsor North","Clewer Village","None","Clewer North",false,false]
["St Francis Catholic Primary School","St Francis Catholic Primary School",551,"8683335","Voluntary Aided","State","2015-09-01","JMI","Primary","Primary","Two Tier","Roman Catholic","R",2013,1,30,0,0,0,0,210,2018,"Ascot","Ascot","South Ascot","Sunninghill & Ascot","Sunninghill & South Ascot",false,false]
["St Francis Catholic Primary School","St Francis Catholic Primary School",551,"8683335","Voluntary Aided","State","2015-09-01","JMI","Primary","Primary","Two Tier","Roman Catholic","R",2014,1,30,0,0,0,0,210,2018,"Ascot","Ascot","South Ascot","Sunninghill & Ascot","Sunninghill & South Ascot",false,false]
["St Francis Catholic Primary School","St Francis Catholic Primary School",551,"8683335","Academy","State","2015-09-01","JMI","Primary","Primary","Two Tier","Roman Catholic","R",2015,1,30,0,0,0,0,210,2018,"Ascot","Ascot","South Ascot","Sunninghill & Ascot","Sunninghill & South Ascot",false,false]
["St Francis Catholic Primary School","St Francis Catholic Primary School",551,"8683335","Academy","State","2015-09-01","JMI","Primary","Primary","Two Tier","Roman Catholic","R",2016,1,30,0,0,0,0,210,2018,"Ascot","Ascot","South Ascot","Sunninghill & Ascot","Sunninghill & South Ascot",false,false]
["St Francis Catholic Primary School","St Francis Catholic Primary School",551,"8683335","Academy","State","2015-09-01","JMI","Primary","Primary","Two Tier","Roman Catholic","R",2017,1,30,0,0,0,0,210,2018,"Ascot","Ascot","South Ascot","Sunninghill & Ascot","Sunninghill & South Ascot",false,false]
["St Francis Catholic Primary School","St Francis Catholic Primary School",551,"8683335","Academy","State","2015-09-01","JMI","Primary","Primary","Two Tier","Roman Catholic","R",2018,1,30,0,0,0,0,210,2018,"Ascot","Ascot","South Ascot","Sunninghill & Ascot","Sunninghill & South Ascot",false,false]
["St Francis Catholic Primary School","St Francis Catholic Primary School",551,"8683335","Academy","State","2015-09-01","JMI","Primary","Primary","Two Tier","Roman Catholic","R",2019,1,30,0,0,0,0,210,2018,"Ascot","Ascot","South Ascot","Sunninghill & Ascot","Sunninghill & South Ascot",false,false]
["St Francis Catholic Primary School","St Francis Catholic Primary School",551,"8683335","Academy","State","2015-09-01","JMI","Primary","Primary","Two Tier","Roman Catholic","R",2020,1,30,0,0,0,0,210,2018,"Ascot","Ascot","South Ascot","Sunninghill & Ascot","Sunninghill & South Ascot",false,false]
["St Francis Catholic Primary School","St Francis Catholic Primary School",551,"8683335","Academy","State","2015-09-01","JMI","Primary","Primary","Two Tier","Roman Catholic","R",2021,1,30,0,0,0,0,210,2018,"Ascot","Ascot","South Ascot","Sunninghill & Ascot","Sunninghill & South Ascot",false,false]
["St Francis Catholic Primary School","St Francis Catholic Primary School",551,"8683335","Academy","State","2015-09-01","JMI","Primary","Primary","Two Tier","Roman Catholic","R",2022,1,30,0,0,0,0,210,2018,"Ascot","Ascot","South Ascot","Sunninghill & Ascot","Sunninghill & South Ascot",false,false]
["St Luke's Church of England Primary School","St Luke's Church of England Primary School",592,"8683033","Voluntary Controlled","State","2014-12-01","JMI","Primary","Primary","Two Tier","Church of England","R",2013,1,45,0,0,0,0,315,2018,"Maidenhead","North East Maidenhead","St Luke's","None","Maidenhead Riverside",false,false]
["St Luke's Church of England Primary School","St Luke's Church of England Primary School",592,"8683033","Voluntary Controlled","State","2014-12-01","JMI","Primary","Primary","Two Tier","Church of England","R",2014,1,45,0,0,0,0,315,2018,"Maidenhead","North East Maidenhead","St Luke's","None","Maidenhead Riverside",false,false]
["St Luke's Church of England Primary School","St Luke's Church of England Primary School",592,"8683033","Academy","State","2014-12-01","JMI","Primary","Primary","Two Tier","Church of England","R",2015,1,45,0,0,0,0,315,2018,"Maidenhead","North East Maidenhead","St Luke's","None","Maidenhead Riverside",false,false]
["St Luke's Church of England Primary School","St Luke's Church of England Primary School",592,"8683033","Academy","State","2014-12-01","JMI","Primary","Primary","Two Tier","Church of England","R",2016,1,45,0,0,0,0,315,2018,"Maidenhead","North East Maidenhead","St Luke's","None","Maidenhead Riverside",false,false]
["St Luke's Church of England Primary School","St Luke's Church of England Primary School",592,"8683033","Academy","State","2014-12-01","JMI","Primary","Primary","Two Tier","Church of England","R",2017,1,45,0,0,0,0,315,2018,"Maidenhead","North East Maidenhead","St Luke's","None","Maidenhead Riverside",false,false]
["St Luke's Church of England Primary School","St Luke's Church of England Primary School",592,"8683033","Academy","State","2014-12-01","JMI","Primary","Primary","Two Tier","Church of England","R",2018,1,45,0,0,0,0,315,2018,"Maidenhead","North East Maidenhead","St Luke's","None","Maidenhead Riverside",false,false]
["St Luke's Church of England Primary School","St Luke's Church of England Primary School",592,"8683033","Academy","State","2014-12-01","JMI","Primary","Primary","Two Tier","Church of England","R",2019,1,45,0,0,0,0,315,2018,"Maidenhead","North East Maidenhead","St Luke's","None","Maidenhead Riverside",false,false]
["St Luke's Church of England Primary School","St Luke's Church of England Primary School",592,"8683033","Academy","State","2014-12-01","JMI","Primary","Primary","Two Tier","Church of England","R",2020,1,45,0,0,0,0,315,2018,"Maidenhead","North East Maidenhead","St Luke's","None","Maidenhead Riverside",false,false]
["St Luke's Church of England Primary School","St Luke's Church of England Primary School",592,"8683033","Academy","State","2014-12-01","JMI","Primary","Primary","Two Tier","Church of England","R",2021,1,45,0,0,0,0,315,2018,"Maidenhead","North East Maidenhead","St Luke's","None","Maidenhead Riverside",false,false]
["St Luke's Church of England Primary School","St Luke's Church of England Primary School",592,"8683033","Academy","State","2014-12-01","JMI","Primary","Primary","Two Tier","Church of England","R",2022,1,45,0,0,0,0,315,2018,"Maidenhead","North East Maidenhead","St Luke's","None","Maidenhead Riverside",false,false]
["St Mary's Catholic Primary School","St Mary's Catholic Primary School",593,"8683334","Academy","State","2013-07-01","JMI","Primary","Primary","Two Tier","Roman Catholic","R",2013,1,45,0,0,0,0,315,2018,"Maidenhead","North East Maidenhead","St Luke's","None","Maidenhead Riverside",false,false]
["St Mary's Catholic Primary School","St Mary's Catholic Primary School",593,"8683334","Academy","State","2013-07-01","JMI","Primary","Primary","Two Tier","Roman Catholic","R",2014,1,45,0,0,0,0,315,2018,"Maidenhead","North East Maidenhead","St Luke's","None","Maidenhead Riverside",false,false]
["St Mary's Catholic Primary School","St Mary's Catholic Primary School",593,"8683334","Academy","State","2013-07-01","JMI","Primary","Primary","Two Tier","Roman Catholic","R",2015,1,45,0,0,0,0,315,2018,"Maidenhead","North East Maidenhead","St Luke's","None","Maidenhead Riverside",false,false]
["St Mary's Catholic Primary School","St Mary's Catholic Primary School",593,"8683334","Academy","State","2013-07-01","JMI","Primary","Primary","Two Tier","Roman Catholic","R",2016,1,45,0,0,0,0,315,2018,"Maidenhead","North East Maidenhead","St Luke's","None","Maidenhead Riverside",false,false]
["St Mary's Catholic Primary School","St Mary's Catholic Primary School",593,"8683334","Academy","State","2013-07-01","JMI","Primary","Primary","Two Tier","Roman Catholic","R",2017,1,45,0,0,0,0,315,2018,"Maidenhead","North East Maidenhead","St Luke's","None","Maidenhead Riverside",false,false]
["St Mary's Catholic Primary School","St Mary's Catholic Primary School",593,"8683334","Academy","State","2013-07-01","JMI","Primary","Primary","Two Tier","Roman Catholic","R",2018,1,45,0,0,0,0,315,2018,"Maidenhead","North East Maidenhead","St Luke's","None","Maidenhead Riverside",false,false]
["St Mary's Catholic Primary School","St Mary's Catholic Primary School",593,"8683334","Academy","State","2013-07-01","JMI","Primary","Primary","Two Tier","Roman Catholic","R",2019,1,45,0,0,0,0,315,2018,"Maidenhead","North East Maidenhead","St Luke's","None","Maidenhead Riverside",false,false]
["St Mary's Catholic Primary School","St Mary's Catholic Primary School",593,"8683334","Academy","State","2013-07-01","JMI","Primary","Primary","Two Tier","Roman Catholic","R",2020,1,45,0,0,0,0,315,2018,"Maidenhead","North East Maidenhead","St Luke's","None","Maidenhead Riverside",false,false]
["St Mary's Catholic Primary School","St Mary's Catholic Primary School",593,"8683334","Academy","State","2013-07-01","JMI","Primary","Primary","Two Tier","Roman Catholic","R",2021,1,45,0,0,0,0,315,2018,"Maidenhead","North East Maidenhead","St Luke's","None","Maidenhead Riverside",false,false]
["St Mary's Catholic Primary School","St Mary's Catholic Primary School",593,"8683334","Academy","State","2013-07-01","JMI","Primary","Primary","Two Tier","Roman Catholic","R",2022,1,45,0,0,0,0,315,2018,"Maidenhead","North East Maidenhead","St Luke's","None","Maidenhead Riverside",false,false]
["St Michael's C of E Primary School, Sunninghill","St Michael's C of E Primary School, Sunninghill",541,"8683323","Voluntary Aided","State",null,"JMI","Primary","Primary","Two Tier","Church of England","R",2013,1,30,0,0,0,0,210,2018,"Ascot","Ascot","Sunninghill","Sunninghill & Ascot","Sunninghill & South Ascot",false,false]
["St Michael's C of E Primary School, Sunninghill","St Michael's C of E Primary School, Sunninghill",541,"8683323","Voluntary Aided","State",null,"JMI","Primary","Primary","Two Tier","Church of England","R",2014,1,30,0,0,0,0,210,2018,"Ascot","Ascot","Sunninghill","Sunninghill & Ascot","Sunninghill & South Ascot",false,false]
["St Michael's C of E Primary School, Sunninghill","St Michael's C of E Primary School, Sunninghill",541,"8683323","Voluntary Aided","State",null,"JMI","Primary","Primary","Two Tier","Church of England","R",2015,1,30,0,0,0,0,210,2018,"Ascot","Ascot","Sunninghill","Sunninghill & Ascot","Sunninghill & South Ascot",false,false]
["St Michael's C of E Primary School, Sunninghill","St Michael's C of E Primary School, Sunninghill",541,"8683323","Voluntary Aided","State",null,"JMI","Primary","Primary","Two Tier","Church of England","R",2016,1,30,0,0,0,0,210,2018,"Ascot","Ascot","Sunninghill","Sunninghill & Ascot","Sunninghill & South Ascot",false,false]
["St Michael's C of E Primary School, Sunninghill","St Michael's C of E Primary School, Sunninghill",541,"8683323","Voluntary Controlled","State",null,"JMI","Primary","Primary","Two Tier","Church of England","R",2017,1,30,0,0,0,0,205,2018,"Ascot","Ascot","Sunninghill","Sunninghill & Ascot","Sunninghill & South Ascot",false,false]
["St Michael's C of E Primary School, Sunninghill","St Michael's C of E Primary School, Sunninghill",541,"8683323","Voluntary Controlled","State",null,"JMI","Primary","Primary","Two Tier","Church of England","R",2018,1,30,0,0,0,0,205,2018,"Ascot","Ascot","Sunninghill","Sunninghill & Ascot","Sunninghill & South Ascot",false,false]
["St Michael's C of E Primary School, Sunninghill","St Michael's C of E Primary School, Sunninghill",541,"8683323","Voluntary Controlled","State",null,"JMI","Primary","Primary","Two Tier","Church of England","R",2019,1,30,0,0,0,0,205,2018,"Ascot","Ascot","Sunninghill","Sunninghill & Ascot","Sunninghill & South Ascot",false,false]
["St Michael's C of E Primary School, Sunninghill","St Michael's C of E Primary School, Sunninghill",541,"8683323","Voluntary Controlled","State",null,"JMI","Primary","Primary","Two Tier","Church of England","R",2020,1,30,0,0,0,0,205,2018,"Ascot","Ascot","Sunninghill","Sunninghill & Ascot","Sunninghill & South Ascot",false,false]
["St Michael's C of E Primary School, Sunninghill","St Michael's C of E Primary School, Sunninghill",541,"8683323","Voluntary Controlled","State",null,"JMI","Primary","Primary","Two Tier","Church of England","R",2021,1,30,0,0,0,0,205,2018,"Ascot","Ascot","Sunninghill","Sunninghill & Ascot","Sunninghill & South Ascot",false,false]
["St Michael's C of E Primary School, Sunninghill","St Michael's C of E Primary School, Sunninghill",541,"8683323","Voluntary Controlled","State",null,"JMI","Primary","Primary","Two Tier","Church of England","R",2022,1,30,0,0,0,0,205,2018,"Ascot","Ascot","Sunninghill","Sunninghill & Ascot","Sunninghill & South Ascot",false,false]
["St Peter's Church of England Middle School","St Peter's Church of England Middle School",518,"8684003","Voluntary Aided","State","2014-11-01","Middle","Middle","Secondary","Three Tier","Church of England","5",2013,1,60,0,0,0,0,271,2018,"Windsor","Windsor Villages","Old Windsor","Old Windsor","Old Windsor",false,false]
["St Peter's Church of England Middle School","St Peter's Church of England Middle School",518,"8684003","Voluntary Aided","State","2014-11-01","Middle","Middle","Secondary","Three Tier","Church of England","5",2014,1,60,0,0,0,0,271,2018,"Windsor","Windsor Villages","Old Windsor","Old Windsor","Old Windsor",false,false]
["St Peter's Church of England Middle School","St Peter's Church of England Middle School",518,"8684003","Academy","State","2014-11-01","Middle","Middle","Secondary","Three Tier","Church of England","5",2015,1,60,0,0,0,0,271,2018,"Windsor","Windsor Villages","Old Windsor","Old Windsor","Old Windsor",false,false]
["St Peter's Church of England Middle School","St Peter's Church of England Middle School",518,"8684003","Academy","State","2014-11-01","Middle","Middle","Secondary","Three Tier","Church of England","5",2016,1,60,0,0,0,0,271,2018,"Windsor","Windsor Villages","Old Windsor","Old Windsor","Old Windsor",false,false]
["St Peter's Church of England Middle School","St Peter's Church of England Middle School",518,"8684003","Academy","State","2014-11-01","Middle","Middle","Secondary","Three Tier","Church of England","5",2017,1,60,0,0,0,0,271,2018,"Windsor","Windsor Villages","Old Windsor","Old Windsor","Old Windsor",false,false]
["St Peter's Church of England Middle School","St Peter's Church of England Middle School",518,"8684003","Academy","State","2014-11-01","Middle","Middle","Secondary","Three Tier","Church of England","5",2018,1,60,0,0,0,0,271,2018,"Windsor","Windsor Villages","Old Windsor","Old Windsor","Old Windsor",false,false]
["St Peter's Church of England Middle School","St Peter's Church of England Middle School",518,"8684003","Academy","State","2014-11-01","Middle","Middle","Secondary","Three Tier","Church of England","5",2019,1,60,0,30,0,0,271,2018,"Windsor","Windsor Villages","Old Windsor","Old Windsor","Old Windsor",false,false]
["St Peter's Church of England Middle School","St Peter's Church of England Middle School",518,"8684003","Academy","State","2014-11-01","Middle","Middle","Secondary","Three Tier","Church of England","5",2020,1,60,0,30,0,0,271,2018,"Windsor","Windsor Villages","Old Windsor","Old Windsor","Old Windsor",false,false]
["St Peter's Church of England Middle School","St Peter's Church of England Middle School",518,"8684003","Academy","State","2014-11-01","Middle","Middle","Secondary","Three Tier","Church of England","5",2021,1,60,0,30,0,0,271,2018,"Windsor","Windsor Villages","Old Windsor","Old Windsor","Old Windsor",false,false]
["St Peter's Church of England Middle School","St Peter's Church of England Middle School",518,"8684003","Academy","State","2014-11-01","Middle","Middle","Secondary","Three Tier","Church of England","5",2022,1,60,0,30,0,0,271,2018,"Windsor","Windsor Villages","Old Windsor","Old Windsor","Old Windsor",false,false]
["The Lawns Nursery","The Lawns Nursery",525,"8681016","Community","State",null,"Nursery School","Early Years","Early Years","NA","None","E1",2013,1,0,0,0,0,0,0,2018,"Windsor","East Windsor","Oakfield","None","Clewer East",false,false]
["The Lawns Nursery","The Lawns Nursery",525,"8681016","Community","State",null,"Nursery School","Early Years","Early Years","NA","None","E1",2014,1,0,0,0,0,0,0,2018,"Windsor","East Windsor","Oakfield","None","Clewer East",false,false]
["The Lawns Nursery","The Lawns Nursery",525,"8681016","Community","State",null,"Nursery School","Early Years","Early Years","NA","None","E1",2015,1,0,0,0,0,0,0,2018,"Windsor","East Windsor","Oakfield","None","Clewer East",false,false]
["The Lawns Nursery","The Lawns Nursery",525,"8681016","Community","State",null,"Nursery School","Early Years","Early Years","NA","None","E1",2016,1,0,0,0,0,0,0,2018,"Windsor","East Windsor","Oakfield","None","Clewer East",false,false]
["The Lawns Nursery","The Lawns Nursery",525,"8681016","Community","State",null,"Nursery School","Early Years","Early Years","NA","None","E1",2017,1,0,0,0,0,0,0,2018,"Windsor","East Windsor","Oakfield","None","Clewer East",false,false]
["The Lawns Nursery","The Lawns Nursery",525,"8681016","Community","State",null,"Nursery School","Early Years","Early Years","NA","None","E1",2018,1,0,0,0,0,0,0,2018,"Windsor","East Windsor","Oakfield","None","Clewer East",false,false]
["The Lawns Nursery","The Lawns Nursery",525,"8681016","Community","State",null,"Nursery School","Early Years","Early Years","NA","None","E1",2019,1,0,0,0,0,0,0,2018,"Windsor","East Windsor","Oakfield","None","Clewer East",false,false]
["The Lawns Nursery","The Lawns Nursery",525,"8681016","Community","State",null,"Nursery School","Early Years","Early Years","NA","None","E1",2020,1,0,0,0,0,0,0,2018,"Windsor","East Windsor","Oakfield","None","Clewer East",false,false]
["The Lawns Nursery","The Lawns Nursery",525,"8681016","Community","State",null,"Nursery School","Early Years","Early Years","NA","None","E1",2021,1,0,0,0,0,0,0,2018,"Windsor","East Windsor","Oakfield","None","Clewer East",false,false]
["The Lawns Nursery","The Lawns Nursery",525,"8681016","Community","State",null,"Nursery School","Early Years","Early Years","NA","None","E1",2022,1,0,0,0,0,0,0,2018,"Windsor","East Windsor","Oakfield","None","Clewer East",false,false]
["The Queen Anne Royal Free CE First School","The Queen Anne Royal Free CE First School",521,"8683074","Voluntary Controlled","State",null,"First","First","Primary","Three Tier","Church of England","R",2013,1,30,0,0,0,0,149,2018,"Windsor","East Windsor","Home Park","None","Castle Without",false,false]
["The Queen Anne Royal Free CE First School","The Queen Anne Royal Free CE First School",521,"8683074","Voluntary Controlled","State",null,"First","First","Primary","Three Tier","Church of England","R",2014,1,30,0,0,0,0,149,2018,"Windsor","East Windsor","Home Park","None","Castle Without",false,false]
["The Queen Anne Royal Free CE First School","The Queen Anne Royal Free CE First School",521,"8683074","Voluntary Controlled","State",null,"First","First","Primary","Three Tier","Church of England","R",2015,1,30,0,0,0,0,150,2018,"Windsor","East Windsor","Home Park","None","Castle Without",false,false]
["The Queen Anne Royal Free CE First School","The Queen Anne Royal Free CE First School",521,"8683074","Voluntary Controlled","State",null,"First","First","Primary","Three Tier","Church of England","R",2016,1,30,0,0,0,0,150,2018,"Windsor","East Windsor","Home Park","None","Castle Without",false,false]
["The Queen Anne Royal Free CE First School","The Queen Anne Royal Free CE First School",521,"8683074","Voluntary Controlled","State",null,"First","First","Primary","Three Tier","Church of England","R",2017,1,30,0,0,0,0,150,2018,"Windsor","East Windsor","Home Park","None","Castle Without",false,false]
["The Queen Anne Royal Free CE First School","The Queen Anne Royal Free CE First School",521,"8683074","Voluntary Controlled","State",null,"First","First","Primary","Three Tier","Church of England","R",2018,1,30,0,0,0,0,150,2018,"Windsor","East Windsor","Home Park","None","Castle Without",false,false]
["The Queen Anne Royal Free CE First School","The Queen Anne Royal Free CE First School",521,"8683074","Voluntary Controlled","State",null,"First","First","Primary","Three Tier","Church of England","R",2019,1,30,0,0,0,0,150,2018,"Windsor","East Windsor","Home Park","None","Castle Without",false,false]
["The Queen Anne Royal Free CE First School","The Queen Anne Royal Free CE First School",521,"8683074","Voluntary Controlled","State",null,"First","First","Primary","Three Tier","Church of England","R",2020,1,30,0,0,0,0,150,2018,"Windsor","East Windsor","Home Park","None","Castle Without",false,false]
["The Queen Anne Royal Free CE First School","The Queen Anne Royal Free CE First School",521,"8683074","Voluntary Controlled","State",null,"First","First","Primary","Three Tier","Church of England","R",2021,1,30,0,0,0,0,150,2018,"Windsor","East Windsor","Home Park","None","Castle Without",false,false]
["The Queen Anne Royal Free CE First School","The Queen Anne Royal Free CE First School",521,"8683074","Voluntary Controlled","State",null,"First","First","Primary","Three Tier","Church of England","R",2022,1,30,0,0,0,0,150,2018,"Windsor","East Windsor","Home Park","None","Castle Without",false,false]
["The Royal School (Crown Aided)","The Royal School (Crown Aided)",515,"8683318","Voluntary Aided","State",null,"First","First","Primary","Three Tier","Church of England","R",2013,1,20,0,0,0,0,108,2018,"Windsor","Windsor Villages","Great Park","Old Windsor","Old Windsor",false,false]
["The Royal School (Crown Aided)","The Royal School (Crown Aided)",515,"8683318","Voluntary Aided","State",null,"First","First","Primary","Three Tier","Church of England","R",2014,1,20,0,0,0,0,108,2018,"Windsor","Windsor Villages","Great Park","Old Windsor","Old Windsor",false,false]
["The Royal School (Crown Aided)","The Royal School (Crown Aided)",515,"8683318","Voluntary Aided","State",null,"First","First","Primary","Three Tier","Church of England","R",2015,1,20,0,0,0,0,108,2018,"Windsor","Windsor Villages","Great Park","Old Windsor","Old Windsor",false,false]
["The Royal School (Crown Aided)","The Royal School (Crown Aided)",515,"8683318","Voluntary Aided","State",null,"First","First","Primary","Three Tier","Church of England","R",2016,1,20,0,0,0,0,108,2018,"Windsor","Windsor Villages","Great Park","Old Windsor","Old Windsor",false,false]
["The Royal School (Crown Aided)","The Royal School (Crown Aided)",515,"8683318","Voluntary Aided","State",null,"First","First","Primary","Three Tier","Church of England","R",2017,1,20,0,0,0,0,108,2018,"Windsor","Windsor Villages","Great Park","Old Windsor","Old Windsor",false,false]
["The Royal School (Crown Aided)","The Royal School (Crown Aided)",515,"8683318","Voluntary Aided","State",null,"First","First","Primary","Three Tier","Church of England","R",2018,1,20,0,0,0,0,108,2018,"Windsor","Windsor Villages","Great Park","Old Windsor","Old Windsor",false,false]
["The Royal School (Crown Aided)","The Royal School (Crown Aided)",515,"8683318","Voluntary Aided","State",null,"First","First","Primary","Three Tier","Church of England","R",2019,1,20,0,0,0,0,108,2018,"Windsor","Windsor Villages","Great Park","Old Windsor","Old Windsor",false,false]
["The Royal School (Crown Aided)","The Royal School (Crown Aided)",515,"8683318","Voluntary Aided","State",null,"First","First","Primary","Three Tier","Church of England","R",2020,1,20,0,0,0,0,108,2018,"Windsor","Windsor Villages","Great Park","Old Windsor","Old Windsor",false,false]
["The Royal School (Crown Aided)","The Royal School (Crown Aided)",515,"8683318","Voluntary Aided","State",null,"First","First","Primary","Three Tier","Church of England","R",2021,1,20,0,0,0,0,108,2018,"Windsor","Windsor Villages","Great Park","Old Windsor","Old Windsor",false,false]
["The Royal School (Crown Aided)","The Royal School (Crown Aided)",515,"8683318","Voluntary Aided","State",null,"First","First","Primary","Three Tier","Church of England","R",2022,1,20,0,0,0,0,108,2018,"Windsor","Windsor Villages","Great Park","Old Windsor","Old Windsor",false,false]
["The Windsor Boys' School","The Windsor Boys' School",531,"8684044","Community","State","2015-03-01","Upper","Upper","Secondary","Three Tier","None","9",2013,1,230,0,0,0,0,1027,2018,"Windsor","East Windsor","Trinity","None","Castle Without",false,false]
["The Windsor Boys' School","The Windsor Boys' School",531,"8684044","Community","State","2015-03-01","Upper","Upper","Secondary","Three Tier","None","9",2014,1,230,0,0,0,0,1027,2018,"Windsor","East Windsor","Trinity","None","Castle Without",false,false]
["The Windsor Boys' School","The Windsor Boys' School",531,"8684044","Academy","State","2015-03-01","Upper","Upper","Secondary","Three Tier","None","9",2015,1,230,0,0,0,0,1072,2018,"Windsor","East Windsor","Trinity","None","Castle Without",false,false]
["The Windsor Boys' School","The Windsor Boys' School",531,"8684044","Academy","State","2015-03-01","Upper","Upper","Secondary","Three Tier","None","9",2016,1,230,0,0,0,0,1072,2018,"Windsor","East Windsor","Trinity","None","Castle Without",false,false]
["The Windsor Boys' School","The Windsor Boys' School",531,"8684044","Academy","State","2015-03-01","Upper","Upper","Secondary","Three Tier","None","9",2017,1,260,0,0,0,0,1128,2018,"Windsor","East Windsor","Trinity","None","Castle Without",false,false]
["The Windsor Boys' School","The Windsor Boys' School",531,"8684044","Academy","State","2015-03-01","Upper","Upper","Secondary","Three Tier","None","9",2018,1,260,0,0,0,0,1128,2018,"Windsor","East Windsor","Trinity","None","Castle Without",false,false]
["The Windsor Boys' School","The Windsor Boys' School",531,"8684044","Academy","State","2015-03-01","Upper","Upper","Secondary","Three Tier","None","9",2019,1,260,0,0,0,0,1128,2018,"Windsor","East Windsor","Trinity","None","Castle Without",false,false]
["The Windsor Boys' School","The Windsor Boys' School",531,"8684044","Academy","State","2015-03-01","Upper","Upper","Secondary","Three Tier","None","9",2020,1,260,0,0,0,0,1128,2018,"Windsor","East Windsor","Trinity","None","Castle Without",false,false]
["The Windsor Boys' School","The Windsor Boys' School",531,"8684044","Academy","State","2015-03-01","Upper","Upper","Secondary","Three Tier","None","9",2021,1,260,0,0,0,0,1128,2018,"Windsor","East Windsor","Trinity","None","Castle Without",false,false]
["The Windsor Boys' School","The Windsor Boys' School",531,"8684044","Academy","State","2015-03-01","Upper","Upper","Secondary","Three Tier","None","9",2022,1,260,0,0,0,0,1128,2018,"Windsor","East Windsor","Trinity","None","Castle Without",false,false]
["Trevelyan Middle School","Trevelyan Middle School",522,"8684083","Community","State","2016-11-01","Middle","Middle","Secondary","Three Tier","None","5",2013,1,150,0,0,0,0,600,2018,"Windsor","East Windsor","Home Park","None","Park",false,false]
["Trevelyan Middle School","Trevelyan Middle School",522,"8684083","Community","State","2016-11-01","Middle","Middle","Secondary","Three Tier","None","5",2014,1,150,0,0,0,0,600,2018,"Windsor","East Windsor","Home Park","None","Park",false,false]
["Trevelyan Middle School","Trevelyan Middle School",522,"8684083","Community","State","2016-11-01","Middle","Middle","Secondary","Three Tier","None","5",2015,1,150,0,0,0,0,600,2018,"Windsor","East Windsor","Home Park","None","Park",false,false]
["Trevelyan Middle School","Trevelyan Middle School",522,"8684083","Community","State","2016-11-01","Middle","Middle","Secondary","Three Tier","None","5",2016,1,150,0,0,0,0,600,2018,"Windsor","East Windsor","Home Park","None","Park",false,false]
["Trevelyan Middle School","Trevelyan Middle School",522,"8684083","Academy","State","2016-11-01","Middle","Middle","Secondary","Three Tier","None","5",2017,1,150,0,0,0,0,630,2018,"Windsor","East Windsor","Home Park","None","Park",false,false]
["Trevelyan Middle School","Trevelyan Middle School",522,"8684083","Academy","State","2016-11-01","Middle","Middle","Secondary","Three Tier","None","5",2018,1,150,0,0,0,0,630,2018,"Windsor","East Windsor","Home Park","None","Park",false,false]
["Trevelyan Middle School","Trevelyan Middle School",522,"8684083","Academy","State","2016-11-01","Middle","Middle","Secondary","Three Tier","None","5",2019,1,150,0,0,0,0,630,2018,"Windsor","East Windsor","Home Park","None","Park",false,false]
["Trevelyan Middle School","Trevelyan Middle School",522,"8684083","Academy","State","2016-11-01","Middle","Middle","Secondary","Three Tier","None","5",2020,1,150,0,0,0,0,630,2018,"Windsor","East Windsor","Home Park","None","Park",false,false]
["Trevelyan Middle School","Trevelyan Middle School",522,"8684083","Academy","State","2016-11-01","Middle","Middle","Secondary","Three Tier","None","5",2021,1,150,0,0,0,0,630,2018,"Windsor","East Windsor","Home Park","None","Park",false,false]
["Trevelyan Middle School","Trevelyan Middle School",522,"8684083","Academy","State","2016-11-01","Middle","Middle","Secondary","Three Tier","None","5",2022,1,150,0,0,0,0,630,2018,"Windsor","East Windsor","Home Park","None","Park",false,false]
["Trinity St Stephen Church of England First School","Trinity St Stephen Church of England First School",530,"8683327","Voluntary Aided","State",null,"First","First","Primary","Three Tier","Church of England","R",2013,1,30,0,0,0,0,150,2018,"Windsor","East Windsor","Trinity","None","Castle Without",false,false]
["Trinity St Stephen Church of England First School","Trinity St Stephen Church of England First School",530,"8683327","Voluntary Aided","State",null,"First","First","Primary","Three Tier","Church of England","R",2014,1,30,0,0,0,0,150,2018,"Windsor","East Windsor","Trinity","None","Castle Without",false,false]
["Trinity St Stephen Church of England First School","Trinity St Stephen Church of England First School",530,"8683327","Voluntary Aided","State",null,"First","First","Primary","Three Tier","Church of England","R",2015,1,30,0,0,0,0,150,2018,"Windsor","East Windsor","Trinity","None","Castle Without",false,false]
["Trinity St Stephen Church of England First School","Trinity St Stephen Church of England First School",530,"8683327","Voluntary Aided","State",null,"First","First","Primary","Three Tier","Church of England","R",2016,1,30,0,0,0,0,150,2018,"Windsor","East Windsor","Trinity","None","Castle Without",false,false]
["Trinity St Stephen Church of England First School","Trinity St Stephen Church of England First School",530,"8683327","Voluntary Aided","State",null,"First","First","Primary","Three Tier","Church of England","R",2017,1,30,0,0,0,0,150,2018,"Windsor","East Windsor","Trinity","None","Castle Without",false,false]
["Trinity St Stephen Church of England First School","Trinity St Stephen Church of England First School",530,"8683327","Voluntary Aided","State",null,"First","First","Primary","Three Tier","Church of England","R",2018,1,30,0,0,0,0,150,2018,"Windsor","East Windsor","Trinity","None","Castle Without",false,false]
["Trinity St Stephen Church of England First School","Trinity St Stephen Church of England First School",530,"8683327","Voluntary Aided","State",null,"First","First","Primary","Three Tier","Church of England","R",2019,1,30,0,0,0,0,150,2018,"Windsor","East Windsor","Trinity","None","Castle Without",false,false]
["Trinity St Stephen Church of England First School","Trinity St Stephen Church of England First School",530,"8683327","Voluntary Aided","State",null,"First","First","Primary","Three Tier","Church of England","R",2020,1,30,0,0,0,0,150,2018,"Windsor","East Windsor","Trinity","None","Castle Without",false,false]
["Trinity St Stephen Church of England First School","Trinity St Stephen Church of England First School",530,"8683327","Voluntary Aided","State",null,"First","First","Primary","Three Tier","Church of England","R",2021,1,30,0,0,0,0,150,2018,"Windsor","East Windsor","Trinity","None","Castle Without",false,false]
["Trinity St Stephen Church of England First School","Trinity St Stephen Church of England First School",530,"8683327","Voluntary Aided","State",null,"First","First","Primary","Three Tier","Church of England","R",2022,1,30,0,0,0,0,150,2018,"Windsor","East Windsor","Trinity","None","Castle Without",false,false]
["Waltham St Lawrence Primary School","Waltham St Lawrence Primary School",283,"8682092","Community","State",null,"JMI","Primary","Primary","Two Tier","None","R",2013,1,19,0,0,0,0,133,2018,"Maidenhead","Maidenhead Villages","Waltham St Lawrence","Waltham St Lawrence","Hurley and Walthams",false,false]
["Waltham St Lawrence Primary School","Waltham St Lawrence Primary School",283,"8682092","Community","State",null,"JMI","Primary","Primary","Two Tier","None","R",2014,1,19,0,0,0,0,133,2018,"Maidenhead","Maidenhead Villages","Waltham St Lawrence","Waltham St Lawrence","Hurley and Walthams",false,false]
["Waltham St Lawrence Primary School","Waltham St Lawrence Primary School",283,"8682092","Community","State",null,"JMI","Primary","Primary","Two Tier","None","R",2015,1,19,0,0,0,0,133,2018,"Maidenhead","Maidenhead Villages","Waltham St Lawrence","Waltham St Lawrence","Hurley and Walthams",false,false]
["Waltham St Lawrence Primary School","Waltham St Lawrence Primary School",283,"8682092","Community","State",null,"JMI","Primary","Primary","Two Tier","None","R",2016,1,19,0,0,0,0,133,2018,"Maidenhead","Maidenhead Villages","Waltham St Lawrence","Waltham St Lawrence","Hurley and Walthams",false,false]
["Waltham St Lawrence Primary School","Waltham St Lawrence Primary School",283,"8682092","Community","State",null,"JMI","Primary","Primary","Two Tier","None","R",2017,1,19,0,0,0,0,133,2018,"Maidenhead","Maidenhead Villages","Waltham St Lawrence","Waltham St Lawrence","Hurley and Walthams",false,false]
["Waltham St Lawrence Primary School","Waltham St Lawrence Primary School",283,"8682092","Community","State",null,"JMI","Primary","Primary","Two Tier","None","R",2018,1,19,3,0,0,0,133,2018,"Maidenhead","Maidenhead Villages","Waltham St Lawrence","Waltham St Lawrence","Hurley and Walthams",false,false]
["Waltham St Lawrence Primary School","Waltham St Lawrence Primary School",283,"8682092","Community","State",null,"JMI","Primary","Primary","Two Tier","None","R",2019,1,19,0,0,0,0,133,2018,"Maidenhead","Maidenhead Villages","Waltham St Lawrence","Waltham St Lawrence","Hurley and Walthams",false,false]
["Waltham St Lawrence Primary School","Waltham St Lawrence Primary School",283,"8682092","Community","State",null,"JMI","Primary","Primary","Two Tier","None","R",2020,1,19,0,0,0,0,133,2018,"Maidenhead","Maidenhead Villages","Waltham St Lawrence","Waltham St Lawrence","Hurley and Walthams",false,false]
["Waltham St Lawrence Primary School","Waltham St Lawrence Primary School",283,"8682092","Community","State",null,"JMI","Primary","Primary","Two Tier","None","R",2021,1,19,0,0,0,0,133,2018,"Maidenhead","Maidenhead Villages","Waltham St Lawrence","Waltham St Lawrence","Hurley and Walthams",false,false]
["Waltham St Lawrence Primary School","Waltham St Lawrence Primary School",283,"8682092","Community","State",null,"JMI","Primary","Primary","Two Tier","None","R",2022,1,19,0,0,0,0,133,2018,"Maidenhead","Maidenhead Villages","Waltham St Lawrence","Waltham St Lawrence","Hurley and Walthams",false,false]
["Wessex Primary School","Wessex Primary School",570,"8682077","Community","State",null,"JMI","Primary","Primary","Two Tier","None","R",2013,1,60,0,0,0,0,420,2018,"Maidenhead","South West Maidenhead","Wessex West","Cox Green","Cox Green",false,false]
["Wessex Primary School","Wessex Primary School",570,"8682077","Community","State",null,"JMI","Primary","Primary","Two Tier","None","R",2014,1,60,0,0,0,0,420,2018,"Maidenhead","South West Maidenhead","Wessex West","Cox Green","Cox Green",false,false]
["Wessex Primary School","Wessex Primary School",570,"8682077","Community","State",null,"JMI","Primary","Primary","Two Tier","None","R",2015,1,60,0,0,0,0,420,2018,"Maidenhead","South West Maidenhead","Wessex West","Cox Green","Cox Green",false,false]
["Wessex Primary School","Wessex Primary School",570,"8682077","Community","State",null,"JMI","Primary","Primary","Two Tier","None","R",2016,1,60,0,0,0,0,420,2018,"Maidenhead","South West Maidenhead","Wessex West","Cox Green","Cox Green",false,false]
["Wessex Primary School","Wessex Primary School",570,"8682077","Community","State",null,"JMI","Primary","Primary","Two Tier","None","R",2017,1,60,0,0,0,0,420,2018,"Maidenhead","South West Maidenhead","Wessex West","Cox Green","Cox Green",false,false]
["Wessex Primary School","Wessex Primary School",570,"8682077","Community","State",null,"JMI","Primary","Primary","Two Tier","None","R",2018,1,60,0,0,0,0,420,2018,"Maidenhead","South West Maidenhead","Wessex West","Cox Green","Cox Green",false,false]
["Wessex Primary School","Wessex Primary School",570,"8682077","Community","State",null,"JMI","Primary","Primary","Two Tier","None","R",2019,1,60,0,0,0,0,420,2018,"Maidenhead","South West Maidenhead","Wessex West","Cox Green","Cox Green",false,false]
["Wessex Primary School","Wessex Primary School",570,"8682077","Community","State",null,"JMI","Primary","Primary","Two Tier","None","R",2020,1,60,0,0,0,0,420,2018,"Maidenhead","South West Maidenhead","Wessex West","Cox Green","Cox Green",false,false]
["Wessex Primary School","Wessex Primary School",570,"8682077","Community","State",null,"JMI","Primary","Primary","Two Tier","None","R",2021,1,60,0,0,0,0,420,2018,"Maidenhead","South West Maidenhead","Wessex West","Cox Green","Cox Green",false,false]
["Wessex Primary School","Wessex Primary School",570,"8682077","Community","State",null,"JMI","Primary","Primary","Two Tier","None","R",2022,1,60,0,0,0,0,420,2018,"Maidenhead","South West Maidenhead","Wessex West","Cox Green","Cox Green",false,false]
["White Waltham C of E Academy","White Waltham C of E Academy",576,"8683050","Academy","State","2012-09-01","JMI","Primary","Primary","Two Tier","Church of England","R",2013,1,30,0,0,0,0,210,2018,"Maidenhead","Maidenhead Villages","White Waltham","White Waltham","Hurley and Walthams",false,false]
["White Waltham C of E Academy","White Waltham C of E Academy",576,"8683050","Academy","State","2012-09-01","JMI","Primary","Primary","Two Tier","Church of England","R",2014,1,30,0,0,0,0,210,2018,"Maidenhead","Maidenhead Villages","White Waltham","White Waltham","Hurley and Walthams",false,false]
["White Waltham C of E Academy","White Waltham C of E Academy",576,"8683050","Academy","State","2012-09-01","JMI","Primary","Primary","Two Tier","Church of England","R",2015,1,30,0,0,0,0,210,2018,"Maidenhead","Maidenhead Villages","White Waltham","White Waltham","Hurley and Walthams",false,false]
["White Waltham C of E Academy","White Waltham C of E Academy",576,"8683050","Academy","State","2012-09-01","JMI","Primary","Primary","Two Tier","Church of England","R",2016,1,30,0,0,0,0,210,2018,"Maidenhead","Maidenhead Villages","White Waltham","White Waltham","Hurley and Walthams",false,false]
["White Waltham C of E Academy","White Waltham C of E Academy",576,"8683050","Academy","State","2012-09-01","JMI","Primary","Primary","Two Tier","Church of England","R",2017,1,30,0,0,0,0,210,2018,"Maidenhead","Maidenhead Villages","White Waltham","White Waltham","Hurley and Walthams",false,false]
["White Waltham C of E Academy","White Waltham C of E Academy",576,"8683050","Academy","State","2012-09-01","JMI","Primary","Primary","Two Tier","Church of England","R",2018,1,30,0,0,0,0,210,2018,"Maidenhead","Maidenhead Villages","White Waltham","White Waltham","Hurley and Walthams",false,false]
["White Waltham C of E Academy","White Waltham C of E Academy",576,"8683050","Academy","State","2012-09-01","JMI","Primary","Primary","Two Tier","Church of England","R",2019,1,30,0,0,0,0,210,2018,"Maidenhead","Maidenhead Villages","White Waltham","White Waltham","Hurley and Walthams",false,false]
["White Waltham C of E Academy","White Waltham C of E Academy",576,"8683050","Academy","State","2012-09-01","JMI","Primary","Primary","Two Tier","Church of England","R",2020,1,30,0,0,0,0,210,2018,"Maidenhead","Maidenhead Villages","White Waltham","White Waltham","Hurley and Walthams",false,false]
["White Waltham C of E Academy","White Waltham C of E Academy",576,"8683050","Academy","State","2012-09-01","JMI","Primary","Primary","Two Tier","Church of England","R",2021,1,30,0,0,0,0,210,2018,"Maidenhead","Maidenhead Villages","White Waltham","White Waltham","Hurley and Walthams",false,false]
["White Waltham C of E Academy","White Waltham C of E Academy",576,"8683050","Academy","State","2012-09-01","JMI","Primary","Primary","Two Tier","Church of England","R",2022,1,30,0,0,0,0,210,2018,"Maidenhead","Maidenhead Villages","White Waltham","White Waltham","Hurley and Walthams",false,false]
["Windsor Girls' School","Windsor Girls' School",524,"8684046","Community","State","2015-03-01","Upper","Upper","Secondary","Three Tier","None","9",2013,1,178,0,0,0,0,712,2018,"Windsor","Windsor South","New Town","None","Clewer East",false,false]
["Windsor Girls' School","Windsor Girls' School",524,"8684046","Community","State","2015-03-01","Upper","Upper","Secondary","Three Tier","None","9",2014,1,178,0,0,0,0,712,2018,"Windsor","Windsor South","New Town","None","Clewer East",false,false]
["Windsor Girls' School","Windsor Girls' School",524,"8684046","Academy","State","2015-03-01","Upper","Upper","Secondary","Three Tier","None","9",2015,1,178,0,0,0,0,712,2018,"Windsor","Windsor South","New Town","None","Clewer East",false,false]
["Windsor Girls' School","Windsor Girls' School",524,"8684046","Academy","State","2015-03-01","Upper","Upper","Secondary","Three Tier","None","9",2016,1,178,0,0,0,0,732,2018,"Windsor","Windsor South","New Town","None","Clewer East",false,false]
["Windsor Girls' School","Windsor Girls' School",524,"8684046","Academy","State","2015-03-01","Upper","Upper","Secondary","Three Tier","None","9",2017,1,208,0,0,0,0,842,2018,"Windsor","Windsor South","New Town","None","Clewer East",false,false]
["Windsor Girls' School","Windsor Girls' School",524,"8684046","Academy","State","2015-03-01","Upper","Upper","Secondary","Three Tier","None","9",2018,1,208,0,0,0,0,842,2018,"Windsor","Windsor South","New Town","None","Clewer East",false,false]
["Windsor Girls' School","Windsor Girls' School",524,"8684046","Academy","State","2015-03-01","Upper","Upper","Secondary","Three Tier","None","9",2019,1,208,0,0,0,0,842,2018,"Windsor","Windsor South","New Town","None","Clewer East",false,false]
["Windsor Girls' School","Windsor Girls' School",524,"8684046","Academy","State","2015-03-01","Upper","Upper","Secondary","Three Tier","None","9",2020,1,208,0,0,0,0,842,2018,"Windsor","Windsor South","New Town","None","Clewer East",false,false]
["Windsor Girls' School","Windsor Girls' School",524,"8684046","Academy","State","2015-03-01","Upper","Upper","Secondary","Three Tier","None","9",2021,1,208,0,0,0,0,842,2018,"Windsor","Windsor South","New Town","None","Clewer East",false,false]
["Windsor Girls' School","Windsor Girls' School",524,"8684046","Academy","State","2015-03-01","Upper","Upper","Secondary","Three Tier","None","9",2022,1,208,0,0,0,0,842,2018,"Windsor","Windsor South","New Town","None","Clewer East",false,false]
["Woodlands Park Primary & Nursery School","Woodlands Park Primary & Nursery School",574,"8682107","Community","State",null,"JMI","Primary","Primary","Two Tier","None","R",2013,1,30,0,0,0,0,205,2018,"Maidenhead","South West Maidenhead","Woodlands Park","White Waltham","Hurley and Walthams",false,false]
["Woodlands Park Primary & Nursery School","Woodlands Park Primary & Nursery School",574,"8682107","Community","State",null,"JMI","Primary","Primary","Two Tier","None","R",2014,1,30,0,0,0,0,205,2018,"Maidenhead","South West Maidenhead","Woodlands Park","White Waltham","Hurley and Walthams",false,false]
["Woodlands Park Primary & Nursery School","Woodlands Park Primary & Nursery School",574,"8682107","Community","State",null,"JMI","Primary","Primary","Two Tier","None","R",2015,1,30,0,0,0,0,203,2018,"Maidenhead","South West Maidenhead","Woodlands Park","White Waltham","Hurley and Walthams",false,false]
["Woodlands Park Primary & Nursery School","Woodlands Park Primary & Nursery School",574,"8682107","Community","State",null,"JMI","Primary","Primary","Two Tier","None","R",2016,1,30,0,0,0,0,203,2018,"Maidenhead","South West Maidenhead","Woodlands Park","White Waltham","Hurley and Walthams",false,false]
["Woodlands Park Primary & Nursery School","Woodlands Park Primary & Nursery School",574,"8682107","Community","State",null,"JMI","Primary","Primary","Two Tier","None","R",2017,1,30,0,0,0,0,203,2018,"Maidenhead","South West Maidenhead","Woodlands Park","White Waltham","Hurley and Walthams",false,false]
["Woodlands Park Primary & Nursery School","Woodlands Park Primary & Nursery School",574,"8682107","Community","State",null,"JMI","Primary","Primary","Two Tier","None","R",2018,1,30,0,0,0,0,203,2018,"Maidenhead","South West Maidenhead","Woodlands Park","White Waltham","Hurley and Walthams",false,false]
["Woodlands Park Primary & Nursery School","Woodlands Park Primary & Nursery School",574,"8682107","Community","State",null,"JMI","Primary","Primary","Two Tier","None","R",2019,1,30,0,0,0,0,203,2018,"Maidenhead","South West Maidenhead","Woodlands Park","White Waltham","Hurley and Walthams",false,false]
["Woodlands Park Primary & Nursery School","Woodlands Park Primary & Nursery School",574,"8682107","Community","State",null,"JMI","Primary","Primary","Two Tier","None","R",2020,1,30,0,0,0,0,203,2018,"Maidenhead","South West Maidenhead","Woodlands Park","White Waltham","Hurley and Walthams",false,false]
["Woodlands Park Primary & Nursery School","Woodlands Park Primary & Nursery School",574,"8682107","Community","State",null,"JMI","Primary","Primary","Two Tier","None","R",2021,1,30,0,0,0,0,203,2018,"Maidenhead","South West Maidenhead","Woodlands Park","White Waltham","Hurley and Walthams",false,false]
["Woodlands Park Primary & Nursery School","Woodlands Park Primary & Nursery School",574,"8682107","Community","State",null,"JMI","Primary","Primary","Two Tier","None","R",2022,1,30,0,0,0,0,203,2018,"Maidenhead","South West Maidenhead","Woodlands Park","White Waltham","Hurley and Walthams",false,false]
["Wraysbury Primary School","Wraysbury Primary School",699,"8682202","Community","State",null,"JMI","Primary","Primary","Two Tier","None","R",2013,1,60,0,0,0,0,420,2018,"Datchet & Wraysbury","Datchet and Wraysbury","Wraysbury","Wraysbury","Horton and Wraysbury",false,false]
["Wraysbury Primary School","Wraysbury Primary School",699,"8682202","Community","State",null,"JMI","Primary","Primary","Two Tier","None","R",2014,1,60,0,0,0,0,420,2018,"Datchet & Wraysbury","Datchet and Wraysbury","Wraysbury","Wraysbury","Horton and Wraysbury",false,false]
["Wraysbury Primary School","Wraysbury Primary School",699,"8682202","Community","State",null,"JMI","Primary","Primary","Two Tier","None","R",2015,1,60,0,0,0,0,420,2018,"Datchet & Wraysbury","Datchet and Wraysbury","Wraysbury","Wraysbury","Horton and Wraysbury",false,false]
["Wraysbury Primary School","Wraysbury Primary School",699,"8682202","Community","State",null,"JMI","Primary","Primary","Two Tier","None","R",2016,1,60,0,0,0,0,420,2018,"Datchet & Wraysbury","Datchet and Wraysbury","Wraysbury","Wraysbury","Horton and Wraysbury",false,false]
["Wraysbury Primary School","Wraysbury Primary School",699,"8682202","Community","State",null,"JMI","Primary","Primary","Two Tier","None","R",2017,1,60,0,0,0,0,420,2018,"Datchet & Wraysbury","Datchet and Wraysbury","Wraysbury","Wraysbury","Horton and Wraysbury",false,false]
["Wraysbury Primary School","Wraysbury Primary School",699,"8682202","Community","State",null,"JMI","Primary","Primary","Two Tier","None","R",2018,1,60,0,0,0,0,420,2018,"Datchet & Wraysbury","Datchet and Wraysbury","Wraysbury","Wraysbury","Horton and Wraysbury",false,false]
["Wraysbury Primary School","Wraysbury Primary School",699,"8682202","Community","State",null,"JMI","Primary","Primary","Two Tier","None","R",2019,1,60,0,0,0,0,420,2018,"Datchet & Wraysbury","Datchet and Wraysbury","Wraysbury","Wraysbury","Horton and Wraysbury",false,false]
["Wraysbury Primary School","Wraysbury Primary School",699,"8682202","Community","State",null,"JMI","Primary","Primary","Two Tier","None","R",2020,1,60,0,0,0,0,420,2018,"Datchet & Wraysbury","Datchet and Wraysbury","Wraysbury","Wraysbury","Horton and Wraysbury",false,false]
["Wraysbury Primary School","Wraysbury Primary School",699,"8682202","Community","State",null,"JMI","Primary","Primary","Two Tier","None","R",2021,1,60,0,0,0,0,420,2018,"Datchet & Wraysbury","Datchet and Wraysbury","Wraysbury","Wraysbury","Horton and Wraysbury",false,false]
["Wraysbury Primary School","Wraysbury Primary School",699,"8682202","Community","State",null,"JMI","Primary","Primary","Two Tier","None","R",2022,1,60,0,0,0,0,420,2018,"Datchet & Wraysbury","Datchet and Wraysbury","Wraysbury","Wraysbury","Horton and Wraysbury",false,false]

{"sheet":"PivotTableA","index":1,"n_rows":75,"n_cols":17,"rows_kept":75,"cut":false,"hidden":true,"merged":[]}
[]
[]
[null,null,{"$f":"Q9","v":2018}]
[]
["YearStart",2018]
[]
[]
["SchoolName","SubsidiaryName","SchoolIntakeYear","Area","Subarea","GeoLocalityName","Ward","ParishName","PhaseType","Tier","Schooltype","SchoolControlType","AcademyConversionDate","Denominationtext","SEN","Closed","CurrentYrStart"]
["Alexander First School","Alexander First School","R","Windsor","Windsor South","Alexander","Clewer South","Bray","Primary","Three Tier","First","Community"," ","None","FALSE","FALSE",2018]
["All Saints Church of England Junior School","All Saints Church of England Junior School","3","Maidenhead","Central Maidenhead","Boyn Hill","Boyn Hill","None","Primary","Two Tier","Junior","Voluntary Controlled"," ","Church of England","FALSE","FALSE",2018]
["Altwood Church of England School","Altwood Church of England School","7","Maidenhead","Central Maidenhead","Tittle Row","Boyn Hill","None","Secondary","Two Tier","Secondary","Academy","2012-09-01","Church of England","FALSE","FALSE",2018]
["Alwyn Infant School","Alwyn Infant School","R","Maidenhead","North West Maidenhead","St Mark's","Pinkneys Green","None","Primary","Two Tier","Infants","Community"," ","None","FALSE","FALSE",2018]
["Bisham C of E Primary School","Bisham C of E Primary School","R","Maidenhead","Bisham and Cookham","Bisham","Bisham and Cookham","Bisham","Primary","Two Tier","JMI","Academy"," ","Church of England","FALSE","FALSE",2018]
["Boyne Hill C of E Infant and Nursery School","Boyne Hill C of E Infant and Nursery School","R","Maidenhead","Central Maidenhead","Boyn Hill","Boyn Hill","None","Primary","Two Tier","Infants","Voluntary Controlled"," ","Church of England","FALSE","FALSE",2018]
["Braywick Court School","Braywick Court School","R","Maidenhead","South East Maidenhead","Bray","Bray","Bray","Primary","Two Tier","JMI","Free School"," ","None","FALSE","FALSE",2018]
["Braywood C of E First School","Braywood C of E First School","R","Windsor","Windsor Villages","Fifield","Bray","Bray","Primary","Three Tier","First","Voluntary Controlled"," ","Church of England","FALSE","FALSE",2018]
["Burchetts Green CE Infant School","Burchetts Green CE Infant School","R","Maidenhead","Maidenhead Villages","Burchett's Green","Hurley and Walthams","Hurley","Primary","Two Tier","Infants","Academy","2014-12-01","Church of England","FALSE","FALSE",2018]
["Charters School","Charters School","7","Ascot","Ascot","South Sunningdale","Sunningdale","Sunningdale","Secondary","Two Tier","Secondary","Academy","2012-10-01","None","FALSE","FALSE",2018]
["Cheapside CE Primary School","Cheapside CE Primary School","R","Ascot","Ascot","Cheapside","Ascot & Cheapside","Sunninghill & Ascot","Primary","Two Tier","JMI","Voluntary Aided"," ","Church of England","FALSE","FALSE",2018]
["Churchmead Church of England School","Churchmead Church of England School","7","Datchet & Wraysbury","Datchet and Wraysbury","Datchet East","Datchet","Datchet","Secondary","Two Tier","Secondary","Voluntary Aided"," ","Church of England","FALSE","FALSE",2018]
["Clewer Green CE School","Clewer Green CE School","R","Windsor","Windsor South","New Town","Clewer East","None","Primary","Three Tier","First","Voluntary Aided"," ","Church of England","FALSE","FALSE",2018]
["Cookham Dean CE Primary School","Cookham Dean CE Primary School","R","Maidenhead","Bisham and Cookham","Cookham Dean South","Bisham and Cookham","Cookham","Primary","Two Tier","JMI","Voluntary Aided"," ","Church of England","FALSE","FALSE",2018]
["Cookham Nursery School","Cookham Nursery School","E1","Maidenhead","Bisham and Cookham","Cookham","Bisham and Cookham","Cookham","Early Years","NA","Nursery School","Community"," ","None","FALSE","FALSE",2018]
["Cookham Rise Primary School","Cookham Rise Primary School","R","Maidenhead","Bisham and Cookham","Cookham Rise","Bisham and Cookham","Cookham","Primary","Two Tier","JMI","Community"," ","None","FALSE","FALSE",2018]
["Courthouse Junior School","Courthouse Junior School","3","Maidenhead","North West Maidenhead","St Mark's","Pinkneys Green","None","Primary","Two Tier","Junior","Community"," ","None","FALSE","FALSE",2018]
["Cox Green School","Cox Green School","7","Maidenhead","South West Maidenhead","Lowbrook","Cox Green","Cox Green","Secondary","Two Tier","Secondary","Academy","2011-12-01","None","FALSE","FALSE",2018]
["Datchet St Mary's C of E Primary Academy","Datchet St Mary's C of E Primary Academy","R","Datchet & Wraysbury","Datchet and Wraysbury","Datchet East","Datchet","Datchet","Primary","Two Tier","JMI","Academy","2012-01-01","Church of England","FALSE","FALSE",2018]
["Dedworth Green First School","Dedworth Green First School","R","Windsor","Windsor North","Dedworth","Clewer North","None","Primary","Three Tier","First","Academy","2016-05-01","None","FALSE","FALSE",2018]
["Dedworth Middle School","Dedworth Middle School","5","Windsor","Windsor North","Dedworth","Clewer North","None","Secondary","Three Tier","Middle","Academy","2016-05-01","None","FALSE","FALSE",2018]
["Desborough College","Desborough College","7","Maidenhead","Central Maidenhead","Larchfield East","Oldfield","None","Secondary","Two Tier","Secondary","Academy","2012-10-01","None","FALSE","FALSE",2018]
["Eton Porny C of E First School","Eton Porny C of E First School","R","Windsor","Eton","Eton","Eton and Castle","Eton Town Council","Primary","Three Tier","First","Academy","2016-02-01","Church of England","FALSE","FALSE",2018]
["Eton Wick C of E First School","Eton Wick C of E First School","R","Windsor","Eton","Eton Wick","Eton Wick","Eton Town Council","Primary","Three Tier","First","Voluntary Controlled"," ","Church of England","FALSE","FALSE",2018]
["Forest Bridge School","Forest Bridge School","R","Maidenhead","South East Maidenhead","Fishery","Oldfield","None","All-through","NA","All Years","Free School"," ","None","TRUE","FALSE",2018]
["Furze Platt Infant School","Furze Platt Infant School","R","Maidenhead","North West Maidenhead","Furze Platt","Furze Platt","None","Primary","Two Tier","Infants","Community"," ","None","FALSE","FALSE",2018]
["Furze Platt Junior School","Furze Platt Junior School","3","Maidenhead","North West Maidenhead","Furze Platt","Furze Platt","None","Primary","Two Tier","Junior","Community"," ","None","FALSE","FALSE",2018]
["Furze Platt Senior School","Furze Platt Senior School","7","Maidenhead","North West Maidenhead","Furze Platt","Furze Platt","None","Secondary","Two Tier","Secondary","Academy","2011-12-01","None","FALSE","FALSE",2018]
["Hilltop First School","Hilltop First School","R","Windsor","Windsor South","Hilltop","Clewer South","None","Primary","Three Tier","First","Community"," ","None","FALSE","FALSE",2018]
["Holy Trinity C of E Primary School, Cookham","Holy Trinity C of E Primary School, Cookham","R","Maidenhead","Bisham and Cookham","Cookham","Bisham and Cookham","Cookham","Primary","Two Tier","JMI","Voluntary Controlled"," ","Church of England","FALSE","FALSE",2018]
["Holy Trinity CE Primary School, Sunningdale","Holy Trinity CE Primary School, Sunningdale","R","Ascot","Ascot","North Sunningdale","Sunningdale","Sunningdale","Primary","Two Tier","JMI","Voluntary Aided"," ","Church of England","FALSE","FALSE",2018]
["Holyport C of E Primary School & Foundation Unit","Holyport C of E Primary School & Foundation Unit","R","Maidenhead","South East Maidenhead","Holyport Rural","Bray","Bray","Primary","Two Tier","JMI","Academy","2016-06-01","Church of England","FALSE","FALSE",2018]
["Holyport College","Holyport College (Year 7)","7","Maidenhead","South East Maidenhead","Holyport Rural","Bray","Bray","Secondary","Two Tier","Secondary","Free School"," ","None","FALSE","FALSE",2018]
["Holyport College","Holyport College (Year 9)","9","Windsor","Windsor Villages","Fifield","None","Bray","Secondary","Three Tier","Upper","Free School"," ","None","FALSE","FALSE",2018]
["Homer First School and Nursery","Homer First School and Nursery","R","Windsor","Windsor North","Homer","Clewer North","None","Primary","Three Tier","First","Community"," ","None","FALSE","FALSE",2018]
["Kings Court First School","Kings Court First School","R","Windsor","Windsor Villages","Old Windsor","Old Windsor","Old Windsor","Primary","Three Tier","First","Community"," ","None","FALSE","FALSE",2018]
["Knowl Hill C of E Academy","Knowl Hill C of E Academy","R","Maidenhead","Maidenhead Villages","Knowl Hill","Hurley and Walthams","Hurley","Primary","Two Tier","JMI","Academy","2014-09-01","Church of England","FALSE","FALSE",2018]
["Larchfield Primary and Nursery School","Larchfield Primary and Nursery School","R","Maidenhead","Central Maidenhead","Larchfield West","Oldfield","None","Primary","Two Tier","JMI","Community"," ","None","FALSE","FALSE",2018]
["Lowbrook Academy","Lowbrook Academy","R","Maidenhead","South West Maidenhead","Lowbrook","Cox Green","Cox Green","Primary","Two Tier","JMI","Academy","2011-04-01","None","FALSE","FALSE",2018]
["Maidenhead Nursery School","Maidenhead Nursery School","E1","Maidenhead","North East Maidenhead","North Town","Furze Platt","None","Early Years","NA","Nursery School","Community"," ","None","FALSE","FALSE",2018]
["Manor Green School","Manor Green School","R","Maidenhead","South West Maidenhead","Lowbrook","Cox Green","Cox Green","All-through","NA","All Years","Community"," ","None","TRUE","FALSE",2018]
["Newlands Girls' School","Newlands Girls' School","7","Maidenhead","North West Maidenhead","Highway","Pinkneys Green","None","Secondary","Two Tier","Secondary","Academy","2015-10-01","None","FALSE","FALSE",2018]
["Oakfield First School","Oakfield First School","R","Windsor","East Windsor","Oakfield","Clewer East","None","Primary","Three Tier","First","Community"," ","None","FALSE","FALSE",2018]
["Oldfield Primary School","Oldfield Primary School","R","Maidenhead","South East Maidenhead","Fishery","Oldfield","None","Primary","Two Tier","JMI","Community"," ","None","FALSE","FALSE",2018]
["RISE Alternative Learning Provision","RISE Alternative Learning Provision","R","Maidenhead","South East Maidenhead","Central","Oldfield","None","All-through","NA","All-through PRU","Community"," ","None","FALSE","FALSE",2018]
["Riverside Primary School and Nursery","Riverside Primary School and Nursery","R","Maidenhead","North East Maidenhead","North Town","Maidenhead Riverside","None","Primary","Two Tier","JMI","Community"," ","None","FALSE","FALSE",2018]
["South Ascot Village Primary School","South Ascot Village Primary School","R","Ascot","Ascot","South Ascot","Sunninghill & South Ascot","Sunninghill & Ascot","Primary","Two Tier","JMI","Community"," ","None","FALSE","FALSE",2018]
["St Edmund Campion Catholic Primary School","St Edmund Campion Catholic Primary School","R","Maidenhead","Central Maidenhead","Tittle Row","Boyn Hill","None","Primary","Two Tier","JMI","Academy","2017-07-01","Roman Catholic","FALSE","FALSE",2018]
["St Edward's Catholic First School","St Edward's Catholic First School","R","Windsor","Windsor North","Clewer Village","Clewer North","None","Primary","Three Tier","First","Voluntary Aided"," ","Roman Catholic","FALSE","FALSE",2018]
["St Edward's Royal Free Ecumenical Middle School","St Edward's Royal Free Ecumenical Middle School","5","Windsor","Windsor North","Clewer Village","Clewer North","None","Secondary","Three Tier","Middle","Voluntary Aided"," ","Ecumenical","FALSE","FALSE",2018]
["St Francis Catholic Primary School","St Francis Catholic Primary School","R","Ascot","Ascot","South Ascot","Sunninghill & South Ascot","Sunninghill & Ascot","Primary","Two Tier","JMI","Academy","2015-09-01","Roman Catholic","FALSE","FALSE",2018]
["St Luke's Church of England Primary School","St Luke's Church of England Primary School","R","Maidenhead","North East Maidenhead","St Luke's","Maidenhead Riverside","None","Primary","Two Tier","JMI","Academy","2014-12-01","Church of England","FALSE","FALSE",2018]
["St Mary's Catholic Primary School","St Mary's Catholic Primary School","R","Maidenhead","North East Maidenhead","St Luke's","Maidenhead Riverside","None","Primary","Two Tier","JMI","Academy","2013-07-01","Roman Catholic","FALSE","FALSE",2018]
["St Michael's C of E Primary School, Sunninghill","St Michael's C of E Primary School, Sunninghill","R","Ascot","Ascot","Sunninghill","Sunninghill & South Ascot","Sunninghill & Ascot","Primary","Two Tier","JMI","Voluntary Controlled"," ","Church of England","FALSE","FALSE",2018]
["St Peter's Church of England Middle School","St Peter's Church of England Middle School","5","Windsor","Windsor Villages","Old Windsor","Old Windsor","Old Windsor","Secondary","Three Tier","Middle","Academy","2014-11-01","Church of England","FALSE","FALSE",2018]
["The Lawns Nursery","The Lawns Nursery","E1","Windsor","East Windsor","Oakfield","Clewer East","None","Early Years","NA","Nursery School","Community"," ","None","FALSE","FALSE",2018]
["The Queen Anne Royal Free CE First School","The Queen Anne Royal Free CE First School","R","Windsor","East Windsor","Home Park","Castle Without","None","Primary","Three Tier","First","Voluntary Controlled"," ","Church of England","FALSE","FALSE",2018]
["The Royal School (Crown Aided)","The Royal School (Crown Aided)","R","Windsor","Windsor Villages","Great Park","Old Windsor","Old Windsor","Primary","Three Tier","First","Voluntary Aided"," ","Church of England","FALSE","FALSE",2018]
["The Windsor Boys' School","The Windsor Boys' School","9","Windsor","East Windsor","Trinity","Castle Without","None","Secondary","Three Tier","Upper","Academy","2015-03-01","None","FALSE","FALSE",2018]
["Trevelyan Middle School","Trevelyan Middle School","5","Windsor","East Windsor","Home Park","Park","None","Secondary","Three Tier","Middle","Academy","2016-11-01","None","FALSE","FALSE",2018]
["Trinity St Stephen Church of England First School","Trinity St Stephen Church of England First School","R","Windsor","East Windsor","Trinity","Castle Without","None","Primary","Three Tier","First","Voluntary Aided"," ","Church of England","FALSE","FALSE",2018]
["Waltham St Lawrence Primary School","Waltham St Lawrence Primary School","R","Maidenhead","Maidenhead Villages","Waltham St Lawrence","Hurley and Walthams","Waltham St Lawrence","Primary","Two Tier","JMI","Community"," ","None","FALSE","FALSE",2018]
["Wessex Primary School","Wessex Primary School","R","Maidenhead","South West Maidenhead","Wessex West","Cox Green","Cox Green","Primary","Two Tier","JMI","Community"," ","None","FALSE","FALSE",2018]
["White Waltham C of E Academy","White Waltham C of E Academy","R","Maidenhead","Maidenhead Villages","White Waltham","Hurley and Walthams","White Waltham","Primary","Two Tier","JMI","Academy","2012-09-01","Church of England","FALSE","FALSE",2018]
["Windsor Girls' School","Windsor Girls' School","9","Windsor","Windsor South","New Town","Clewer East","None","Secondary","Three Tier","Upper","Academy","2015-03-01","None","FALSE","FALSE",2018]
["Woodlands Park Primary & Nursery School","Woodlands Park Primary & Nursery School","R","Maidenhead","South West Maidenhead","Woodlands Park","Hurley and Walthams","White Waltham","Primary","Two Tier","JMI","Community"," ","None","FALSE","FALSE",2018]
["Wraysbury Primary School","Wraysbury Primary School","R","Datchet & Wraysbury","Datchet and Wraysbury","Wraysbury","Horton and Wraysbury","Wraysbury","Primary","Two Tier","JMI","Community"," ","None","FALSE","FALSE",2018]

{"sheet":"PivotTableB","index":2,"n_rows":73,"n_cols":68,"rows_kept":73,"cut":false,"hidden":true,"merged":[]}
[]
[]
[null,null,"YearStart","Values"]
[null,null,2013,null,null,null,null,null,2014,null,null,null,null,null,2015,null,null,null,null,null,2016,null,null,null,null,null,2017,null,null,null,null,null,2018,null,null,null,null,null,2019,null,null,null,null,null,2020,null,null,null,null,null,2021,null,null,null,null,null,2022,null,null,null,null,null,"Total Sum of PAN","Total Sum of TemporaryPlaces","Total Sum of PlannedPlaces","Total Sum of BoardingPlaces","Total Sum of MothballedPlaces","Total Sum of NetCapacity"]
["SchoolName","SubsidiaryName","Sum of PAN","Sum of TemporaryPlaces","Sum of PlannedPlaces","Sum of BoardingPlaces","Sum of MothballedPlaces","Sum of NetCapacity","Sum of PAN","Sum of TemporaryPlaces","Sum of PlannedPlaces","Sum of BoardingPlaces","Sum of MothballedPlaces","Sum of NetCapacity","Sum of PAN","Sum of TemporaryPlaces","Sum of PlannedPlaces","Sum of BoardingPlaces","Sum of MothballedPlaces","Sum of NetCapacity","Sum of PAN","Sum of TemporaryPlaces","Sum of PlannedPlaces","Sum of BoardingPlaces","Sum of MothballedPlaces","Sum of NetCapacity","Sum of PAN","Sum of TemporaryPlaces","Sum of PlannedPlaces","Sum of BoardingPlaces","Sum of MothballedPlaces","Sum of NetCapacity","Sum of PAN","Sum of TemporaryPlaces","Sum of PlannedPlaces","Sum of BoardingPlaces","Sum of MothballedPlaces","Sum of NetCapacity","Sum of PAN","Sum of TemporaryPlaces","Sum of PlannedPlaces","Sum of BoardingPlaces","Sum of MothballedPlaces","Sum of NetCapacity","Sum of PAN","Sum of TemporaryPlaces","Sum of PlannedPlaces","Sum of BoardingPlaces","Sum of MothballedPlaces","Sum of NetCapacity","Sum of PAN","Sum of TemporaryPlaces","Sum of PlannedPlaces","Sum of BoardingPlaces","Sum of MothballedPlaces","Sum of NetCapacity","Sum of PAN","Sum of TemporaryPlaces","Sum of PlannedPlaces","Sum of BoardingPlaces","Sum of MothballedPlaces","Sum of NetCapacity"]
["Alexander First School","Alexander First School",24,6,0,0,0,135,30,0,0,0,0,150,30,0,0,0,0,150,30,0,0,0,0,150,30,0,0,0,0,150,30,0,0,0,0,150,30,0,0,0,0,150,30,0,0,0,0,150,30,0,0,0,0,150,30,0,0,0,0,150,294,6,0,0,0,1485]
["All Saints Church of England Junior School","All Saints Church of England Junior School",67,0,0,0,0,240,67,23,0,0,0,240,90,0,0,0,0,360,90,0,0,0,0,360,90,0,0,0,0,360,90,0,0,0,0,360,90,0,0,0,0,360,90,0,0,0,0,360,90,0,0,0,0,360,90,0,0,0,0,360,854,23,0,0,0,3360]
["Altwood Church of England School","Altwood Church of England School",150,0,0,0,0,897,150,0,0,0,0,897,150,0,0,0,0,897,150,0,0,0,0,897,150,0,0,0,0,909,150,0,0,0,0,909,150,0,0,0,0,909,150,0,0,0,0,909,150,0,0,0,0,909,150,0,0,0,0,909,1500,0,0,0,0,9042]
["Alwyn Infant School","Alwyn Infant School",101,4,0,0,0,295,101,0,0,0,0,295,101,0,0,0,0,295,101,3,0,0,0,295,101,0,0,0,0,303,90,0,0,0,11,303,90,0,0,0,11,303,90,0,0,0,11,303,90,0,0,0,11,303,90,0,0,0,11,303,955,7,0,0,55,2998]
["Bisham C of E Primary School","Bisham C of E Primary School",16,0,0,0,0,112,16,0,0,0,0,112,16,0,0,0,0,112,16,0,0,0,0,112,16,14,0,0,0,120,16,14,0,0,0,120,16,14,0,0,0,120,16,14,0,0,0,120,16,14,0,0,0,120,16,14,0,0,0,120,160,84,0,0,0,1168]
["Boyne Hill C of E Infant and Nursery School","Boyne Hill C of E Infant and Nursery School",60,0,0,0,0,179,60,0,0,0,0,179,60,0,0,0,0,179,60,0,0,0,0,179,60,0,0,0,0,180,60,0,0,0,0,180,60,0,0,0,0,180,60,0,0,0,0,180,60,0,0,0,0,180,60,0,0,0,0,180,600,0,0,0,0,1796]
["Braywick Court School","Braywick Court School",null,null,null,null,null,null,28,0,0,0,0,58,30,0,0,0,0,58,30,0,0,0,0,90,30,0,0,0,0,115,30,0,0,0,0,210,30,0,0,0,0,210,30,0,0,0,0,210,30,0,0,0,0,210,30,0,0,0,0,210,268,0,0,0,0,1371]
["Braywood C of E First School","Braywood C of E First School",25,5,0,0,0,137,30,0,0,0,0,137,30,0,0,0,0,137,30,0,0,0,0,137,30,0,0,0,0,137,30,0,0,0,0,137,30,0,0,0,0,137,30,0,0,0,0,137,30,0,0,0,0,137,30,0,0,0,0,137,295,5,0,0,0,1370]
["Burchetts Green CE Infant School","Burchetts Green CE Infant School",20,0,0,0,0,60,20,0,0,0,0,60,20,0,0,0,0,60,20,5,0,0,0,60,22,3,0,0,0,60,22,3,0,0,0,60,22,0,0,0,0,60,22,0,0,0,0,60,22,0,0,0,0,60,22,0,0,0,0,60,212,11,0,0,0,600]
["Charters School","Charters School",240,0,0,0,0,1666,240,0,0,0,0,1666,240,0,0,0,0,1685,240,0,0,0,0,1685,240,30,0,0,0,1642,240,0,30,0,0,1816,240,0,30,0,0,1816,240,0,30,0,0,1816,240,0,30,0,0,1816,240,0,30,0,0,1816,2400,30,150,0,0,17424]
["Cheapside CE Primary School","Cheapside CE Primary School",16,0,0,0,0,112,16,0,0,0,0,112,16,0,0,0,0,112,16,0,0,0,0,112,30,0,0,0,0,112,30,0,0,0,0,210,30,0,0,0,0,210,30,0,0,0,0,210,30,0,0,0,0,210,30,0,0,0,0,210,244,0,0,0,0,1610]
["Churchmead Church of England School","Churchmead Church of England School",140,0,0,0,0,744,140,0,0,0,0,744,140,0,0,0,0,744,140,0,0,0,0,744,140,0,0,0,0,713,110,0,0,0,30,713,110,0,0,0,30,713,110,0,0,0,30,713,110,0,0,0,30,713,110,0,0,0,30,713,1250,0,0,0,150,7254]
["Clewer Green CE School","Clewer Green CE School",60,0,0,0,0,300,60,0,0,0,0,300,60,0,0,0,0,300,60,0,0,0,0,300,60,0,0,0,0,300,60,0,0,0,0,300,60,0,0,0,0,300,60,0,0,0,0,300,60,0,0,0,0,300,60,0,0,0,0,300,600,0,0,0,0,3000]
["Cookham Dean CE Primary School","Cookham Dean CE Primary School",26,0,0,0,0,189,26,0,0,0,0,189,27,0,0,0,0,189,27,0,0,0,0,189,27,0,0,0,0,189,27,0,0,0,0,189,27,0,0,0,0,189,27,0,0,0,0,189,27,0,0,0,0,189,27,0,0,0,0,189,268,0,0,0,0,1890]
["Cookham Nursery School","Cookham Nursery School",0,0,0,0,0,0,0,0,0,0,0,0,0,0,0,0,0,0,0,0,0,0,0,0,0,0,0,0,0,0,0,0,0,0,0,0,0,0,0,0,0,0,0,0,0,0,0,0,0,0,0,0,0,0,0,0,0,0,0,0,0,0,0,0,0,0]
["Cookham Rise Primary School","Cookham Rise Primary School",30,0,0,0,0,210,30,0,0,0,0,210,30,0,0,0,0,210,30,0,0,0,0,210,30,0,0,0,0,210,30,0,0,0,0,210,30,0,0,0,0,210,30,0,0,0,0,210,30,0,0,0,0,210,30,0,0,0,0,210,300,0,0,0,0,2100]
["Courthouse Junior School","Courthouse Junior School",105,0,0,0,0,420,105,0,0,0,0,420,105,0,0,0,0,420,105,0,0,0,0,420,105,0,0,0,0,420,105,0,0,0,0,420,105,0,0,0,0,420,105,0,0,0,0,420,105,0,0,0,0,420,105,0,0,0,0,420,1050,0,0,0,0,4200]
["Cox Green School","Cox Green School",176,0,0,0,0,1077,176,0,0,0,0,1077,176,0,0,0,0,1085,176,30,0,0,0,1103,176,30,0,0,0,1103,206,4,0,0,0,1227,210,0,0,0,0,1227,210,0,0,0,0,1227,210,0,0,0,0,1227,210,0,0,0,0,1227,1926,64,0,0,0,11580]
["Datchet St Mary's C of E Primary Academy","Datchet St Mary's C of E Primary Academy",30,0,0,0,0,204,30,30,0,0,0,234,30,0,0,0,0,234,30,0,0,0,0,234,30,0,0,0,0,234,30,0,0,0,0,234,30,0,0,0,0,234,30,0,0,0,0,234,30,0,0,0,0,204,30,0,0,0,0,204,300,30,0,0,0,2250]
["Dedworth Green First School","Dedworth Green First School",30,0,0,0,0,150,30,30,0,0,0,180,30,0,0,0,0,180,30,0,0,0,0,180,30,0,0,0,0,180,30,0,0,0,0,180,30,0,0,0,0,150,30,0,0,0,0,150,30,0,0,0,0,150,30,0,0,0,0,150,300,30,0,0,0,1650]
["Dedworth Middle School","Dedworth Middle School",120,0,0,0,0,524,120,0,0,0,0,524,120,0,0,0,0,541,120,0,0,0,0,541,150,0,0,0,0,541,180,0,0,0,0,720,180,0,0,0,0,720,180,0,0,0,0,720,180,0,0,0,0,720,180,0,0,0,0,720,1530,0,0,0,0,6271]
["Desborough College","Desborough College",189,0,0,0,0,1134,189,0,0,0,0,1134,189,0,0,0,0,1186,189,0,0,0,0,1186,189,0,0,0,0,1186,189,0,0,0,0,1186,189,0,0,0,0,1186,189,0,0,0,0,1186,189,0,0,0,0,1186,189,0,0,0,0,1186,1890,0,0,0,0,11756]
["Eton Porny C of E First School","Eton Porny C of E First School",30,0,0,0,0,136,30,0,0,0,0,136,30,0,0,0,0,136,30,0,0,0,0,136,30,0,0,0,0,136,30,0,0,0,0,136,30,0,0,0,0,136,30,0,0,0,0,136,30,0,0,0,0,136,30,0,0,0,0,136,300,0,0,0,0,1360]
["Eton Wick C of E First School","Eton Wick C of E First School",30,0,0,0,0,165,30,0,0,0,0,165,30,0,0,0,0,150,30,0,0,0,0,150,30,0,0,0,0,150,30,0,0,0,0,150,30,0,0,0,0,150,30,0,0,0,0,150,30,0,0,0,0,150,30,0,0,0,0,150,300,0,0,0,0,1530]
["Forest Bridge School","Forest Bridge School",null,null,null,null,null,null,null,null,null,null,null,null,10,0,0,0,0,100,10,0,0,0,0,100,10,0,0,0,0,100,10,0,0,0,0,100,10,0,0,0,0,100,10,0,0,0,0,100,10,0,0,0,0,100,10,0,0,0,0,100,80,0,0,0,0,800]
["Furze Platt Infant School","Furze Platt Infant School",90,0,0,0,0,270,90,0,0,0,0,270,90,0,0,0,0,270,90,0,0,0,0,270,90,0,0,0,0,270,90,0,0,0,0,270,90,0,0,0,0,270,90,0,0,0,0,270,90,0,0,0,0,270,90,0,0,0,0,270,900,0,0,0,0,2700]
["Furze Platt Junior School","Furze Platt Junior School",90,0,0,0,0,330,90,0,0,0,0,360,90,0,0,0,0,360,90,0,0,0,0,360,90,0,0,0,0,360,90,0,0,0,0,360,90,0,0,0,0,360,90,0,0,0,0,360,90,0,0,0,0,360,90,0,0,0,0,360,900,0,0,0,0,3570]
["Furze Platt Senior School","Furze Platt Senior School",193,0,0,0,0,1304,193,0,0,0,0,1304,193,0,0,0,0,1243,193,30,0,0,0,1339,193,30,0,0,0,1301,223,0,0,0,0,1454,253,0,0,0,0,1454,253,0,0,0,0,1454,253,0,0,0,0,1454,253,0,0,0,0,1454,2200,60,0,0,0,13761]
["Hilltop First School","Hilltop First School",45,0,0,0,0,225,45,0,0,0,0,225,45,0,0,0,0,225,45,0,0,0,0,225,45,0,0,0,0,225,45,0,0,0,0,225,45,0,0,0,0,225,45,0,0,0,0,225,45,0,0,0,0,225,45,0,0,0,0,225,450,0,0,0,0,2250]
["Holy Trinity C of E Primary School, Cookham","Holy Trinity C of E Primary School, Cookham",32,0,0,0,0,224,32,0,0,0,0,224,30,0,0,0,0,222,30,0,0,0,0,220,30,0,0,0,0,210,30,0,0,0,0,210,30,0,0,0,0,210,30,0,0,0,0,210,30,0,0,0,0,210,30,0,0,0,0,210,304,0,0,0,0,2150]
["Holy Trinity CE Primary School, Sunningdale","Holy Trinity CE Primary School, Sunningdale",30,0,0,0,0,210,30,0,0,0,0,210,30,15,0,0,0,225,30,0,0,0,0,225,30,0,0,0,0,225,30,0,0,0,0,225,30,0,0,0,0,225,30,0,0,0,0,225,30,0,0,0,0,225,30,0,0,0,0,225,300,15,0,0,0,2220]
["Holyport C of E Primary School & Foundation Unit","Holyport C of E Primary School & Foundation Unit",60,0,0,0,0,420,60,0,0,0,0,420,60,0,0,0,0,420,60,0,0,0,0,420,60,0,0,0,0,420,60,0,0,0,0,420,60,0,0,0,0,420,60,0,0,0,0,420,60,0,0,0,0,420,60,0,0,0,0,420,600,0,0,0,0,4200]
["Holyport College","Holyport College (Year 7)",null,null,null,null,null,null,40,40,0,18,0,280,40,4,0,18,0,318,44,0,0,18,0,318,44,0,0,18,0,318,44,0,0,18,0,318,44,0,0,18,0,318,44,0,0,18,0,318,44,0,0,18,0,318,44,0,0,18,0,318,388,44,0,162,0,2824]
["Holyport College","Holyport College (Year 9)",null,null,null,null,null,null,40,0,0,18,0,200,40,4,0,18,0,230,44,0,0,18,0,230,44,0,0,18,0,230,44,0,0,18,0,230,44,0,0,18,0,230,44,0,0,18,0,230,44,0,0,18,0,230,44,0,0,18,0,230,388,4,0,162,0,2040]
["Homer First School and Nursery","Homer First School and Nursery",45,0,0,0,0,225,45,30,0,0,0,255,45,0,0,0,0,255,45,30,0,0,0,255,45,0,0,0,0,255,45,0,0,0,0,255,45,0,0,0,0,225,45,0,0,0,0,225,45,0,0,0,0,225,45,0,0,0,0,225,450,60,0,0,0,2400]
["Kings Court First School","Kings Court First School",45,0,0,0,0,225,45,0,0,0,0,225,45,0,0,0,0,225,45,0,0,0,0,225,45,0,0,0,0,225,45,0,0,0,0,225,45,0,0,0,0,225,45,0,0,0,0,225,45,0,0,0,0,225,45,0,0,0,0,225,450,0,0,0,0,2250]
["Knowl Hill C of E Academy","Knowl Hill C of E Academy",13,2,0,0,0,90,13,0,0,0,0,90,13,17,0,0,0,90,30,0,0,0,0,135,30,0,0,0,0,153,30,0,0,0,0,153,30,0,0,0,0,153,13,0,0,0,0,153,13,0,0,0,0,153,13,0,0,0,0,153,198,19,0,0,0,1323]
["Larchfield Primary and Nursery School","Larchfield Primary and Nursery School",30,0,0,0,0,208,30,0,0,0,0,208,30,0,0,0,0,208,30,0,0,0,0,208,30,0,0,0,0,209,30,0,0,0,0,209,30,0,0,0,0,209,30,0,0,0,0,209,30,0,0,0,0,209,30,0,0,0,0,209,300,0,0,0,0,2086]
["Lowbrook Academy","Lowbrook Academy",30,30,0,0,0,270,30,30,0,0,0,270,30,30,0,0,0,300,30,30,0,0,0,330,30,0,0,0,0,330,30,0,0,0,0,330,30,0,0,0,0,330,30,0,0,0,0,330,30,0,0,0,0,300,30,0,0,0,0,300,300,120,0,0,0,3090]
["Maidenhead Nursery School","Maidenhead Nursery School",0,0,0,0,0,0,0,0,0,0,0,0,0,0,0,0,0,0,0,0,0,0,0,0,0,0,0,0,0,0,0,0,0,0,0,0,0,0,0,0,0,0,0,0,0,0,0,0,0,0,0,0,0,0,0,0,0,0,0,0,0,0,0,0,0,0]
["Manor Green School","Manor Green School",25,0,0,0,0,100,25,0,0,0,0,100,25,0,0,0,0,100,25,0,0,0,0,100,25,0,0,0,0,100,25,0,0,0,0,100,25,0,0,0,0,100,25,0,0,0,0,100,25,0,0,0,0,100,25,0,0,0,0,100,250,0,0,0,0,1000]
["Newlands Girls' School","Newlands Girls' School",186,0,0,0,0,1159,186,0,0,0,0,1159,186,0,0,0,0,1148,186,6,0,0,0,1185,192,0,0,0,0,1188,192,0,0,0,0,1188,192,0,0,0,0,1188,192,0,0,0,0,1188,192,0,0,0,0,1188,192,0,0,0,0,1188,1896,6,0,0,0,11779]
["Oakfield First School","Oakfield First School",60,0,0,0,0,300,60,0,0,0,0,300,60,0,0,0,0,300,60,0,0,0,0,300,60,0,0,0,0,300,60,0,0,0,0,300,60,0,0,0,0,300,60,0,0,0,0,300,60,0,0,0,0,300,60,0,0,0,0,300,600,0,0,0,0,3000]
["Oldfield Primary School","Oldfield Primary School",30,30,0,0,0,268,60,0,0,0,0,298,60,0,0,0,0,420,60,0,0,0,0,420,60,0,0,0,0,420,60,0,0,0,0,420,60,0,0,0,0,420,60,0,0,0,0,420,60,0,0,0,0,420,60,0,0,0,0,420,570,30,0,0,0,3926]
["RISE Alternative Learning Provision","RISE Alternative Learning Provision",0,0,0,0,0,0,0,0,0,0,0,0,0,0,0,0,0,0,0,0,0,0,0,0,0,0,0,0,0,0,0,0,0,0,0,0,0,0,0,0,0,0,0,0,0,0,0,0,0,0,0,0,0,0,0,0,0,0,0,0,0,0,0,0,0,0]
["Riverside Primary School and Nursery","Riverside Primary School and Nursery",30,0,0,0,0,239,60,0,0,0,0,239,60,0,0,0,0,420,60,0,0,0,0,300,60,0,0,0,0,300,60,0,0,0,0,420,60,0,0,0,0,420,60,0,0,0,0,420,60,0,0,0,0,420,60,0,0,0,0,420,570,0,0,0,0,3598]
["South Ascot Village Primary School","South Ascot Village Primary School",30,0,0,0,0,240,30,0,0,0,0,240,30,0,0,0,0,240,30,0,0,0,0,240,30,0,0,0,0,240,30,0,0,0,0,240,30,0,0,0,0,210,30,0,0,0,0,210,30,0,0,0,0,210,30,0,0,0,0,210,300,0,0,0,0,2280]
["St Edmund Campion Catholic Primary School","St Edmund Campion Catholic Primary School",60,0,0,0,0,420,60,0,0,0,0,420,60,0,0,0,0,420,60,0,0,0,0,420,60,0,0,0,0,420,60,0,0,0,0,420,60,0,0,0,0,420,60,0,0,0,0,420,60,0,0,0,0,420,60,0,0,0,0,420,600,0,0,0,0,4200]
["St Edward's Catholic First School","St Edward's Catholic First School",60,0,0,0,0,255,60,0,0,0,0,311,60,0,0,0,0,311,60,0,0,0,0,311,60,0,0,0,0,311,60,0,0,0,0,311,60,0,0,0,0,311,60,0,0,0,0,311,60,0,0,0,0,311,60,0,0,0,0,311,600,0,0,0,0,3054]
["St Edward's Royal Free Ecumenical Middle School","St Edward's Royal Free Ecumenical Middle School",120,0,0,0,0,378,120,0,0,0,0,480,120,0,0,0,0,480,120,0,0,0,0,480,120,0,0,0,0,480,120,0,0,0,0,480,120,0,0,0,0,480,120,0,0,0,0,480,120,0,0,0,0,480,120,0,0,0,0,480,1200,0,0,0,0,4698]
["St Francis Catholic Primary School","St Francis Catholic Primary School",30,0,0,0,0,210,30,0,0,0,0,210,30,0,0,0,0,210,30,0,0,0,0,210,30,0,0,0,0,210,30,0,0,0,0,210,30,0,0,0,0,210,30,0,0,0,0,210,30,0,0,0,0,210,30,0,0,0,0,210,300,0,0,0,0,2100]
["St Luke's Church of England Primary School","St Luke's Church of England Primary School",45,0,0,0,0,315,45,0,0,0,0,315,45,0,0,0,0,315,45,0,0,0,0,315,45,0,0,0,0,315,45,0,0,0,0,315,45,0,0,0,0,315,45,0,0,0,0,315,45,0,0,0,0,315,45,0,0,0,0,315,450,0,0,0,0,3150]
["St Mary's Catholic Primary School","St Mary's Catholic Primary School",45,0,0,0,0,315,45,0,0,0,0,315,45,0,0,0,0,315,45,0,0,0,0,315,45,0,0,0,0,315,45,0,0,0,0,315,45,0,0,0,0,315,45,0,0,0,0,315,45,0,0,0,0,315,45,0,0,0,0,315,450,0,0,0,0,3150]
["St Michael's C of E Primary School, Sunninghill","St Michael's C of E Primary School, Sunninghill",30,0,0,0,0,210,30,0,0,0,0,210,30,0,0,0,0,210,30,0,0,0,0,210,30,0,0,0,0,205,30,0,0,0,0,205,30,0,0,0,0,205,30,0,0,0,0,205,30,0,0,0,0,205,30,0,0,0,0,205,300,0,0,0,0,2070]
["St Peter's Church of England Middle School","St Peter's Church of England Middle School",60,0,0,0,0,271,60,0,0,0,0,271,60,0,0,0,0,271,60,0,0,0,0,271,60,0,0,0,0,271,60,0,0,0,0,271,60,0,30,0,0,271,60,0,30,0,0,271,60,0,30,0,0,271,60,0,30,0,0,271,600,0,120,0,0,2710]
["The Lawns Nursery","The Lawns Nursery",0,0,0,0,0,0,0,0,0,0,0,0,0,0,0,0,0,0,0,0,0,0,0,0,0,0,0,0,0,0,0,0,0,0,0,0,0,0,0,0,0,0,0,0,0,0,0,0,0,0,0,0,0,0,0,0,0,0,0,0,0,0,0,0,0,0]
["The Queen Anne Royal Free CE First School","The Queen Anne Royal Free CE First School",30,0,0,0,0,149,30,0,0,0,0,149,30,0,0,0,0,150,30,0,0,0,0,150,30,0,0,0,0,150,30,0,0,0,0,150,30,0,0,0,0,150,30,0,0,0,0,150,30,0,0,0,0,150,30,0,0,0,0,150,300,0,0,0,0,1498]
["The Royal School (Crown Aided)","The Royal School (Crown Aided)",20,0,0,0,0,108,20,0,0,0,0,108,20,0,0,0,0,108,20,0,0,0,0,108,20,0,0,0,0,108,20,0,0,0,0,108,20,0,0,0,0,108,20,0,0,0,0,108,20,0,0,0,0,108,20,0,0,0,0,108,200,0,0,0,0,1080]
["The Windsor Boys' School","The Windsor Boys' School",230,0,0,0,0,1027,230,0,0,0,0,1027,230,0,0,0,0,1072,230,0,0,0,0,1072,260,0,0,0,0,1128,260,0,0,0,0,1128,260,0,0,0,0,1128,260,0,0,0,0,1128,260,0,0,0,0,1128,260,0,0,0,0,1128,2480,0,0,0,0,10966]
["Trevelyan Middle School","Trevelyan Middle School",150,0,0,0,0,600,150,0,0,0,0,600,150,0,0,0,0,600,150,0,0,0,0,600,150,0,0,0,0,630,150,0,0,0,0,630,150,0,0,0,0,630,150,0,0,0,0,630,150,0,0,0,0,630,150,0,0,0,0,630,1500,0,0,0,0,6180]
["Trinity St Stephen Church of England First School","Trinity St Stephen Church of England First School",30,0,0,0,0,150,30,0,0,0,0,150,30,0,0,0,0,150,30,0,0,0,0,150,30,0,0,0,0,150,30,0,0,0,0,150,30,0,0,0,0,150,30,0,0,0,0,150,30,0,0,0,0,150,30,0,0,0,0,150,300,0,0,0,0,1500]
["Waltham St Lawrence Primary School","Waltham St Lawrence Primary School",19,0,0,0,0,133,19,0,0,0,0,133,19,0,0,0,0,133,19,0,0,0,0,133,19,0,0,0,0,133,19,3,0,0,0,133,19,0,0,0,0,133,19,0,0,0,0,133,19,0,0,0,0,133,19,0,0,0,0,133,190,3,0,0,0,1330]
["Wessex Primary School","Wessex Primary School",60,0,0,0,0,420,60,0,0,0,0,420,60,0,0,0,0,420,60,0,0,0,0,420,60,0,0,0,0,420,60,0,0,0,0,420,60,0,0,0,0,420,60,0,0,0,0,420,60,0,0,0,0,420,60,0,0,0,0,420,600,0,0,0,0,4200]
["White Waltham C of E Academy","White Waltham C of E Academy",30,0,0,0,0,210,30,0,0,0,0,210,30,0,0,0,0,210,30,0,0,0,0,210,30,0,0,0,0,210,30,0,0,0,0,210,30,0,0,0,0,210,30,0,0,0,0,210,30,0,0,0,0,210,30,0,0,0,0,210,300,0,0,0,0,2100]
["Windsor Girls' School","Windsor Girls' School",178,0,0,0,0,712,178,0,0,0,0,712,178,0,0,0,0,712,178,0,0,0,0,732,208,0,0,0,0,842,208,0,0,0,0,842,208,0,0,0,0,842,208,0,0,0,0,842,208,0,0,0,0,842,208,0,0,0,0,842,1960,0,0,0,0,7920]
["Woodlands Park Primary & Nursery School","Woodlands Park Primary & Nursery School",30,0,0,0,0,205,30,0,0,0,0,205,30,0,0,0,0,203,30,0,0,0,0,203,30,0,0,0,0,203,30,0,0,0,0,203,30,0,0,0,0,203,30,0,0,0,0,203,30,0,0,0,0,203,30,0,0,0,0,203,300,0,0,0,0,2034]
["Wraysbury Primary School","Wraysbury Primary School",60,0,0,0,0,420,60,0,0,0,0,420,60,0,0,0,0,420,60,0,0,0,0,420,60,0,0,0,0,420,60,0,0,0,0,420,60,0,0,0,0,420,60,0,0,0,0,420,60,0,0,0,0,420,60,0,0,0,0,420,600,0,0,0,0,4200]
["Grand Total",null,4036,77,0,0,0,21901,4215,183,0,36,0,22762,4249,70,0,36,0,23449,4274,134,0,36,0,23605,4386,107,0,36,0,23750,4435,24,30,36,41,24693,4469,14,60,36,41,24603,4452,14,60,36,41,24603,4452,14,60,36,41,24543,4452,14,60,36,41,24543,43420,651,270,324,205,238452]

{"sheet":"Report","index":3,"n_rows":98,"n_cols":80,"rows_kept":98,"cut":false,"hidden":false,"merged":[[7,4,7,79],[12,1,19,2],[12,16,12,21],[13,22,19,22],[13,23,19,23],[13,24,19,24],[13,16,19,16],[13,17,19,17],[13,18,19,18],[13,19,19,19],[13,21,19,21],[13,20,19,20],[12,12,19,12],[12,3,19,3],[12,9,19,9],[12,8,19,8],[12,5,19,5],[12,4,19,4],[12,6,19,6],[12,7,19,7],[12,15,19,15],[12,14,19,14],[12,13,19,13],[12,11,19,11],[12,10,19,10],[13,30,19,30],[13,31,19,31],[13,33,19,33],[12,22,12,27],[12,28,12,33],[13,25,19,25],[13,27,19,27],[13,28,19,28],[13,29,19,29],[13,26,19,26],[13,32,19,32],[13,43,19,43],[12,34,12,39],[13,34,19,34],[13,35,19,35],[13,36,19,36],[13,37,19,37],[13,39,19,39],[13,38,19,38],[12,40,12,45],[13,45,19,45],[13,40,19,40],[13,41,19,41],[13,42,19,42],[12,46,12,51],[12,52,12,58],[13,52,19,52],[13,53,19,53],[13,54,19,54],[13,55,19,55],[13,56,19,56],[13,58,19,58],[13,46,19,46],[13,47,19,47],[13,48,19,48],[13,49,19,49],[13,51,19,51],[12,73,12,79],[13,73,19,73],[13,74,19,74],[13,75,19,75],[13,76,19,76],[13,77,19,77],[13,79,19,79],[12,59,12,65],[12,66,12,72],[13,66,19,66],[13,67,19,67],[13,68,19,68],[13,69,19,69],[13,63,19,63],[13,65,19,65],[5,4,5,79],[3,4,3,79],[7,1,7,2],[0,70,0,77],[13,78,19,78],[13,44,19,44],[13,50,19,50],[13,57,19,57],[13,64,19,64],[13,71,19,71],[13,70,19,70],[13,72,19,72],[13,59,19,59],[13,60,19,60],[13,61,19,61],[13,62,19,62]]}
[null,"Report - Admission Numbers and Net Capacities in the Royal Borough of Windsor and Maidenhead (Autumn)",null,null,null,null,null,null,null,null,null,null,null,null,null,null,null,null,null,null,null,null,null,null,null,null,null,null,null,null,null,null,null,null,null,null,null,null,null,null,null,null,null,null,null,null,null,null,null,null,null,null,null,null,null,null,null,null,null,null,null,null,null,null,null,null,null,null,null,null,"If you have any queries about this data, please contact 01628 796572 or email schoolplaces@achievingforchildren.org.uk"]
[null,"This report gives the Published Admission Numbers (PANs) and Net Capacities of schools in the Royal Borough of Windsor and Maidenhead"]
[]
[null,null,null,null,"Use this button to hide or show the green columns ('School Location') and brown columns ('School Details') information as preferred."]
[]
[null,null,null,null,"Use this button to hide or show the help 'bubbles', which give brief explanations of the data in each column.  Hiding this will let you see more rows of data."]
[]
[null,"Filter the results:        ",null,null,"Use the filters in the red row below to choose groups of schools.  The totals in the final row will reflect the total of the PANs/Net Capacities in the selected schools.  To use the filters, click on the arrow in the relevant column (e.g. 'Area').  All the options in that column (e.g. Ascot, Datchet & Wraysbury), Maidenhead and Windsor) will be shown with check boxes.  Simply check or uncheck the options you want displayed and click 'ok'.  "]
[]
[]
[]
[null,"A",null,"B","C","D","E","F","G","H","I","J","K","L","M","N","O","P","Q","R","S","T","U","V","W","X","Y","Z","AA","AB","AC","AD","AE","AF","AG","AH","AI","AJ","AK","AL","AM","AN","AO","AP","AQ","AR","AS","AT","AU","AV","AW","AX","AY","AZ","BA","BB","BC","BD","BE","BF","BG","BH","BI","BJ","BK","BL","BM","BN","BO","BP","BQ","BR","BS","BT","BU","BV","BW","BX","BY","BZ"]
[null,"School",null,"Intake Year Group","Area","Subarea","Locality","Ward","Parish","Phase","Tier","Type","SEN","Control","Academy Conversion Date","Denomination",{"$f":"CurrentYearStartA-5","v":2013},null,null,null,null,null,{"$f":"CurrentYearStartA-4","v":2014},null,null,null,null,null,{"$f":"CurrentYearStartA-3","v":2015},null,null,null,null,null,{"$f":"CurrentYearStartA-2","v":2016},null,null,null,null,null,{"$f":"CurrentYearStartA-1","v":2017},null,null,null,null,null,{"$f":"CurrentYearStartA","v":2018},null,null,null,null,null,{"$f":"CurrentYearStartA+1","v":2019},null,null,null,null,null,null,{"$f":"CurrentYearStartA+2","v":2020},null,null,null,null,null,null,{"$f":"CurrentYearStartA+3","v":2021},null,null,null,null,null,null,{"$f":"CurrentYearStartA+4","v":2022}]
[null,null,null,null,null,null,null,null,null,null,null,null,null,null,null,null,"PAN","Additional Places","Boarding Places","Total Places","Places 'mothballed'","Net Capacity","PAN","Additional Places","Boarding Places","Total Places","Places 'mothballed'","Net Capacity","PAN","Additional Places","Boarding Places","Total Places","Places 'mothballed'","Net Capacity","PAN","Additional Places","Boarding Places","Total Places","Places 'mothballed'","Net Capacity","PAN","Additional Places","Boarding Places","Total Places","Places 'mothballed'","Net Capacity","PAN","Additional Places","Boarding Places","Total Places","Places 'mothballed'","Net Capacity","PAN","Additional Places","Planned Change to PAN","Boarding Places","Total Places","Places 'mothballed'","Net Capacity","PAN","Additional Places","Planned Change to PAN","Boarding Places","Total Places","Places 'mothballed'","Net Capacity","PAN","Additional Places","Planned Change to PAN","Boarding Places","Total Places","Places 'mothballed'","Net Capacity","PAN","Additional Places","Planned Change to PAN","Boarding Places","Total Places","Places 'mothballed'","Net Capacity"]
[]
[]
[]
[]
[]
[]
[null,null,null,null,null,null,null,null,null,null,null,null,null,null,null,null,"Sum of PAN","Sum Of TemporaryPlaces","Sum Of BoardingPlaces",null,"Sum Of MothballedPlaces","Sum Of NetCapacity","Sum of PAN","Sum Of TemporaryPlaces","Sum Of BoardingPlaces",null,"Sum Of MothballedPlaces","Sum Of NetCapacity","Sum of PAN","Sum Of TemporaryPlaces","Sum Of BoardingPlaces",null,"Sum Of MothballedPlaces","Sum Of NetCapacity","Sum of PAN","Sum Of TemporaryPlaces","Sum Of BoardingPlaces",null,"Sum Of MothballedPlaces","Sum Of NetCapacity","Sum of PAN","Sum Of TemporaryPlaces","Sum Of BoardingPlaces",null,"Sum Of MothballedPlaces","Sum Of NetCapacity","Sum of PAN","Sum Of TemporaryPlaces","Sum Of BoardingPlaces",null,"Sum Of MothballedPlaces","Sum Of NetCapacity","Sum of PAN","Sum Of TemporaryPlaces","Sum of PlannedPlaces","Sum Of BoardingPlaces",null,"Sum Of MothballedPlaces","Sum Of NetCapacity","Sum of PAN","Sum Of TemporaryPlaces","Sum of PlannedPlaces","Sum Of BoardingPlaces",null,"Sum Of MothballedPlaces","Sum Of NetCapacity","Sum of PAN","Sum Of TemporaryPlaces","Sum of PlannedPlaces","Sum Of BoardingPlaces",null,"Sum Of MothballedPlaces","Sum Of NetCapacity","Sum of PAN","Sum Of TemporaryPlaces","Sum of PlannedPlaces","Sum Of BoardingPlaces",null,"Sum Of MothballedPlaces","Sum Of NetCapacity"]
[null,{"$f":"IF(PivotTableA!A9=\"\",\"n/a\",PivotTableA!A9)","v":"Alexander First School"},{"$f":"IF(B22=\"n/a\",\"\",PivotTableA!B9)","v":"Alexander First School"},{"$f":"IF($B22=\"n/a\",\"\",PivotTableA!C9)","v":"R"},{"$f":"IF($B22=\"n/a\",\"\",PivotTableA!D9)","v":"Windsor"},{"$f":"IF($B22=\"n/a\",\"\",PivotTableA!E9)","v":"Windsor South"},{"$f":"IF($B22=\"n/a\",\"\",PivotTableA!F9)","v":"Alexander"},{"$f":"IF($B22=\"n/a\",\"\",PivotTableA!G9)","v":"Clewer South"},{"$f":"IF($B22=\"n/a\",\"\",PivotTableA!H9)","v":"Bray"},{"$f":"IF($B22=\"n/a\",\"\",PivotTableA!I9)","v":"Primary"},{"$f":"IF($B22=\"n/a\",\"\",PivotTableA!J9)","v":"Three Tier"},{"$f":"IF($B22=\"n/a\",\"\",PivotTableA!K9)","v":"First"},{"$f":"IF($B22=\"n/a\",\"\",PivotTableA!O9)","v":"FALSE"},{"$f":"IF($B22=\"n/a\",\"\",PivotTableA!L9)","v":"Community"},{"$f":"IF($B22=\"n/a\",\"\",PivotTableA!M9)","v":" "},{"$f":"IF($B22=\"n/a\",\"\",PivotTableA!N9)","v":"None"},{"$f":"IFERROR(IF($B22=\"\",\"\",\nIF(OR($L22=\"Nursery School\",$L22=\"All-through PRU\",$M22=\"True\"),\"n/a\",\nIF(GETPIVOTDATA(Q$21 & \"\",PivotTableB!$A$3,\"SchoolName\",$B22,\"SubsidiaryName\",$C22,\"YearStart\",Q$13)=\"\",\".\",\nGETPIVOTDATA(Q$21 & \"\",PivotTableB!$A$3,\"SchoolName\",$B22,\"SubsidiaryName\",$C22,\"YearStart\",Q$13)))),\"\")","v":24},{"$f":"IFERROR(IF(Q22=\".\",\".\",IF(Q22=\"n/a\",\"n/a\",\nGETPIVOTDATA(R$21 & \"\",PivotTableB!$A$3,\"SchoolName\",$B22,\"SubsidiaryName\",$C22,\"YearStart\",Q$13))),\"\")","v":6},{"$f":"IFERROR(IF(R22=\".\",\".\",IF(R22=\"n/a\",\"n/a\",\nGETPIVOTDATA(S$21 & \"\",PivotTableB!$A$3,\"SchoolName\",$B22,\"SubsidiaryName\",$C22,\"YearStart\",Q$13))),\"\")","v":0},{"$f":"IFERROR(IF(R22=\".\",\".\",IF(R22=\"n/a\",\"n/a\",SUM(Q22:R22))),\"\")","v":30},{"$f":"IFERROR(IF(T22=\".\",\".\",IF(T22=\"n/a\",\"n/a\",\nGETPIVOTDATA(U$21 & \"\",PivotTableB!$A$3,\"SchoolName\",$B22,\"SubsidiaryName\",$C22,\"YearStart\",Q$13))),\"\")","v":0},{"$f":"IFERROR(IF(U22=\".\",\".\",IF(U22=\"n/a\",\"n/a\",\nGETPIVOTDATA(V$21 & \"\",PivotTableB!$A$3,\"SchoolName\",$B22,\"SubsidiaryName\",$C22,\"YearStart\",Q$13))),\"\")","v":135},{"$f":"IFERROR(IF($B22=\"\",\"\",\nIF(OR($L22=\"Nursery School\",$L22=\"All-through PRU\",$M22=\"True\"),\"n/a\",\nIF(GETPIVOTDATA(W$21 & \"\",PivotTableB!$A$3,\"SchoolName\",$B22,\"SubsidiaryName\",$C22,\"YearStart\",W$13)=\"\",\".\",\nGETPIVOTDATA(W$21 & \"\",PivotTableB!$A$3,\"SchoolName\",$B22,\"SubsidiaryName\",$C22,\"YearStart\",W$13)))),\"\")","v":30},{"$f":"IFERROR(IF(W22=\".\",\".\",IF(W22=\"n/a\",\"n/a\",\nGETPIVOTDATA(X$21 & \"\",PivotTableB!$A$3,\"SchoolName\",$B22,\"SubsidiaryName\",$C22,\"YearStart\",W$13))),\"\")","v":0},{"$f":"IFERROR(IF(X22=\".\",\".\",IF(X22=\"n/a\",\"n/a\",\nGETPIVOTDATA(Y$21 & \"\",PivotTableB!$A$3,\"SchoolName\",$B22,\"SubsidiaryName\",$C22,\"YearStart\",W$13))),\"\")","v":0},{"$f":"IFERROR(IF(X22=\".\",\".\",IF(X22=\"n/a\",\"n/a\",SUM(W22:X22))),\"\")","v":30},{"$f":"IFERROR(IF(Z22=\".\",\".\",IF(Z22=\"n/a\",\"n/a\",\nGETPIVOTDATA(AA$21 & \"\",PivotTableB!$A$3,\"SchoolName\",$B22,\"SubsidiaryName\",$C22,\"YearStart\",W$13))),\"\")","v":0},{"$f":"IFERROR(IF(AA22=\".\",\".\",IF(AA22=\"n/a\",\"n/a\",\nGETPIVOTDATA(AB$21 & \"\",PivotTableB!$A$3,\"SchoolName\",$B22,\"SubsidiaryName\",$C22,\"YearStart\",W$13))),\"\")","v":150},{"$f":"IFERROR(IF($B22=\"\",\"\",\nIF(OR($L22=\"Nursery School\",$L22=\"All-through PRU\",$M22=\"True\"),\"n/a\",\nIF(GETPIVOTDATA(AC$21 & \"\",PivotTableB!$A$3,\"SchoolName\",$B22,\"SubsidiaryName\",$C22,\"YearStart\",AC$13)=\"\",\".\",\nGETPIVOTDATA(AC$21 & \"\",PivotTableB!$A$3,\"SchoolName\",$B22,\"SubsidiaryName\",$C22,\"YearStart\",AC$13)))),\"\")","v":30},{"$f":"IFERROR(IF(AC22=\".\",\".\",IF(AC22=\"n/a\",\"n/a\",\nGETPIVOTDATA(AD$21 & \"\",PivotTableB!$A$3,\"SchoolName\",$B22,\"SubsidiaryName\",$C22,\"YearStart\",AC$13))),\"\")","v":0},{"$f":"IFERROR(IF(AD22=\".\",\".\",IF(AD22=\"n/a\",\"n/a\",\nGETPIVOTDATA(AE$21 & \"\",PivotTableB!$A$3,\"SchoolName\",$B22,\"SubsidiaryName\",$C22,\"YearStart\",AC$13))),\"\")","v":0},{"$f":"IFERROR(IF(AD22=\".\",\".\",IF(AD22=\"n/a\",\"n/a\",SUM(AC22:AD22))),\"\")","v":30},{"$f":"IFERROR(IF(AF22=\".\",\".\",IF(AF22=\"n/a\",\"n/a\",\nGETPIVOTDATA(AG$21 & \"\",PivotTableB!$A$3,\"SchoolName\",$B22,\"SubsidiaryName\",$C22,\"YearStart\",AC$13))),\"\")","v":0},{"$f":"IFERROR(IF(AG22=\".\",\".\",IF(AG22=\"n/a\",\"n/a\",\nGETPIVOTDATA(AH$21 & \"\",PivotTableB!$A$3,\"SchoolName\",$B22,\"SubsidiaryName\",$C22,\"YearStart\",AC$13))),\"\")","v":150},{"$f":"IFERROR(IF($B22=\"\",\"\",\nIF(OR($L22=\"Nursery School\",$L22=\"All-through PRU\",$M22=\"True\"),\"n/a\",\nIF(GETPIVOTDATA(AI$21 & \"\",PivotTableB!$A$3,\"SchoolName\",$B22,\"SubsidiaryName\",$C22,\"YearStart\",AI$13)=\"\",\".\",\nGETPIVOTDATA(AI$21 & \"\",PivotTableB!$A$3,\"SchoolName\",$B22,\"SubsidiaryName\",$C22,\"YearStart\",AI$13)))),\"\")","v":30},{"$f":"IFERROR(IF(AI22=\".\",\".\",IF(AI22=\"n/a\",\"n/a\",\nGETPIVOTDATA(AJ$21 & \"\",PivotTableB!$A$3,\"SchoolName\",$B22,\"SubsidiaryName\",$C22,\"YearStart\",AI$13))),\"\")","v":0},{"$f":"IFERROR(IF(AJ22=\".\",\".\",IF(AJ22=\"n/a\",\"n/a\",\nGETPIVOTDATA(AK$21 & \"\",PivotTableB!$A$3,\"SchoolName\",$B22,\"SubsidiaryName\",$C22,\"YearStart\",AI$13))),\"\")","v":0},{"$f":"IFERROR(IF(AJ22=\".\",\".\",IF(AJ22=\"n/a\",\"n/a\",SUM(AI22:AJ22))),\"\")","v":30},{"$f":"IFERROR(IF(AL22=\".\",\".\",IF(AL22=\"n/a\",\"n/a\",\nGETPIVOTDATA(AM$21 & \"\",PivotTableB!$A$3,\"SchoolName\",$B22,\"SubsidiaryName\",$C22,\"YearStart\",AI$13))),\"\")","v":0},{"$f":"IFERROR(IF(AM22=\".\",\".\",IF(AM22=\"n/a\",\"n/a\",\nGETPIVOTDATA(AN$21 & \"\",PivotTableB!$A$3,\"SchoolName\",$B22,\"SubsidiaryName\",$C22,\"YearStart\",AI$13))),\"\")","v":150},{"$f":"IFERROR(IF($B22=\"\",\"\",\nIF(OR($L22=\"Nursery School\",$L22=\"All-through PRU\",$M22=\"True\"),\"n/a\",\nIF(GETPIVOTDATA(AO$21 & \"\",PivotTableB!$A$3,\"SchoolName\",$B22,\"SubsidiaryName\",$C22,\"YearStart\",AO$13)=\"\",\".\",\nGETPIVOTDATA(AO$21 & \"\",PivotTableB!$A$3,\"SchoolName\",$B22,\"SubsidiaryName\",$C22,\"YearStart\",AO$13)))),\"\")","v":30},{"$f":"IFERROR(IF(AO22=\".\",\".\",IF(AO22=\"n/a\",\"n/a\",\nGETPIVOTDATA(AP$21 & \"\",PivotTableB!$A$3,\"SchoolName\",$B22,\"SubsidiaryName\",$C22,\"YearStart\",AO$13))),\"\")","v":0},{"$f":"IFERROR(IF(AP22=\".\",\".\",IF(AP22=\"n/a\",\"n/a\",\nGETPIVOTDATA(AQ$21 & \"\",PivotTableB!$A$3,\"SchoolName\",$B22,\"SubsidiaryName\",$C22,\"YearStart\",AO$13))),\"\")","v":0},{"$f":"IFERROR(IF(AP22=\".\",\".\",IF(AP22=\"n/a\",\"n/a\",SUM(AO22:AP22))),\"\")","v":30},{"$f":"IFERROR(IF(AR22=\".\",\".\",IF(AR22=\"n/a\",\"n/a\",\nGETPIVOTDATA(AS$21 & \"\",PivotTableB!$A$3,\"SchoolName\",$B22,\"SubsidiaryName\",$C22,\"YearStart\",AO$13))),\"\")","v":0},{"$f":"IFERROR(IF(AS22=\".\",\".\",IF(AS22=\"n/a\",\"n/a\",\nGETPIVOTDATA(AT$21 & \"\",PivotTableB!$A$3,\"SchoolName\",$B22,\"SubsidiaryName\",$C22,\"YearStart\",AO$13))),\"\")","v":150},{"$f":"IFERROR(IF($B22=\"\",\"\",\nIF(OR($L22=\"Nursery School\",$L22=\"All-through PRU\",$M22=\"True\"),\"n/a\",\nIF(GETPIVOTDATA(AU$21 & \"\",PivotTableB!$A$3,\"SchoolName\",$B22,\"SubsidiaryName\",$C22,\"YearStart\",AU$13)=\"\",\".\",\nGETPIVOTDATA(AU$21 & \"\",PivotTableB!$A$3,\"SchoolName\",$B22,\"SubsidiaryName\",$C22,\"YearStart\",AU$13)))),\"\")","v":30},{"$f":"IFERROR(IF(AU22=\".\",\".\",IF(AU22=\"n/a\",\"n/a\",\nGETPIVOTDATA(AV$21 & \"\",PivotTableB!$A$3,\"SchoolName\",$B22,\"SubsidiaryName\",$C22,\"YearStart\",AU$13))),\"\")","v":0},{"$f":"IFERROR(IF(AV22=\".\",\".\",IF(AV22=\"n/a\",\"n/a\",\nGETPIVOTDATA(AW$21 & \"\",PivotTableB!$A$3,\"SchoolName\",$B22,\"SubsidiaryName\",$C22,\"YearStart\",AU$13))),\"\")","v":0},{"$f":"IFERROR(IF(AV22=\".\",\".\",IF(AV22=\"n/a\",\"n/a\",SUM(AU22:AV22))),\"\")","v":30},{"$f":"IFERROR(IF(AX22=\".\",\".\",IF(AX22=\"n/a\",\"n/a\",\nGETPIVOTDATA(AY$21 & \"\",PivotTableB!$A$3,\"SchoolName\",$B22,\"SubsidiaryName\",$C22,\"YearStart\",AU$13))),\"\")","v":0},{"$f":"IFERROR(IF(AY22=\".\",\".\",IF(AY22=\"n/a\",\"n/a\",\nGETPIVOTDATA(AZ$21 & \"\",PivotTableB!$A$3,\"SchoolName\",$B22,\"SubsidiaryName\",$C22,\"YearStart\",AU$13))),\"\")","v":150},{"$f":"IFERROR(IF($B22=\"\",\"\",\nIF(OR($L22=\"Nursery School\",$L22=\"All-through PRU\",$M22=\"True\"),\"n/a\",\nIF(GETPIVOTDATA(BA$21 & \"\",PivotTableB!$A$3,\"SchoolName\",$B22,\"SubsidiaryName\",$C22,\"YearStart\",BA$13)=\"\",\".\",\nGETPIVOTDATA(BA$21 & \"\",PivotTableB!$A$3,\"SchoolName\",$B22,\"SubsidiaryName\",$C22,\"YearStart\",BA$13)))),\"\")","v":30},{"$f":"IFERROR(IF(BA22=\".\",\".\",IF(BA22=\"n/a\",\"n/a\",\nGETPIVOTDATA(BB$21 & \"\",PivotTableB!$A$3,\"SchoolName\",$B22,\"SubsidiaryName\",$C22,\"YearStart\",BA$13))),\"\")","v":0},{"$f":"IFERROR(IF(BB22=\".\",\".\",IF(BB22=\"n/a\",\"n/a\",\nGETPIVOTDATA(BC$21 & \"\",PivotTableB!$A$3,\"SchoolName\",$B22,\"SubsidiaryName\",$C22,\"YearStart\",BA$13))),\"\")","v":0},{"$f":"IFERROR(IF(BC22=\".\",\".\",IF(BC22=\"n/a\",\"n/a\",\nGETPIVOTDATA(BD$21 & \"\",PivotTableB!$A$3,\"SchoolName\",$B22,\"SubsidiaryName\",$C22,\"YearStart\",BB$13))),\"\")","v":""},{"$f":"IFERROR(IF(BD22=\".\",\".\",IF(BD22=\"n/a\",\"n/a\",SUM(BA22:BC22))),\"\")","v":30},{"$f":"IFERROR(IF(BE22=\".\",\".\",IF(BE22=\"n/a\",\"n/a\",\nGETPIVOTDATA(BF$21 & \"\",PivotTableB!$A$3,\"SchoolName\",$B22,\"SubsidiaryName\",$C22,\"YearStart\",BA$13))),\"\")","v":0},{"$f":"IFERROR(IF(BF22=\".\",\".\",IF(BF22=\"n/a\",\"n/a\",\nGETPIVOTDATA(BG$21 & \"\",PivotTableB!$A$3,\"SchoolName\",$B22,\"SubsidiaryName\",$C22,\"YearStart\",BA$13))),\"\")","v":150},{"$f":"IFERROR(IF($B22=\"\",\"\",\nIF(OR($L22=\"Nursery School\",$L22=\"All-through PRU\",$M22=\"True\"),\"n/a\",\nIF(GETPIVOTDATA(BH$21 & \"\",PivotTableB!$A$3,\"SchoolName\",$B22,\"SubsidiaryName\",$C22,\"YearStart\",BH$13)=\"\",\".\",\nGETPIVOTDATA(BH$21 & \"\",PivotTableB!$A$3,\"SchoolName\",$B22,\"SubsidiaryName\",$C22,\"YearStart\",BH$13)))),\"\")","v":30},{"$f":"IFERROR(IF(BH22=\".\",\".\",IF(BH22=\"n/a\",\"n/a\",\nGETPIVOTDATA(BI$21 & \"\",PivotTableB!$A$3,\"SchoolName\",$B22,\"SubsidiaryName\",$C22,\"YearStart\",BH$13))),\"\")","v":0},{"$f":"IFERROR(IF(BI22=\".\",\".\",IF(BI22=\"n/a\",\"n/a\",\nGETPIVOTDATA(BJ$21 & \"\",PivotTableB!$A$3,\"SchoolName\",$B22,\"SubsidiaryName\",$C22,\"YearStart\",BH$13))),\"\")","v":0},{"$f":"IFERROR(IF(BJ22=\".\",\".\",IF(BJ22=\"n/a\",\"n/a\",\nGETPIVOTDATA(BK$21 & \"\",PivotTableB!$A$3,\"SchoolName\",$B22,\"SubsidiaryName\",$C22,\"YearStart\",BH$13))),\"\")","v":0},{"$f":"IFERROR(IF(BK22=\".\",\".\",IF(BK22=\"n/a\",\"n/a\",SUM(BH22:BJ22))),\"\")","v":30},{"$f":"IFERROR(IF(BL22=\".\",\".\",IF(BL22=\"n/a\",\"n/a\",\nGETPIVOTDATA(BM$21 & \"\",PivotTableB!$A$3,\"SchoolName\",$B22,\"SubsidiaryName\",$C22,\"YearStart\",BH$13))),\"\")","v":0},{"$f":"IFERROR(IF(BM22=\".\",\".\",IF(BM22=\"n/a\",\"n/a\",\nGETPIVOTDATA(BN$21 & \"\",PivotTableB!$A$3,\"SchoolName\",$B22,\"SubsidiaryName\",$C22,\"YearStart\",BH$13))),\"\")","v":150},{"$f":"IFERROR(IF($B22=\"\",\"\",\nIF(OR($L22=\"Nursery School\",$L22=\"All-through PRU\",$M22=\"True\"),\"n/a\",\nIF(GETPIVOTDATA(BO$21 & \"\",PivotTableB!$A$3,\"SchoolName\",$B22,\"SubsidiaryName\",$C22,\"YearStart\",BO$13)=\"\",\".\",\nGETPIVOTDATA(BO$21 & \"\",PivotTableB!$A$3,\"SchoolName\",$B22,\"SubsidiaryName\",$C22,\"YearStart\",BO$13)))),\"\")","v":30},{"$f":"IFERROR(IF(BO22=\".\",\".\",IF(BO22=\"n/a\",\"n/a\",\nGETPIVOTDATA(BP$21 & \"\",PivotTableB!$A$3,\"SchoolName\",$B22,\"SubsidiaryName\",$C22,\"YearStart\",BO$13))),\"\")","v":0},{"$f":"IFERROR(IF(BP22=\".\",\".\",IF(BP22=\"n/a\",\"n/a\",\nGETPIVOTDATA(BQ$21 & \"\",PivotTableB!$A$3,\"SchoolName\",$B22,\"SubsidiaryName\",$C22,\"YearStart\",BO$13))),\"\")","v":0},{"$f":"IFERROR(IF(BQ22=\".\",\".\",IF(BQ22=\"n/a\",\"n/a\",\nGETPIVOTDATA(BR$21 & \"\",PivotTableB!$A$3,\"SchoolName\",$B22,\"SubsidiaryName\",$C22,\"YearStart\",BP$13))),\"\")","v":""},{"$f":"IFERROR(IF(BR22=\".\",\".\",IF(BR22=\"n/a\",\"n/a\",SUM(BO22:BQ22))),\"\")","v":30},{"$f":"IFERROR(IF(BS22=\".\",\".\",IF(BS22=\"n/a\",\"n/a\",\nGETPIVOTDATA(BT$21 & \"\",PivotTableB!$A$3,\"SchoolName\",$B22,\"SubsidiaryName\",$C22,\"YearStart\",BO$13))),\"\")","v":0},{"$f":"IFERROR(IF(BT22=\".\",\".\",IF(BT22=\"n/a\",\"n/a\",\nGETPIVOTDATA(BU$21 & \"\",PivotTableB!$A$3,\"SchoolName\",$B22,\"SubsidiaryName\",$C22,\"YearStart\",BO$13))),\"\")","v":150},{"$f":"IFERROR(IF($B22=\"\",\"\",\nIF(OR($L22=\"Nursery School\",$L22=\"All-through PRU\",$M22=\"True\"),\"n/a\",\nIF(GETPIVOTDATA(BV$21 & \"\",PivotTableB!$A$3,\"SchoolName\",$B22,\"SubsidiaryName\",$C22,\"YearStart\",BV$13)=\"\",\".\",\nGETPIVOTDATA(BV$21 & \"\",PivotTableB!$A$3,\"SchoolName\",$B22,\"SubsidiaryName\",$C22,\"YearStart\",BV$13)))),\"\")","v":30},{"$f":"IFERROR(IF(BV22=\".\",\".\",IF(BV22=\"n/a\",\"n/a\",\nGETPIVOTDATA(BW$21 & \"\",PivotTableB!$A$3,\"SchoolName\",$B22,\"SubsidiaryName\",$C22,\"YearStart\",BV$13))),\"\")","v":0},{"$f":"IFERROR(IF(BW22=\".\",\".\",IF(BW22=\"n/a\",\"n/a\",\nGETPIVOTDATA(BX$21 & \"\",PivotTableB!$A$3,\"SchoolName\",$B22,\"SubsidiaryName\",$C22,\"YearStart\",BV$13))),\"\")","v":0},{"$f":"IFERROR(IF(BX22=\".\",\".\",IF(BX22=\"n/a\",\"n/a\",\nGETPIVOTDATA(BY$21 & \"\",PivotTableB!$A$3,\"SchoolName\",$B22,\"SubsidiaryName\",$C22,\"YearStart\",BV$13))),\"\")","v":0},{"$f":"IFERROR(IF(BY22=\".\",\".\",IF(BY22=\"n/a\",\"n/a\",SUM(BV22:BX22))),\"\")","v":30},{"$f":"IFERROR(IF(BZ22=\".\",\".\",IF(BZ22=\"n/a\",\"n/a\",\nGETPIVOTDATA(CA$21 & \"\",PivotTableB!$A$3,\"SchoolName\",$B22,\"SubsidiaryName\",$C22,\"YearStart\",BV$13))),\"\")","v":0},{"$f":"IFERROR(IF(CA22=\".\",\".\",IF(CA22=\"n/a\",\"n/a\",\nGETPIVOTDATA(CB$21 & \"\",PivotTableB!$A$3,\"SchoolName\",$B22,\"SubsidiaryName\",$C22,\"YearStart\",BV$13))),\"\")","v":150}]
[null,{"$f":"IF(PivotTableA!A10=\"\",\"n/a\",PivotTableA!A10)","v":"All Saints Church of England Junior School"},{"$f":"IF(B23=\"n/a\",\"\",PivotTableA!B10)","v":"All Saints Church of England Junior School"},{"$f":"IF($B23=\"n/a\",\"\",PivotTableA!C10)","v":"3"},{"$f":"IF($B23=\"n/a\",\"\",PivotTableA!D10)","v":"Maidenhead"},{"$f":"IF($B23=\"n/a\",\"\",PivotTableA!E10)","v":"Central Maidenhead"},{"$f":"IF($B23=\"n/a\",\"\",PivotTableA!F10)","v":"Boyn Hill"},{"$f":"IF($B23=\"n/a\",\"\",PivotTableA!G10)","v":"Boyn Hill"},{"$f":"IF($B23=\"n/a\",\"\",PivotTableA!H10)","v":"None"},{"$f":"IF($B23=\"n/a\",\"\",PivotTableA!I10)","v":"Primary"},{"$f":"IF($B23=\"n/a\",\"\",PivotTableA!J10)","v":"Two Tier"},{"$f":"IF($B23=\"n/a\",\"\",PivotTableA!K10)","v":"Junior"},{"$f":"IF($B23=\"n/a\",\"\",PivotTableA!O10)","v":"FALSE"},{"$f":"IF($B23=\"n/a\",\"\",PivotTableA!L10)","v":"Voluntary Controlled"},{"$f":"IF($B23=\"n/a\",\"\",PivotTableA!M10)","v":" "},{"$f":"IF($B23=\"n/a\",\"\",PivotTableA!N10)","v":"Church of England"},{"$f":"IFERROR(IF($B23=\"\",\"\",\nIF(OR($L23=\"Nursery School\",$L23=\"All-through PRU\",$M23=\"True\"),\"n/a\",\nIF(GETPIVOTDATA(Q$21 & \"\",PivotTableB!$A$3,\"SchoolName\",$B23,\"SubsidiaryName\",$C23,\"YearStart\",Q$13)=\"\",\".\",\nGETPIVOTDATA(Q$21 & \"\",PivotTableB!$A$3,\"SchoolName\",$B23,\"SubsidiaryName\",$C23,\"YearStart\",Q$13)))),\"\")","v":67},{"$f":"IFERROR(IF(Q23=\".\",\".\",IF(Q23=\"n/a\",\"n/a\",\nGETPIVOTDATA(R$21 & \"\",PivotTableB!$A$3,\"SchoolName\",$B23,\"SubsidiaryName\",$C23,\"YearStart\",Q$13))),\"\")","v":0},{"$f":"IFERROR(IF(R23=\".\",\".\",IF(R23=\"n/a\",\"n/a\",\nGETPIVOTDATA(S$21 & \"\",PivotTableB!$A$3,\"SchoolName\",$B23,\"SubsidiaryName\",$C23,\"YearStart\",Q$13))),\"\")","v":0},{"$f":"IFERROR(IF(R23=\".\",\".\",IF(R23=\"n/a\",\"n/a\",SUM(Q23:R23))),\"\")","v":67},{"$f":"IFERROR(IF(T23=\".\",\".\",IF(T23=\"n/a\",\"n/a\",\nGETPIVOTDATA(U$21 & \"\",PivotTableB!$A$3,\"SchoolName\",$B23,\"SubsidiaryName\",$C23,\"YearStart\",Q$13))),\"\")","v":0},{"$f":"IFERROR(IF(U23=\".\",\".\",IF(U23=\"n/a\",\"n/a\",\nGETPIVOTDATA(V$21 & \"\",PivotTableB!$A$3,\"SchoolName\",$B23,\"SubsidiaryName\",$C23,\"YearStart\",Q$13))),\"\")","v":240},{"$f":"IFERROR(IF($B23=\"\",\"\",\nIF(OR($L23=\"Nursery School\",$L23=\"All-through PRU\",$M23=\"True\"),\"n/a\",\nIF(GETPIVOTDATA(W$21 & \"\",PivotTableB!$A$3,\"SchoolName\",$B23,\"SubsidiaryName\",$C23,\"YearStart\",W$13)=\"\",\".\",\nGETPIVOTDATA(W$21 & \"\",PivotTableB!$A$3,\"SchoolName\",$B23,\"SubsidiaryName\",$C23,\"YearStart\",W$13)))),\"\")","v":67},{"$f":"IFERROR(IF(W23=\".\",\".\",IF(W23=\"n/a\",\"n/a\",\nGETPIVOTDATA(X$21 & \"\",PivotTableB!$A$3,\"SchoolName\",$B23,\"SubsidiaryName\",$C23,\"YearStart\",W$13))),\"\")","v":23},{"$f":"IFERROR(IF(X23=\".\",\".\",IF(X23=\"n/a\",\"n/a\",\nGETPIVOTDATA(Y$21 & \"\",PivotTableB!$A$3,\"SchoolName\",$B23,\"SubsidiaryName\",$C23,\"YearStart\",W$13))),\"\")","v":0},{"$f":"IFERROR(IF(X23=\".\",\".\",IF(X23=\"n/a\",\"n/a\",SUM(W23:X23))),\"\")","v":90},{"$f":"IFERROR(IF(Z23=\".\",\".\",IF(Z23=\"n/a\",\"n/a\",\nGETPIVOTDATA(AA$21 & \"\",PivotTableB!$A$3,\"SchoolName\",$B23,\"SubsidiaryName\",$C23,\"YearStart\",W$13))),\"\")","v":0},{"$f":"IFERROR(IF(AA23=\".\",\".\",IF(AA23=\"n/a\",\"n/a\",\nGETPIVOTDATA(AB$21 & \"\",PivotTableB!$A$3,\"SchoolName\",$B23,\"SubsidiaryName\",$C23,\"YearStart\",W$13))),\"\")","v":240},{"$f":"IFERROR(IF($B23=\"\",\"\",\nIF(OR($L23=\"Nursery School\",$L23=\"All-through PRU\",$M23=\"True\"),\"n/a\",\nIF(GETPIVOTDATA(AC$21 & \"\",PivotTableB!$A$3,\"SchoolName\",$B23,\"SubsidiaryName\",$C23,\"YearStart\",AC$13)=\"\",\".\",\nGETPIVOTDATA(AC$21 & \"\",PivotTableB!$A$3,\"SchoolName\",$B23,\"SubsidiaryName\",$C23,\"YearStart\",AC$13)))),\"\")","v":90},{"$f":"IFERROR(IF(AC23=\".\",\".\",IF(AC23=\"n/a\",\"n/a\",\nGETPIVOTDATA(AD$21 & \"\",PivotTableB!$A$3,\"SchoolName\",$B23,\"SubsidiaryName\",$C23,\"YearStart\",AC$13))),\"\")","v":0},{"$f":"IFERROR(IF(AD23=\".\",\".\",IF(AD23=\"n/a\",\"n/a\",\nGETPIVOTDATA(AE$21 & \"\",PivotTableB!$A$3,\"SchoolName\",$B23,\"SubsidiaryName\",$C23,\"YearStart\",AC$13))),\"\")","v":0},{"$f":"IFERROR(IF(AD23=\".\",\".\",IF(AD23=\"n/a\",\"n/a\",SUM(AC23:AD23))),\"\")","v":90},{"$f":"IFERROR(IF(AF23=\".\",\".\",IF(AF23=\"n/a\",\"n/a\",\nGETPIVOTDATA(AG$21 & \"\",PivotTableB!$A$3,\"SchoolName\",$B23,\"SubsidiaryName\",$C23,\"YearStart\",AC$13))),\"\")","v":0},{"$f":"IFERROR(IF(AG23=\".\",\".\",IF(AG23=\"n/a\",\"n/a\",\nGETPIVOTDATA(AH$21 & \"\",PivotTableB!$A$3,\"SchoolName\",$B23,\"SubsidiaryName\",$C23,\"YearStart\",AC$13))),\"\")","v":360},{"$f":"IFERROR(IF($B23=\"\",\"\",\nIF(OR($L23=\"Nursery School\",$L23=\"All-through PRU\",$M23=\"True\"),\"n/a\",\nIF(GETPIVOTDATA(AI$21 & \"\",PivotTableB!$A$3,\"SchoolName\",$B23,\"SubsidiaryName\",$C23,\"YearStart\",AI$13)=\"\",\".\",\nGETPIVOTDATA(AI$21 & \"\",PivotTableB!$A$3,\"SchoolName\",$B23,\"SubsidiaryName\",$C23,\"YearStart\",AI$13)))),\"\")","v":90},{"$f":"IFERROR(IF(AI23=\".\",\".\",IF(AI23=\"n/a\",\"n/a\",\nGETPIVOTDATA(AJ$21 & \"\",PivotTableB!$A$3,\"SchoolName\",$B23,\"SubsidiaryName\",$C23,\"YearStart\",AI$13))),\"\")","v":0},{"$f":"IFERROR(IF(AJ23=\".\",\".\",IF(AJ23=\"n/a\",\"n/a\",\nGETPIVOTDATA(AK$21 & \"\",PivotTableB!$A$3,\"SchoolName\",$B23,\"SubsidiaryName\",$C23,\"YearStart\",AI$13))),\"\")","v":0},{"$f":"IFERROR(IF(AJ23=\".\",\".\",IF(AJ23=\"n/a\",\"n/a\",SUM(AI23:AJ23))),\"\")","v":90},{"$f":"IFERROR(IF(AL23=\".\",\".\",IF(AL23=\"n/a\",\"n/a\",\nGETPIVOTDATA(AM$21 & \"\",PivotTableB!$A$3,\"SchoolName\",$B23,\"SubsidiaryName\",$C23,\"YearStart\",AI$13))),\"\")","v":0},{"$f":"IFERROR(IF(AM23=\".\",\".\",IF(AM23=\"n/a\",\"n/a\",\nGETPIVOTDATA(AN$21 & \"\",PivotTableB!$A$3,\"SchoolName\",$B23,\"SubsidiaryName\",$C23,\"YearStart\",AI$13))),\"\")","v":360},{"$f":"IFERROR(IF($B23=\"\",\"\",\nIF(OR($L23=\"Nursery School\",$L23=\"All-through PRU\",$M23=\"True\"),\"n/a\",\nIF(GETPIVOTDATA(AO$21 & \"\",PivotTableB!$A$3,\"SchoolName\",$B23,\"SubsidiaryName\",$C23,\"YearStart\",AO$13)=\"\",\".\",\nGETPIVOTDATA(AO$21 & \"\",PivotTableB!$A$3,\"SchoolName\",$B23,\"SubsidiaryName\",$C23,\"YearStart\",AO$13)))),\"\")","v":90},{"$f":"IFERROR(IF(AO23=\".\",\".\",IF(AO23=\"n/a\",\"n/a\",\nGETPIVOTDATA(AP$21 & \"\",PivotTableB!$A$3,\"SchoolName\",$B23,\"SubsidiaryName\",$C23,\"YearStart\",AO$13))),\"\")","v":0},{"$f":"IFERROR(IF(AP23=\".\",\".\",IF(AP23=\"n/a\",\"n/a\",\nGETPIVOTDATA(AQ$21 & \"\",PivotTableB!$A$3,\"SchoolName\",$B23,\"SubsidiaryName\",$C23,\"YearStart\",AO$13))),\"\")","v":0},{"$f":"IFERROR(IF(AP23=\".\",\".\",IF(AP23=\"n/a\",\"n/a\",SUM(AO23:AP23))),\"\")","v":90},{"$f":"IFERROR(IF(AR23=\".\",\".\",IF(AR23=\"n/a\",\"n/a\",\nGETPIVOTDATA(AS$21 & \"\",PivotTableB!$A$3,\"SchoolName\",$B23,\"SubsidiaryName\",$C23,\"YearStart\",AO$13))),\"\")","v":0},{"$f":"IFERROR(IF(AS23=\".\",\".\",IF(AS23=\"n/a\",\"n/a\",\nGETPIVOTDATA(AT$21 & \"\",PivotTableB!$A$3,\"SchoolName\",$B23,\"SubsidiaryName\",$C23,\"YearStart\",AO$13))),\"\")","v":360},{"$f":"IFERROR(IF($B23=\"\",\"\",\nIF(OR($L23=\"Nursery School\",$L23=\"All-through PRU\",$M23=\"True\"),\"n/a\",\nIF(GETPIVOTDATA(AU$21 & \"\",PivotTableB!$A$3,\"SchoolName\",$B23,\"SubsidiaryName\",$C23,\"YearStart\",AU$13)=\"\",\".\",\nGETPIVOTDATA(AU$21 & \"\",PivotTableB!$A$3,\"SchoolName\",$B23,\"SubsidiaryName\",$C23,\"YearStart\",AU$13)))),\"\")","v":90},{"$f":"IFERROR(IF(AU23=\".\",\".\",IF(AU23=\"n/a\",\"n/a\",\nGETPIVOTDATA(AV$21 & \"\",PivotTableB!$A$3,\"SchoolName\",$B23,\"SubsidiaryName\",$C23,\"YearStart\",AU$13))),\"\")","v":0},{"$f":"IFERROR(IF(AV23=\".\",\".\",IF(AV23=\"n/a\",\"n/a\",\nGETPIVOTDATA(AW$21 & \"\",PivotTableB!$A$3,\"SchoolName\",$B23,\"SubsidiaryName\",$C23,\"YearStart\",AU$13))),\"\")","v":0},{"$f":"IFERROR(IF(AV23=\".\",\".\",IF(AV23=\"n/a\",\"n/a\",SUM(AU23:AV23))),\"\")","v":90},{"$f":"IFERROR(IF(AX23=\".\",\".\",IF(AX23=\"n/a\",\"n/a\",\nGETPIVOTDATA(AY$21 & \"\",PivotTableB!$A$3,\"SchoolName\",$B23,\"SubsidiaryName\",$C23,\"YearStart\",AU$13))),\"\")","v":0},{"$f":"IFERROR(IF(AY23=\".\",\".\",IF(AY23=\"n/a\",\"n/a\",\nGETPIVOTDATA(AZ$21 & \"\",PivotTableB!$A$3,\"SchoolName\",$B23,\"SubsidiaryName\",$C23,\"YearStart\",AU$13))),\"\")","v":360},{"$f":"IFERROR(IF($B23=\"\",\"\",\nIF(OR($L23=\"Nursery School\",$L23=\"All-through PRU\",$M23=\"True\"),\"n/a\",\nIF(GETPIVOTDATA(BA$21 & \"\",PivotTableB!$A$3,\"SchoolName\",$B23,\"SubsidiaryName\",$C23,\"YearStart\",BA$13)=\"\",\".\",\nGETPIVOTDATA(BA$21 & \"\",PivotTableB!$A$3,\"SchoolName\",$B23,\"SubsidiaryName\",$C23,\"YearStart\",BA$13)))),\"\")","v":90},{"$f":"IFERROR(IF(BA23=\".\",\".\",IF(BA23=\"n/a\",\"n/a\",\nGETPIVOTDATA(BB$21 & \"\",PivotTableB!$A$3,\"SchoolName\",$B23,\"SubsidiaryName\",$C23,\"YearStart\",BA$13))),\"\")","v":0},{"$f":"IFERROR(IF(BB23=\".\",\".\",IF(BB23=\"n/a\",\"n/a\",\nGETPIVOTDATA(BC$21 & \"\",PivotTableB!$A$3,\"SchoolName\",$B23,\"SubsidiaryName\",$C23,\"YearStart\",BA$13))),\"\")","v":0},{"$f":"IFERROR(IF(BC23=\".\",\".\",IF(BC23=\"n/a\",\"n/a\",\nGETPIVOTDATA(BD$21 & \"\",PivotTableB!$A$3,\"SchoolName\",$B23,\"SubsidiaryName\",$C23,\"YearStart\",BB$13))),\"\")","v":""},{"$f":"IFERROR(IF(BD23=\".\",\".\",IF(BD23=\"n/a\",\"n/a\",SUM(BA23:BC23))),\"\")","v":90},{"$f":"IFERROR(IF(BE23=\".\",\".\",IF(BE23=\"n/a\",\"n/a\",\nGETPIVOTDATA(BF$21 & \"\",PivotTableB!$A$3,\"SchoolName\",$B23,\"SubsidiaryName\",$C23,\"YearStart\",BA$13))),\"\")","v":0},{"$f":"IFERROR(IF(BF23=\".\",\".\",IF(BF23=\"n/a\",\"n/a\",\nGETPIVOTDATA(BG$21 & \"\",PivotTableB!$A$3,\"SchoolName\",$B23,\"SubsidiaryName\",$C23,\"YearStart\",BA$13))),\"\")","v":360},{"$f":"IFERROR(IF($B23=\"\",\"\",\nIF(OR($L23=\"Nursery School\",$L23=\"All-through PRU\",$M23=\"True\"),\"n/a\",\nIF(GETPIVOTDATA(BH$21 & \"\",PivotTableB!$A$3,\"SchoolName\",$B23,\"SubsidiaryName\",$C23,\"YearStart\",BH$13)=\"\",\".\",\nGETPIVOTDATA(BH$21 & \"\",PivotTableB!$A$3,\"SchoolName\",$B23,\"SubsidiaryName\",$C23,\"YearStart\",BH$13)))),\"\")","v":90},{"$f":"IFERROR(IF(BH23=\".\",\".\",IF(BH23=\"n/a\",\"n/a\",\nGETPIVOTDATA(BI$21 & \"\",PivotTableB!$A$3,\"SchoolName\",$B23,\"SubsidiaryName\",$C23,\"YearStart\",BH$13))),\"\")","v":0},{"$f":"IFERROR(IF(BI23=\".\",\".\",IF(BI23=\"n/a\",\"n/a\",\nGETPIVOTDATA(BJ$21 & \"\",PivotTableB!$A$3,\"SchoolName\",$B23,\"SubsidiaryName\",$C23,\"YearStart\",BH$13))),\"\")","v":0},{"$f":"IFERROR(IF(BJ23=\".\",\".\",IF(BJ23=\"n/a\",\"n/a\",\nGETPIVOTDATA(BK$21 & \"\",PivotTableB!$A$3,\"SchoolName\",$B23,\"SubsidiaryName\",$C23,\"YearStart\",BH$13))),\"\")","v":0},{"$f":"IFERROR(IF(BK23=\".\",\".\",IF(BK23=\"n/a\",\"n/a\",SUM(BH23:BJ23))),\"\")","v":90},{"$f":"IFERROR(IF(BL23=\".\",\".\",IF(BL23=\"n/a\",\"n/a\",\nGETPIVOTDATA(BM$21 & \"\",PivotTableB!$A$3,\"SchoolName\",$B23,\"SubsidiaryName\",$C23,\"YearStart\",BH$13))),\"\")","v":0},{"$f":"IFERROR(IF(BM23=\".\",\".\",IF(BM23=\"n/a\",\"n/a\",\nGETPIVOTDATA(BN$21 & \"\",PivotTableB!$A$3,\"SchoolName\",$B23,\"SubsidiaryName\",$C23,\"YearStart\",BH$13))),\"\")","v":360},{"$f":"IFERROR(IF($B23=\"\",\"\",\nIF(OR($L23=\"Nursery School\",$L23=\"All-through PRU\",$M23=\"True\"),\"n/a\",\nIF(GETPIVOTDATA(BO$21 & \"\",PivotTableB!$A$3,\"SchoolName\",$B23,\"SubsidiaryName\",$C23,\"YearStart\",BO$13)=\"\",\".\",\nGETPIVOTDATA(BO$21 & \"\",PivotTableB!$A$3,\"SchoolName\",$B23,\"SubsidiaryName\",$C23,\"YearStart\",BO$13)))),\"\")","v":90},{"$f":"IFERROR(IF(BO23=\".\",\".\",IF(BO23=\"n/a\",\"n/a\",\nGETPIVOTDATA(BP$21 & \"\",PivotTableB!$A$3,\"SchoolName\",$B23,\"SubsidiaryName\",$C23,\"YearStart\",BO$13))),\"\")","v":0},{"$f":"IFERROR(IF(BP23=\".\",\".\",IF(BP23=\"n/a\",\"n/a\",\nGETPIVOTDATA(BQ$21 & \"\",PivotTableB!$A$3,\"SchoolName\",$B23,\"SubsidiaryName\",$C23,\"YearStart\",BO$13))),\"\")","v":0},{"$f":"IFERROR(IF(BQ23=\".\",\".\",IF(BQ23=\"n/a\",\"n/a\",\nGETPIVOTDATA(BR$21 & \"\",PivotTableB!$A$3,\"SchoolName\",$B23,\"SubsidiaryName\",$C23,\"YearStart\",BP$13))),\"\")","v":""},{"$f":"IFERROR(IF(BR23=\".\",\".\",IF(BR23=\"n/a\",\"n/a\",SUM(BO23:BQ23))),\"\")","v":90},{"$f":"IFERROR(IF(BS23=\".\",\".\",IF(BS23=\"n/a\",\"n/a\",\nGETPIVOTDATA(BT$21 & \"\",PivotTableB!$A$3,\"SchoolName\",$B23,\"SubsidiaryName\",$C23,\"YearStart\",BO$13))),\"\")","v":0},{"$f":"IFERROR(IF(BT23=\".\",\".\",IF(BT23=\"n/a\",\"n/a\",\nGETPIVOTDATA(BU$21 & \"\",PivotTableB!$A$3,\"SchoolName\",$B23,\"SubsidiaryName\",$C23,\"YearStart\",BO$13))),\"\")","v":360},{"$f":"IFERROR(IF($B23=\"\",\"\",\nIF(OR($L23=\"Nursery School\",$L23=\"All-through PRU\",$M23=\"True\"),\"n/a\",\nIF(GETPIVOTDATA(BV$21 & \"\",PivotTableB!$A$3,\"SchoolName\",$B23,\"SubsidiaryName\",$C23,\"YearStart\",BV$13)=\"\",\".\",\nGETPIVOTDATA(BV$21 & \"\",PivotTableB!$A$3,\"SchoolName\",$B23,\"SubsidiaryName\",$C23,\"YearStart\",BV$13)))),\"\")","v":90},{"$f":"IFERROR(IF(BV23=\".\",\".\",IF(BV23=\"n/a\",\"n/a\",\nGETPIVOTDATA(BW$21 & \"\",PivotTableB!$A$3,\"SchoolName\",$B23,\"SubsidiaryName\",$C23,\"YearStart\",BV$13))),\"\")","v":0},{"$f":"IFERROR(IF(BW23=\".\",\".\",IF(BW23=\"n/a\",\"n/a\",\nGETPIVOTDATA(BX$21 & \"\",PivotTableB!$A$3,\"SchoolName\",$B23,\"SubsidiaryName\",$C23,\"YearStart\",BV$13))),\"\")","v":0},{"$f":"IFERROR(IF(BX23=\".\",\".\",IF(BX23=\"n/a\",\"n/a\",\nGETPIVOTDATA(BY$21 & \"\",PivotTableB!$A$3,\"SchoolName\",$B23,\"SubsidiaryName\",$C23,\"YearStart\",BV$13))),\"\")","v":0},{"$f":"IFERROR(IF(BY23=\".\",\".\",IF(BY23=\"n/a\",\"n/a\",SUM(BV23:BX23))),\"\")","v":90},{"$f":"IFERROR(IF(BZ23=\".\",\".\",IF(BZ23=\"n/a\",\"n/a\",\nGETPIVOTDATA(CA$21 & \"\",PivotTableB!$A$3,\"SchoolName\",$B23,\"SubsidiaryName\",$C23,\"YearStart\",BV$13))),\"\")","v":0},{"$f":"IFERROR(IF(CA23=\".\",\".\",IF(CA23=\"n/a\",\"n/a\",\nGETPIVOTDATA(CB$21 & \"\",PivotTableB!$A$3,\"SchoolName\",$B23,\"SubsidiaryName\",$C23,\"YearStart\",BV$13))),\"\")","v":360}]
[null,{"$f":"IF(PivotTableA!A11=\"\",\"n/a\",PivotTableA!A11)","v":"Altwood Church of England School"},{"$f":"IF(B24=\"n/a\",\"\",PivotTableA!B11)","v":"Altwood Church of England School"},{"$f":"IF($B24=\"n/a\",\"\",PivotTableA!C11)","v":"7"},{"$f":"IF($B24=\"n/a\",\"\",PivotTableA!D11)","v":"Maidenhead"},{"$f":"IF($B24=\"n/a\",\"\",PivotTableA!E11)","v":"Central Maidenhead"},{"$f":"IF($B24=\"n/a\",\"\",PivotTableA!F11)","v":"Tittle Row"},{"$f":"IF($B24=\"n/a\",\"\",PivotTableA!G11)","v":"Boyn Hill"},{"$f":"IF($B24=\"n/a\",\"\",PivotTableA!H11)","v":"None"},{"$f":"IF($B24=\"n/a\",\"\",PivotTableA!I11)","v":"Secondary"},{"$f":"IF($B24=\"n/a\",\"\",PivotTableA!J11)","v":"Two Tier"},{"$f":"IF($B24=\"n/a\",\"\",PivotTableA!K11)","v":"Secondary"},{"$f":"IF($B24=\"n/a\",\"\",PivotTableA!O11)","v":"FALSE"},{"$f":"IF($B24=\"n/a\",\"\",PivotTableA!L11)","v":"Academy"},{"$f":"IF($B24=\"n/a\",\"\",PivotTableA!M11)","v":"2012-09-01"},{"$f":"IF($B24=\"n/a\",\"\",PivotTableA!N11)","v":"Church of England"},{"$f":"IFERROR(IF($B24=\"\",\"\",\nIF(OR($L24=\"Nursery School\",$L24=\"All-through PRU\",$M24=\"True\"),\"n/a\",\nIF(GETPIVOTDATA(Q$21 & \"\",PivotTableB!$A$3,\"SchoolName\",$B24,\"SubsidiaryName\",$C24,\"YearStart\",Q$13)=\"\",\".\",\nGETPIVOTDATA(Q$21 & \"\",PivotTableB!$A$3,\"SchoolName\",$B24,\"SubsidiaryName\",$C24,\"YearStart\",Q$13)))),\"\")","v":150},{"$f":"IFERROR(IF(Q24=\".\",\".\",IF(Q24=\"n/a\",\"n/a\",\nGETPIVOTDATA(R$21 & \"\",PivotTableB!$A$3,\"SchoolName\",$B24,\"SubsidiaryName\",$C24,\"YearStart\",Q$13))),\"\")","v":0},{"$f":"IFERROR(IF(R24=\".\",\".\",IF(R24=\"n/a\",\"n/a\",\nGETPIVOTDATA(S$21 & \"\",PivotTableB!$A$3,\"SchoolName\",$B24,\"SubsidiaryName\",$C24,\"YearStart\",Q$13))),\"\")","v":0},150,{"$f":"IFERROR(IF(T24=\".\",\".\",IF(T24=\"n/a\",\"n/a\",\nGETPIVOTDATA(U$21 & \"\",PivotTableB!$A$3,\"SchoolName\",$B24,\"SubsidiaryName\",$C24,\"YearStart\",Q$13))),\"\")","v":0},{"$f":"IFERROR(IF(U24=\".\",\".\",IF(U24=\"n/a\",\"n/a\",\nGETPIVOTDATA(V$21 & \"\",PivotTableB!$A$3,\"SchoolName\",$B24,\"SubsidiaryName\",$C24,\"YearStart\",Q$13))),\"\")","v":897},{"$f":"IFERROR(IF($B24=\"\",\"\",\nIF(OR($L24=\"Nursery School\",$L24=\"All-through PRU\",$M24=\"True\"),\"n/a\",\nIF(GETPIVOTDATA(W$21 & \"\",PivotTableB!$A$3,\"SchoolName\",$B24,\"SubsidiaryName\",$C24,\"YearStart\",W$13)=\"\",\".\",\nGETPIVOTDATA(W$21 & \"\",PivotTableB!$A$3,\"SchoolName\",$B24,\"SubsidiaryName\",$C24,\"YearStart\",W$13)))),\"\")","v":150},{"$f":"IFERROR(IF(W24=\".\",\".\",IF(W24=\"n/a\",\"n/a\",\nGETPIVOTDATA(X$21 & \"\",PivotTableB!$A$3,\"SchoolName\",$B24,\"SubsidiaryName\",$C24,\"YearStart\",W$13))),\"\")","v":0},{"$f":"IFERROR(IF(X24=\".\",\".\",IF(X24=\"n/a\",\"n/a\",\nGETPIVOTDATA(Y$21 & \"\",PivotTableB!$A$3,\"SchoolName\",$B24,\"SubsidiaryName\",$C24,\"YearStart\",W$13))),\"\")","v":0},150,{"$f":"IFERROR(IF(Z24=\".\",\".\",IF(Z24=\"n/a\",\"n/a\",\nGETPIVOTDATA(AA$21 & \"\",PivotTableB!$A$3,\"SchoolName\",$B24,\"SubsidiaryName\",$C24,\"YearStart\",W$13))),\"\")","v":0},{"$f":"IFERROR(IF(AA24=\".\",\".\",IF(AA24=\"n/a\",\"n/a\",\nGETPIVOTDATA(AB$21 & \"\",PivotTableB!$A$3,\"SchoolName\",$B24,\"SubsidiaryName\",$C24,\"YearStart\",W$13))),\"\")","v":897},{"$f":"IFERROR(IF($B24=\"\",\"\",\nIF(OR($L24=\"Nursery School\",$L24=\"All-through PRU\",$M24=\"True\"),\"n/a\",\nIF(GETPIVOTDATA(AC$21 & \"\",PivotTableB!$A$3,\"SchoolName\",$B24,\"SubsidiaryName\",$C24,\"YearStart\",AC$13)=\"\",\".\",\nGETPIVOTDATA(AC$21 & \"\",PivotTableB!$A$3,\"SchoolName\",$B24,\"SubsidiaryName\",$C24,\"YearStart\",AC$13)))),\"\")","v":150},{"$f":"IFERROR(IF(AC24=\".\",\".\",IF(AC24=\"n/a\",\"n/a\",\nGETPIVOTDATA(AD$21 & \"\",PivotTableB!$A$3,\"SchoolName\",$B24,\"SubsidiaryName\",$C24,\"YearStart\",AC$13))),\"\")","v":0},{"$f":"IFERROR(IF(AD24=\".\",\".\",IF(AD24=\"n/a\",\"n/a\",\nGETPIVOTDATA(AE$21 & \"\",PivotTableB!$A$3,\"SchoolName\",$B24,\"SubsidiaryName\",$C24,\"YearStart\",AC$13))),\"\")","v":0},150,{"$f":"IFERROR(IF(AF24=\".\",\".\",IF(AF24=\"n/a\",\"n/a\",\nGETPIVOTDATA(AG$21 & \"\",PivotTableB!$A$3,\"SchoolName\",$B24,\"SubsidiaryName\",$C24,\"YearStart\",AC$13))),\"\")","v":0},{"$f":"IFERROR(IF(AG24=\".\",\".\",IF(AG24=\"n/a\",\"n/a\",\nGETPIVOTDATA(AH$21 & \"\",PivotTableB!$A$3,\"SchoolName\",$B24,\"SubsidiaryName\",$C24,\"YearStart\",AC$13))),\"\")","v":897},{"$f":"IFERROR(IF($B24=\"\",\"\",\nIF(OR($L24=\"Nursery School\",$L24=\"All-through PRU\",$M24=\"True\"),\"n/a\",\nIF(GETPIVOTDATA(AI$21 & \"\",PivotTableB!$A$3,\"SchoolName\",$B24,\"SubsidiaryName\",$C24,\"YearStart\",AI$13)=\"\",\".\",\nGETPIVOTDATA(AI$21 & \"\",PivotTableB!$A$3,\"SchoolName\",$B24,\"SubsidiaryName\",$C24,\"YearStart\",AI$13)))),\"\")","v":150},{"$f":"IFERROR(IF(AI24=\".\",\".\",IF(AI24=\"n/a\",\"n/a\",\nGETPIVOTDATA(AJ$21 & \"\",PivotTableB!$A$3,\"SchoolName\",$B24,\"SubsidiaryName\",$C24,\"YearStart\",AI$13))),\"\")","v":0},{"$f":"IFERROR(IF(AJ24=\".\",\".\",IF(AJ24=\"n/a\",\"n/a\",\nGETPIVOTDATA(AK$21 & \"\",PivotTableB!$A$3,\"SchoolName\",$B24,\"SubsidiaryName\",$C24,\"YearStart\",AI$13))),\"\")","v":0},150,{"$f":"IFERROR(IF(AL24=\".\",\".\",IF(AL24=\"n/a\",\"n/a\",\nGETPIVOTDATA(AM$21 & \"\",PivotTableB!$A$3,\"SchoolName\",$B24,\"SubsidiaryName\",$C24,\"YearStart\",AI$13))),\"\")","v":0},{"$f":"IFERROR(IF(AM24=\".\",\".\",IF(AM24=\"n/a\",\"n/a\",\nGETPIVOTDATA(AN$21 & \"\",PivotTableB!$A$3,\"SchoolName\",$B24,\"SubsidiaryName\",$C24,\"YearStart\",AI$13))),\"\")","v":897},{"$f":"IFERROR(IF($B24=\"\",\"\",\nIF(OR($L24=\"Nursery School\",$L24=\"All-through PRU\",$M24=\"True\"),\"n/a\",\nIF(GETPIVOTDATA(AO$21 & \"\",PivotTableB!$A$3,\"SchoolName\",$B24,\"SubsidiaryName\",$C24,\"YearStart\",AO$13)=\"\",\".\",\nGETPIVOTDATA(AO$21 & \"\",PivotTableB!$A$3,\"SchoolName\",$B24,\"SubsidiaryName\",$C24,\"YearStart\",AO$13)))),\"\")","v":150},{"$f":"IFERROR(IF(AO24=\".\",\".\",IF(AO24=\"n/a\",\"n/a\",\nGETPIVOTDATA(AP$21 & \"\",PivotTableB!$A$3,\"SchoolName\",$B24,\"SubsidiaryName\",$C24,\"YearStart\",AO$13))),\"\")","v":0},{"$f":"IFERROR(IF(AP24=\".\",\".\",IF(AP24=\"n/a\",\"n/a\",\nGETPIVOTDATA(AQ$21 & \"\",PivotTableB!$A$3,\"SchoolName\",$B24,\"SubsidiaryName\",$C24,\"YearStart\",AO$13))),\"\")","v":0},150,{"$f":"IFERROR(IF(AR24=\".\",\".\",IF(AR24=\"n/a\",\"n/a\",\nGETPIVOTDATA(AS$21 & \"\",PivotTableB!$A$3,\"SchoolName\",$B24,\"SubsidiaryName\",$C24,\"YearStart\",AO$13))),\"\")","v":0},{"$f":"IFERROR(IF(AS24=\".\",\".\",IF(AS24=\"n/a\",\"n/a\",\nGETPIVOTDATA(AT$21 & \"\",PivotTableB!$A$3,\"SchoolName\",$B24,\"SubsidiaryName\",$C24,\"YearStart\",AO$13))),\"\")","v":909},{"$f":"IFERROR(IF($B24=\"\",\"\",\nIF(OR($L24=\"Nursery School\",$L24=\"All-through PRU\",$M24=\"True\"),\"n/a\",\nIF(GETPIVOTDATA(AU$21 & \"\",PivotTableB!$A$3,\"SchoolName\",$B24,\"SubsidiaryName\",$C24,\"YearStart\",AU$13)=\"\",\".\",\nGETPIVOTDATA(AU$21 & \"\",PivotTableB!$A$3,\"SchoolName\",$B24,\"SubsidiaryName\",$C24,\"YearStart\",AU$13)))),\"\")","v":150},{"$f":"IFERROR(IF(AU24=\".\",\".\",IF(AU24=\"n/a\",\"n/a\",\nGETPIVOTDATA(AV$21 & \"\",PivotTableB!$A$3,\"SchoolName\",$B24,\"SubsidiaryName\",$C24,\"YearStart\",AU$13))),\"\")","v":0},{"$f":"IFERROR(IF(AV24=\".\",\".\",IF(AV24=\"n/a\",\"n/a\",\nGETPIVOTDATA(AW$21 & \"\",PivotTableB!$A$3,\"SchoolName\",$B24,\"SubsidiaryName\",$C24,\"YearStart\",AU$13))),\"\")","v":0},150,{"$f":"IFERROR(IF(AX24=\".\",\".\",IF(AX24=\"n/a\",\"n/a\",\nGETPIVOTDATA(AY$21 & \"\",PivotTableB!$A$3,\"SchoolName\",$B24,\"SubsidiaryName\",$C24,\"YearStart\",AU$13))),\"\")","v":0},{"$f":"IFERROR(IF(AY24=\".\",\".\",IF(AY24=\"n/a\",\"n/a\",\nGETPIVOTDATA(AZ$21 & \"\",PivotTableB!$A$3,\"SchoolName\",$B24,\"SubsidiaryName\",$C24,\"YearStart\",AU$13))),\"\")","v":909},{"$f":"IFERROR(IF($B24=\"\",\"\",\nIF(OR($L24=\"Nursery School\",$L24=\"All-through PRU\",$M24=\"True\"),\"n/a\",\nIF(GETPIVOTDATA(BA$21 & \"\",PivotTableB!$A$3,\"SchoolName\",$B24,\"SubsidiaryName\",$C24,\"YearStart\",BA$13)=\"\",\".\",\nGETPIVOTDATA(BA$21 & \"\",PivotTableB!$A$3,\"SchoolName\",$B24,\"SubsidiaryName\",$C24,\"YearStart\",BA$13)))),\"\")","v":150},{"$f":"IFERROR(IF(BA24=\".\",\".\",IF(BA24=\"n/a\",\"n/a\",\nGETPIVOTDATA(BB$21 & \"\",PivotTableB!$A$3,\"SchoolName\",$B24,\"SubsidiaryName\",$C24,\"YearStart\",BA$13))),\"\")","v":0},{"$f":"IFERROR(IF(BB24=\".\",\".\",IF(BB24=\"n/a\",\"n/a\",\nGETPIVOTDATA(BC$21 & \"\",PivotTableB!$A$3,\"SchoolName\",$B24,\"SubsidiaryName\",$C24,\"YearStart\",BA$13))),\"\")","v":0},{"$f":"IFERROR(IF(BC24=\".\",\".\",IF(BC24=\"n/a\",\"n/a\",\nGETPIVOTDATA(BD$21 & \"\",PivotTableB!$A$3,\"SchoolName\",$B24,\"SubsidiaryName\",$C24,\"YearStart\",BB$13))),\"\")","v":""},150,{"$f":"IFERROR(IF(BE24=\".\",\".\",IF(BE24=\"n/a\",\"n/a\",\nGETPIVOTDATA(BF$21 & \"\",PivotTableB!$A$3,\"SchoolName\",$B24,\"SubsidiaryName\",$C24,\"YearStart\",BA$13))),\"\")","v":0},{"$f":"IFERROR(IF(BF24=\".\",\".\",IF(BF24=\"n/a\",\"n/a\",\nGETPIVOTDATA(BG$21 & \"\",PivotTableB!$A$3,\"SchoolName\",$B24,\"SubsidiaryName\",$C24,\"YearStart\",BA$13))),\"\")","v":909},{"$f":"IFERROR(IF($B24=\"\",\"\",\nIF(OR($L24=\"Nursery School\",$L24=\"All-through PRU\",$M24=\"True\"),\"n/a\",\nIF(GETPIVOTDATA(BH$21 & \"\",PivotTableB!$A$3,\"SchoolName\",$B24,\"SubsidiaryName\",$C24,\"YearStart\",BH$13)=\"\",\".\",\nGETPIVOTDATA(BH$21 & \"\",PivotTableB!$A$3,\"SchoolName\",$B24,\"SubsidiaryName\",$C24,\"YearStart\",BH$13)))),\"\")","v":150},{"$f":"IFERROR(IF(BH24=\".\",\".\",IF(BH24=\"n/a\",\"n/a\",\nGETPIVOTDATA(BI$21 & \"\",PivotTableB!$A$3,\"SchoolName\",$B24,\"SubsidiaryName\",$C24,\"YearStart\",BH$13))),\"\")","v":0},{"$f":"IFERROR(IF(BI24=\".\",\".\",IF(BI24=\"n/a\",\"n/a\",\nGETPIVOTDATA(BJ$21 & \"\",PivotTableB!$A$3,\"SchoolName\",$B24,\"SubsidiaryName\",$C24,\"YearStart\",BH$13))),\"\")","v":0},{"$f":"IFERROR(IF(BJ24=\".\",\".\",IF(BJ24=\"n/a\",\"n/a\",\nGETPIVOTDATA(BK$21 & \"\",PivotTableB!$A$3,\"SchoolName\",$B24,\"SubsidiaryName\",$C24,\"YearStart\",BH$13))),\"\")","v":0},150,{"$f":"IFERROR(IF(BL24=\".\",\".\",IF(BL24=\"n/a\",\"n/a\",\nGETPIVOTDATA(BM$21 & \"\",PivotTableB!$A$3,\"SchoolName\",$B24,\"SubsidiaryName\",$C24,\"YearStart\",BH$13))),\"\")","v":0},{"$f":"IFERROR(IF(BM24=\".\",\".\",IF(BM24=\"n/a\",\"n/a\",\nGETPIVOTDATA(BN$21 & \"\",PivotTableB!$A$3,\"SchoolName\",$B24,\"SubsidiaryName\",$C24,\"YearStart\",BH$13))),\"\")","v":909},{"$f":"IFERROR(IF($B24=\"\",\"\",\nIF(OR($L24=\"Nursery School\",$L24=\"All-through PRU\",$M24=\"True\"),\"n/a\",\nIF(GETPIVOTDATA(BO$21 & \"\",PivotTableB!$A$3,\"SchoolName\",$B24,\"SubsidiaryName\",$C24,\"YearStart\",BO$13)=\"\",\".\",\nGETPIVOTDATA(BO$21 & \"\",PivotTableB!$A$3,\"SchoolName\",$B24,\"SubsidiaryName\",$C24,\"YearStart\",BO$13)))),\"\")","v":150},{"$f":"IFERROR(IF(BO24=\".\",\".\",IF(BO24=\"n/a\",\"n/a\",\nGETPIVOTDATA(BP$21 & \"\",PivotTableB!$A$3,\"SchoolName\",$B24,\"SubsidiaryName\",$C24,\"YearStart\",BO$13))),\"\")","v":0},{"$f":"IFERROR(IF(BP24=\".\",\".\",IF(BP24=\"n/a\",\"n/a\",\nGETPIVOTDATA(BQ$21 & \"\",PivotTableB!$A$3,\"SchoolName\",$B24,\"SubsidiaryName\",$C24,\"YearStart\",BO$13))),\"\")","v":0},{"$f":"IFERROR(IF(BQ24=\".\",\".\",IF(BQ24=\"n/a\",\"n/a\",\nGETPIVOTDATA(BR$21 & \"\",PivotTableB!$A$3,\"SchoolName\",$B24,\"SubsidiaryName\",$C24,\"YearStart\",BP$13))),\"\")","v":""},150,{"$f":"IFERROR(IF(BS24=\".\",\".\",IF(BS24=\"n/a\",\"n/a\",\nGETPIVOTDATA(BT$21 & \"\",PivotTableB!$A$3,\"SchoolName\",$B24,\"SubsidiaryName\",$C24,\"YearStart\",BO$13))),\"\")","v":0},{"$f":"IFERROR(IF(BT24=\".\",\".\",IF(BT24=\"n/a\",\"n/a\",\nGETPIVOTDATA(BU$21 & \"\",PivotTableB!$A$3,\"SchoolName\",$B24,\"SubsidiaryName\",$C24,\"YearStart\",BO$13))),\"\")","v":909},{"$f":"IFERROR(IF($B24=\"\",\"\",\nIF(OR($L24=\"Nursery School\",$L24=\"All-through PRU\",$M24=\"True\"),\"n/a\",\nIF(GETPIVOTDATA(BV$21 & \"\",PivotTableB!$A$3,\"SchoolName\",$B24,\"SubsidiaryName\",$C24,\"YearStart\",BV$13)=\"\",\".\",\nGETPIVOTDATA(BV$21 & \"\",PivotTableB!$A$3,\"SchoolName\",$B24,\"SubsidiaryName\",$C24,\"YearStart\",BV$13)))),\"\")","v":150},{"$f":"IFERROR(IF(BV24=\".\",\".\",IF(BV24=\"n/a\",\"n/a\",\nGETPIVOTDATA(BW$21 & \"\",PivotTableB!$A$3,\"SchoolName\",$B24,\"SubsidiaryName\",$C24,\"YearStart\",BV$13))),\"\")","v":0},{"$f":"IFERROR(IF(BW24=\".\",\".\",IF(BW24=\"n/a\",\"n/a\",\nGETPIVOTDATA(BX$21 & \"\",PivotTableB!$A$3,\"SchoolName\",$B24,\"SubsidiaryName\",$C24,\"YearStart\",BV$13))),\"\")","v":0},{"$f":"IFERROR(IF(BX24=\".\",\".\",IF(BX24=\"n/a\",\"n/a\",\nGETPIVOTDATA(BY$21 & \"\",PivotTableB!$A$3,\"SchoolName\",$B24,\"SubsidiaryName\",$C24,\"YearStart\",BV$13))),\"\")","v":0},150,{"$f":"IFERROR(IF(BZ24=\".\",\".\",IF(BZ24=\"n/a\",\"n/a\",\nGETPIVOTDATA(CA$21 & \"\",PivotTableB!$A$3,\"SchoolName\",$B24,\"SubsidiaryName\",$C24,\"YearStart\",BV$13))),\"\")","v":0},{"$f":"IFERROR(IF(CA24=\".\",\".\",IF(CA24=\"n/a\",\"n/a\",\nGETPIVOTDATA(CB$21 & \"\",PivotTableB!$A$3,\"SchoolName\",$B24,\"SubsidiaryName\",$C24,\"YearStart\",BV$13))),\"\")","v":909}]
[null,{"$f":"IF(PivotTableA!A12=\"\",\"n/a\",PivotTableA!A12)","v":"Alwyn Infant School"},{"$f":"IF(B25=\"n/a\",\"\",PivotTableA!B12)","v":"Alwyn Infant School"},{"$f":"IF($B25=\"n/a\",\"\",PivotTableA!C12)","v":"R"},{"$f":"IF($B25=\"n/a\",\"\",PivotTableA!D12)","v":"Maidenhead"},{"$f":"IF($B25=\"n/a\",\"\",PivotTableA!E12)","v":"North West Maidenhead"},{"$f":"IF($B25=\"n/a\",\"\",PivotTableA!F12)","v":"St Mark's"},{"$f":"IF($B25=\"n/a\",\"\",PivotTableA!G12)","v":"Pinkneys Green"},{"$f":"IF($B25=\"n/a\",\"\",PivotTableA!H12)","v":"None"},{"$f":"IF($B25=\"n/a\",\"\",PivotTableA!I12)","v":"Primary"},{"$f":"IF($B25=\"n/a\",\"\",PivotTableA!J12)","v":"Two Tier"},{"$f":"IF($B25=\"n/a\",\"\",PivotTableA!K12)","v":"Infants"},{"$f":"IF($B25=\"n/a\",\"\",PivotTableA!O12)","v":"FALSE"},{"$f":"IF($B25=\"n/a\",\"\",PivotTableA!L12)","v":"Community"},{"$f":"IF($B25=\"n/a\",\"\",PivotTableA!M12)","v":" "},{"$f":"IF($B25=\"n/a\",\"\",PivotTableA!N12)","v":"None"},{"$f":"IFERROR(IF($B25=\"\",\"\",\nIF(OR($L25=\"Nursery School\",$L25=\"All-through PRU\",$M25=\"True\"),\"n/a\",\nIF(GETPIVOTDATA(Q$21 & \"\",PivotTableB!$A$3,\"SchoolName\",$B25,\"SubsidiaryName\",$C25,\"YearStart\",Q$13)=\"\",\".\",\nGETPIVOTDATA(Q$21 & \"\",PivotTableB!$A$3,\"SchoolName\",$B25,\"SubsidiaryName\",$C25,\"YearStart\",Q$13)))),\"\")","v":101},{"$f":"IFERROR(IF(Q25=\".\",\".\",IF(Q25=\"n/a\",\"n/a\",\nGETPIVOTDATA(R$21 & \"\",PivotTableB!$A$3,\"SchoolName\",$B25,\"SubsidiaryName\",$C25,\"YearStart\",Q$13))),\"\")","v":4},{"$f":"IFERROR(IF(R25=\".\",\".\",IF(R25=\"n/a\",\"n/a\",\nGETPIVOTDATA(S$21 & \"\",PivotTableB!$A$3,\"SchoolName\",$B25,\"SubsidiaryName\",$C25,\"YearStart\",Q$13))),\"\")","v":0},105,{"$f":"IFERROR(IF(T25=\".\",\".\",IF(T25=\"n/a\",\"n/a\",\nGETPIVOTDATA(U$21 & \"\",PivotTableB!$A$3,\"SchoolName\",$B25,\"SubsidiaryName\",$C25,\"YearStart\",Q$13))),\"\")","v":0},{"$f":"IFERROR(IF(U25=\".\",\".\",IF(U25=\"n/a\",\"n/a\",\nGETPIVOTDATA(V$21 & \"\",PivotTableB!$A$3,\"SchoolName\",$B25,\"SubsidiaryName\",$C25,\"YearStart\",Q$13))),\"\")","v":295},{"$f":"IFERROR(IF($B25=\"\",\"\",\nIF(OR($L25=\"Nursery School\",$L25=\"All-through PRU\",$M25=\"True\"),\"n/a\",\nIF(GETPIVOTDATA(W$21 & \"\",PivotTableB!$A$3,\"SchoolName\",$B25,\"SubsidiaryName\",$C25,\"YearStart\",W$13)=\"\",\".\",\nGETPIVOTDATA(W$21 & \"\",PivotTableB!$A$3,\"SchoolName\",$B25,\"SubsidiaryName\",$C25,\"YearStart\",W$13)))),\"\")","v":101},{"$f":"IFERROR(IF(W25=\".\",\".\",IF(W25=\"n/a\",\"n/a\",\nGETPIVOTDATA(X$21 & \"\",PivotTableB!$A$3,\"SchoolName\",$B25,\"SubsidiaryName\",$C25,\"YearStart\",W$13))),\"\")","v":0},{"$f":"IFERROR(IF(X25=\".\",\".\",IF(X25=\"n/a\",\"n/a\",\nGETPIVOTDATA(Y$21 & \"\",PivotTableB!$A$3,\"SchoolName\",$B25,\"SubsidiaryName\",$C25,\"YearStart\",W$13))),\"\")","v":0},101,{"$f":"IFERROR(IF(Z25=\".\",\".\",IF(Z25=\"n/a\",\"n/a\",\nGETPIVOTDATA(AA$21 & \"\",PivotTableB!$A$3,\"SchoolName\",$B25,\"SubsidiaryName\",$C25,\"YearStart\",W$13))),\"\")","v":0},{"$f":"IFERROR(IF(AA25=\".\",\".\",IF(AA25=\"n/a\",\"n/a\",\nGETPIVOTDATA(AB$21 & \"\",PivotTableB!$A$3,\"SchoolName\",$B25,\"SubsidiaryName\",$C25,\"YearStart\",W$13))),\"\")","v":295},{"$f":"IFERROR(IF($B25=\"\",\"\",\nIF(OR($L25=\"Nursery School\",$L25=\"All-through PRU\",$M25=\"True\"),\"n/a\",\nIF(GETPIVOTDATA(AC$21 & \"\",PivotTableB!$A$3,\"SchoolName\",$B25,\"SubsidiaryName\",$C25,\"YearStart\",AC$13)=\"\",\".\",\nGETPIVOTDATA(AC$21 & \"\",PivotTableB!$A$3,\"SchoolName\",$B25,\"SubsidiaryName\",$C25,\"YearStart\",AC$13)))),\"\")","v":101},{"$f":"IFERROR(IF(AC25=\".\",\".\",IF(AC25=\"n/a\",\"n/a\",\nGETPIVOTDATA(AD$21 & \"\",PivotTableB!$A$3,\"SchoolName\",$B25,\"SubsidiaryName\",$C25,\"YearStart\",AC$13))),\"\")","v":0},{"$f":"IFERROR(IF(AD25=\".\",\".\",IF(AD25=\"n/a\",\"n/a\",\nGETPIVOTDATA(AE$21 & \"\",PivotTableB!$A$3,\"SchoolName\",$B25,\"SubsidiaryName\",$C25,\"YearStart\",AC$13))),\"\")","v":0},101,{"$f":"IFERROR(IF(AF25=\".\",\".\",IF(AF25=\"n/a\",\"n/a\",\nGETPIVOTDATA(AG$21 & \"\",PivotTableB!$A$3,\"SchoolName\",$B25,\"SubsidiaryName\",$C25,\"YearStart\",AC$13))),\"\")","v":0},{"$f":"IFERROR(IF(AG25=\".\",\".\",IF(AG25=\"n/a\",\"n/a\",\nGETPIVOTDATA(AH$21 & \"\",PivotTableB!$A$3,\"SchoolName\",$B25,\"SubsidiaryName\",$C25,\"YearStart\",AC$13))),\"\")","v":295},{"$f":"IFERROR(IF($B25=\"\",\"\",\nIF(OR($L25=\"Nursery School\",$L25=\"All-through PRU\",$M25=\"True\"),\"n/a\",\nIF(GETPIVOTDATA(AI$21 & \"\",PivotTableB!$A$3,\"SchoolName\",$B25,\"SubsidiaryName\",$C25,\"YearStart\",AI$13)=\"\",\".\",\nGETPIVOTDATA(AI$21 & \"\",PivotTableB!$A$3,\"SchoolName\",$B25,\"SubsidiaryName\",$C25,\"YearStart\",AI$13)))),\"\")","v":101},{"$f":"IFERROR(IF(AI25=\".\",\".\",IF(AI25=\"n/a\",\"n/a\",\nGETPIVOTDATA(AJ$21 & \"\",PivotTableB!$A$3,\"SchoolName\",$B25,\"SubsidiaryName\",$C25,\"YearStart\",AI$13))),\"\")","v":3},{"$f":"IFERROR(IF(AJ25=\".\",\".\",IF(AJ25=\"n/a\",\"n/a\",\nGETPIVOTDATA(AK$21 & \"\",PivotTableB!$A$3,\"SchoolName\",$B25,\"SubsidiaryName\",$C25,\"YearStart\",AI$13))),\"\")","v":0},104,{"$f":"IFERROR(IF(AL25=\".\",\".\",IF(AL25=\"n/a\",\"n/a\",\nGETPIVOTDATA(AM$21 & \"\",PivotTableB!$A$3,\"SchoolName\",$B25,\"SubsidiaryName\",$C25,\"YearStart\",AI$13))),\"\")","v":0},{"$f":"IFERROR(IF(AM25=\".\",\".\",IF(AM25=\"n/a\",\"n/a\",\nGETPIVOTDATA(AN$21 & \"\",PivotTableB!$A$3,\"SchoolName\",$B25,\"SubsidiaryName\",$C25,\"YearStart\",AI$13))),\"\")","v":295},{"$f":"IFERROR(IF($B25=\"\",\"\",\nIF(OR($L25=\"Nursery School\",$L25=\"All-through PRU\",$M25=\"True\"),\"n/a\",\nIF(GETPIVOTDATA(AO$21 & \"\",PivotTableB!$A$3,\"SchoolName\",$B25,\"SubsidiaryName\",$C25,\"YearStart\",AO$13)=\"\",\".\",\nGETPIVOTDATA(AO$21 & \"\",PivotTableB!$A$3,\"SchoolName\",$B25,\"SubsidiaryName\",$C25,\"YearStart\",AO$13)))),\"\")","v":101},{"$f":"IFERROR(IF(AO25=\".\",\".\",IF(AO25=\"n/a\",\"n/a\",\nGETPIVOTDATA(AP$21 & \"\",PivotTableB!$A$3,\"SchoolName\",$B25,\"SubsidiaryName\",$C25,\"YearStart\",AO$13))),\"\")","v":0},{"$f":"IFERROR(IF(AP25=\".\",\".\",IF(AP25=\"n/a\",\"n/a\",\nGETPIVOTDATA(AQ$21 & \"\",PivotTableB!$A$3,\"SchoolName\",$B25,\"SubsidiaryName\",$C25,\"YearStart\",AO$13))),\"\")","v":0},101,{"$f":"IFERROR(IF(AR25=\".\",\".\",IF(AR25=\"n/a\",\"n/a\",\nGETPIVOTDATA(AS$21 & \"\",PivotTableB!$A$3,\"SchoolName\",$B25,\"SubsidiaryName\",$C25,\"YearStart\",AO$13))),\"\")","v":0},{"$f":"IFERROR(IF(AS25=\".\",\".\",IF(AS25=\"n/a\",\"n/a\",\nGETPIVOTDATA(AT$21 & \"\",PivotTableB!$A$3,\"SchoolName\",$B25,\"SubsidiaryName\",$C25,\"YearStart\",AO$13))),\"\")","v":303},{"$f":"IFERROR(IF($B25=\"\",\"\",\nIF(OR($L25=\"Nursery School\",$L25=\"All-through PRU\",$M25=\"True\"),\"n/a\",\nIF(GETPIVOTDATA(AU$21 & \"\",PivotTableB!$A$3,\"SchoolName\",$B25,\"SubsidiaryName\",$C25,\"YearStart\",AU$13)=\"\",\".\",\nGETPIVOTDATA(AU$21 & \"\",PivotTableB!$A$3,\"SchoolName\",$B25,\"SubsidiaryName\",$C25,\"YearStart\",AU$13)))),\"\")","v":90},{"$f":"IFERROR(IF(AU25=\".\",\".\",IF(AU25=\"n/a\",\"n/a\",\nGETPIVOTDATA(AV$21 & \"\",PivotTableB!$A$3,\"SchoolName\",$B25,\"SubsidiaryName\",$C25,\"YearStart\",AU$13))),\"\")","v":0},{"$f":"IFERROR(IF(AV25=\".\",\".\",IF(AV25=\"n/a\",\"n/a\",\nGETPIVOTDATA(AW$21 & \"\",PivotTableB!$A$3,\"SchoolName\",$B25,\"SubsidiaryName\",$C25,\"YearStart\",AU$13))),\"\")","v":0},90,{"$f":"IFERROR(IF(AX25=\".\",\".\",IF(AX25=\"n/a\",\"n/a\",\nGETPIVOTDATA(AY$21 & \"\",PivotTableB!$A$3,\"SchoolName\",$B25,\"SubsidiaryName\",$C25,\"YearStart\",AU$13))),\"\")","v":11},{"$f":"IFERROR(IF(AY25=\".\",\".\",IF(AY25=\"n/a\",\"n/a\",\nGETPIVOTDATA(AZ$21 & \"\",PivotTableB!$A$3,\"SchoolName\",$B25,\"SubsidiaryName\",$C25,\"YearStart\",AU$13))),\"\")","v":303},{"$f":"IFERROR(IF($B25=\"\",\"\",\nIF(OR($L25=\"Nursery School\",$L25=\"All-through PRU\",$M25=\"True\"),\"n/a\",\nIF(GETPIVOTDATA(BA$21 & \"\",PivotTableB!$A$3,\"SchoolName\",$B25,\"SubsidiaryName\",$C25,\"YearStart\",BA$13)=\"\",\".\",\nGETPIVOTDATA(BA$21 & \"\",PivotTableB!$A$3,\"SchoolName\",$B25,\"SubsidiaryName\",$C25,\"YearStart\",BA$13)))),\"\")","v":90},{"$f":"IFERROR(IF(BA25=\".\",\".\",IF(BA25=\"n/a\",\"n/a\",\nGETPIVOTDATA(BB$21 & \"\",PivotTableB!$A$3,\"SchoolName\",$B25,\"SubsidiaryName\",$C25,\"YearStart\",BA$13))),\"\")","v":0},{"$f":"IFERROR(IF(BB25=\".\",\".\",IF(BB25=\"n/a\",\"n/a\",\nGETPIVOTDATA(BC$21 & \"\",PivotTableB!$A$3,\"SchoolName\",$B25,\"SubsidiaryName\",$C25,\"YearStart\",BA$13))),\"\")","v":0},{"$f":"IFERROR(IF(BC25=\".\",\".\",IF(BC25=\"n/a\",\"n/a\",\nGETPIVOTDATA(BD$21 & \"\",PivotTableB!$A$3,\"SchoolName\",$B25,\"SubsidiaryName\",$C25,\"YearStart\",BB$13))),\"\")","v":""},90,{"$f":"IFERROR(IF(BE25=\".\",\".\",IF(BE25=\"n/a\",\"n/a\",\nGETPIVOTDATA(BF$21 & \"\",PivotTableB!$A$3,\"SchoolName\",$B25,\"SubsidiaryName\",$C25,\"YearStart\",BA$13))),\"\")","v":11},{"$f":"IFERROR(IF(BF25=\".\",\".\",IF(BF25=\"n/a\",\"n/a\",\nGETPIVOTDATA(BG$21 & \"\",PivotTableB!$A$3,\"SchoolName\",$B25,\"SubsidiaryName\",$C25,\"YearStart\",BA$13))),\"\")","v":303},{"$f":"IFERROR(IF($B25=\"\",\"\",\nIF(OR($L25=\"Nursery School\",$L25=\"All-through PRU\",$M25=\"True\"),\"n/a\",\nIF(GETPIVOTDATA(BH$21 & \"\",PivotTableB!$A$3,\"SchoolName\",$B25,\"SubsidiaryName\",$C25,\"YearStart\",BH$13)=\"\",\".\",\nGETPIVOTDATA(BH$21 & \"\",PivotTableB!$A$3,\"SchoolName\",$B25,\"SubsidiaryName\",$C25,\"YearStart\",BH$13)))),\"\")","v":90},{"$f":"IFERROR(IF(BH25=\".\",\".\",IF(BH25=\"n/a\",\"n/a\",\nGETPIVOTDATA(BI$21 & \"\",PivotTableB!$A$3,\"SchoolName\",$B25,\"SubsidiaryName\",$C25,\"YearStart\",BH$13))),\"\")","v":0},{"$f":"IFERROR(IF(BI25=\".\",\".\",IF(BI25=\"n/a\",\"n/a\",\nGETPIVOTDATA(BJ$21 & \"\",PivotTableB!$A$3,\"SchoolName\",$B25,\"SubsidiaryName\",$C25,\"YearStart\",BH$13))),\"\")","v":0},{"$f":"IFERROR(IF(BJ25=\".\",\".\",IF(BJ25=\"n/a\",\"n/a\",\nGETPIVOTDATA(BK$21 & \"\",PivotTableB!$A$3,\"SchoolName\",$B25,\"SubsidiaryName\",$C25,\"YearStart\",BH$13))),\"\")","v":0},90,{"$f":"IFERROR(IF(BL25=\".\",\".\",IF(BL25=\"n/a\",\"n/a\",\nGETPIVOTDATA(BM$21 & \"\",PivotTableB!$A$3,\"SchoolName\",$B25,\"SubsidiaryName\",$C25,\"YearStart\",BH$13))),\"\")","v":11},{"$f":"IFERROR(IF(BM25=\".\",\".\",IF(BM25=\"n/a\",\"n/a\",\nGETPIVOTDATA(BN$21 & \"\",PivotTableB!$A$3,\"SchoolName\",$B25,\"SubsidiaryName\",$C25,\"YearStart\",BH$13))),\"\")","v":303},{"$f":"IFERROR(IF($B25=\"\",\"\",\nIF(OR($L25=\"Nursery School\",$L25=\"All-through PRU\",$M25=\"True\"),\"n/a\",\nIF(GETPIVOTDATA(BO$21 & \"\",PivotTableB!$A$3,\"SchoolName\",$B25,\"SubsidiaryName\",$C25,\"YearStart\",BO$13)=\"\",\".\",\nGETPIVOTDATA(BO$21 & \"\",PivotTableB!$A$3,\"SchoolName\",$B25,\"SubsidiaryName\",$C25,\"YearStart\",BO$13)))),\"\")","v":90},{"$f":"IFERROR(IF(BO25=\".\",\".\",IF(BO25=\"n/a\",\"n/a\",\nGETPIVOTDATA(BP$21 & \"\",PivotTableB!$A$3,\"SchoolName\",$B25,\"SubsidiaryName\",$C25,\"YearStart\",BO$13))),\"\")","v":0},{"$f":"IFERROR(IF(BP25=\".\",\".\",IF(BP25=\"n/a\",\"n/a\",\nGETPIVOTDATA(BQ$21 & \"\",PivotTableB!$A$3,\"SchoolName\",$B25,\"SubsidiaryName\",$C25,\"YearStart\",BO$13))),\"\")","v":0},{"$f":"IFERROR(IF(BQ25=\".\",\".\",IF(BQ25=\"n/a\",\"n/a\",\nGETPIVOTDATA(BR$21 & \"\",PivotTableB!$A$3,\"SchoolName\",$B25,\"SubsidiaryName\",$C25,\"YearStart\",BP$13))),\"\")","v":""},90,{"$f":"IFERROR(IF(BS25=\".\",\".\",IF(BS25=\"n/a\",\"n/a\",\nGETPIVOTDATA(BT$21 & \"\",PivotTableB!$A$3,\"SchoolName\",$B25,\"SubsidiaryName\",$C25,\"YearStart\",BO$13))),\"\")","v":11},{"$f":"IFERROR(IF(BT25=\".\",\".\",IF(BT25=\"n/a\",\"n/a\",\nGETPIVOTDATA(BU$21 & \"\",PivotTableB!$A$3,\"SchoolName\",$B25,\"SubsidiaryName\",$C25,\"YearStart\",BO$13))),\"\")","v":303},{"$f":"IFERROR(IF($B25=\"\",\"\",\nIF(OR($L25=\"Nursery School\",$L25=\"All-through PRU\",$M25=\"True\"),\"n/a\",\nIF(GETPIVOTDATA(BV$21 & \"\",PivotTableB!$A$3,\"SchoolName\",$B25,\"SubsidiaryName\",$C25,\"YearStart\",BV$13)=\"\",\".\",\nGETPIVOTDATA(BV$21 & \"\",PivotTableB!$A$3,\"SchoolName\",$B25,\"SubsidiaryName\",$C25,\"YearStart\",BV$13)))),\"\")","v":90},{"$f":"IFERROR(IF(BV25=\".\",\".\",IF(BV25=\"n/a\",\"n/a\",\nGETPIVOTDATA(BW$21 & \"\",PivotTableB!$A$3,\"SchoolName\",$B25,\"SubsidiaryName\",$C25,\"YearStart\",BV$13))),\"\")","v":0},{"$f":"IFERROR(IF(BW25=\".\",\".\",IF(BW25=\"n/a\",\"n/a\",\nGETPIVOTDATA(BX$21 & \"\",PivotTableB!$A$3,\"SchoolName\",$B25,\"SubsidiaryName\",$C25,\"YearStart\",BV$13))),\"\")","v":0},{"$f":"IFERROR(IF(BX25=\".\",\".\",IF(BX25=\"n/a\",\"n/a\",\nGETPIVOTDATA(BY$21 & \"\",PivotTableB!$A$3,\"SchoolName\",$B25,\"SubsidiaryName\",$C25,\"YearStart\",BV$13))),\"\")","v":0},90,{"$f":"IFERROR(IF(BZ25=\".\",\".\",IF(BZ25=\"n/a\",\"n/a\",\nGETPIVOTDATA(CA$21 & \"\",PivotTableB!$A$3,\"SchoolName\",$B25,\"SubsidiaryName\",$C25,\"YearStart\",BV$13))),\"\")","v":11},{"$f":"IFERROR(IF(CA25=\".\",\".\",IF(CA25=\"n/a\",\"n/a\",\nGETPIVOTDATA(CB$21 & \"\",PivotTableB!$A$3,\"SchoolName\",$B25,\"SubsidiaryName\",$C25,\"YearStart\",BV$13))),\"\")","v":303}]
[null,{"$f":"IF(PivotTableA!A13=\"\",\"n/a\",PivotTableA!A13)","v":"Bisham C of E Primary School"},{"$f":"IF(B26=\"n/a\",\"\",PivotTableA!B13)","v":"Bisham C of E Primary School"},{"$f":"IF($B26=\"n/a\",\"\",PivotTableA!C13)","v":"R"},{"$f":"IF($B26=\"n/a\",\"\",PivotTableA!D13)","v":"Maidenhead"},{"$f":"IF($B26=\"n/a\",\"\",PivotTableA!E13)","v":"Bisham and Cookham"},{"$f":"IF($B26=\"n/a\",\"\",PivotTableA!F13)","v":"Bisham"},{"$f":"IF($B26=\"n/a\",\"\",PivotTableA!G13)","v":"Bisham and Cookham"},{"$f":"IF($B26=\"n/a\",\"\",PivotTableA!H13)","v":"Bisham"},{"$f":"IF($B26=\"n/a\",\"\",PivotTableA!I13)","v":"Primary"},{"$f":"IF($B26=\"n/a\",\"\",PivotTableA!J13)","v":"Two Tier"},{"$f":"IF($B26=\"n/a\",\"\",PivotTableA!K13)","v":"JMI"},{"$f":"IF($B26=\"n/a\",\"\",PivotTableA!O13)","v":"FALSE"},{"$f":"IF($B26=\"n/a\",\"\",PivotTableA!L13)","v":"Academy"},{"$f":"IF($B26=\"n/a\",\"\",PivotTableA!M13)","v":" "},{"$f":"IF($B26=\"n/a\",\"\",PivotTableA!N13)","v":"Church of England"},{"$f":"IFERROR(IF($B26=\"\",\"\",\nIF(OR($L26=\"Nursery School\",$L26=\"All-through PRU\",$M26=\"True\"),\"n/a\",\nIF(GETPIVOTDATA(Q$21 & \"\",PivotTableB!$A$3,\"SchoolName\",$B26,\"SubsidiaryName\",$C26,\"YearStart\",Q$13)=\"\",\".\",\nGETPIVOTDATA(Q$21 & \"\",PivotTableB!$A$3,\"SchoolName\",$B26,\"SubsidiaryName\",$C26,\"YearStart\",Q$13)))),\"\")","v":16},{"$f":"IFERROR(IF(Q26=\".\",\".\",IF(Q26=\"n/a\",\"n/a\",\nGETPIVOTDATA(R$21 & \"\",PivotTableB!$A$3,\"SchoolName\",$B26,\"SubsidiaryName\",$C26,\"YearStart\",Q$13))),\"\")","v":0},{"$f":"IFERROR(IF(R26=\".\",\".\",IF(R26=\"n/a\",\"n/a\",\nGETPIVOTDATA(S$21 & \"\",PivotTableB!$A$3,\"SchoolName\",$B26,\"SubsidiaryName\",$C26,\"YearStart\",Q$13))),\"\")","v":0},16,{"$f":"IFERROR(IF(T26=\".\",\".\",IF(T26=\"n/a\",\"n/a\",\nGETPIVOTDATA(U$21 & \"\",PivotTableB!$A$3,\"SchoolName\",$B26,\"SubsidiaryName\",$C26,\"YearStart\",Q$13))),\"\")","v":0},{"$f":"IFERROR(IF(U26=\".\",\".\",IF(U26=\"n/a\",\"n/a\",\nGETPIVOTDATA(V$21 & \"\",PivotTableB!$A$3,\"SchoolName\",$B26,\"SubsidiaryName\",$C26,\"YearStart\",Q$13))),\"\")","v":112},{"$f":"IFERROR(IF($B26=\"\",\"\",\nIF(OR($L26=\"Nursery School\",$L26=\"All-through PRU\",$M26=\"True\"),\"n/a\",\nIF(GETPIVOTDATA(W$21 & \"\",PivotTableB!$A$3,\"SchoolName\",$B26,\"SubsidiaryName\",$C26,\"YearStart\",W$13)=\"\",\".\",\nGETPIVOTDATA(W$21 & \"\",PivotTableB!$A$3,\"SchoolName\",$B26,\"SubsidiaryName\",$C26,\"YearStart\",W$13)))),\"\")","v":16},{"$f":"IFERROR(IF(W26=\".\",\".\",IF(W26=\"n/a\",\"n/a\",\nGETPIVOTDATA(X$21 & \"\",PivotTableB!$A$3,\"SchoolName\",$B26,\"SubsidiaryName\",$C26,\"YearStart\",W$13))),\"\")","v":0},{"$f":"IFERROR(IF(X26=\".\",\".\",IF(X26=\"n/a\",\"n/a\",\nGETPIVOTDATA(Y$21 & \"\",PivotTableB!$A$3,\"SchoolName\",$B26,\"SubsidiaryName\",$C26,\"YearStart\",W$13))),\"\")","v":0},16,{"$f":"IFERROR(IF(Z26=\".\",\".\",IF(Z26=\"n/a\",\"n/a\",\nGETPIVOTDATA(AA$21 & \"\",PivotTableB!$A$3,\"SchoolName\",$B26,\"SubsidiaryName\",$C26,\"YearStart\",W$13))),\"\")","v":0},{"$f":"IFERROR(IF(AA26=\".\",\".\",IF(AA26=\"n/a\",\"n/a\",\nGETPIVOTDATA(AB$21 & \"\",PivotTableB!$A$3,\"SchoolName\",$B26,\"SubsidiaryName\",$C26,\"YearStart\",W$13))),\"\")","v":112},{"$f":"IFERROR(IF($B26=\"\",\"\",\nIF(OR($L26=\"Nursery School\",$L26=\"All-through PRU\",$M26=\"True\"),\"n/a\",\nIF(GETPIVOTDATA(AC$21 & \"\",PivotTableB!$A$3,\"SchoolName\",$B26,\"SubsidiaryName\",$C26,\"YearStart\",AC$13)=\"\",\".\",\nGETPIVOTDATA(AC$21 & \"\",PivotTableB!$A$3,\"SchoolName\",$B26,\"SubsidiaryName\",$C26,\"YearStart\",AC$13)))),\"\")","v":16},{"$f":"IFERROR(IF(AC26=\".\",\".\",IF(AC26=\"n/a\",\"n/a\",\nGETPIVOTDATA(AD$21 & \"\",PivotTableB!$A$3,\"SchoolName\",$B26,\"SubsidiaryName\",$C26,\"YearStart\",AC$13))),\"\")","v":0},{"$f":"IFERROR(IF(AD26=\".\",\".\",IF(AD26=\"n/a\",\"n/a\",\nGETPIVOTDATA(AE$21 & \"\",PivotTableB!$A$3,\"SchoolName\",$B26,\"SubsidiaryName\",$C26,\"YearStart\",AC$13))),\"\")","v":0},16,{"$f":"IFERROR(IF(AF26=\".\",\".\",IF(AF26=\"n/a\",\"n/a\",\nGETPIVOTDATA(AG$21 & \"\",PivotTableB!$A$3,\"SchoolName\",$B26,\"SubsidiaryName\",$C26,\"YearStart\",AC$13))),\"\")","v":0},{"$f":"IFERROR(IF(AG26=\".\",\".\",IF(AG26=\"n/a\",\"n/a\",\nGETPIVOTDATA(AH$21 & \"\",PivotTableB!$A$3,\"SchoolName\",$B26,\"SubsidiaryName\",$C26,\"YearStart\",AC$13))),\"\")","v":112},{"$f":"IFERROR(IF($B26=\"\",\"\",\nIF(OR($L26=\"Nursery School\",$L26=\"All-through PRU\",$M26=\"True\"),\"n/a\",\nIF(GETPIVOTDATA(AI$21 & \"\",PivotTableB!$A$3,\"SchoolName\",$B26,\"SubsidiaryName\",$C26,\"YearStart\",AI$13)=\"\",\".\",\nGETPIVOTDATA(AI$21 & \"\",PivotTableB!$A$3,\"SchoolName\",$B26,\"SubsidiaryName\",$C26,\"YearStart\",AI$13)))),\"\")","v":16},{"$f":"IFERROR(IF(AI26=\".\",\".\",IF(AI26=\"n/a\",\"n/a\",\nGETPIVOTDATA(AJ$21 & \"\",PivotTableB!$A$3,\"SchoolName\",$B26,\"SubsidiaryName\",$C26,\"YearStart\",AI$13))),\"\")","v":0},{"$f":"IFERROR(IF(AJ26=\".\",\".\",IF(AJ26=\"n/a\",\"n/a\",\nGETPIVOTDATA(AK$21 & \"\",PivotTableB!$A$3,\"SchoolName\",$B26,\"SubsidiaryName\",$C26,\"YearStart\",AI$13))),\"\")","v":0},16,{"$f":"IFERROR(IF(AL26=\".\",\".\",IF(AL26=\"n/a\",\"n/a\",\nGETPIVOTDATA(AM$21 & \"\",PivotTableB!$A$3,\"SchoolName\",$B26,\"SubsidiaryName\",$C26,\"YearStart\",AI$13))),\"\")","v":0},{"$f":"IFERROR(IF(AM26=\".\",\".\",IF(AM26=\"n/a\",\"n/a\",\nGETPIVOTDATA(AN$21 & \"\",PivotTableB!$A$3,\"SchoolName\",$B26,\"SubsidiaryName\",$C26,\"YearStart\",AI$13))),\"\")","v":112},{"$f":"IFERROR(IF($B26=\"\",\"\",\nIF(OR($L26=\"Nursery School\",$L26=\"All-through PRU\",$M26=\"True\"),\"n/a\",\nIF(GETPIVOTDATA(AO$21 & \"\",PivotTableB!$A$3,\"SchoolName\",$B26,\"SubsidiaryName\",$C26,\"YearStart\",AO$13)=\"\",\".\",\nGETPIVOTDATA(AO$21 & \"\",PivotTableB!$A$3,\"SchoolName\",$B26,\"SubsidiaryName\",$C26,\"YearStart\",AO$13)))),\"\")","v":16},{"$f":"IFERROR(IF(AO26=\".\",\".\",IF(AO26=\"n/a\",\"n/a\",\nGETPIVOTDATA(AP$21 & \"\",PivotTableB!$A$3,\"SchoolName\",$B26,\"SubsidiaryName\",$C26,\"YearStart\",AO$13))),\"\")","v":14},{"$f":"IFERROR(IF(AP26=\".\",\".\",IF(AP26=\"n/a\",\"n/a\",\nGETPIVOTDATA(AQ$21 & \"\",PivotTableB!$A$3,\"SchoolName\",$B26,\"SubsidiaryName\",$C26,\"YearStart\",AO$13))),\"\")","v":0},30,{"$f":"IFERROR(IF(AR26=\".\",\".\",IF(AR26=\"n/a\",\"n/a\",\nGETPIVOTDATA(AS$21 & \"\",PivotTableB!$A$3,\"SchoolName\",$B26,\"SubsidiaryName\",$C26,\"YearStart\",AO$13))),\"\")","v":0},{"$f":"IFERROR(IF(AS26=\".\",\".\",IF(AS26=\"n/a\",\"n/a\",\nGETPIVOTDATA(AT$21 & \"\",PivotTableB!$A$3,\"SchoolName\",$B26,\"SubsidiaryName\",$C26,\"YearStart\",AO$13))),\"\")","v":120},{"$f":"IFERROR(IF($B26=\"\",\"\",\nIF(OR($L26=\"Nursery School\",$L26=\"All-through PRU\",$M26=\"True\"),\"n/a\",\nIF(GETPIVOTDATA(AU$21 & \"\",PivotTableB!$A$3,\"SchoolName\",$B26,\"SubsidiaryName\",$C26,\"YearStart\",AU$13)=\"\",\".\",\nGETPIVOTDATA(AU$21 & \"\",PivotTableB!$A$3,\"SchoolName\",$B26,\"SubsidiaryName\",$C26,\"YearStart\",AU$13)))),\"\")","v":16},{"$f":"IFERROR(IF(AU26=\".\",\".\",IF(AU26=\"n/a\",\"n/a\",\nGETPIVOTDATA(AV$21 & \"\",PivotTableB!$A$3,\"SchoolName\",$B26,\"SubsidiaryName\",$C26,\"YearStart\",AU$13))),\"\")","v":14},{"$f":"IFERROR(IF(AV26=\".\",\".\",IF(AV26=\"n/a\",\"n/a\",\nGETPIVOTDATA(AW$21 & \"\",PivotTableB!$A$3,\"SchoolName\",$B26,\"SubsidiaryName\",$C26,\"YearStart\",AU$13))),\"\")","v":0},30,{"$f":"IFERROR(IF(AX26=\".\",\".\",IF(AX26=\"n/a\",\"n/a\",\nGETPIVOTDATA(AY$21 & \"\",PivotTableB!$A$3,\"SchoolName\",$B26,\"SubsidiaryName\",$C26,\"YearStart\",AU$13))),\"\")","v":0},{"$f":"IFERROR(IF(AY26=\".\",\".\",IF(AY26=\"n/a\",\"n/a\",\nGETPIVOTDATA(AZ$21 & \"\",PivotTableB!$A$3,\"SchoolName\",$B26,\"SubsidiaryName\",$C26,\"YearStart\",AU$13))),\"\")","v":120},{"$f":"IFERROR(IF($B26=\"\",\"\",\nIF(OR($L26=\"Nursery School\",$L26=\"All-through PRU\",$M26=\"True\"),\"n/a\",\nIF(GETPIVOTDATA(BA$21 & \"\",PivotTableB!$A$3,\"SchoolName\",$B26,\"SubsidiaryName\",$C26,\"YearStart\",BA$13)=\"\",\".\",\nGETPIVOTDATA(BA$21 & \"\",PivotTableB!$A$3,\"SchoolName\",$B26,\"SubsidiaryName\",$C26,\"YearStart\",BA$13)))),\"\")","v":16},{"$f":"IFERROR(IF(BA26=\".\",\".\",IF(BA26=\"n/a\",\"n/a\",\nGETPIVOTDATA(BB$21 & \"\",PivotTableB!$A$3,\"SchoolName\",$B26,\"SubsidiaryName\",$C26,\"YearStart\",BA$13))),\"\")","v":14},{"$f":"IFERROR(IF(BB26=\".\",\".\",IF(BB26=\"n/a\",\"n/a\",\nGETPIVOTDATA(BC$21 & \"\",PivotTableB!$A$3,\"SchoolName\",$B26,\"SubsidiaryName\",$C26,\"YearStart\",BA$13))),\"\")","v":0},{"$f":"IFERROR(IF(BC26=\".\",\".\",IF(BC26=\"n/a\",\"n/a\",\nGETPIVOTDATA(BD$21 & \"\",PivotTableB!$A$3,\"SchoolName\",$B26,\"SubsidiaryName\",$C26,\"YearStart\",BB$13))),\"\")","v":""},30,{"$f":"IFERROR(IF(BE26=\".\",\".\",IF(BE26=\"n/a\",\"n/a\",\nGETPIVOTDATA(BF$21 & \"\",PivotTableB!$A$3,\"SchoolName\",$B26,\"SubsidiaryName\",$C26,\"YearStart\",BA$13))),\"\")","v":0},{"$f":"IFERROR(IF(BF26=\".\",\".\",IF(BF26=\"n/a\",\"n/a\",\nGETPIVOTDATA(BG$21 & \"\",PivotTableB!$A$3,\"SchoolName\",$B26,\"SubsidiaryName\",$C26,\"YearStart\",BA$13))),\"\")","v":120},{"$f":"IFERROR(IF($B26=\"\",\"\",\nIF(OR($L26=\"Nursery School\",$L26=\"All-through PRU\",$M26=\"True\"),\"n/a\",\nIF(GETPIVOTDATA(BH$21 & \"\",PivotTableB!$A$3,\"SchoolName\",$B26,\"SubsidiaryName\",$C26,\"YearStart\",BH$13)=\"\",\".\",\nGETPIVOTDATA(BH$21 & \"\",PivotTableB!$A$3,\"SchoolName\",$B26,\"SubsidiaryName\",$C26,\"YearStart\",BH$13)))),\"\")","v":16},{"$f":"IFERROR(IF(BH26=\".\",\".\",IF(BH26=\"n/a\",\"n/a\",\nGETPIVOTDATA(BI$21 & \"\",PivotTableB!$A$3,\"SchoolName\",$B26,\"SubsidiaryName\",$C26,\"YearStart\",BH$13))),\"\")","v":14},{"$f":"IFERROR(IF(BI26=\".\",\".\",IF(BI26=\"n/a\",\"n/a\",\nGETPIVOTDATA(BJ$21 & \"\",PivotTableB!$A$3,\"SchoolName\",$B26,\"SubsidiaryName\",$C26,\"YearStart\",BH$13))),\"\")","v":0},{"$f":"IFERROR(IF(BJ26=\".\",\".\",IF(BJ26=\"n/a\",\"n/a\",\nGETPIVOTDATA(BK$21 & \"\",PivotTableB!$A$3,\"SchoolName\",$B26,\"SubsidiaryName\",$C26,\"YearStart\",BH$13))),\"\")","v":0},30,{"$f":"IFERROR(IF(BL26=\".\",\".\",IF(BL26=\"n/a\",\"n/a\",\nGETPIVOTDATA(BM$21 & \"\",PivotTableB!$A$3,\"SchoolName\",$B26,\"SubsidiaryName\",$C26,\"YearStart\",BH$13))),\"\")","v":0},{"$f":"IFERROR(IF(BM26=\".\",\".\",IF(BM26=\"n/a\",\"n/a\",\nGETPIVOTDATA(BN$21 & \"\",PivotTableB!$A$3,\"SchoolName\",$B26,\"SubsidiaryName\",$C26,\"YearStart\",BH$13))),\"\")","v":120},{"$f":"IFERROR(IF($B26=\"\",\"\",\nIF(OR($L26=\"Nursery School\",$L26=\"All-through PRU\",$M26=\"True\"),\"n/a\",\nIF(GETPIVOTDATA(BO$21 & \"\",PivotTableB!$A$3,\"SchoolName\",$B26,\"SubsidiaryName\",$C26,\"YearStart\",BO$13)=\"\",\".\",\nGETPIVOTDATA(BO$21 & \"\",PivotTableB!$A$3,\"SchoolName\",$B26,\"SubsidiaryName\",$C26,\"YearStart\",BO$13)))),\"\")","v":16},{"$f":"IFERROR(IF(BO26=\".\",\".\",IF(BO26=\"n/a\",\"n/a\",\nGETPIVOTDATA(BP$21 & \"\",PivotTableB!$A$3,\"SchoolName\",$B26,\"SubsidiaryName\",$C26,\"YearStart\",BO$13))),\"\")","v":14},{"$f":"IFERROR(IF(BP26=\".\",\".\",IF(BP26=\"n/a\",\"n/a\",\nGETPIVOTDATA(BQ$21 & \"\",PivotTableB!$A$3,\"SchoolName\",$B26,\"SubsidiaryName\",$C26,\"YearStart\",BO$13))),\"\")","v":0},{"$f":"IFERROR(IF(BQ26=\".\",\".\",IF(BQ26=\"n/a\",\"n/a\",\nGETPIVOTDATA(BR$21 & \"\",PivotTableB!$A$3,\"SchoolName\",$B26,\"SubsidiaryName\",$C26,\"YearStart\",BP$13))),\"\")","v":""},30,{"$f":"IFERROR(IF(BS26=\".\",\".\",IF(BS26=\"n/a\",\"n/a\",\nGETPIVOTDATA(BT$21 & \"\",PivotTableB!$A$3,\"SchoolName\",$B26,\"SubsidiaryName\",$C26,\"YearStart\",BO$13))),\"\")","v":0},{"$f":"IFERROR(IF(BT26=\".\",\".\",IF(BT26=\"n/a\",\"n/a\",\nGETPIVOTDATA(BU$21 & \"\",PivotTableB!$A$3,\"SchoolName\",$B26,\"SubsidiaryName\",$C26,\"YearStart\",BO$13))),\"\")","v":120},{"$f":"IFERROR(IF($B26=\"\",\"\",\nIF(OR($L26=\"Nursery School\",$L26=\"All-through PRU\",$M26=\"True\"),\"n/a\",\nIF(GETPIVOTDATA(BV$21 & \"\",PivotTableB!$A$3,\"SchoolName\",$B26,\"SubsidiaryName\",$C26,\"YearStart\",BV$13)=\"\",\".\",\nGETPIVOTDATA(BV$21 & \"\",PivotTableB!$A$3,\"SchoolName\",$B26,\"SubsidiaryName\",$C26,\"YearStart\",BV$13)))),\"\")","v":16},{"$f":"IFERROR(IF(BV26=\".\",\".\",IF(BV26=\"n/a\",\"n/a\",\nGETPIVOTDATA(BW$21 & \"\",PivotTableB!$A$3,\"SchoolName\",$B26,\"SubsidiaryName\",$C26,\"YearStart\",BV$13))),\"\")","v":14},{"$f":"IFERROR(IF(BW26=\".\",\".\",IF(BW26=\"n/a\",\"n/a\",\nGETPIVOTDATA(BX$21 & \"\",PivotTableB!$A$3,\"SchoolName\",$B26,\"SubsidiaryName\",$C26,\"YearStart\",BV$13))),\"\")","v":0},{"$f":"IFERROR(IF(BX26=\".\",\".\",IF(BX26=\"n/a\",\"n/a\",\nGETPIVOTDATA(BY$21 & \"\",PivotTableB!$A$3,\"SchoolName\",$B26,\"SubsidiaryName\",$C26,\"YearStart\",BV$13))),\"\")","v":0},30,{"$f":"IFERROR(IF(BZ26=\".\",\".\",IF(BZ26=\"n/a\",\"n/a\",\nGETPIVOTDATA(CA$21 & \"\",PivotTableB!$A$3,\"SchoolName\",$B26,\"SubsidiaryName\",$C26,\"YearStart\",BV$13))),\"\")","v":0},{"$f":"IFERROR(IF(CA26=\".\",\".\",IF(CA26=\"n/a\",\"n/a\",\nGETPIVOTDATA(CB$21 & \"\",PivotTableB!$A$3,\"SchoolName\",$B26,\"SubsidiaryName\",$C26,\"YearStart\",BV$13))),\"\")","v":120}]
[null,{"$f":"IF(PivotTableA!A14=\"\",\"n/a\",PivotTableA!A14)","v":"Boyne Hill C of E Infant and Nursery School"},{"$f":"IF(B27=\"n/a\",\"\",PivotTableA!B14)","v":"Boyne Hill C of E Infant and Nursery School"},{"$f":"IF($B27=\"n/a\",\"\",PivotTableA!C14)","v":"R"},{"$f":"IF($B27=\"n/a\",\"\",PivotTableA!D14)","v":"Maidenhead"},{"$f":"IF($B27=\"n/a\",\"\",PivotTableA!E14)","v":"Central Maidenhead"},{"$f":"IF($B27=\"n/a\",\"\",PivotTableA!F14)","v":"Boyn Hill"},{"$f":"IF($B27=\"n/a\",\"\",PivotTableA!G14)","v":"Boyn Hill"},{"$f":"IF($B27=\"n/a\",\"\",PivotTableA!H14)","v":"None"},{"$f":"IF($B27=\"n/a\",\"\",PivotTableA!I14)","v":"Primary"},{"$f":"IF($B27=\"n/a\",\"\",PivotTableA!J14)","v":"Two Tier"},{"$f":"IF($B27=\"n/a\",\"\",PivotTableA!K14)","v":"Infants"},{"$f":"IF($B27=\"n/a\",\"\",PivotTableA!O14)","v":"FALSE"},{"$f":"IF($B27=\"n/a\",\"\",PivotTableA!L14)","v":"Voluntary Controlled"},{"$f":"IF($B27=\"n/a\",\"\",PivotTableA!M14)","v":" "},{"$f":"IF($B27=\"n/a\",\"\",PivotTableA!N14)","v":"Church of England"},{"$f":"IFERROR(IF($B27=\"\",\"\",\nIF(OR($L27=\"Nursery School\",$L27=\"All-through PRU\",$M27=\"True\"),\"n/a\",\nIF(GETPIVOTDATA(Q$21 & \"\",PivotTableB!$A$3,\"SchoolName\",$B27,\"SubsidiaryName\",$C27,\"YearStart\",Q$13)=\"\",\".\",\nGETPIVOTDATA(Q$21 & \"\",PivotTableB!$A$3,\"SchoolName\",$B27,\"SubsidiaryName\",$C27,\"YearStart\",Q$13)))),\"\")","v":60},{"$f":"IFERROR(IF(Q27=\".\",\".\",IF(Q27=\"n/a\",\"n/a\",\nGETPIVOTDATA(R$21 & \"\",PivotTableB!$A$3,\"SchoolName\",$B27,\"SubsidiaryName\",$C27,\"YearStart\",Q$13))),\"\")","v":0},{"$f":"IFERROR(IF(R27=\".\",\".\",IF(R27=\"n/a\",\"n/a\",\nGETPIVOTDATA(S$21 & \"\",PivotTableB!$A$3,\"SchoolName\",$B27,\"SubsidiaryName\",$C27,\"YearStart\",Q$13))),\"\")","v":0},60,{"$f":"IFERROR(IF(T27=\".\",\".\",IF(T27=\"n/a\",\"n/a\",\nGETPIVOTDATA(U$21 & \"\",PivotTableB!$A$3,\"SchoolName\",$B27,\"SubsidiaryName\",$C27,\"YearStart\",Q$13))),\"\")","v":0},{"$f":"IFERROR(IF(U27=\".\",\".\",IF(U27=\"n/a\",\"n/a\",\nGETPIVOTDATA(V$21 & \"\",PivotTableB!$A$3,\"SchoolName\",$B27,\"SubsidiaryName\",$C27,\"YearStart\",Q$13))),\"\")","v":179},{"$f":"IFERROR(IF($B27=\"\",\"\",\nIF(OR($L27=\"Nursery School\",$L27=\"All-through PRU\",$M27=\"True\"),\"n/a\",\nIF(GETPIVOTDATA(W$21 & \"\",PivotTableB!$A$3,\"SchoolName\",$B27,\"SubsidiaryName\",$C27,\"YearStart\",W$13)=\"\",\".\",\nGETPIVOTDATA(W$21 & \"\",PivotTableB!$A$3,\"SchoolName\",$B27,\"SubsidiaryName\",$C27,\"YearStart\",W$13)))),\"\")","v":60},{"$f":"IFERROR(IF(W27=\".\",\".\",IF(W27=\"n/a\",\"n/a\",\nGETPIVOTDATA(X$21 & \"\",PivotTableB!$A$3,\"SchoolName\",$B27,\"SubsidiaryName\",$C27,\"YearStart\",W$13))),\"\")","v":0},{"$f":"IFERROR(IF(X27=\".\",\".\",IF(X27=\"n/a\",\"n/a\",\nGETPIVOTDATA(Y$21 & \"\",PivotTableB!$A$3,\"SchoolName\",$B27,\"SubsidiaryName\",$C27,\"YearStart\",W$13))),\"\")","v":0},60,{"$f":"IFERROR(IF(Z27=\".\",\".\",IF(Z27=\"n/a\",\"n/a\",\nGETPIVOTDATA(AA$21 & \"\",PivotTableB!$A$3,\"SchoolName\",$B27,\"SubsidiaryName\",$C27,\"YearStart\",W$13))),\"\")","v":0},{"$f":"IFERROR(IF(AA27=\".\",\".\",IF(AA27=\"n/a\",\"n/a\",\nGETPIVOTDATA(AB$21 & \"\",PivotTableB!$A$3,\"SchoolName\",$B27,\"SubsidiaryName\",$C27,\"YearStart\",W$13))),\"\")","v":179},{"$f":"IFERROR(IF($B27=\"\",\"\",\nIF(OR($L27=\"Nursery School\",$L27=\"All-through PRU\",$M27=\"True\"),\"n/a\",\nIF(GETPIVOTDATA(AC$21 & \"\",PivotTableB!$A$3,\"SchoolName\",$B27,\"SubsidiaryName\",$C27,\"YearStart\",AC$13)=\"\",\".\",\nGETPIVOTDATA(AC$21 & \"\",PivotTableB!$A$3,\"SchoolName\",$B27,\"SubsidiaryName\",$C27,\"YearStart\",AC$13)))),\"\")","v":60},{"$f":"IFERROR(IF(AC27=\".\",\".\",IF(AC27=\"n/a\",\"n/a\",\nGETPIVOTDATA(AD$21 & \"\",PivotTableB!$A$3,\"SchoolName\",$B27,\"SubsidiaryName\",$C27,\"YearStart\",AC$13))),\"\")","v":0},{"$f":"IFERROR(IF(AD27=\".\",\".\",IF(AD27=\"n/a\",\"n/a\",\nGETPIVOTDATA(AE$21 & \"\",PivotTableB!$A$3,\"SchoolName\",$B27,\"SubsidiaryName\",$C27,\"YearStart\",AC$13))),\"\")","v":0},60,{"$f":"IFERROR(IF(AF27=\".\",\".\",IF(AF27=\"n/a\",\"n/a\",\nGETPIVOTDATA(AG$21 & \"\",PivotTableB!$A$3,\"SchoolName\",$B27,\"SubsidiaryName\",$C27,\"YearStart\",AC$13))),\"\")","v":0},{"$f":"IFERROR(IF(AG27=\".\",\".\",IF(AG27=\"n/a\",\"n/a\",\nGETPIVOTDATA(AH$21 & \"\",PivotTableB!$A$3,\"SchoolName\",$B27,\"SubsidiaryName\",$C27,\"YearStart\",AC$13))),\"\")","v":179},{"$f":"IFERROR(IF($B27=\"\",\"\",\nIF(OR($L27=\"Nursery School\",$L27=\"All-through PRU\",$M27=\"True\"),\"n/a\",\nIF(GETPIVOTDATA(AI$21 & \"\",PivotTableB!$A$3,\"SchoolName\",$B27,\"SubsidiaryName\",$C27,\"YearStart\",AI$13)=\"\",\".\",\nGETPIVOTDATA(AI$21 & \"\",PivotTableB!$A$3,\"SchoolName\",$B27,\"SubsidiaryName\",$C27,\"YearStart\",AI$13)))),\"\")","v":60},{"$f":"IFERROR(IF(AI27=\".\",\".\",IF(AI27=\"n/a\",\"n/a\",\nGETPIVOTDATA(AJ$21 & \"\",PivotTableB!$A$3,\"SchoolName\",$B27,\"SubsidiaryName\",$C27,\"YearStart\",AI$13))),\"\")","v":0},{"$f":"IFERROR(IF(AJ27=\".\",\".\",IF(AJ27=\"n/a\",\"n/a\",\nGETPIVOTDATA(AK$21 & \"\",PivotTableB!$A$3,\"SchoolName\",$B27,\"SubsidiaryName\",$C27,\"YearStart\",AI$13))),\"\")","v":0},60,{"$f":"IFERROR(IF(AL27=\".\",\".\",IF(AL27=\"n/a\",\"n/a\",\nGETPIVOTDATA(AM$21 & \"\",PivotTableB!$A$3,\"SchoolName\",$B27,\"SubsidiaryName\",$C27,\"YearStart\",AI$13))),\"\")","v":0},{"$f":"IFERROR(IF(AM27=\".\",\".\",IF(AM27=\"n/a\",\"n/a\",\nGETPIVOTDATA(AN$21 & \"\",PivotTableB!$A$3,\"SchoolName\",$B27,\"SubsidiaryName\",$C27,\"YearStart\",AI$13))),\"\")","v":179},{"$f":"IFERROR(IF($B27=\"\",\"\",\nIF(OR($L27=\"Nursery School\",$L27=\"All-through PRU\",$M27=\"True\"),\"n/a\",\nIF(GETPIVOTDATA(AO$21 & \"\",PivotTableB!$A$3,\"SchoolName\",$B27,\"SubsidiaryName\",$C27,\"YearStart\",AO$13)=\"\",\".\",\nGETPIVOTDATA(AO$21 & \"\",PivotTableB!$A$3,\"SchoolName\",$B27,\"SubsidiaryName\",$C27,\"YearStart\",AO$13)))),\"\")","v":60},{"$f":"IFERROR(IF(AO27=\".\",\".\",IF(AO27=\"n/a\",\"n/a\",\nGETPIVOTDATA(AP$21 & \"\",PivotTableB!$A$3,\"SchoolName\",$B27,\"SubsidiaryName\",$C27,\"YearStart\",AO$13))),\"\")","v":0},{"$f":"IFERROR(IF(AP27=\".\",\".\",IF(AP27=\"n/a\",\"n/a\",\nGETPIVOTDATA(AQ$21 & \"\",PivotTableB!$A$3,\"SchoolName\",$B27,\"SubsidiaryName\",$C27,\"YearStart\",AO$13))),\"\")","v":0},60,{"$f":"IFERROR(IF(AR27=\".\",\".\",IF(AR27=\"n/a\",\"n/a\",\nGETPIVOTDATA(AS$21 & \"\",PivotTableB!$A$3,\"SchoolName\",$B27,\"SubsidiaryName\",$C27,\"YearStart\",AO$13))),\"\")","v":0},{"$f":"IFERROR(IF(AS27=\".\",\".\",IF(AS27=\"n/a\",\"n/a\",\nGETPIVOTDATA(AT$21 & \"\",PivotTableB!$A$3,\"SchoolName\",$B27,\"SubsidiaryName\",$C27,\"YearStart\",AO$13))),\"\")","v":180},{"$f":"IFERROR(IF($B27=\"\",\"\",\nIF(OR($L27=\"Nursery School\",$L27=\"All-through PRU\",$M27=\"True\"),\"n/a\",\nIF(GETPIVOTDATA(AU$21 & \"\",PivotTableB!$A$3,\"SchoolName\",$B27,\"SubsidiaryName\",$C27,\"YearStart\",AU$13)=\"\",\".\",\nGETPIVOTDATA(AU$21 & \"\",PivotTableB!$A$3,\"SchoolName\",$B27,\"SubsidiaryName\",$C27,\"YearStart\",AU$13)))),\"\")","v":60},{"$f":"IFERROR(IF(AU27=\".\",\".\",IF(AU27=\"n/a\",\"n/a\",\nGETPIVOTDATA(AV$21 & \"\",PivotTableB!$A$3,\"SchoolName\",$B27,\"SubsidiaryName\",$C27,\"YearStart\",AU$13))),\"\")","v":0},{"$f":"IFERROR(IF(AV27=\".\",\".\",IF(AV27=\"n/a\",\"n/a\",\nGETPIVOTDATA(AW$21 & \"\",PivotTableB!$A$3,\"SchoolName\",$B27,\"SubsidiaryName\",$C27,\"YearStart\",AU$13))),\"\")","v":0},60,{"$f":"IFERROR(IF(AX27=\".\",\".\",IF(AX27=\"n/a\",\"n/a\",\nGETPIVOTDATA(AY$21 & \"\",PivotTableB!$A$3,\"SchoolName\",$B27,\"SubsidiaryName\",$C27,\"YearStart\",AU$13))),\"\")","v":0},{"$f":"IFERROR(IF(AY27=\".\",\".\",IF(AY27=\"n/a\",\"n/a\",\nGETPIVOTDATA(AZ$21 & \"\",PivotTableB!$A$3,\"SchoolName\",$B27,\"SubsidiaryName\",$C27,\"YearStart\",AU$13))),\"\")","v":180},{"$f":"IFERROR(IF($B27=\"\",\"\",\nIF(OR($L27=\"Nursery School\",$L27=\"All-through PRU\",$M27=\"True\"),\"n/a\",\nIF(GETPIVOTDATA(BA$21 & \"\",PivotTableB!$A$3,\"SchoolName\",$B27,\"SubsidiaryName\",$C27,\"YearStart\",BA$13)=\"\",\".\",\nGETPIVOTDATA(BA$21 & \"\",PivotTableB!$A$3,\"SchoolName\",$B27,\"SubsidiaryName\",$C27,\"YearStart\",BA$13)))),\"\")","v":60},{"$f":"IFERROR(IF(BA27=\".\",\".\",IF(BA27=\"n/a\",\"n/a\",\nGETPIVOTDATA(BB$21 & \"\",PivotTableB!$A$3,\"SchoolName\",$B27,\"SubsidiaryName\",$C27,\"YearStart\",BA$13))),\"\")","v":0},{"$f":"IFERROR(IF(BB27=\".\",\".\",IF(BB27=\"n/a\",\"n/a\",\nGETPIVOTDATA(BC$21 & \"\",PivotTableB!$A$3,\"SchoolName\",$B27,\"SubsidiaryName\",$C27,\"YearStart\",BA$13))),\"\")","v":0},{"$f":"IFERROR(IF(BC27=\".\",\".\",IF(BC27=\"n/a\",\"n/a\",\nGETPIVOTDATA(BD$21 & \"\",PivotTableB!$A$3,\"SchoolName\",$B27,\"SubsidiaryName\",$C27,\"YearStart\",BB$13))),\"\")","v":""},60,{"$f":"IFERROR(IF(BE27=\".\",\".\",IF(BE27=\"n/a\",\"n/a\",\nGETPIVOTDATA(BF$21 & \"\",PivotTableB!$A$3,\"SchoolName\",$B27,\"SubsidiaryName\",$C27,\"YearStart\",BA$13))),\"\")","v":0},{"$f":"IFERROR(IF(BF27=\".\",\".\",IF(BF27=\"n/a\",\"n/a\",\nGETPIVOTDATA(BG$21 & \"\",PivotTableB!$A$3,\"SchoolName\",$B27,\"SubsidiaryName\",$C27,\"YearStart\",BA$13))),\"\")","v":180},{"$f":"IFERROR(IF($B27=\"\",\"\",\nIF(OR($L27=\"Nursery School\",$L27=\"All-through PRU\",$M27=\"True\"),\"n/a\",\nIF(GETPIVOTDATA(BH$21 & \"\",PivotTableB!$A$3,\"SchoolName\",$B27,\"SubsidiaryName\",$C27,\"YearStart\",BH$13)=\"\",\".\",\nGETPIVOTDATA(BH$21 & \"\",PivotTableB!$A$3,\"SchoolName\",$B27,\"SubsidiaryName\",$C27,\"YearStart\",BH$13)))),\"\")","v":60},{"$f":"IFERROR(IF(BH27=\".\",\".\",IF(BH27=\"n/a\",\"n/a\",\nGETPIVOTDATA(BI$21 & \"\",PivotTableB!$A$3,\"SchoolName\",$B27,\"SubsidiaryName\",$C27,\"YearStart\",BH$13))),\"\")","v":0},{"$f":"IFERROR(IF(BI27=\".\",\".\",IF(BI27=\"n/a\",\"n/a\",\nGETPIVOTDATA(BJ$21 & \"\",PivotTableB!$A$3,\"SchoolName\",$B27,\"SubsidiaryName\",$C27,\"YearStart\",BH$13))),\"\")","v":0},{"$f":"IFERROR(IF(BJ27=\".\",\".\",IF(BJ27=\"n/a\",\"n/a\",\nGETPIVOTDATA(BK$21 & \"\",PivotTableB!$A$3,\"SchoolName\",$B27,\"SubsidiaryName\",$C27,\"YearStart\",BH$13))),\"\")","v":0},60,{"$f":"IFERROR(IF(BL27=\".\",\".\",IF(BL27=\"n/a\",\"n/a\",\nGETPIVOTDATA(BM$21 & \"\",PivotTableB!$A$3,\"SchoolName\",$B27,\"SubsidiaryName\",$C27,\"YearStart\",BH$13))),\"\")","v":0},{"$f":"IFERROR(IF(BM27=\".\",\".\",IF(BM27=\"n/a\",\"n/a\",\nGETPIVOTDATA(BN$21 & \"\",PivotTableB!$A$3,\"SchoolName\",$B27,\"SubsidiaryName\",$C27,\"YearStart\",BH$13))),\"\")","v":180},{"$f":"IFERROR(IF($B27=\"\",\"\",\nIF(OR($L27=\"Nursery School\",$L27=\"All-through PRU\",$M27=\"True\"),\"n/a\",\nIF(GETPIVOTDATA(BO$21 & \"\",PivotTableB!$A$3,\"SchoolName\",$B27,\"SubsidiaryName\",$C27,\"YearStart\",BO$13)=\"\",\".\",\nGETPIVOTDATA(BO$21 & \"\",PivotTableB!$A$3,\"SchoolName\",$B27,\"SubsidiaryName\",$C27,\"YearStart\",BO$13)))),\"\")","v":60},{"$f":"IFERROR(IF(BO27=\".\",\".\",IF(BO27=\"n/a\",\"n/a\",\nGETPIVOTDATA(BP$21 & \"\",PivotTableB!$A$3,\"SchoolName\",$B27,\"SubsidiaryName\",$C27,\"YearStart\",BO$13))),\"\")","v":0},{"$f":"IFERROR(IF(BP27=\".\",\".\",IF(BP27=\"n/a\",\"n/a\",\nGETPIVOTDATA(BQ$21 & \"\",PivotTableB!$A$3,\"SchoolName\",$B27,\"SubsidiaryName\",$C27,\"YearStart\",BO$13))),\"\")","v":0},{"$f":"IFERROR(IF(BQ27=\".\",\".\",IF(BQ27=\"n/a\",\"n/a\",\nGETPIVOTDATA(BR$21 & \"\",PivotTableB!$A$3,\"SchoolName\",$B27,\"SubsidiaryName\",$C27,\"YearStart\",BP$13))),\"\")","v":""},60,{"$f":"IFERROR(IF(BS27=\".\",\".\",IF(BS27=\"n/a\",\"n/a\",\nGETPIVOTDATA(BT$21 & \"\",PivotTableB!$A$3,\"SchoolName\",$B27,\"SubsidiaryName\",$C27,\"YearStart\",BO$13))),\"\")","v":0},{"$f":"IFERROR(IF(BT27=\".\",\".\",IF(BT27=\"n/a\",\"n/a\",\nGETPIVOTDATA(BU$21 & \"\",PivotTableB!$A$3,\"SchoolName\",$B27,\"SubsidiaryName\",$C27,\"YearStart\",BO$13))),\"\")","v":180},{"$f":"IFERROR(IF($B27=\"\",\"\",\nIF(OR($L27=\"Nursery School\",$L27=\"All-through PRU\",$M27=\"True\"),\"n/a\",\nIF(GETPIVOTDATA(BV$21 & \"\",PivotTableB!$A$3,\"SchoolName\",$B27,\"SubsidiaryName\",$C27,\"YearStart\",BV$13)=\"\",\".\",\nGETPIVOTDATA(BV$21 & \"\",PivotTableB!$A$3,\"SchoolName\",$B27,\"SubsidiaryName\",$C27,\"YearStart\",BV$13)))),\"\")","v":60},{"$f":"IFERROR(IF(BV27=\".\",\".\",IF(BV27=\"n/a\",\"n/a\",\nGETPIVOTDATA(BW$21 & \"\",PivotTableB!$A$3,\"SchoolName\",$B27,\"SubsidiaryName\",$C27,\"YearStart\",BV$13))),\"\")","v":0},{"$f":"IFERROR(IF(BW27=\".\",\".\",IF(BW27=\"n/a\",\"n/a\",\nGETPIVOTDATA(BX$21 & \"\",PivotTableB!$A$3,\"SchoolName\",$B27,\"SubsidiaryName\",$C27,\"YearStart\",BV$13))),\"\")","v":0},{"$f":"IFERROR(IF(BX27=\".\",\".\",IF(BX27=\"n/a\",\"n/a\",\nGETPIVOTDATA(BY$21 & \"\",PivotTableB!$A$3,\"SchoolName\",$B27,\"SubsidiaryName\",$C27,\"YearStart\",BV$13))),\"\")","v":0},60,{"$f":"IFERROR(IF(BZ27=\".\",\".\",IF(BZ27=\"n/a\",\"n/a\",\nGETPIVOTDATA(CA$21 & \"\",PivotTableB!$A$3,\"SchoolName\",$B27,\"SubsidiaryName\",$C27,\"YearStart\",BV$13))),\"\")","v":0},{"$f":"IFERROR(IF(CA27=\".\",\".\",IF(CA27=\"n/a\",\"n/a\",\nGETPIVOTDATA(CB$21 & \"\",PivotTableB!$A$3,\"SchoolName\",$B27,\"SubsidiaryName\",$C27,\"YearStart\",BV$13))),\"\")","v":180}]
[null,{"$f":"IF(PivotTableA!A15=\"\",\"n/a\",PivotTableA!A15)","v":"Braywick Court School"},{"$f":"IF(B28=\"n/a\",\"\",PivotTableA!B15)","v":"Braywick Court School"},{"$f":"IF($B28=\"n/a\",\"\",PivotTableA!C15)","v":"R"},{"$f":"IF($B28=\"n/a\",\"\",PivotTableA!D15)","v":"Maidenhead"},{"$f":"IF($B28=\"n/a\",\"\",PivotTableA!E15)","v":"South East Maidenhead"},{"$f":"IF($B28=\"n/a\",\"\",PivotTableA!F15)","v":"Bray"},{"$f":"IF($B28=\"n/a\",\"\",PivotTableA!G15)","v":"Bray"},{"$f":"IF($B28=\"n/a\",\"\",PivotTableA!H15)","v":"Bray"},{"$f":"IF($B28=\"n/a\",\"\",PivotTableA!I15)","v":"Primary"},{"$f":"IF($B28=\"n/a\",\"\",PivotTableA!J15)","v":"Two Tier"},{"$f":"IF($B28=\"n/a\",\"\",PivotTableA!K15)","v":"JMI"},{"$f":"IF($B28=\"n/a\",\"\",PivotTableA!O15)","v":"FALSE"},{"$f":"IF($B28=\"n/a\",\"\",PivotTableA!L15)","v":"Free School"},{"$f":"IF($B28=\"n/a\",\"\",PivotTableA!M15)","v":" "},{"$f":"IF($B28=\"n/a\",\"\",PivotTableA!N15)","v":"None"},{"$f":"IFERROR(IF($B28=\"\",\"\",\nIF(OR($L28=\"Nursery School\",$L28=\"All-through PRU\",$M28=\"True\"),\"n/a\",\nIF(GETPIVOTDATA(Q$21 & \"\",PivotTableB!$A$3,\"SchoolName\",$B28,\"SubsidiaryName\",$C28,\"YearStart\",Q$13)=\"\",\".\",\nGETPIVOTDATA(Q$21 & \"\",PivotTableB!$A$3,\"SchoolName\",$B28,\"SubsidiaryName\",$C28,\"YearStart\",Q$13)))),\"\")","v":"."},{"$f":"IFERROR(IF(Q28=\".\",\".\",IF(Q28=\"n/a\",\"n/a\",\nGETPIVOTDATA(R$21 & \"\",PivotTableB!$A$3,\"SchoolName\",$B28,\"SubsidiaryName\",$C28,\"YearStart\",Q$13))),\"\")","v":"."},{"$f":"IFERROR(IF(R28=\".\",\".\",IF(R28=\"n/a\",\"n/a\",\nGETPIVOTDATA(S$21 & \"\",PivotTableB!$A$3,\"SchoolName\",$B28,\"SubsidiaryName\",$C28,\"YearStart\",Q$13))),\"\")","v":"."},".",{"$f":"IFERROR(IF(T28=\".\",\".\",IF(T28=\"n/a\",\"n/a\",\nGETPIVOTDATA(U$21 & \"\",PivotTableB!$A$3,\"SchoolName\",$B28,\"SubsidiaryName\",$C28,\"YearStart\",Q$13))),\"\")","v":"."},{"$f":"IFERROR(IF(U28=\".\",\".\",IF(U28=\"n/a\",\"n/a\",\nGETPIVOTDATA(V$21 & \"\",PivotTableB!$A$3,\"SchoolName\",$B28,\"SubsidiaryName\",$C28,\"YearStart\",Q$13))),\"\")","v":"."},{"$f":"IFERROR(IF($B28=\"\",\"\",\nIF(OR($L28=\"Nursery School\",$L28=\"All-through PRU\",$M28=\"True\"),\"n/a\",\nIF(GETPIVOTDATA(W$21 & \"\",PivotTableB!$A$3,\"SchoolName\",$B28,\"SubsidiaryName\",$C28,\"YearStart\",W$13)=\"\",\".\",\nGETPIVOTDATA(W$21 & \"\",PivotTableB!$A$3,\"SchoolName\",$B28,\"SubsidiaryName\",$C28,\"YearStart\",W$13)))),\"\")","v":28},{"$f":"IFERROR(IF(W28=\".\",\".\",IF(W28=\"n/a\",\"n/a\",\nGETPIVOTDATA(X$21 & \"\",PivotTableB!$A$3,\"SchoolName\",$B28,\"SubsidiaryName\",$C28,\"YearStart\",W$13))),\"\")","v":0},{"$f":"IFERROR(IF(X28=\".\",\".\",IF(X28=\"n/a\",\"n/a\",\nGETPIVOTDATA(Y$21 & \"\",PivotTableB!$A$3,\"SchoolName\",$B28,\"SubsidiaryName\",$C28,\"YearStart\",W$13))),\"\")","v":0},28,{"$f":"IFERROR(IF(Z28=\".\",\".\",IF(Z28=\"n/a\",\"n/a\",\nGETPIVOTDATA(AA$21 & \"\",PivotTableB!$A$3,\"SchoolName\",$B28,\"SubsidiaryName\",$C28,\"YearStart\",W$13))),\"\")","v":0},{"$f":"IFERROR(IF(AA28=\".\",\".\",IF(AA28=\"n/a\",\"n/a\",\nGETPIVOTDATA(AB$21 & \"\",PivotTableB!$A$3,\"SchoolName\",$B28,\"SubsidiaryName\",$C28,\"YearStart\",W$13))),\"\")","v":58},{"$f":"IFERROR(IF($B28=\"\",\"\",\nIF(OR($L28=\"Nursery School\",$L28=\"All-through PRU\",$M28=\"True\"),\"n/a\",\nIF(GETPIVOTDATA(AC$21 & \"\",PivotTableB!$A$3,\"SchoolName\",$B28,\"SubsidiaryName\",$C28,\"YearStart\",AC$13)=\"\",\".\",\nGETPIVOTDATA(AC$21 & \"\",PivotTableB!$A$3,\"SchoolName\",$B28,\"SubsidiaryName\",$C28,\"YearStart\",AC$13)))),\"\")","v":30},{"$f":"IFERROR(IF(AC28=\".\",\".\",IF(AC28=\"n/a\",\"n/a\",\nGETPIVOTDATA(AD$21 & \"\",PivotTableB!$A$3,\"SchoolName\",$B28,\"SubsidiaryName\",$C28,\"YearStart\",AC$13))),\"\")","v":0},{"$f":"IFERROR(IF(AD28=\".\",\".\",IF(AD28=\"n/a\",\"n/a\",\nGETPIVOTDATA(AE$21 & \"\",PivotTableB!$A$3,\"SchoolName\",$B28,\"SubsidiaryName\",$C28,\"YearStart\",AC$13))),\"\")","v":0},30,{"$f":"IFERROR(IF(AF28=\".\",\".\",IF(AF28=\"n/a\",\"n/a\",\nGETPIVOTDATA(AG$21 & \"\",PivotTableB!$A$3,\"SchoolName\",$B28,\"SubsidiaryName\",$C28,\"YearStart\",AC$13))),\"\")","v":0},{"$f":"IFERROR(IF(AG28=\".\",\".\",IF(AG28=\"n/a\",\"n/a\",\nGETPIVOTDATA(AH$21 & \"\",PivotTableB!$A$3,\"SchoolName\",$B28,\"SubsidiaryName\",$C28,\"YearStart\",AC$13))),\"\")","v":58},{"$f":"IFERROR(IF($B28=\"\",\"\",\nIF(OR($L28=\"Nursery School\",$L28=\"All-through PRU\",$M28=\"True\"),\"n/a\",\nIF(GETPIVOTDATA(AI$21 & \"\",PivotTableB!$A$3,\"SchoolName\",$B28,\"SubsidiaryName\",$C28,\"YearStart\",AI$13)=\"\",\".\",\nGETPIVOTDATA(AI$21 & \"\",PivotTableB!$A$3,\"SchoolName\",$B28,\"SubsidiaryName\",$C28,\"YearStart\",AI$13)))),\"\")","v":30},{"$f":"IFERROR(IF(AI28=\".\",\".\",IF(AI28=\"n/a\",\"n/a\",\nGETPIVOTDATA(AJ$21 & \"\",PivotTableB!$A$3,\"SchoolName\",$B28,\"SubsidiaryName\",$C28,\"YearStart\",AI$13))),\"\")","v":0},{"$f":"IFERROR(IF(AJ28=\".\",\".\",IF(AJ28=\"n/a\",\"n/a\",\nGETPIVOTDATA(AK$21 & \"\",PivotTableB!$A$3,\"SchoolName\",$B28,\"SubsidiaryName\",$C28,\"YearStart\",AI$13))),\"\")","v":0},30,{"$f":"IFERROR(IF(AL28=\".\",\".\",IF(AL28=\"n/a\",\"n/a\",\nGETPIVOTDATA(AM$21 & \"\",PivotTableB!$A$3,\"SchoolName\",$B28,\"SubsidiaryName\",$C28,\"YearStart\",AI$13))),\"\")","v":0},{"$f":"IFERROR(IF(AM28=\".\",\".\",IF(AM28=\"n/a\",\"n/a\",\nGETPIVOTDATA(AN$21 & \"\",PivotTableB!$A$3,\"SchoolName\",$B28,\"SubsidiaryName\",$C28,\"YearStart\",AI$13))),\"\")","v":90},{"$f":"IFERROR(IF($B28=\"\",\"\",\nIF(OR($L28=\"Nursery School\",$L28=\"All-through PRU\",$M28=\"True\"),\"n/a\",\nIF(GETPIVOTDATA(AO$21 & \"\",PivotTableB!$A$3,\"SchoolName\",$B28,\"SubsidiaryName\",$C28,\"YearStart\",AO$13)=\"\",\".\",\nGETPIVOTDATA(AO$21 & \"\",PivotTableB!$A$3,\"SchoolName\",$B28,\"SubsidiaryName\",$C28,\"YearStart\",AO$13)))),\"\")","v":30},{"$f":"IFERROR(IF(AO28=\".\",\".\",IF(AO28=\"n/a\",\"n/a\",\nGETPIVOTDATA(AP$21 & \"\",PivotTableB!$A$3,\"SchoolName\",$B28,\"SubsidiaryName\",$C28,\"YearStart\",AO$13))),\"\")","v":0},{"$f":"IFERROR(IF(AP28=\".\",\".\",IF(AP28=\"n/a\",\"n/a\",\nGETPIVOTDATA(AQ$21 & \"\",PivotTableB!$A$3,\"SchoolName\",$B28,\"SubsidiaryName\",$C28,\"YearStart\",AO$13))),\"\")","v":0},30,{"$f":"IFERROR(IF(AR28=\".\",\".\",IF(AR28=\"n/a\",\"n/a\",\nGETPIVOTDATA(AS$21 & \"\",PivotTableB!$A$3,\"SchoolName\",$B28,\"SubsidiaryName\",$C28,\"YearStart\",AO$13))),\"\")","v":0},{"$f":"IFERROR(IF(AS28=\".\",\".\",IF(AS28=\"n/a\",\"n/a\",\nGETPIVOTDATA(AT$21 & \"\",PivotTableB!$A$3,\"SchoolName\",$B28,\"SubsidiaryName\",$C28,\"YearStart\",AO$13))),\"\")","v":115},{"$f":"IFERROR(IF($B28=\"\",\"\",\nIF(OR($L28=\"Nursery School\",$L28=\"All-through PRU\",$M28=\"True\"),\"n/a\",\nIF(GETPIVOTDATA(AU$21 & \"\",PivotTableB!$A$3,\"SchoolName\",$B28,\"SubsidiaryName\",$C28,\"YearStart\",AU$13)=\"\",\".\",\nGETPIVOTDATA(AU$21 & \"\",PivotTableB!$A$3,\"SchoolName\",$B28,\"SubsidiaryName\",$C28,\"YearStart\",AU$13)))),\"\")","v":30},{"$f":"IFERROR(IF(AU28=\".\",\".\",IF(AU28=\"n/a\",\"n/a\",\nGETPIVOTDATA(AV$21 & \"\",PivotTableB!$A$3,\"SchoolName\",$B28,\"SubsidiaryName\",$C28,\"YearStart\",AU$13))),\"\")","v":0},{"$f":"IFERROR(IF(AV28=\".\",\".\",IF(AV28=\"n/a\",\"n/a\",\nGETPIVOTDATA(AW$21 & \"\",PivotTableB!$A$3,\"SchoolName\",$B28,\"SubsidiaryName\",$C28,\"YearStart\",AU$13))),\"\")","v":0},30,{"$f":"IFERROR(IF(AX28=\".\",\".\",IF(AX28=\"n/a\",\"n/a\",\nGETPIVOTDATA(AY$21 & \"\",PivotTableB!$A$3,\"SchoolName\",$B28,\"SubsidiaryName\",$C28,\"YearStart\",AU$13))),\"\")","v":0},{"$f":"IFERROR(IF(AY28=\".\",\".\",IF(AY28=\"n/a\",\"n/a\",\nGETPIVOTDATA(AZ$21 & \"\",PivotTableB!$A$3,\"SchoolName\",$B28,\"SubsidiaryName\",$C28,\"YearStart\",AU$13))),\"\")","v":210},{"$f":"IFERROR(IF($B28=\"\",\"\",\nIF(OR($L28=\"Nursery School\",$L28=\"All-through PRU\",$M28=\"True\"),\"n/a\",\nIF(GETPIVOTDATA(BA$21 & \"\",PivotTableB!$A$3,\"SchoolName\",$B28,\"SubsidiaryName\",$C28,\"YearStart\",BA$13)=\"\",\".\",\nGETPIVOTDATA(BA$21 & \"\",PivotTableB!$A$3,\"SchoolName\",$B28,\"SubsidiaryName\",$C28,\"YearStart\",BA$13)))),\"\")","v":30},{"$f":"IFERROR(IF(BA28=\".\",\".\",IF(BA28=\"n/a\",\"n/a\",\nGETPIVOTDATA(BB$21 & \"\",PivotTableB!$A$3,\"SchoolName\",$B28,\"SubsidiaryName\",$C28,\"YearStart\",BA$13))),\"\")","v":0},{"$f":"IFERROR(IF(BB28=\".\",\".\",IF(BB28=\"n/a\",\"n/a\",\nGETPIVOTDATA(BC$21 & \"\",PivotTableB!$A$3,\"SchoolName\",$B28,\"SubsidiaryName\",$C28,\"YearStart\",BA$13))),\"\")","v":0},{"$f":"IFERROR(IF(BC28=\".\",\".\",IF(BC28=\"n/a\",\"n/a\",\nGETPIVOTDATA(BD$21 & \"\",PivotTableB!$A$3,\"SchoolName\",$B28,\"SubsidiaryName\",$C28,\"YearStart\",BB$13))),\"\")","v":""},30,{"$f":"IFERROR(IF(BE28=\".\",\".\",IF(BE28=\"n/a\",\"n/a\",\nGETPIVOTDATA(BF$21 & \"\",PivotTableB!$A$3,\"SchoolName\",$B28,\"SubsidiaryName\",$C28,\"YearStart\",BA$13))),\"\")","v":0},{"$f":"IFERROR(IF(BF28=\".\",\".\",IF(BF28=\"n/a\",\"n/a\",\nGETPIVOTDATA(BG$21 & \"\",PivotTableB!$A$3,\"SchoolName\",$B28,\"SubsidiaryName\",$C28,\"YearStart\",BA$13))),\"\")","v":210},{"$f":"IFERROR(IF($B28=\"\",\"\",\nIF(OR($L28=\"Nursery School\",$L28=\"All-through PRU\",$M28=\"True\"),\"n/a\",\nIF(GETPIVOTDATA(BH$21 & \"\",PivotTableB!$A$3,\"SchoolName\",$B28,\"SubsidiaryName\",$C28,\"YearStart\",BH$13)=\"\",\".\",\nGETPIVOTDATA(BH$21 & \"\",PivotTableB!$A$3,\"SchoolName\",$B28,\"SubsidiaryName\",$C28,\"YearStart\",BH$13)))),\"\")","v":30},{"$f":"IFERROR(IF(BH28=\".\",\".\",IF(BH28=\"n/a\",\"n/a\",\nGETPIVOTDATA(BI$21 & \"\",PivotTableB!$A$3,\"SchoolName\",$B28,\"SubsidiaryName\",$C28,\"YearStart\",BH$13))),\"\")","v":0},{"$f":"IFERROR(IF(BI28=\".\",\".\",IF(BI28=\"n/a\",\"n/a\",\nGETPIVOTDATA(BJ$21 & \"\",PivotTableB!$A$3,\"SchoolName\",$B28,\"SubsidiaryName\",$C28,\"YearStart\",BH$13))),\"\")","v":0},{"$f":"IFERROR(IF(BJ28=\".\",\".\",IF(BJ28=\"n/a\",\"n/a\",\nGETPIVOTDATA(BK$21 & \"\",PivotTableB!$A$3,\"SchoolName\",$B28,\"SubsidiaryName\",$C28,\"YearStart\",BH$13))),\"\")","v":0},30,{"$f":"IFERROR(IF(BL28=\".\",\".\",IF(BL28=\"n/a\",\"n/a\",\nGETPIVOTDATA(BM$21 & \"\",PivotTableB!$A$3,\"SchoolName\",$B28,\"SubsidiaryName\",$C28,\"YearStart\",BH$13))),\"\")","v":0},{"$f":"IFERROR(IF(BM28=\".\",\".\",IF(BM28=\"n/a\",\"n/a\",\nGETPIVOTDATA(BN$21 & \"\",PivotTableB!$A$3,\"SchoolName\",$B28,\"SubsidiaryName\",$C28,\"YearStart\",BH$13))),\"\")","v":210},{"$f":"IFERROR(IF($B28=\"\",\"\",\nIF(OR($L28=\"Nursery School\",$L28=\"All-through PRU\",$M28=\"True\"),\"n/a\",\nIF(GETPIVOTDATA(BO$21 & \"\",PivotTableB!$A$3,\"SchoolName\",$B28,\"SubsidiaryName\",$C28,\"YearStart\",BO$13)=\"\",\".\",\nGETPIVOTDATA(BO$21 & \"\",PivotTableB!$A$3,\"SchoolName\",$B28,\"SubsidiaryName\",$C28,\"YearStart\",BO$13)))),\"\")","v":30},{"$f":"IFERROR(IF(BO28=\".\",\".\",IF(BO28=\"n/a\",\"n/a\",\nGETPIVOTDATA(BP$21 & \"\",PivotTableB!$A$3,\"SchoolName\",$B28,\"SubsidiaryName\",$C28,\"YearStart\",BO$13))),\"\")","v":0},{"$f":"IFERROR(IF(BP28=\".\",\".\",IF(BP28=\"n/a\",\"n/a\",\nGETPIVOTDATA(BQ$21 & \"\",PivotTableB!$A$3,\"SchoolName\",$B28,\"SubsidiaryName\",$C28,\"YearStart\",BO$13))),\"\")","v":0},{"$f":"IFERROR(IF(BQ28=\".\",\".\",IF(BQ28=\"n/a\",\"n/a\",\nGETPIVOTDATA(BR$21 & \"\",PivotTableB!$A$3,\"SchoolName\",$B28,\"SubsidiaryName\",$C28,\"YearStart\",BP$13))),\"\")","v":""},30,{"$f":"IFERROR(IF(BS28=\".\",\".\",IF(BS28=\"n/a\",\"n/a\",\nGETPIVOTDATA(BT$21 & \"\",PivotTableB!$A$3,\"SchoolName\",$B28,\"SubsidiaryName\",$C28,\"YearStart\",BO$13))),\"\")","v":0},{"$f":"IFERROR(IF(BT28=\".\",\".\",IF(BT28=\"n/a\",\"n/a\",\nGETPIVOTDATA(BU$21 & \"\",PivotTableB!$A$3,\"SchoolName\",$B28,\"SubsidiaryName\",$C28,\"YearStart\",BO$13))),\"\")","v":210},{"$f":"IFERROR(IF($B28=\"\",\"\",\nIF(OR($L28=\"Nursery School\",$L28=\"All-through PRU\",$M28=\"True\"),\"n/a\",\nIF(GETPIVOTDATA(BV$21 & \"\",PivotTableB!$A$3,\"SchoolName\",$B28,\"SubsidiaryName\",$C28,\"YearStart\",BV$13)=\"\",\".\",\nGETPIVOTDATA(BV$21 & \"\",PivotTableB!$A$3,\"SchoolName\",$B28,\"SubsidiaryName\",$C28,\"YearStart\",BV$13)))),\"\")","v":30},{"$f":"IFERROR(IF(BV28=\".\",\".\",IF(BV28=\"n/a\",\"n/a\",\nGETPIVOTDATA(BW$21 & \"\",PivotTableB!$A$3,\"SchoolName\",$B28,\"SubsidiaryName\",$C28,\"YearStart\",BV$13))),\"\")","v":0},{"$f":"IFERROR(IF(BW28=\".\",\".\",IF(BW28=\"n/a\",\"n/a\",\nGETPIVOTDATA(BX$21 & \"\",PivotTableB!$A$3,\"SchoolName\",$B28,\"SubsidiaryName\",$C28,\"YearStart\",BV$13))),\"\")","v":0},{"$f":"IFERROR(IF(BX28=\".\",\".\",IF(BX28=\"n/a\",\"n/a\",\nGETPIVOTDATA(BY$21 & \"\",PivotTableB!$A$3,\"SchoolName\",$B28,\"SubsidiaryName\",$C28,\"YearStart\",BV$13))),\"\")","v":0},30,{"$f":"IFERROR(IF(BZ28=\".\",\".\",IF(BZ28=\"n/a\",\"n/a\",\nGETPIVOTDATA(CA$21 & \"\",PivotTableB!$A$3,\"SchoolName\",$B28,\"SubsidiaryName\",$C28,\"YearStart\",BV$13))),\"\")","v":0},{"$f":"IFERROR(IF(CA28=\".\",\".\",IF(CA28=\"n/a\",\"n/a\",\nGETPIVOTDATA(CB$21 & \"\",PivotTableB!$A$3,\"SchoolName\",$B28,\"SubsidiaryName\",$C28,\"YearStart\",BV$13))),\"\")","v":210}]
[null,{"$f":"IF(PivotTableA!A16=\"\",\"n/a\",PivotTableA!A16)","v":"Braywood C of E First School"},{"$f":"IF(B29=\"n/a\",\"\",PivotTableA!B16)","v":"Braywood C of E First School"},{"$f":"IF($B29=\"n/a\",\"\",PivotTableA!C16)","v":"R"},{"$f":"IF($B29=\"n/a\",\"\",PivotTableA!D16)","v":"Windsor"},{"$f":"IF($B29=\"n/a\",\"\",PivotTableA!E16)","v":"Windsor Villages"},{"$f":"IF($B29=\"n/a\",\"\",PivotTableA!F16)","v":"Fifield"},{"$f":"IF($B29=\"n/a\",\"\",PivotTableA!G16)","v":"Bray"},{"$f":"IF($B29=\"n/a\",\"\",PivotTableA!H16)","v":"Bray"},{"$f":"IF($B29=\"n/a\",\"\",PivotTableA!I16)","v":"Primary"},{"$f":"IF($B29=\"n/a\",\"\",PivotTableA!J16)","v":"Three Tier"},{"$f":"IF($B29=\"n/a\",\"\",PivotTableA!K16)","v":"First"},{"$f":"IF($B29=\"n/a\",\"\",PivotTableA!O16)","v":"FALSE"},{"$f":"IF($B29=\"n/a\",\"\",PivotTableA!L16)","v":"Voluntary Controlled"},{"$f":"IF($B29=\"n/a\",\"\",PivotTableA!M16)","v":" "},{"$f":"IF($B29=\"n/a\",\"\",PivotTableA!N16)","v":"Church of England"},{"$f":"IFERROR(IF($B29=\"\",\"\",\nIF(OR($L29=\"Nursery School\",$L29=\"All-through PRU\",$M29=\"True\"),\"n/a\",\nIF(GETPIVOTDATA(Q$21 & \"\",PivotTableB!$A$3,\"SchoolName\",$B29,\"SubsidiaryName\",$C29,\"YearStart\",Q$13)=\"\",\".\",\nGETPIVOTDATA(Q$21 & \"\",PivotTableB!$A$3,\"SchoolName\",$B29,\"SubsidiaryName\",$C29,\"YearStart\",Q$13)))),\"\")","v":25},{"$f":"IFERROR(IF(Q29=\".\",\".\",IF(Q29=\"n/a\",\"n/a\",\nGETPIVOTDATA(R$21 & \"\",PivotTableB!$A$3,\"SchoolName\",$B29,\"SubsidiaryName\",$C29,\"YearStart\",Q$13))),\"\")","v":5},{"$f":"IFERROR(IF(R29=\".\",\".\",IF(R29=\"n/a\",\"n/a\",\nGETPIVOTDATA(S$21 & \"\",PivotTableB!$A$3,\"SchoolName\",$B29,\"SubsidiaryName\",$C29,\"YearStart\",Q$13))),\"\")","v":0},30,{"$f":"IFERROR(IF(T29=\".\",\".\",IF(T29=\"n/a\",\"n/a\",\nGETPIVOTDATA(U$21 & \"\",PivotTableB!$A$3,\"SchoolName\",$B29,\"SubsidiaryName\",$C29,\"YearStart\",Q$13))),\"\")","v":0},{"$f":"IFERROR(IF(U29=\".\",\".\",IF(U29=\"n/a\",\"n/a\",\nGETPIVOTDATA(V$21 & \"\",PivotTableB!$A$3,\"SchoolName\",$B29,\"SubsidiaryName\",$C29,\"YearStart\",Q$13))),\"\")","v":137},{"$f":"IFERROR(IF($B29=\"\",\"\",\nIF(OR($L29=\"Nursery School\",$L29=\"All-through PRU\",$M29=\"True\"),\"n/a\",\nIF(GETPIVOTDATA(W$21 & \"\",PivotTableB!$A$3,\"SchoolName\",$B29,\"SubsidiaryName\",$C29,\"YearStart\",W$13)=\"\",\".\",\nGETPIVOTDATA(W$21 & \"\",PivotTableB!$A$3,\"SchoolName\",$B29,\"SubsidiaryName\",$C29,\"YearStart\",W$13)))),\"\")","v":30},{"$f":"IFERROR(IF(W29=\".\",\".\",IF(W29=\"n/a\",\"n/a\",\nGETPIVOTDATA(X$21 & \"\",PivotTableB!$A$3,\"SchoolName\",$B29,\"SubsidiaryName\",$C29,\"YearStart\",W$13))),\"\")","v":0},{"$f":"IFERROR(IF(X29=\".\",\".\",IF(X29=\"n/a\",\"n/a\",\nGETPIVOTDATA(Y$21 & \"\",PivotTableB!$A$3,\"SchoolName\",$B29,\"SubsidiaryName\",$C29,\"YearStart\",W$13))),\"\")","v":0},30,{"$f":"IFERROR(IF(Z29=\".\",\".\",IF(Z29=\"n/a\",\"n/a\",\nGETPIVOTDATA(AA$21 & \"\",PivotTableB!$A$3,\"SchoolName\",$B29,\"SubsidiaryName\",$C29,\"YearStart\",W$13))),\"\")","v":0},{"$f":"IFERROR(IF(AA29=\".\",\".\",IF(AA29=\"n/a\",\"n/a\",\nGETPIVOTDATA(AB$21 & \"\",PivotTableB!$A$3,\"SchoolName\",$B29,\"SubsidiaryName\",$C29,\"YearStart\",W$13))),\"\")","v":137},{"$f":"IFERROR(IF($B29=\"\",\"\",\nIF(OR($L29=\"Nursery School\",$L29=\"All-through PRU\",$M29=\"True\"),\"n/a\",\nIF(GETPIVOTDATA(AC$21 & \"\",PivotTableB!$A$3,\"SchoolName\",$B29,\"SubsidiaryName\",$C29,\"YearStart\",AC$13)=\"\",\".\",\nGETPIVOTDATA(AC$21 & \"\",PivotTableB!$A$3,\"SchoolName\",$B29,\"SubsidiaryName\",$C29,\"YearStart\",AC$13)))),\"\")","v":30},{"$f":"IFERROR(IF(AC29=\".\",\".\",IF(AC29=\"n/a\",\"n/a\",\nGETPIVOTDATA(AD$21 & \"\",PivotTableB!$A$3,\"SchoolName\",$B29,\"SubsidiaryName\",$C29,\"YearStart\",AC$13))),\"\")","v":0},{"$f":"IFERROR(IF(AD29=\".\",\".\",IF(AD29=\"n/a\",\"n/a\",\nGETPIVOTDATA(AE$21 & \"\",PivotTableB!$A$3,\"SchoolName\",$B29,\"SubsidiaryName\",$C29,\"YearStart\",AC$13))),\"\")","v":0},30,{"$f":"IFERROR(IF(AF29=\".\",\".\",IF(AF29=\"n/a\",\"n/a\",\nGETPIVOTDATA(AG$21 & \"\",PivotTableB!$A$3,\"SchoolName\",$B29,\"SubsidiaryName\",$C29,\"YearStart\",AC$13))),\"\")","v":0},{"$f":"IFERROR(IF(AG29=\".\",\".\",IF(AG29=\"n/a\",\"n/a\",\nGETPIVOTDATA(AH$21 & \"\",PivotTableB!$A$3,\"SchoolName\",$B29,\"SubsidiaryName\",$C29,\"YearStart\",AC$13))),\"\")","v":137},{"$f":"IFERROR(IF($B29=\"\",\"\",\nIF(OR($L29=\"Nursery School\",$L29=\"All-through PRU\",$M29=\"True\"),\"n/a\",\nIF(GETPIVOTDATA(AI$21 & \"\",PivotTableB!$A$3,\"SchoolName\",$B29,\"SubsidiaryName\",$C29,\"YearStart\",AI$13)=\"\",\".\",\nGETPIVOTDATA(AI$21 & \"\",PivotTableB!$A$3,\"SchoolName\",$B29,\"SubsidiaryName\",$C29,\"YearStart\",AI$13)))),\"\")","v":30},{"$f":"IFERROR(IF(AI29=\".\",\".\",IF(AI29=\"n/a\",\"n/a\",\nGETPIVOTDATA(AJ$21 & \"\",PivotTableB!$A$3,\"SchoolName\",$B29,\"SubsidiaryName\",$C29,\"YearStart\",AI$13))),\"\")","v":0},{"$f":"IFERROR(IF(AJ29=\".\",\".\",IF(AJ29=\"n/a\",\"n/a\",\nGETPIVOTDATA(AK$21 & \"\",PivotTableB!$A$3,\"SchoolName\",$B29,\"SubsidiaryName\",$C29,\"YearStart\",AI$13))),\"\")","v":0},30,{"$f":"IFERROR(IF(AL29=\".\",\".\",IF(AL29=\"n/a\",\"n/a\",\nGETPIVOTDATA(AM$21 & \"\",PivotTableB!$A$3,\"SchoolName\",$B29,\"SubsidiaryName\",$C29,\"YearStart\",AI$13))),\"\")","v":0},{"$f":"IFERROR(IF(AM29=\".\",\".\",IF(AM29=\"n/a\",\"n/a\",\nGETPIVOTDATA(AN$21 & \"\",PivotTableB!$A$3,\"SchoolName\",$B29,\"SubsidiaryName\",$C29,\"YearStart\",AI$13))),\"\")","v":137},{"$f":"IFERROR(IF($B29=\"\",\"\",\nIF(OR($L29=\"Nursery School\",$L29=\"All-through PRU\",$M29=\"True\"),\"n/a\",\nIF(GETPIVOTDATA(AO$21 & \"\",PivotTableB!$A$3,\"SchoolName\",$B29,\"SubsidiaryName\",$C29,\"YearStart\",AO$13)=\"\",\".\",\nGETPIVOTDATA(AO$21 & \"\",PivotTableB!$A$3,\"SchoolName\",$B29,\"SubsidiaryName\",$C29,\"YearStart\",AO$13)))),\"\")","v":30},{"$f":"IFERROR(IF(AO29=\".\",\".\",IF(AO29=\"n/a\",\"n/a\",\nGETPIVOTDATA(AP$21 & \"\",PivotTableB!$A$3,\"SchoolName\",$B29,\"SubsidiaryName\",$C29,\"YearStart\",AO$13))),\"\")","v":0},{"$f":"IFERROR(IF(AP29=\".\",\".\",IF(AP29=\"n/a\",\"n/a\",\nGETPIVOTDATA(AQ$21 & \"\",PivotTableB!$A$3,\"SchoolName\",$B29,\"SubsidiaryName\",$C29,\"YearStart\",AO$13))),\"\")","v":0},30,{"$f":"IFERROR(IF(AR29=\".\",\".\",IF(AR29=\"n/a\",\"n/a\",\nGETPIVOTDATA(AS$21 & \"\",PivotTableB!$A$3,\"SchoolName\",$B29,\"SubsidiaryName\",$C29,\"YearStart\",AO$13))),\"\")","v":0},{"$f":"IFERROR(IF(AS29=\".\",\".\",IF(AS29=\"n/a\",\"n/a\",\nGETPIVOTDATA(AT$21 & \"\",PivotTableB!$A$3,\"SchoolName\",$B29,\"SubsidiaryName\",$C29,\"YearStart\",AO$13))),\"\")","v":137},{"$f":"IFERROR(IF($B29=\"\",\"\",\nIF(OR($L29=\"Nursery School\",$L29=\"All-through PRU\",$M29=\"True\"),\"n/a\",\nIF(GETPIVOTDATA(AU$21 & \"\",PivotTableB!$A$3,\"SchoolName\",$B29,\"SubsidiaryName\",$C29,\"YearStart\",AU$13)=\"\",\".\",\nGETPIVOTDATA(AU$21 & \"\",PivotTableB!$A$3,\"SchoolName\",$B29,\"SubsidiaryName\",$C29,\"YearStart\",AU$13)))),\"\")","v":30},{"$f":"IFERROR(IF(AU29=\".\",\".\",IF(AU29=\"n/a\",\"n/a\",\nGETPIVOTDATA(AV$21 & \"\",PivotTableB!$A$3,\"SchoolName\",$B29,\"SubsidiaryName\",$C29,\"YearStart\",AU$13))),\"\")","v":0},{"$f":"IFERROR(IF(AV29=\".\",\".\",IF(AV29=\"n/a\",\"n/a\",\nGETPIVOTDATA(AW$21 & \"\",PivotTableB!$A$3,\"SchoolName\",$B29,\"SubsidiaryName\",$C29,\"YearStart\",AU$13))),\"\")","v":0},30,{"$f":"IFERROR(IF(AX29=\".\",\".\",IF(AX29=\"n/a\",\"n/a\",\nGETPIVOTDATA(AY$21 & \"\",PivotTableB!$A$3,\"SchoolName\",$B29,\"SubsidiaryName\",$C29,\"YearStart\",AU$13))),\"\")","v":0},{"$f":"IFERROR(IF(AY29=\".\",\".\",IF(AY29=\"n/a\",\"n/a\",\nGETPIVOTDATA(AZ$21 & \"\",PivotTableB!$A$3,\"SchoolName\",$B29,\"SubsidiaryName\",$C29,\"YearStart\",AU$13))),\"\")","v":137},{"$f":"IFERROR(IF($B29=\"\",\"\",\nIF(OR($L29=\"Nursery School\",$L29=\"All-through PRU\",$M29=\"True\"),\"n/a\",\nIF(GETPIVOTDATA(BA$21 & \"\",PivotTableB!$A$3,\"SchoolName\",$B29,\"SubsidiaryName\",$C29,\"YearStart\",BA$13)=\"\",\".\",\nGETPIVOTDATA(BA$21 & \"\",PivotTableB!$A$3,\"SchoolName\",$B29,\"SubsidiaryName\",$C29,\"YearStart\",BA$13)))),\"\")","v":30},{"$f":"IFERROR(IF(BA29=\".\",\".\",IF(BA29=\"n/a\",\"n/a\",\nGETPIVOTDATA(BB$21 & \"\",PivotTableB!$A$3,\"SchoolName\",$B29,\"SubsidiaryName\",$C29,\"YearStart\",BA$13))),\"\")","v":0},{"$f":"IFERROR(IF(BB29=\".\",\".\",IF(BB29=\"n/a\",\"n/a\",\nGETPIVOTDATA(BC$21 & \"\",PivotTableB!$A$3,\"SchoolName\",$B29,\"SubsidiaryName\",$C29,\"YearStart\",BA$13))),\"\")","v":0},{"$f":"IFERROR(IF(BC29=\".\",\".\",IF(BC29=\"n/a\",\"n/a\",\nGETPIVOTDATA(BD$21 & \"\",PivotTableB!$A$3,\"SchoolName\",$B29,\"SubsidiaryName\",$C29,\"YearStart\",BB$13))),\"\")","v":""},30,{"$f":"IFERROR(IF(BE29=\".\",\".\",IF(BE29=\"n/a\",\"n/a\",\nGETPIVOTDATA(BF$21 & \"\",PivotTableB!$A$3,\"SchoolName\",$B29,\"SubsidiaryName\",$C29,\"YearStart\",BA$13))),\"\")","v":0},{"$f":"IFERROR(IF(BF29=\".\",\".\",IF(BF29=\"n/a\",\"n/a\",\nGETPIVOTDATA(BG$21 & \"\",PivotTableB!$A$3,\"SchoolName\",$B29,\"SubsidiaryName\",$C29,\"YearStart\",BA$13))),\"\")","v":137},{"$f":"IFERROR(IF($B29=\"\",\"\",\nIF(OR($L29=\"Nursery School\",$L29=\"All-through PRU\",$M29=\"True\"),\"n/a\",\nIF(GETPIVOTDATA(BH$21 & \"\",PivotTableB!$A$3,\"SchoolName\",$B29,\"SubsidiaryName\",$C29,\"YearStart\",BH$13)=\"\",\".\",\nGETPIVOTDATA(BH$21 & \"\",PivotTableB!$A$3,\"SchoolName\",$B29,\"SubsidiaryName\",$C29,\"YearStart\",BH$13)))),\"\")","v":30},{"$f":"IFERROR(IF(BH29=\".\",\".\",IF(BH29=\"n/a\",\"n/a\",\nGETPIVOTDATA(BI$21 & \"\",PivotTableB!$A$3,\"SchoolName\",$B29,\"SubsidiaryName\",$C29,\"YearStart\",BH$13))),\"\")","v":0},{"$f":"IFERROR(IF(BI29=\".\",\".\",IF(BI29=\"n/a\",\"n/a\",\nGETPIVOTDATA(BJ$21 & \"\",PivotTableB!$A$3,\"SchoolName\",$B29,\"SubsidiaryName\",$C29,\"YearStart\",BH$13))),\"\")","v":0},{"$f":"IFERROR(IF(BJ29=\".\",\".\",IF(BJ29=\"n/a\",\"n/a\",\nGETPIVOTDATA(BK$21 & \"\",PivotTableB!$A$3,\"SchoolName\",$B29,\"SubsidiaryName\",$C29,\"YearStart\",BH$13))),\"\")","v":0},30,{"$f":"IFERROR(IF(BL29=\".\",\".\",IF(BL29=\"n/a\",\"n/a\",\nGETPIVOTDATA(BM$21 & \"\",PivotTableB!$A$3,\"SchoolName\",$B29,\"SubsidiaryName\",$C29,\"YearStart\",BH$13))),\"\")","v":0},{"$f":"IFERROR(IF(BM29=\".\",\".\",IF(BM29=\"n/a\",\"n/a\",\nGETPIVOTDATA(BN$21 & \"\",PivotTableB!$A$3,\"SchoolName\",$B29,\"SubsidiaryName\",$C29,\"YearStart\",BH$13))),\"\")","v":137},{"$f":"IFERROR(IF($B29=\"\",\"\",\nIF(OR($L29=\"Nursery School\",$L29=\"All-through PRU\",$M29=\"True\"),\"n/a\",\nIF(GETPIVOTDATA(BO$21 & \"\",PivotTableB!$A$3,\"SchoolName\",$B29,\"SubsidiaryName\",$C29,\"YearStart\",BO$13)=\"\",\".\",\nGETPIVOTDATA(BO$21 & \"\",PivotTableB!$A$3,\"SchoolName\",$B29,\"SubsidiaryName\",$C29,\"YearStart\",BO$13)))),\"\")","v":30},{"$f":"IFERROR(IF(BO29=\".\",\".\",IF(BO29=\"n/a\",\"n/a\",\nGETPIVOTDATA(BP$21 & \"\",PivotTableB!$A$3,\"SchoolName\",$B29,\"SubsidiaryName\",$C29,\"YearStart\",BO$13))),\"\")","v":0},{"$f":"IFERROR(IF(BP29=\".\",\".\",IF(BP29=\"n/a\",\"n/a\",\nGETPIVOTDATA(BQ$21 & \"\",PivotTableB!$A$3,\"SchoolName\",$B29,\"SubsidiaryName\",$C29,\"YearStart\",BO$13))),\"\")","v":0},{"$f":"IFERROR(IF(BQ29=\".\",\".\",IF(BQ29=\"n/a\",\"n/a\",\nGETPIVOTDATA(BR$21 & \"\",PivotTableB!$A$3,\"SchoolName\",$B29,\"SubsidiaryName\",$C29,\"YearStart\",BP$13))),\"\")","v":""},30,{"$f":"IFERROR(IF(BS29=\".\",\".\",IF(BS29=\"n/a\",\"n/a\",\nGETPIVOTDATA(BT$21 & \"\",PivotTableB!$A$3,\"SchoolName\",$B29,\"SubsidiaryName\",$C29,\"YearStart\",BO$13))),\"\")","v":0},{"$f":"IFERROR(IF(BT29=\".\",\".\",IF(BT29=\"n/a\",\"n/a\",\nGETPIVOTDATA(BU$21 & \"\",PivotTableB!$A$3,\"SchoolName\",$B29,\"SubsidiaryName\",$C29,\"YearStart\",BO$13))),\"\")","v":137},{"$f":"IFERROR(IF($B29=\"\",\"\",\nIF(OR($L29=\"Nursery School\",$L29=\"All-through PRU\",$M29=\"True\"),\"n/a\",\nIF(GETPIVOTDATA(BV$21 & \"\",PivotTableB!$A$3,\"SchoolName\",$B29,\"SubsidiaryName\",$C29,\"YearStart\",BV$13)=\"\",\".\",\nGETPIVOTDATA(BV$21 & \"\",PivotTableB!$A$3,\"SchoolName\",$B29,\"SubsidiaryName\",$C29,\"YearStart\",BV$13)))),\"\")","v":30},{"$f":"IFERROR(IF(BV29=\".\",\".\",IF(BV29=\"n/a\",\"n/a\",\nGETPIVOTDATA(BW$21 & \"\",PivotTableB!$A$3,\"SchoolName\",$B29,\"SubsidiaryName\",$C29,\"YearStart\",BV$13))),\"\")","v":0},{"$f":"IFERROR(IF(BW29=\".\",\".\",IF(BW29=\"n/a\",\"n/a\",\nGETPIVOTDATA(BX$21 & \"\",PivotTableB!$A$3,\"SchoolName\",$B29,\"SubsidiaryName\",$C29,\"YearStart\",BV$13))),\"\")","v":0},{"$f":"IFERROR(IF(BX29=\".\",\".\",IF(BX29=\"n/a\",\"n/a\",\nGETPIVOTDATA(BY$21 & \"\",PivotTableB!$A$3,\"SchoolName\",$B29,\"SubsidiaryName\",$C29,\"YearStart\",BV$13))),\"\")","v":0},30,{"$f":"IFERROR(IF(BZ29=\".\",\".\",IF(BZ29=\"n/a\",\"n/a\",\nGETPIVOTDATA(CA$21 & \"\",PivotTableB!$A$3,\"SchoolName\",$B29,\"SubsidiaryName\",$C29,\"YearStart\",BV$13))),\"\")","v":0},{"$f":"IFERROR(IF(CA29=\".\",\".\",IF(CA29=\"n/a\",\"n/a\",\nGETPIVOTDATA(CB$21 & \"\",PivotTableB!$A$3,\"SchoolName\",$B29,\"SubsidiaryName\",$C29,\"YearStart\",BV$13))),\"\")","v":137}]
[null,{"$f":"IF(PivotTableA!A17=\"\",\"n/a\",PivotTableA!A17)","v":"Burchetts Green CE Infant School"},{"$f":"IF(B30=\"n/a\",\"\",PivotTableA!B17)","v":"Burchetts Green CE Infant School"},{"$f":"IF($B30=\"n/a\",\"\",PivotTableA!C17)","v":"R"},{"$f":"IF($B30=\"n/a\",\"\",PivotTableA!D17)","v":"Maidenhead"},{"$f":"IF($B30=\"n/a\",\"\",PivotTableA!E17)","v":"Maidenhead Villages"},{"$f":"IF($B30=\"n/a\",\"\",PivotTableA!F17)","v":"Burchett's Green"},{"$f":"IF($B30=\"n/a\",\"\",PivotTableA!G17)","v":"Hurley and Walthams"},{"$f":"IF($B30=\"n/a\",\"\",PivotTableA!H17)","v":"Hurley"},{"$f":"IF($B30=\"n/a\",\"\",PivotTableA!I17)","v":"Primary"},{"$f":"IF($B30=\"n/a\",\"\",PivotTableA!J17)","v":"Two Tier"},{"$f":"IF($B30=\"n/a\",\"\",PivotTableA!K17)","v":"Infants"},{"$f":"IF($B30=\"n/a\",\"\",PivotTableA!O17)","v":"FALSE"},{"$f":"IF($B30=\"n/a\",\"\",PivotTableA!L17)","v":"Academy"},{"$f":"IF($B30=\"n/a\",\"\",PivotTableA!M17)","v":"2014-12-01"},{"$f":"IF($B30=\"n/a\",\"\",PivotTableA!N17)","v":"Church of England"},{"$f":"IFERROR(IF($B30=\"\",\"\",\nIF(OR($L30=\"Nursery School\",$L30=\"All-through PRU\",$M30=\"True\"),\"n/a\",\nIF(GETPIVOTDATA(Q$21 & \"\",PivotTableB!$A$3,\"SchoolName\",$B30,\"SubsidiaryName\",$C30,\"YearStart\",Q$13)=\"\",\".\",\nGETPIVOTDATA(Q$21 & \"\",PivotTableB!$A$3,\"SchoolName\",$B30,\"SubsidiaryName\",$C30,\"YearStart\",Q$13)))),\"\")","v":20},{"$f":"IFERROR(IF(Q30=\".\",\".\",IF(Q30=\"n/a\",\"n/a\",\nGETPIVOTDATA(R$21 & \"\",PivotTableB!$A$3,\"SchoolName\",$B30,\"SubsidiaryName\",$C30,\"YearStart\",Q$13))),\"\")","v":0},{"$f":"IFERROR(IF(R30=\".\",\".\",IF(R30=\"n/a\",\"n/a\",\nGETPIVOTDATA(S$21 & \"\",PivotTableB!$A$3,\"SchoolName\",$B30,\"SubsidiaryName\",$C30,\"YearStart\",Q$13))),\"\")","v":0},20,{"$f":"IFERROR(IF(T30=\".\",\".\",IF(T30=\"n/a\",\"n/a\",\nGETPIVOTDATA(U$21 & \"\",PivotTableB!$A$3,\"SchoolName\",$B30,\"SubsidiaryName\",$C30,\"YearStart\",Q$13))),\"\")","v":0},{"$f":"IFERROR(IF(U30=\".\",\".\",IF(U30=\"n/a\",\"n/a\",\nGETPIVOTDATA(V$21 & \"\",PivotTableB!$A$3,\"SchoolName\",$B30,\"SubsidiaryName\",$C30,\"YearStart\",Q$13))),\"\")","v":60},{"$f":"IFERROR(IF($B30=\"\",\"\",\nIF(OR($L30=\"Nursery School\",$L30=\"All-through PRU\",$M30=\"True\"),\"n/a\",\nIF(GETPIVOTDATA(W$21 & \"\",PivotTableB!$A$3,\"SchoolName\",$B30,\"SubsidiaryName\",$C30,\"YearStart\",W$13)=\"\",\".\",\nGETPIVOTDATA(W$21 & \"\",PivotTableB!$A$3,\"SchoolName\",$B30,\"SubsidiaryName\",$C30,\"YearStart\",W$13)))),\"\")","v":20},{"$f":"IFERROR(IF(W30=\".\",\".\",IF(W30=\"n/a\",\"n/a\",\nGETPIVOTDATA(X$21 & \"\",PivotTableB!$A$3,\"SchoolName\",$B30,\"SubsidiaryName\",$C30,\"YearStart\",W$13))),\"\")","v":0},{"$f":"IFERROR(IF(X30=\".\",\".\",IF(X30=\"n/a\",\"n/a\",\nGETPIVOTDATA(Y$21 & \"\",PivotTableB!$A$3,\"SchoolName\",$B30,\"SubsidiaryName\",$C30,\"YearStart\",W$13))),\"\")","v":0},20,{"$f":"IFERROR(IF(Z30=\".\",\".\",IF(Z30=\"n/a\",\"n/a\",\nGETPIVOTDATA(AA$21 & \"\",PivotTableB!$A$3,\"SchoolName\",$B30,\"SubsidiaryName\",$C30,\"YearStart\",W$13))),\"\")","v":0},{"$f":"IFERROR(IF(AA30=\".\",\".\",IF(AA30=\"n/a\",\"n/a\",\nGETPIVOTDATA(AB$21 & \"\",PivotTableB!$A$3,\"SchoolName\",$B30,\"SubsidiaryName\",$C30,\"YearStart\",W$13))),\"\")","v":60},{"$f":"IFERROR(IF($B30=\"\",\"\",\nIF(OR($L30=\"Nursery School\",$L30=\"All-through PRU\",$M30=\"True\"),\"n/a\",\nIF(GETPIVOTDATA(AC$21 & \"\",PivotTableB!$A$3,\"SchoolName\",$B30,\"SubsidiaryName\",$C30,\"YearStart\",AC$13)=\"\",\".\",\nGETPIVOTDATA(AC$21 & \"\",PivotTableB!$A$3,\"SchoolName\",$B30,\"SubsidiaryName\",$C30,\"YearStart\",AC$13)))),\"\")","v":20},{"$f":"IFERROR(IF(AC30=\".\",\".\",IF(AC30=\"n/a\",\"n/a\",\nGETPIVOTDATA(AD$21 & \"\",PivotTableB!$A$3,\"SchoolName\",$B30,\"SubsidiaryName\",$C30,\"YearStart\",AC$13))),\"\")","v":0},{"$f":"IFERROR(IF(AD30=\".\",\".\",IF(AD30=\"n/a\",\"n/a\",\nGETPIVOTDATA(AE$21 & \"\",PivotTableB!$A$3,\"SchoolName\",$B30,\"SubsidiaryName\",$C30,\"YearStart\",AC$13))),\"\")","v":0},20,{"$f":"IFERROR(IF(AF30=\".\",\".\",IF(AF30=\"n/a\",\"n/a\",\nGETPIVOTDATA(AG$21 & \"\",PivotTableB!$A$3,\"SchoolName\",$B30,\"SubsidiaryName\",$C30,\"YearStart\",AC$13))),\"\")","v":0},{"$f":"IFERROR(IF(AG30=\".\",\".\",IF(AG30=\"n/a\",\"n/a\",\nGETPIVOTDATA(AH$21 & \"\",PivotTableB!$A$3,\"SchoolName\",$B30,\"SubsidiaryName\",$C30,\"YearStart\",AC$13))),\"\")","v":60},{"$f":"IFERROR(IF($B30=\"\",\"\",\nIF(OR($L30=\"Nursery School\",$L30=\"All-through PRU\",$M30=\"True\"),\"n/a\",\nIF(GETPIVOTDATA(AI$21 & \"\",PivotTableB!$A$3,\"SchoolName\",$B30,\"SubsidiaryName\",$C30,\"YearStart\",AI$13)=\"\",\".\",\nGETPIVOTDATA(AI$21 & \"\",PivotTableB!$A$3,\"SchoolName\",$B30,\"SubsidiaryName\",$C30,\"YearStart\",AI$13)))),\"\")","v":20},{"$f":"IFERROR(IF(AI30=\".\",\".\",IF(AI30=\"n/a\",\"n/a\",\nGETPIVOTDATA(AJ$21 & \"\",PivotTableB!$A$3,\"SchoolName\",$B30,\"SubsidiaryName\",$C30,\"YearStart\",AI$13))),\"\")","v":5},{"$f":"IFERROR(IF(AJ30=\".\",\".\",IF(AJ30=\"n/a\",\"n/a\",\nGETPIVOTDATA(AK$21 & \"\",PivotTableB!$A$3,\"SchoolName\",$B30,\"SubsidiaryName\",$C30,\"YearStart\",AI$13))),\"\")","v":0},25,{"$f":"IFERROR(IF(AL30=\".\",\".\",IF(AL30=\"n/a\",\"n/a\",\nGETPIVOTDATA(AM$21 & \"\",PivotTableB!$A$3,\"SchoolName\",$B30,\"SubsidiaryName\",$C30,\"YearStart\",AI$13))),\"\")","v":0},{"$f":"IFERROR(IF(AM30=\".\",\".\",IF(AM30=\"n/a\",\"n/a\",\nGETPIVOTDATA(AN$21 & \"\",PivotTableB!$A$3,\"SchoolName\",$B30,\"SubsidiaryName\",$C30,\"YearStart\",AI$13))),\"\")","v":60},{"$f":"IFERROR(IF($B30=\"\",\"\",\nIF(OR($L30=\"Nursery School\",$L30=\"All-through PRU\",$M30=\"True\"),\"n/a\",\nIF(GETPIVOTDATA(AO$21 & \"\",PivotTableB!$A$3,\"SchoolName\",$B30,\"SubsidiaryName\",$C30,\"YearStart\",AO$13)=\"\",\".\",\nGETPIVOTDATA(AO$21 & \"\",PivotTableB!$A$3,\"SchoolName\",$B30,\"SubsidiaryName\",$C30,\"YearStart\",AO$13)))),\"\")","v":22},{"$f":"IFERROR(IF(AO30=\".\",\".\",IF(AO30=\"n/a\",\"n/a\",\nGETPIVOTDATA(AP$21 & \"\",PivotTableB!$A$3,\"SchoolName\",$B30,\"SubsidiaryName\",$C30,\"YearStart\",AO$13))),\"\")","v":3},{"$f":"IFERROR(IF(AP30=\".\",\".\",IF(AP30=\"n/a\",\"n/a\",\nGETPIVOTDATA(AQ$21 & \"\",PivotTableB!$A$3,\"SchoolName\",$B30,\"SubsidiaryName\",$C30,\"YearStart\",AO$13))),\"\")","v":0},25,{"$f":"IFERROR(IF(AR30=\".\",\".\",IF(AR30=\"n/a\",\"n/a\",\nGETPIVOTDATA(AS$21 & \"\",PivotTableB!$A$3,\"SchoolName\",$B30,\"SubsidiaryName\",$C30,\"YearStart\",AO$13))),\"\")","v":0},{"$f":"IFERROR(IF(AS30=\".\",\".\",IF(AS30=\"n/a\",\"n/a\",\nGETPIVOTDATA(AT$21 & \"\",PivotTableB!$A$3,\"SchoolName\",$B30,\"SubsidiaryName\",$C30,\"YearStart\",AO$13))),\"\")","v":60},{"$f":"IFERROR(IF($B30=\"\",\"\",\nIF(OR($L30=\"Nursery School\",$L30=\"All-through PRU\",$M30=\"True\"),\"n/a\",\nIF(GETPIVOTDATA(AU$21 & \"\",PivotTableB!$A$3,\"SchoolName\",$B30,\"SubsidiaryName\",$C30,\"YearStart\",AU$13)=\"\",\".\",\nGETPIVOTDATA(AU$21 & \"\",PivotTableB!$A$3,\"SchoolName\",$B30,\"SubsidiaryName\",$C30,\"YearStart\",AU$13)))),\"\")","v":22},{"$f":"IFERROR(IF(AU30=\".\",\".\",IF(AU30=\"n/a\",\"n/a\",\nGETPIVOTDATA(AV$21 & \"\",PivotTableB!$A$3,\"SchoolName\",$B30,\"SubsidiaryName\",$C30,\"YearStart\",AU$13))),\"\")","v":3},{"$f":"IFERROR(IF(AV30=\".\",\".\",IF(AV30=\"n/a\",\"n/a\",\nGETPIVOTDATA(AW$21 & \"\",PivotTableB!$A$3,\"SchoolName\",$B30,\"SubsidiaryName\",$C30,\"YearStart\",AU$13))),\"\")","v":0},25,{"$f":"IFERROR(IF(AX30=\".\",\".\",IF(AX30=\"n/a\",\"n/a\",\nGETPIVOTDATA(AY$21 & \"\",PivotTableB!$A$3,\"SchoolName\",$B30,\"SubsidiaryName\",$C30,\"YearStart\",AU$13))),\"\")","v":0},{"$f":"IFERROR(IF(AY30=\".\",\".\",IF(AY30=\"n/a\",\"n/a\",\nGETPIVOTDATA(AZ$21 & \"\",PivotTableB!$A$3,\"SchoolName\",$B30,\"SubsidiaryName\",$C30,\"YearStart\",AU$13))),\"\")","v":60},{"$f":"IFERROR(IF($B30=\"\",\"\",\nIF(OR($L30=\"Nursery School\",$L30=\"All-through PRU\",$M30=\"True\"),\"n/a\",\nIF(GETPIVOTDATA(BA$21 & \"\",PivotTableB!$A$3,\"SchoolName\",$B30,\"SubsidiaryName\",$C30,\"YearStart\",BA$13)=\"\",\".\",\nGETPIVOTDATA(BA$21 & \"\",PivotTableB!$A$3,\"SchoolName\",$B30,\"SubsidiaryName\",$C30,\"YearStart\",BA$13)))),\"\")","v":22},{"$f":"IFERROR(IF(BA30=\".\",\".\",IF(BA30=\"n/a\",\"n/a\",\nGETPIVOTDATA(BB$21 & \"\",PivotTableB!$A$3,\"SchoolName\",$B30,\"SubsidiaryName\",$C30,\"YearStart\",BA$13))),\"\")","v":0},{"$f":"IFERROR(IF(BB30=\".\",\".\",IF(BB30=\"n/a\",\"n/a\",\nGETPIVOTDATA(BC$21 & \"\",PivotTableB!$A$3,\"SchoolName\",$B30,\"SubsidiaryName\",$C30,\"YearStart\",BA$13))),\"\")","v":0},{"$f":"IFERROR(IF(BC30=\".\",\".\",IF(BC30=\"n/a\",\"n/a\",\nGETPIVOTDATA(BD$21 & \"\",PivotTableB!$A$3,\"SchoolName\",$B30,\"SubsidiaryName\",$C30,\"YearStart\",BB$13))),\"\")","v":""},22,{"$f":"IFERROR(IF(BE30=\".\",\".\",IF(BE30=\"n/a\",\"n/a\",\nGETPIVOTDATA(BF$21 & \"\",PivotTableB!$A$3,\"SchoolName\",$B30,\"SubsidiaryName\",$C30,\"YearStart\",BA$13))),\"\")","v":0},{"$f":"IFERROR(IF(BF30=\".\",\".\",IF(BF30=\"n/a\",\"n/a\",\nGETPIVOTDATA(BG$21 & \"\",PivotTableB!$A$3,\"SchoolName\",$B30,\"SubsidiaryName\",$C30,\"YearStart\",BA$13))),\"\")","v":60},{"$f":"IFERROR(IF($B30=\"\",\"\",\nIF(OR($L30=\"Nursery School\",$L30=\"All-through PRU\",$M30=\"True\"),\"n/a\",\nIF(GETPIVOTDATA(BH$21 & \"\",PivotTableB!$A$3,\"SchoolName\",$B30,\"SubsidiaryName\",$C30,\"YearStart\",BH$13)=\"\",\".\",\nGETPIVOTDATA(BH$21 & \"\",PivotTableB!$A$3,\"SchoolName\",$B30,\"SubsidiaryName\",$C30,\"YearStart\",BH$13)))),\"\")","v":22},{"$f":"IFERROR(IF(BH30=\".\",\".\",IF(BH30=\"n/a\",\"n/a\",\nGETPIVOTDATA(BI$21 & \"\",PivotTableB!$A$3,\"SchoolName\",$B30,\"SubsidiaryName\",$C30,\"YearStart\",BH$13))),\"\")","v":0},{"$f":"IFERROR(IF(BI30=\".\",\".\",IF(BI30=\"n/a\",\"n/a\",\nGETPIVOTDATA(BJ$21 & \"\",PivotTableB!$A$3,\"SchoolName\",$B30,\"SubsidiaryName\",$C30,\"YearStart\",BH$13))),\"\")","v":0},{"$f":"IFERROR(IF(BJ30=\".\",\".\",IF(BJ30=\"n/a\",\"n/a\",\nGETPIVOTDATA(BK$21 & \"\",PivotTableB!$A$3,\"SchoolName\",$B30,\"SubsidiaryName\",$C30,\"YearStart\",BH$13))),\"\")","v":0},22,{"$f":"IFERROR(IF(BL30=\".\",\".\",IF(BL30=\"n/a\",\"n/a\",\nGETPIVOTDATA(BM$21 & \"\",PivotTableB!$A$3,\"SchoolName\",$B30,\"SubsidiaryName\",$C30,\"YearStart\",BH$13))),\"\")","v":0},{"$f":"IFERROR(IF(BM30=\".\",\".\",IF(BM30=\"n/a\",\"n/a\",\nGETPIVOTDATA(BN$21 & \"\",PivotTableB!$A$3,\"SchoolName\",$B30,\"SubsidiaryName\",$C30,\"YearStart\",BH$13))),\"\")","v":60},{"$f":"IFERROR(IF($B30=\"\",\"\",\nIF(OR($L30=\"Nursery School\",$L30=\"All-through PRU\",$M30=\"True\"),\"n/a\",\nIF(GETPIVOTDATA(BO$21 & \"\",PivotTableB!$A$3,\"SchoolName\",$B30,\"SubsidiaryName\",$C30,\"YearStart\",BO$13)=\"\",\".\",\nGETPIVOTDATA(BO$21 & \"\",PivotTableB!$A$3,\"SchoolName\",$B30,\"SubsidiaryName\",$C30,\"YearStart\",BO$13)))),\"\")","v":22},{"$f":"IFERROR(IF(BO30=\".\",\".\",IF(BO30=\"n/a\",\"n/a\",\nGETPIVOTDATA(BP$21 & \"\",PivotTableB!$A$3,\"SchoolName\",$B30,\"SubsidiaryName\",$C30,\"YearStart\",BO$13))),\"\")","v":0},{"$f":"IFERROR(IF(BP30=\".\",\".\",IF(BP30=\"n/a\",\"n/a\",\nGETPIVOTDATA(BQ$21 & \"\",PivotTableB!$A$3,\"SchoolName\",$B30,\"SubsidiaryName\",$C30,\"YearStart\",BO$13))),\"\")","v":0},{"$f":"IFERROR(IF(BQ30=\".\",\".\",IF(BQ30=\"n/a\",\"n/a\",\nGETPIVOTDATA(BR$21 & \"\",PivotTableB!$A$3,\"SchoolName\",$B30,\"SubsidiaryName\",$C30,\"YearStart\",BP$13))),\"\")","v":""},22,{"$f":"IFERROR(IF(BS30=\".\",\".\",IF(BS30=\"n/a\",\"n/a\",\nGETPIVOTDATA(BT$21 & \"\",PivotTableB!$A$3,\"SchoolName\",$B30,\"SubsidiaryName\",$C30,\"YearStart\",BO$13))),\"\")","v":0},{"$f":"IFERROR(IF(BT30=\".\",\".\",IF(BT30=\"n/a\",\"n/a\",\nGETPIVOTDATA(BU$21 & \"\",PivotTableB!$A$3,\"SchoolName\",$B30,\"SubsidiaryName\",$C30,\"YearStart\",BO$13))),\"\")","v":60},{"$f":"IFERROR(IF($B30=\"\",\"\",\nIF(OR($L30=\"Nursery School\",$L30=\"All-through PRU\",$M30=\"True\"),\"n/a\",\nIF(GETPIVOTDATA(BV$21 & \"\",PivotTableB!$A$3,\"SchoolName\",$B30,\"SubsidiaryName\",$C30,\"YearStart\",BV$13)=\"\",\".\",\nGETPIVOTDATA(BV$21 & \"\",PivotTableB!$A$3,\"SchoolName\",$B30,\"SubsidiaryName\",$C30,\"YearStart\",BV$13)))),\"\")","v":22},{"$f":"IFERROR(IF(BV30=\".\",\".\",IF(BV30=\"n/a\",\"n/a\",\nGETPIVOTDATA(BW$21 & \"\",PivotTableB!$A$3,\"SchoolName\",$B30,\"SubsidiaryName\",$C30,\"YearStart\",BV$13))),\"\")","v":0},{"$f":"IFERROR(IF(BW30=\".\",\".\",IF(BW30=\"n/a\",\"n/a\",\nGETPIVOTDATA(BX$21 & \"\",PivotTableB!$A$3,\"SchoolName\",$B30,\"SubsidiaryName\",$C30,\"YearStart\",BV$13))),\"\")","v":0},{"$f":"IFERROR(IF(BX30=\".\",\".\",IF(BX30=\"n/a\",\"n/a\",\nGETPIVOTDATA(BY$21 & \"\",PivotTableB!$A$3,\"SchoolName\",$B30,\"SubsidiaryName\",$C30,\"YearStart\",BV$13))),\"\")","v":0},22,{"$f":"IFERROR(IF(BZ30=\".\",\".\",IF(BZ30=\"n/a\",\"n/a\",\nGETPIVOTDATA(CA$21 & \"\",PivotTableB!$A$3,\"SchoolName\",$B30,\"SubsidiaryName\",$C30,\"YearStart\",BV$13))),\"\")","v":0},{"$f":"IFERROR(IF(CA30=\".\",\".\",IF(CA30=\"n/a\",\"n/a\",\nGETPIVOTDATA(CB$21 & \"\",PivotTableB!$A$3,\"SchoolName\",$B30,\"SubsidiaryName\",$C30,\"YearStart\",BV$13))),\"\")","v":60}]
[null,{"$f":"IF(PivotTableA!A18=\"\",\"n/a\",PivotTableA!A18)","v":"Charters School"},{"$f":"IF(B31=\"n/a\",\"\",PivotTableA!B18)","v":"Charters School"},{"$f":"IF($B31=\"n/a\",\"\",PivotTableA!C18)","v":"7"},{"$f":"IF($B31=\"n/a\",\"\",PivotTableA!D18)","v":"Ascot"},{"$f":"IF($B31=\"n/a\",\"\",PivotTableA!E18)","v":"Ascot"},{"$f":"IF($B31=\"n/a\",\"\",PivotTableA!F18)","v":"South Sunningdale"},{"$f":"IF($B31=\"n/a\",\"\",PivotTableA!G18)","v":"Sunningdale"},{"$f":"IF($B31=\"n/a\",\"\",PivotTableA!H18)","v":"Sunningdale"},{"$f":"IF($B31=\"n/a\",\"\",PivotTableA!I18)","v":"Secondary"},{"$f":"IF($B31=\"n/a\",\"\",PivotTableA!J18)","v":"Two Tier"},{"$f":"IF($B31=\"n/a\",\"\",PivotTableA!K18)","v":"Secondary"},{"$f":"IF($B31=\"n/a\",\"\",PivotTableA!O18)","v":"FALSE"},{"$f":"IF($B31=\"n/a\",\"\",PivotTableA!L18)","v":"Academy"},{"$f":"IF($B31=\"n/a\",\"\",PivotTableA!M18)","v":"2012-10-01"},{"$f":"IF($B31=\"n/a\",\"\",PivotTableA!N18)","v":"None"},{"$f":"IFERROR(IF($B31=\"\",\"\",\nIF(OR($L31=\"Nursery School\",$L31=\"All-through PRU\",$M31=\"True\"),\"n/a\",\nIF(GETPIVOTDATA(Q$21 & \"\",PivotTableB!$A$3,\"SchoolName\",$B31,\"SubsidiaryName\",$C31,\"YearStart\",Q$13)=\"\",\".\",\nGETPIVOTDATA(Q$21 & \"\",PivotTableB!$A$3,\"SchoolName\",$B31,\"SubsidiaryName\",$C31,\"YearStart\",Q$13)))),\"\")","v":240},{"$f":"IFERROR(IF(Q31=\".\",\".\",IF(Q31=\"n/a\",\"n/a\",\nGETPIVOTDATA(R$21 & \"\",PivotTableB!$A$3,\"SchoolName\",$B31,\"SubsidiaryName\",$C31,\"YearStart\",Q$13))),\"\")","v":0},{"$f":"IFERROR(IF(R31=\".\",\".\",IF(R31=\"n/a\",\"n/a\",\nGETPIVOTDATA(S$21 & \"\",PivotTableB!$A$3,\"SchoolName\",$B31,\"SubsidiaryName\",$C31,\"YearStart\",Q$13))),\"\")","v":0},240,{"$f":"IFERROR(IF(T31=\".\",\".\",IF(T31=\"n/a\",\"n/a\",\nGETPIVOTDATA(U$21 & \"\",PivotTableB!$A$3,\"SchoolName\",$B31,\"SubsidiaryName\",$C31,\"YearStart\",Q$13))),\"\")","v":0},{"$f":"IFERROR(IF(U31=\".\",\".\",IF(U31=\"n/a\",\"n/a\",\nGETPIVOTDATA(V$21 & \"\",PivotTableB!$A$3,\"SchoolName\",$B31,\"SubsidiaryName\",$C31,\"YearStart\",Q$13))),\"\")","v":1666},{"$f":"IFERROR(IF($B31=\"\",\"\",\nIF(OR($L31=\"Nursery School\",$L31=\"All-through PRU\",$M31=\"True\"),\"n/a\",\nIF(GETPIVOTDATA(W$21 & \"\",PivotTableB!$A$3,\"SchoolName\",$B31,\"SubsidiaryName\",$C31,\"YearStart\",W$13)=\"\",\".\",\nGETPIVOTDATA(W$21 & \"\",PivotTableB!$A$3,\"SchoolName\",$B31,\"SubsidiaryName\",$C31,\"YearStart\",W$13)))),\"\")","v":240},{"$f":"IFERROR(IF(W31=\".\",\".\",IF(W31=\"n/a\",\"n/a\",\nGETPIVOTDATA(X$21 & \"\",PivotTableB!$A$3,\"SchoolName\",$B31,\"SubsidiaryName\",$C31,\"YearStart\",W$13))),\"\")","v":0},{"$f":"IFERROR(IF(X31=\".\",\".\",IF(X31=\"n/a\",\"n/a\",\nGETPIVOTDATA(Y$21 & \"\",PivotTableB!$A$3,\"SchoolName\",$B31,\"SubsidiaryName\",$C31,\"YearStart\",W$13))),\"\")","v":0},240,{"$f":"IFERROR(IF(Z31=\".\",\".\",IF(Z31=\"n/a\",\"n/a\",\nGETPIVOTDATA(AA$21 & \"\",PivotTableB!$A$3,\"SchoolName\",$B31,\"SubsidiaryName\",$C31,\"YearStart\",W$13))),\"\")","v":0},{"$f":"IFERROR(IF(AA31=\".\",\".\",IF(AA31=\"n/a\",\"n/a\",\nGETPIVOTDATA(AB$21 & \"\",PivotTableB!$A$3,\"SchoolName\",$B31,\"SubsidiaryName\",$C31,\"YearStart\",W$13))),\"\")","v":1666},{"$f":"IFERROR(IF($B31=\"\",\"\",\nIF(OR($L31=\"Nursery School\",$L31=\"All-through PRU\",$M31=\"True\"),\"n/a\",\nIF(GETPIVOTDATA(AC$21 & \"\",PivotTableB!$A$3,\"SchoolName\",$B31,\"SubsidiaryName\",$C31,\"YearStart\",AC$13)=\"\",\".\",\nGETPIVOTDATA(AC$21 & \"\",PivotTableB!$A$3,\"SchoolName\",$B31,\"SubsidiaryName\",$C31,\"YearStart\",AC$13)))),\"\")","v":240},{"$f":"IFERROR(IF(AC31=\".\",\".\",IF(AC31=\"n/a\",\"n/a\",\nGETPIVOTDATA(AD$21 & \"\",PivotTableB!$A$3,\"SchoolName\",$B31,\"SubsidiaryName\",$C31,\"YearStart\",AC$13))),\"\")","v":0},{"$f":"IFERROR(IF(AD31=\".\",\".\",IF(AD31=\"n/a\",\"n/a\",\nGETPIVOTDATA(AE$21 & \"\",PivotTableB!$A$3,\"SchoolName\",$B31,\"SubsidiaryName\",$C31,\"YearStart\",AC$13))),\"\")","v":0},240,{"$f":"IFERROR(IF(AF31=\".\",\".\",IF(AF31=\"n/a\",\"n/a\",\nGETPIVOTDATA(AG$21 & \"\",PivotTableB!$A$3,\"SchoolName\",$B31,\"SubsidiaryName\",$C31,\"YearStart\",AC$13))),\"\")","v":0},{"$f":"IFERROR(IF(AG31=\".\",\".\",IF(AG31=\"n/a\",\"n/a\",\nGETPIVOTDATA(AH$21 & \"\",PivotTableB!$A$3,\"SchoolName\",$B31,\"SubsidiaryName\",$C31,\"YearStart\",AC$13))),\"\")","v":1685},{"$f":"IFERROR(IF($B31=\"\",\"\",\nIF(OR($L31=\"Nursery School\",$L31=\"All-through PRU\",$M31=\"True\"),\"n/a\",\nIF(GETPIVOTDATA(AI$21 & \"\",PivotTableB!$A$3,\"SchoolName\",$B31,\"SubsidiaryName\",$C31,\"YearStart\",AI$13)=\"\",\".\",\nGETPIVOTDATA(AI$21 & \"\",PivotTableB!$A$3,\"SchoolName\",$B31,\"SubsidiaryName\",$C31,\"YearStart\",AI$13)))),\"\")","v":240},{"$f":"IFERROR(IF(AI31=\".\",\".\",IF(AI31=\"n/a\",\"n/a\",\nGETPIVOTDATA(AJ$21 & \"\",PivotTableB!$A$3,\"SchoolName\",$B31,\"SubsidiaryName\",$C31,\"YearStart\",AI$13))),\"\")","v":0},{"$f":"IFERROR(IF(AJ31=\".\",\".\",IF(AJ31=\"n/a\",\"n/a\",\nGETPIVOTDATA(AK$21 & \"\",PivotTableB!$A$3,\"SchoolName\",$B31,\"SubsidiaryName\",$C31,\"YearStart\",AI$13))),\"\")","v":0},240,{"$f":"IFERROR(IF(AL31=\".\",\".\",IF(AL31=\"n/a\",\"n/a\",\nGETPIVOTDATA(AM$21 & \"\",PivotTableB!$A$3,\"SchoolName\",$B31,\"SubsidiaryName\",$C31,\"YearStart\",AI$13))),\"\")","v":0},{"$f":"IFERROR(IF(AM31=\".\",\".\",IF(AM31=\"n/a\",\"n/a\",\nGETPIVOTDATA(AN$21 & \"\",PivotTableB!$A$3,\"SchoolName\",$B31,\"SubsidiaryName\",$C31,\"YearStart\",AI$13))),\"\")","v":1685},{"$f":"IFERROR(IF($B31=\"\",\"\",\nIF(OR($L31=\"Nursery School\",$L31=\"All-through PRU\",$M31=\"True\"),\"n/a\",\nIF(GETPIVOTDATA(AO$21 & \"\",PivotTableB!$A$3,\"SchoolName\",$B31,\"SubsidiaryName\",$C31,\"YearStart\",AO$13)=\"\",\".\",\nGETPIVOTDATA(AO$21 & \"\",PivotTableB!$A$3,\"SchoolName\",$B31,\"SubsidiaryName\",$C31,\"YearStart\",AO$13)))),\"\")","v":240},{"$f":"IFERROR(IF(AO31=\".\",\".\",IF(AO31=\"n/a\",\"n/a\",\nGETPIVOTDATA(AP$21 & \"\",PivotTableB!$A$3,\"SchoolName\",$B31,\"SubsidiaryName\",$C31,\"YearStart\",AO$13))),\"\")","v":30},{"$f":"IFERROR(IF(AP31=\".\",\".\",IF(AP31=\"n/a\",\"n/a\",\nGETPIVOTDATA(AQ$21 & \"\",PivotTableB!$A$3,\"SchoolName\",$B31,\"SubsidiaryName\",$C31,\"YearStart\",AO$13))),\"\")","v":0},270,{"$f":"IFERROR(IF(AR31=\".\",\".\",IF(AR31=\"n/a\",\"n/a\",\nGETPIVOTDATA(AS$21 & \"\",PivotTableB!$A$3,\"SchoolName\",$B31,\"SubsidiaryName\",$C31,\"YearStart\",AO$13))),\"\")","v":0},{"$f":"IFERROR(IF(AS31=\".\",\".\",IF(AS31=\"n/a\",\"n/a\",\nGETPIVOTDATA(AT$21 & \"\",PivotTableB!$A$3,\"SchoolName\",$B31,\"SubsidiaryName\",$C31,\"YearStart\",AO$13))),\"\")","v":1642},{"$f":"IFERROR(IF($B31=\"\",\"\",\nIF(OR($L31=\"Nursery School\",$L31=\"All-through PRU\",$M31=\"True\"),\"n/a\",\nIF(GETPIVOTDATA(AU$21 & \"\",PivotTableB!$A$3,\"SchoolName\",$B31,\"SubsidiaryName\",$C31,\"YearStart\",AU$13)=\"\",\".\",\nGETPIVOTDATA(AU$21 & \"\",PivotTableB!$A$3,\"SchoolName\",$B31,\"SubsidiaryName\",$C31,\"YearStart\",AU$13)))),\"\")","v":240},{"$f":"IFERROR(IF(AU31=\".\",\".\",IF(AU31=\"n/a\",\"n/a\",\nGETPIVOTDATA(AV$21 & \"\",PivotTableB!$A$3,\"SchoolName\",$B31,\"SubsidiaryName\",$C31,\"YearStart\",AU$13))),\"\")","v":0},{"$f":"IFERROR(IF(AV31=\".\",\".\",IF(AV31=\"n/a\",\"n/a\",\nGETPIVOTDATA(AW$21 & \"\",PivotTableB!$A$3,\"SchoolName\",$B31,\"SubsidiaryName\",$C31,\"YearStart\",AU$13))),\"\")","v":0},240,{"$f":"IFERROR(IF(AX31=\".\",\".\",IF(AX31=\"n/a\",\"n/a\",\nGETPIVOTDATA(AY$21 & \"\",PivotTableB!$A$3,\"SchoolName\",$B31,\"SubsidiaryName\",$C31,\"YearStart\",AU$13))),\"\")","v":0},{"$f":"IFERROR(IF(AY31=\".\",\".\",IF(AY31=\"n/a\",\"n/a\",\nGETPIVOTDATA(AZ$21 & \"\",PivotTableB!$A$3,\"SchoolName\",$B31,\"SubsidiaryName\",$C31,\"YearStart\",AU$13))),\"\")","v":1816},{"$f":"IFERROR(IF($B31=\"\",\"\",\nIF(OR($L31=\"Nursery School\",$L31=\"All-through PRU\",$M31=\"True\"),\"n/a\",\nIF(GETPIVOTDATA(BA$21 & \"\",PivotTableB!$A$3,\"SchoolName\",$B31,\"SubsidiaryName\",$C31,\"YearStart\",BA$13)=\"\",\".\",\nGETPIVOTDATA(BA$21 & \"\",PivotTableB!$A$3,\"SchoolName\",$B31,\"SubsidiaryName\",$C31,\"YearStart\",BA$13)))),\"\")","v":240},{"$f":"IFERROR(IF(BA31=\".\",\".\",IF(BA31=\"n/a\",\"n/a\",\nGETPIVOTDATA(BB$21 & \"\",PivotTableB!$A$3,\"SchoolName\",$B31,\"SubsidiaryName\",$C31,\"YearStart\",BA$13))),\"\")","v":0},{"$f":"IFERROR(IF(BB31=\".\",\".\",IF(BB31=\"n/a\",\"n/a\",\nGETPIVOTDATA(BC$21 & \"\",PivotTableB!$A$3,\"SchoolName\",$B31,\"SubsidiaryName\",$C31,\"YearStart\",BA$13))),\"\")","v":30},{"$f":"IFERROR(IF(BC31=\".\",\".\",IF(BC31=\"n/a\",\"n/a\",\nGETPIVOTDATA(BD$21 & \"\",PivotTableB!$A$3,\"SchoolName\",$B31,\"SubsidiaryName\",$C31,\"YearStart\",BB$13))),\"\")","v":""},270,{"$f":"IFERROR(IF(BE31=\".\",\".\",IF(BE31=\"n/a\",\"n/a\",\nGETPIVOTDATA(BF$21 & \"\",PivotTableB!$A$3,\"SchoolName\",$B31,\"SubsidiaryName\",$C31,\"YearStart\",BA$13))),\"\")","v":0},{"$f":"IFERROR(IF(BF31=\".\",\".\",IF(BF31=\"n/a\",\"n/a\",\nGETPIVOTDATA(BG$21 & \"\",PivotTableB!$A$3,\"SchoolName\",$B31,\"SubsidiaryName\",$C31,\"YearStart\",BA$13))),\"\")","v":1816},{"$f":"IFERROR(IF($B31=\"\",\"\",\nIF(OR($L31=\"Nursery School\",$L31=\"All-through PRU\",$M31=\"True\"),\"n/a\",\nIF(GETPIVOTDATA(BH$21 & \"\",PivotTableB!$A$3,\"SchoolName\",$B31,\"SubsidiaryName\",$C31,\"YearStart\",BH$13)=\"\",\".\",\nGETPIVOTDATA(BH$21 & \"\",PivotTableB!$A$3,\"SchoolName\",$B31,\"SubsidiaryName\",$C31,\"YearStart\",BH$13)))),\"\")","v":240},{"$f":"IFERROR(IF(BH31=\".\",\".\",IF(BH31=\"n/a\",\"n/a\",\nGETPIVOTDATA(BI$21 & \"\",PivotTableB!$A$3,\"SchoolName\",$B31,\"SubsidiaryName\",$C31,\"YearStart\",BH$13))),\"\")","v":0},{"$f":"IFERROR(IF(BI31=\".\",\".\",IF(BI31=\"n/a\",\"n/a\",\nGETPIVOTDATA(BJ$21 & \"\",PivotTableB!$A$3,\"SchoolName\",$B31,\"SubsidiaryName\",$C31,\"YearStart\",BH$13))),\"\")","v":30},{"$f":"IFERROR(IF(BJ31=\".\",\".\",IF(BJ31=\"n/a\",\"n/a\",\nGETPIVOTDATA(BK$21 & \"\",PivotTableB!$A$3,\"SchoolName\",$B31,\"SubsidiaryName\",$C31,\"YearStart\",BH$13))),\"\")","v":0},270,{"$f":"IFERROR(IF(BL31=\".\",\".\",IF(BL31=\"n/a\",\"n/a\",\nGETPIVOTDATA(BM$21 & \"\",PivotTableB!$A$3,\"SchoolName\",$B31,\"SubsidiaryName\",$C31,\"YearStart\",BH$13))),\"\")","v":0},{"$f":"IFERROR(IF(BM31=\".\",\".\",IF(BM31=\"n/a\",\"n/a\",\nGETPIVOTDATA(BN$21 & \"\",PivotTableB!$A$3,\"SchoolName\",$B31,\"SubsidiaryName\",$C31,\"YearStart\",BH$13))),\"\")","v":1816},{"$f":"IFERROR(IF($B31=\"\",\"\",\nIF(OR($L31=\"Nursery School\",$L31=\"All-through PRU\",$M31=\"True\"),\"n/a\",\nIF(GETPIVOTDATA(BO$21 & \"\",PivotTableB!$A$3,\"SchoolName\",$B31,\"SubsidiaryName\",$C31,\"YearStart\",BO$13)=\"\",\".\",\nGETPIVOTDATA(BO$21 & \"\",PivotTableB!$A$3,\"SchoolName\",$B31,\"SubsidiaryName\",$C31,\"YearStart\",BO$13)))),\"\")","v":240},{"$f":"IFERROR(IF(BO31=\".\",\".\",IF(BO31=\"n/a\",\"n/a\",\nGETPIVOTDATA(BP$21 & \"\",PivotTableB!$A$3,\"SchoolName\",$B31,\"SubsidiaryName\",$C31,\"YearStart\",BO$13))),\"\")","v":0},{"$f":"IFERROR(IF(BP31=\".\",\".\",IF(BP31=\"n/a\",\"n/a\",\nGETPIVOTDATA(BQ$21 & \"\",PivotTableB!$A$3,\"SchoolName\",$B31,\"SubsidiaryName\",$C31,\"YearStart\",BO$13))),\"\")","v":30},{"$f":"IFERROR(IF(BQ31=\".\",\".\",IF(BQ31=\"n/a\",\"n/a\",\nGETPIVOTDATA(BR$21 & \"\",PivotTableB!$A$3,\"SchoolName\",$B31,\"SubsidiaryName\",$C31,\"YearStart\",BP$13))),\"\")","v":""},270,{"$f":"IFERROR(IF(BS31=\".\",\".\",IF(BS31=\"n/a\",\"n/a\",\nGETPIVOTDATA(BT$21 & \"\",PivotTableB!$A$3,\"SchoolName\",$B31,\"SubsidiaryName\",$C31,\"YearStart\",BO$13))),\"\")","v":0},{"$f":"IFERROR(IF(BT31=\".\",\".\",IF(BT31=\"n/a\",\"n/a\",\nGETPIVOTDATA(BU$21 & \"\",PivotTableB!$A$3,\"SchoolName\",$B31,\"SubsidiaryName\",$C31,\"YearStart\",BO$13))),\"\")","v":1816},{"$f":"IFERROR(IF($B31=\"\",\"\",\nIF(OR($L31=\"Nursery School\",$L31=\"All-through PRU\",$M31=\"True\"),\"n/a\",\nIF(GETPIVOTDATA(BV$21 & \"\",PivotTableB!$A$3,\"SchoolName\",$B31,\"SubsidiaryName\",$C31,\"YearStart\",BV$13)=\"\",\".\",\nGETPIVOTDATA(BV$21 & \"\",PivotTableB!$A$3,\"SchoolName\",$B31,\"SubsidiaryName\",$C31,\"YearStart\",BV$13)))),\"\")","v":240},{"$f":"IFERROR(IF(BV31=\".\",\".\",IF(BV31=\"n/a\",\"n/a\",\nGETPIVOTDATA(BW$21 & \"\",PivotTableB!$A$3,\"SchoolName\",$B31,\"SubsidiaryName\",$C31,\"YearStart\",BV$13))),\"\")","v":0},{"$f":"IFERROR(IF(BW31=\".\",\".\",IF(BW31=\"n/a\",\"n/a\",\nGETPIVOTDATA(BX$21 & \"\",PivotTableB!$A$3,\"SchoolName\",$B31,\"SubsidiaryName\",$C31,\"YearStart\",BV$13))),\"\")","v":30},{"$f":"IFERROR(IF(BX31=\".\",\".\",IF(BX31=\"n/a\",\"n/a\",\nGETPIVOTDATA(BY$21 & \"\",PivotTableB!$A$3,\"SchoolName\",$B31,\"SubsidiaryName\",$C31,\"YearStart\",BV$13))),\"\")","v":0},270,{"$f":"IFERROR(IF(BZ31=\".\",\".\",IF(BZ31=\"n/a\",\"n/a\",\nGETPIVOTDATA(CA$21 & \"\",PivotTableB!$A$3,\"SchoolName\",$B31,\"SubsidiaryName\",$C31,\"YearStart\",BV$13))),\"\")","v":0},{"$f":"IFERROR(IF(CA31=\".\",\".\",IF(CA31=\"n/a\",\"n/a\",\nGETPIVOTDATA(CB$21 & \"\",PivotTableB!$A$3,\"SchoolName\",$B31,\"SubsidiaryName\",$C31,\"YearStart\",BV$13))),\"\")","v":1816}]
[null,{"$f":"IF(PivotTableA!A19=\"\",\"n/a\",PivotTableA!A19)","v":"Cheapside CE Primary School"},{"$f":"IF(B32=\"n/a\",\"\",PivotTableA!B19)","v":"Cheapside CE Primary School"},{"$f":"IF($B32=\"n/a\",\"\",PivotTableA!C19)","v":"R"},{"$f":"IF($B32=\"n/a\",\"\",PivotTableA!D19)","v":"Ascot"},{"$f":"IF($B32=\"n/a\",\"\",PivotTableA!E19)","v":"Ascot"},{"$f":"IF($B32=\"n/a\",\"\",PivotTableA!F19)","v":"Cheapside"},{"$f":"IF($B32=\"n/a\",\"\",PivotTableA!G19)","v":"Ascot & Cheapside"},{"$f":"IF($B32=\"n/a\",\"\",PivotTableA!H19)","v":"Sunninghill & Ascot"},{"$f":"IF($B32=\"n/a\",\"\",PivotTableA!I19)","v":"Primary"},{"$f":"IF($B32=\"n/a\",\"\",PivotTableA!J19)","v":"Two Tier"},{"$f":"IF($B32=\"n/a\",\"\",PivotTableA!K19)","v":"JMI"},{"$f":"IF($B32=\"n/a\",\"\",PivotTableA!O19)","v":"FALSE"},{"$f":"IF($B32=\"n/a\",\"\",PivotTableA!L19)","v":"Voluntary Aided"},{"$f":"IF($B32=\"n/a\",\"\",PivotTableA!M19)","v":" "},{"$f":"IF($B32=\"n/a\",\"\",PivotTableA!N19)","v":"Church of England"},{"$f":"IFERROR(IF($B32=\"\",\"\",\nIF(OR($L32=\"Nursery School\",$L32=\"All-through PRU\",$M32=\"True\"),\"n/a\",\nIF(GETPIVOTDATA(Q$21 & \"\",PivotTableB!$A$3,\"SchoolName\",$B32,\"SubsidiaryName\",$C32,\"YearStart\",Q$13)=\"\",\".\",\nGETPIVOTDATA(Q$21 & \"\",PivotTableB!$A$3,\"SchoolName\",$B32,\"SubsidiaryName\",$C32,\"YearStart\",Q$13)))),\"\")","v":16},{"$f":"IFERROR(IF(Q32=\".\",\".\",IF(Q32=\"n/a\",\"n/a\",\nGETPIVOTDATA(R$21 & \"\",PivotTableB!$A$3,\"SchoolName\",$B32,\"SubsidiaryName\",$C32,\"YearStart\",Q$13))),\"\")","v":0},{"$f":"IFERROR(IF(R32=\".\",\".\",IF(R32=\"n/a\",\"n/a\",\nGETPIVOTDATA(S$21 & \"\",PivotTableB!$A$3,\"SchoolName\",$B32,\"SubsidiaryName\",$C32,\"YearStart\",Q$13))),\"\")","v":0},16,{"$f":"IFERROR(IF(T32=\".\",\".\",IF(T32=\"n/a\",\"n/a\",\nGETPIVOTDATA(U$21 & \"\",PivotTableB!$A$3,\"SchoolName\",$B32,\"SubsidiaryName\",$C32,\"YearStart\",Q$13))),\"\")","v":0},{"$f":"IFERROR(IF(U32=\".\",\".\",IF(U32=\"n/a\",\"n/a\",\nGETPIVOTDATA(V$21 & \"\",PivotTableB!$A$3,\"SchoolName\",$B32,\"SubsidiaryName\",$C32,\"YearStart\",Q$13))),\"\")","v":112},{"$f":"IFERROR(IF($B32=\"\",\"\",\nIF(OR($L32=\"Nursery School\",$L32=\"All-through PRU\",$M32=\"True\"),\"n/a\",\nIF(GETPIVOTDATA(W$21 & \"\",PivotTableB!$A$3,\"SchoolName\",$B32,\"SubsidiaryName\",$C32,\"YearStart\",W$13)=\"\",\".\",\nGETPIVOTDATA(W$21 & \"\",PivotTableB!$A$3,\"SchoolName\",$B32,\"SubsidiaryName\",$C32,\"YearStart\",W$13)))),\"\")","v":16},{"$f":"IFERROR(IF(W32=\".\",\".\",IF(W32=\"n/a\",\"n/a\",\nGETPIVOTDATA(X$21 & \"\",PivotTableB!$A$3,\"SchoolName\",$B32,\"SubsidiaryName\",$C32,\"YearStart\",W$13))),\"\")","v":0},{"$f":"IFERROR(IF(X32=\".\",\".\",IF(X32=\"n/a\",\"n/a\",\nGETPIVOTDATA(Y$21 & \"\",PivotTableB!$A$3,\"SchoolName\",$B32,\"SubsidiaryName\",$C32,\"YearStart\",W$13))),\"\")","v":0},16,{"$f":"IFERROR(IF(Z32=\".\",\".\",IF(Z32=\"n/a\",\"n/a\",\nGETPIVOTDATA(AA$21 & \"\",PivotTableB!$A$3,\"SchoolName\",$B32,\"SubsidiaryName\",$C32,\"YearStart\",W$13))),\"\")","v":0},{"$f":"IFERROR(IF(AA32=\".\",\".\",IF(AA32=\"n/a\",\"n/a\",\nGETPIVOTDATA(AB$21 & \"\",PivotTableB!$A$3,\"SchoolName\",$B32,\"SubsidiaryName\",$C32,\"YearStart\",W$13))),\"\")","v":112},{"$f":"IFERROR(IF($B32=\"\",\"\",\nIF(OR($L32=\"Nursery School\",$L32=\"All-through PRU\",$M32=\"True\"),\"n/a\",\nIF(GETPIVOTDATA(AC$21 & \"\",PivotTableB!$A$3,\"SchoolName\",$B32,\"SubsidiaryName\",$C32,\"YearStart\",AC$13)=\"\",\".\",\nGETPIVOTDATA(AC$21 & \"\",PivotTableB!$A$3,\"SchoolName\",$B32,\"SubsidiaryName\",$C32,\"YearStart\",AC$13)))),\"\")","v":16},{"$f":"IFERROR(IF(AC32=\".\",\".\",IF(AC32=\"n/a\",\"n/a\",\nGETPIVOTDATA(AD$21 & \"\",PivotTableB!$A$3,\"SchoolName\",$B32,\"SubsidiaryName\",$C32,\"YearStart\",AC$13))),\"\")","v":0},{"$f":"IFERROR(IF(AD32=\".\",\".\",IF(AD32=\"n/a\",\"n/a\",\nGETPIVOTDATA(AE$21 & \"\",PivotTableB!$A$3,\"SchoolName\",$B32,\"SubsidiaryName\",$C32,\"YearStart\",AC$13))),\"\")","v":0},16,{"$f":"IFERROR(IF(AF32=\".\",\".\",IF(AF32=\"n/a\",\"n/a\",\nGETPIVOTDATA(AG$21 & \"\",PivotTableB!$A$3,\"SchoolName\",$B32,\"SubsidiaryName\",$C32,\"YearStart\",AC$13))),\"\")","v":0},{"$f":"IFERROR(IF(AG32=\".\",\".\",IF(AG32=\"n/a\",\"n/a\",\nGETPIVOTDATA(AH$21 & \"\",PivotTableB!$A$3,\"SchoolName\",$B32,\"SubsidiaryName\",$C32,\"YearStart\",AC$13))),\"\")","v":112},{"$f":"IFERROR(IF($B32=\"\",\"\",\nIF(OR($L32=\"Nursery School\",$L32=\"All-through PRU\",$M32=\"True\"),\"n/a\",\nIF(GETPIVOTDATA(AI$21 & \"\",PivotTableB!$A$3,\"SchoolName\",$B32,\"SubsidiaryName\",$C32,\"YearStart\",AI$13)=\"\",\".\",\nGETPIVOTDATA(AI$21 & \"\",PivotTableB!$A$3,\"SchoolName\",$B32,\"SubsidiaryName\",$C32,\"YearStart\",AI$13)))),\"\")","v":16},{"$f":"IFERROR(IF(AI32=\".\",\".\",IF(AI32=\"n/a\",\"n/a\",\nGETPIVOTDATA(AJ$21 & \"\",PivotTableB!$A$3,\"SchoolName\",$B32,\"SubsidiaryName\",$C32,\"YearStart\",AI$13))),\"\")","v":0},{"$f":"IFERROR(IF(AJ32=\".\",\".\",IF(AJ32=\"n/a\",\"n/a\",\nGETPIVOTDATA(AK$21 & \"\",PivotTableB!$A$3,\"SchoolName\",$B32,\"SubsidiaryName\",$C32,\"YearStart\",AI$13))),\"\")","v":0},16,{"$f":"IFERROR(IF(AL32=\".\",\".\",IF(AL32=\"n/a\",\"n/a\",\nGETPIVOTDATA(AM$21 & \"\",PivotTableB!$A$3,\"SchoolName\",$B32,\"SubsidiaryName\",$C32,\"YearStart\",AI$13))),\"\")","v":0},{"$f":"IFERROR(IF(AM32=\".\",\".\",IF(AM32=\"n/a\",\"n/a\",\nGETPIVOTDATA(AN$21 & \"\",PivotTableB!$A$3,\"SchoolName\",$B32,\"SubsidiaryName\",$C32,\"YearStart\",AI$13))),\"\")","v":112},{"$f":"IFERROR(IF($B32=\"\",\"\",\nIF(OR($L32=\"Nursery School\",$L32=\"All-through PRU\",$M32=\"True\"),\"n/a\",\nIF(GETPIVOTDATA(AO$21 & \"\",PivotTableB!$A$3,\"SchoolName\",$B32,\"SubsidiaryName\",$C32,\"YearStart\",AO$13)=\"\",\".\",\nGETPIVOTDATA(AO$21 & \"\",PivotTableB!$A$3,\"SchoolName\",$B32,\"SubsidiaryName\",$C32,\"YearStart\",AO$13)))),\"\")","v":30},{"$f":"IFERROR(IF(AO32=\".\",\".\",IF(AO32=\"n/a\",\"n/a\",\nGETPIVOTDATA(AP$21 & \"\",PivotTableB!$A$3,\"SchoolName\",$B32,\"SubsidiaryName\",$C32,\"YearStart\",AO$13))),\"\")","v":0},{"$f":"IFERROR(IF(AP32=\".\",\".\",IF(AP32=\"n/a\",\"n/a\",\nGETPIVOTDATA(AQ$21 & \"\",PivotTableB!$A$3,\"SchoolName\",$B32,\"SubsidiaryName\",$C32,\"YearStart\",AO$13))),\"\")","v":0},30,{"$f":"IFERROR(IF(AR32=\".\",\".\",IF(AR32=\"n/a\",\"n/a\",\nGETPIVOTDATA(AS$21 & \"\",PivotTableB!$A$3,\"SchoolName\",$B32,\"SubsidiaryName\",$C32,\"YearStart\",AO$13))),\"\")","v":0},{"$f":"IFERROR(IF(AS32=\".\",\".\",IF(AS32=\"n/a\",\"n/a\",\nGETPIVOTDATA(AT$21 & \"\",PivotTableB!$A$3,\"SchoolName\",$B32,\"SubsidiaryName\",$C32,\"YearStart\",AO$13))),\"\")","v":112},{"$f":"IFERROR(IF($B32=\"\",\"\",\nIF(OR($L32=\"Nursery School\",$L32=\"All-through PRU\",$M32=\"True\"),\"n/a\",\nIF(GETPIVOTDATA(AU$21 & \"\",PivotTableB!$A$3,\"SchoolName\",$B32,\"SubsidiaryName\",$C32,\"YearStart\",AU$13)=\"\",\".\",\nGETPIVOTDATA(AU$21 & \"\",PivotTableB!$A$3,\"SchoolName\",$B32,\"SubsidiaryName\",$C32,\"YearStart\",AU$13)))),\"\")","v":30},{"$f":"IFERROR(IF(AU32=\".\",\".\",IF(AU32=\"n/a\",\"n/a\",\nGETPIVOTDATA(AV$21 & \"\",PivotTableB!$A$3,\"SchoolName\",$B32,\"SubsidiaryName\",$C32,\"YearStart\",AU$13))),\"\")","v":0},{"$f":"IFERROR(IF(AV32=\".\",\".\",IF(AV32=\"n/a\",\"n/a\",\nGETPIVOTDATA(AW$21 & \"\",PivotTableB!$A$3,\"SchoolName\",$B32,\"SubsidiaryName\",$C32,\"YearStart\",AU$13))),\"\")","v":0},30,{"$f":"IFERROR(IF(AX32=\".\",\".\",IF(AX32=\"n/a\",\"n/a\",\nGETPIVOTDATA(AY$21 & \"\",PivotTableB!$A$3,\"SchoolName\",$B32,\"SubsidiaryName\",$C32,\"YearStart\",AU$13))),\"\")","v":0},{"$f":"IFERROR(IF(AY32=\".\",\".\",IF(AY32=\"n/a\",\"n/a\",\nGETPIVOTDATA(AZ$21 & \"\",PivotTableB!$A$3,\"SchoolName\",$B32,\"SubsidiaryName\",$C32,\"YearStart\",AU$13))),\"\")","v":210},{"$f":"IFERROR(IF($B32=\"\",\"\",\nIF(OR($L32=\"Nursery School\",$L32=\"All-through PRU\",$M32=\"True\"),\"n/a\",\nIF(GETPIVOTDATA(BA$21 & \"\",PivotTableB!$A$3,\"SchoolName\",$B32,\"SubsidiaryName\",$C32,\"YearStart\",BA$13)=\"\",\".\",\nGETPIVOTDATA(BA$21 & \"\",PivotTableB!$A$3,\"SchoolName\",$B32,\"SubsidiaryName\",$C32,\"YearStart\",BA$13)))),\"\")","v":30},{"$f":"IFERROR(IF(BA32=\".\",\".\",IF(BA32=\"n/a\",\"n/a\",\nGETPIVOTDATA(BB$21 & \"\",PivotTableB!$A$3,\"SchoolName\",$B32,\"SubsidiaryName\",$C32,\"YearStart\",BA$13))),\"\")","v":0},{"$f":"IFERROR(IF(BB32=\".\",\".\",IF(BB32=\"n/a\",\"n/a\",\nGETPIVOTDATA(BC$21 & \"\",PivotTableB!$A$3,\"SchoolName\",$B32,\"SubsidiaryName\",$C32,\"YearStart\",BA$13))),\"\")","v":0},{"$f":"IFERROR(IF(BC32=\".\",\".\",IF(BC32=\"n/a\",\"n/a\",\nGETPIVOTDATA(BD$21 & \"\",PivotTableB!$A$3,\"SchoolName\",$B32,\"SubsidiaryName\",$C32,\"YearStart\",BB$13))),\"\")","v":""},30,{"$f":"IFERROR(IF(BE32=\".\",\".\",IF(BE32=\"n/a\",\"n/a\",\nGETPIVOTDATA(BF$21 & \"\",PivotTableB!$A$3,\"SchoolName\",$B32,\"SubsidiaryName\",$C32,\"YearStart\",BA$13))),\"\")","v":0},{"$f":"IFERROR(IF(BF32=\".\",\".\",IF(BF32=\"n/a\",\"n/a\",\nGETPIVOTDATA(BG$21 & \"\",PivotTableB!$A$3,\"SchoolName\",$B32,\"SubsidiaryName\",$C32,\"YearStart\",BA$13))),\"\")","v":210},{"$f":"IFERROR(IF($B32=\"\",\"\",\nIF(OR($L32=\"Nursery School\",$L32=\"All-through PRU\",$M32=\"True\"),\"n/a\",\nIF(GETPIVOTDATA(BH$21 & \"\",PivotTableB!$A$3,\"SchoolName\",$B32,\"SubsidiaryName\",$C32,\"YearStart\",BH$13)=\"\",\".\",\nGETPIVOTDATA(BH$21 & \"\",PivotTableB!$A$3,\"SchoolName\",$B32,\"SubsidiaryName\",$C32,\"YearStart\",BH$13)))),\"\")","v":30},{"$f":"IFERROR(IF(BH32=\".\",\".\",IF(BH32=\"n/a\",\"n/a\",\nGETPIVOTDATA(BI$21 & \"\",PivotTableB!$A$3,\"SchoolName\",$B32,\"SubsidiaryName\",$C32,\"YearStart\",BH$13))),\"\")","v":0},{"$f":"IFERROR(IF(BI32=\".\",\".\",IF(BI32=\"n/a\",\"n/a\",\nGETPIVOTDATA(BJ$21 & \"\",PivotTableB!$A$3,\"SchoolName\",$B32,\"SubsidiaryName\",$C32,\"YearStart\",BH$13))),\"\")","v":0},{"$f":"IFERROR(IF(BJ32=\".\",\".\",IF(BJ32=\"n/a\",\"n/a\",\nGETPIVOTDATA(BK$21 & \"\",PivotTableB!$A$3,\"SchoolName\",$B32,\"SubsidiaryName\",$C32,\"YearStart\",BH$13))),\"\")","v":0},30,{"$f":"IFERROR(IF(BL32=\".\",\".\",IF(BL32=\"n/a\",\"n/a\",\nGETPIVOTDATA(BM$21 & \"\",PivotTableB!$A$3,\"SchoolName\",$B32,\"SubsidiaryName\",$C32,\"YearStart\",BH$13))),\"\")","v":0},{"$f":"IFERROR(IF(BM32=\".\",\".\",IF(BM32=\"n/a\",\"n/a\",\nGETPIVOTDATA(BN$21 & \"\",PivotTableB!$A$3,\"SchoolName\",$B32,\"SubsidiaryName\",$C32,\"YearStart\",BH$13))),\"\")","v":210},{"$f":"IFERROR(IF($B32=\"\",\"\",\nIF(OR($L32=\"Nursery School\",$L32=\"All-through PRU\",$M32=\"True\"),\"n/a\",\nIF(GETPIVOTDATA(BO$21 & \"\",PivotTableB!$A$3,\"SchoolName\",$B32,\"SubsidiaryName\",$C32,\"YearStart\",BO$13)=\"\",\".\",\nGETPIVOTDATA(BO$21 & \"\",PivotTableB!$A$3,\"SchoolName\",$B32,\"SubsidiaryName\",$C32,\"YearStart\",BO$13)))),\"\")","v":30},{"$f":"IFERROR(IF(BO32=\".\",\".\",IF(BO32=\"n/a\",\"n/a\",\nGETPIVOTDATA(BP$21 & \"\",PivotTableB!$A$3,\"SchoolName\",$B32,\"SubsidiaryName\",$C32,\"YearStart\",BO$13))),\"\")","v":0},{"$f":"IFERROR(IF(BP32=\".\",\".\",IF(BP32=\"n/a\",\"n/a\",\nGETPIVOTDATA(BQ$21 & \"\",PivotTableB!$A$3,\"SchoolName\",$B32,\"SubsidiaryName\",$C32,\"YearStart\",BO$13))),\"\")","v":0},{"$f":"IFERROR(IF(BQ32=\".\",\".\",IF(BQ32=\"n/a\",\"n/a\",\nGETPIVOTDATA(BR$21 & \"\",PivotTableB!$A$3,\"SchoolName\",$B32,\"SubsidiaryName\",$C32,\"YearStart\",BP$13))),\"\")","v":""},30,{"$f":"IFERROR(IF(BS32=\".\",\".\",IF(BS32=\"n/a\",\"n/a\",\nGETPIVOTDATA(BT$21 & \"\",PivotTableB!$A$3,\"SchoolName\",$B32,\"SubsidiaryName\",$C32,\"YearStart\",BO$13))),\"\")","v":0},{"$f":"IFERROR(IF(BT32=\".\",\".\",IF(BT32=\"n/a\",\"n/a\",\nGETPIVOTDATA(BU$21 & \"\",PivotTableB!$A$3,\"SchoolName\",$B32,\"SubsidiaryName\",$C32,\"YearStart\",BO$13))),\"\")","v":210},{"$f":"IFERROR(IF($B32=\"\",\"\",\nIF(OR($L32=\"Nursery School\",$L32=\"All-through PRU\",$M32=\"True\"),\"n/a\",\nIF(GETPIVOTDATA(BV$21 & \"\",PivotTableB!$A$3,\"SchoolName\",$B32,\"SubsidiaryName\",$C32,\"YearStart\",BV$13)=\"\",\".\",\nGETPIVOTDATA(BV$21 & \"\",PivotTableB!$A$3,\"SchoolName\",$B32,\"SubsidiaryName\",$C32,\"YearStart\",BV$13)))),\"\")","v":30},{"$f":"IFERROR(IF(BV32=\".\",\".\",IF(BV32=\"n/a\",\"n/a\",\nGETPIVOTDATA(BW$21 & \"\",PivotTableB!$A$3,\"SchoolName\",$B32,\"SubsidiaryName\",$C32,\"YearStart\",BV$13))),\"\")","v":0},{"$f":"IFERROR(IF(BW32=\".\",\".\",IF(BW32=\"n/a\",\"n/a\",\nGETPIVOTDATA(BX$21 & \"\",PivotTableB!$A$3,\"SchoolName\",$B32,\"SubsidiaryName\",$C32,\"YearStart\",BV$13))),\"\")","v":0},{"$f":"IFERROR(IF(BX32=\".\",\".\",IF(BX32=\"n/a\",\"n/a\",\nGETPIVOTDATA(BY$21 & \"\",PivotTableB!$A$3,\"SchoolName\",$B32,\"SubsidiaryName\",$C32,\"YearStart\",BV$13))),\"\")","v":0},30,{"$f":"IFERROR(IF(BZ32=\".\",\".\",IF(BZ32=\"n/a\",\"n/a\",\nGETPIVOTDATA(CA$21 & \"\",PivotTableB!$A$3,\"SchoolName\",$B32,\"SubsidiaryName\",$C32,\"YearStart\",BV$13))),\"\")","v":0},{"$f":"IFERROR(IF(CA32=\".\",\".\",IF(CA32=\"n/a\",\"n/a\",\nGETPIVOTDATA(CB$21 & \"\",PivotTableB!$A$3,\"SchoolName\",$B32,\"SubsidiaryName\",$C32,\"YearStart\",BV$13))),\"\")","v":210}]
[null,{"$f":"IF(PivotTableA!A20=\"\",\"n/a\",PivotTableA!A20)","v":"Churchmead Church of England School"},{"$f":"IF(B33=\"n/a\",\"\",PivotTableA!B20)","v":"Churchmead Church of England School"},{"$f":"IF($B33=\"n/a\",\"\",PivotTableA!C20)","v":"7"},{"$f":"IF($B33=\"n/a\",\"\",PivotTableA!D20)","v":"Datchet & Wraysbury"},{"$f":"IF($B33=\"n/a\",\"\",PivotTableA!E20)","v":"Datchet and Wraysbury"},{"$f":"IF($B33=\"n/a\",\"\",PivotTableA!F20)","v":"Datchet East"},{"$f":"IF($B33=\"n/a\",\"\",PivotTableA!G20)","v":"Datchet"},{"$f":"IF($B33=\"n/a\",\"\",PivotTableA!H20)","v":"Datchet"},{"$f":"IF($B33=\"n/a\",\"\",PivotTableA!I20)","v":"Secondary"},{"$f":"IF($B33=\"n/a\",\"\",PivotTableA!J20)","v":"Two Tier"},{"$f":"IF($B33=\"n/a\",\"\",PivotTableA!K20)","v":"Secondary"},{"$f":"IF($B33=\"n/a\",\"\",PivotTableA!O20)","v":"FALSE"},{"$f":"IF($B33=\"n/a\",\"\",PivotTableA!L20)","v":"Voluntary Aided"},{"$f":"IF($B33=\"n/a\",\"\",PivotTableA!M20)","v":" "},{"$f":"IF($B33=\"n/a\",\"\",PivotTableA!N20)","v":"Church of England"},{"$f":"IFERROR(IF($B33=\"\",\"\",\nIF(OR($L33=\"Nursery School\",$L33=\"All-through PRU\",$M33=\"True\"),\"n/a\",\nIF(GETPIVOTDATA(Q$21 & \"\",PivotTableB!$A$3,\"SchoolName\",$B33,\"SubsidiaryName\",$C33,\"YearStart\",Q$13)=\"\",\".\",\nGETPIVOTDATA(Q$21 & \"\",PivotTableB!$A$3,\"SchoolName\",$B33,\"SubsidiaryName\",$C33,\"YearStart\",Q$13)))),\"\")","v":140},{"$f":"IFERROR(IF(Q33=\".\",\".\",IF(Q33=\"n/a\",\"n/a\",\nGETPIVOTDATA(R$21 & \"\",PivotTableB!$A$3,\"SchoolName\",$B33,\"SubsidiaryName\",$C33,\"YearStart\",Q$13))),\"\")","v":0},{"$f":"IFERROR(IF(R33=\".\",\".\",IF(R33=\"n/a\",\"n/a\",\nGETPIVOTDATA(S$21 & \"\",PivotTableB!$A$3,\"SchoolName\",$B33,\"SubsidiaryName\",$C33,\"YearStart\",Q$13))),\"\")","v":0},140,{"$f":"IFERROR(IF(T33=\".\",\".\",IF(T33=\"n/a\",\"n/a\",\nGETPIVOTDATA(U$21 & \"\",PivotTableB!$A$3,\"SchoolName\",$B33,\"SubsidiaryName\",$C33,\"YearStart\",Q$13))),\"\")","v":0},{"$f":"IFERROR(IF(U33=\".\",\".\",IF(U33=\"n/a\",\"n/a\",\nGETPIVOTDATA(V$21 & \"\",PivotTableB!$A$3,\"SchoolName\",$B33,\"SubsidiaryName\",$C33,\"YearStart\",Q$13))),\"\")","v":744},{"$f":"IFERROR(IF($B33=\"\",\"\",\nIF(OR($L33=\"Nursery School\",$L33=\"All-through PRU\",$M33=\"True\"),\"n/a\",\nIF(GETPIVOTDATA(W$21 & \"\",PivotTableB!$A$3,\"SchoolName\",$B33,\"SubsidiaryName\",$C33,\"YearStart\",W$13)=\"\",\".\",\nGETPIVOTDATA(W$21 & \"\",PivotTableB!$A$3,\"SchoolName\",$B33,\"SubsidiaryName\",$C33,\"YearStart\",W$13)))),\"\")","v":140},{"$f":"IFERROR(IF(W33=\".\",\".\",IF(W33=\"n/a\",\"n/a\",\nGETPIVOTDATA(X$21 & \"\",PivotTableB!$A$3,\"SchoolName\",$B33,\"SubsidiaryName\",$C33,\"YearStart\",W$13))),\"\")","v":0},{"$f":"IFERROR(IF(X33=\".\",\".\",IF(X33=\"n/a\",\"n/a\",\nGETPIVOTDATA(Y$21 & \"\",PivotTableB!$A$3,\"SchoolName\",$B33,\"SubsidiaryName\",$C33,\"YearStart\",W$13))),\"\")","v":0},140,{"$f":"IFERROR(IF(Z33=\".\",\".\",IF(Z33=\"n/a\",\"n/a\",\nGETPIVOTDATA(AA$21 & \"\",PivotTableB!$A$3,\"SchoolName\",$B33,\"SubsidiaryName\",$C33,\"YearStart\",W$13))),\"\")","v":0},{"$f":"IFERROR(IF(AA33=\".\",\".\",IF(AA33=\"n/a\",\"n/a\",\nGETPIVOTDATA(AB$21 & \"\",PivotTableB!$A$3,\"SchoolName\",$B33,\"SubsidiaryName\",$C33,\"YearStart\",W$13))),\"\")","v":744},{"$f":"IFERROR(IF($B33=\"\",\"\",\nIF(OR($L33=\"Nursery School\",$L33=\"All-through PRU\",$M33=\"True\"),\"n/a\",\nIF(GETPIVOTDATA(AC$21 & \"\",PivotTableB!$A$3,\"SchoolName\",$B33,\"SubsidiaryName\",$C33,\"YearStart\",AC$13)=\"\",\".\",\nGETPIVOTDATA(AC$21 & \"\",PivotTableB!$A$3,\"SchoolName\",$B33,\"SubsidiaryName\",$C33,\"YearStart\",AC$13)))),\"\")","v":140},{"$f":"IFERROR(IF(AC33=\".\",\".\",IF(AC33=\"n/a\",\"n/a\",\nGETPIVOTDATA(AD$21 & \"\",PivotTableB!$A$3,\"SchoolName\",$B33,\"SubsidiaryName\",$C33,\"YearStart\",AC$13))),\"\")","v":0},{"$f":"IFERROR(IF(AD33=\".\",\".\",IF(AD33=\"n/a\",\"n/a\",\nGETPIVOTDATA(AE$21 & \"\",PivotTableB!$A$3,\"SchoolName\",$B33,\"SubsidiaryName\",$C33,\"YearStart\",AC$13))),\"\")","v":0},140,{"$f":"IFERROR(IF(AF33=\".\",\".\",IF(AF33=\"n/a\",\"n/a\",\nGETPIVOTDATA(AG$21 & \"\",PivotTableB!$A$3,\"SchoolName\",$B33,\"SubsidiaryName\",$C33,\"YearStart\",AC$13))),\"\")","v":0},{"$f":"IFERROR(IF(AG33=\".\",\".\",IF(AG33=\"n/a\",\"n/a\",\nGETPIVOTDATA(AH$21 & \"\",PivotTableB!$A$3,\"SchoolName\",$B33,\"SubsidiaryName\",$C33,\"YearStart\",AC$13))),\"\")","v":744},{"$f":"IFERROR(IF($B33=\"\",\"\",\nIF(OR($L33=\"Nursery School\",$L33=\"All-through PRU\",$M33=\"True\"),\"n/a\",\nIF(GETPIVOTDATA(AI$21 & \"\",PivotTableB!$A$3,\"SchoolName\",$B33,\"SubsidiaryName\",$C33,\"YearStart\",AI$13)=\"\",\".\",\nGETPIVOTDATA(AI$21 & \"\",PivotTableB!$A$3,\"SchoolName\",$B33,\"SubsidiaryName\",$C33,\"YearStart\",AI$13)))),\"\")","v":140},{"$f":"IFERROR(IF(AI33=\".\",\".\",IF(AI33=\"n/a\",\"n/a\",\nGETPIVOTDATA(AJ$21 & \"\",PivotTableB!$A$3,\"SchoolName\",$B33,\"SubsidiaryName\",$C33,\"YearStart\",AI$13))),\"\")","v":0},{"$f":"IFERROR(IF(AJ33=\".\",\".\",IF(AJ33=\"n/a\",\"n/a\",\nGETPIVOTDATA(AK$21 & \"\",PivotTableB!$A$3,\"SchoolName\",$B33,\"SubsidiaryName\",$C33,\"YearStart\",AI$13))),\"\")","v":0},140,{"$f":"IFERROR(IF(AL33=\".\",\".\",IF(AL33=\"n/a\",\"n/a\",\nGETPIVOTDATA(AM$21 & \"\",PivotTableB!$A$3,\"SchoolName\",$B33,\"SubsidiaryName\",$C33,\"YearStart\",AI$13))),\"\")","v":0},{"$f":"IFERROR(IF(AM33=\".\",\".\",IF(AM33=\"n/a\",\"n/a\",\nGETPIVOTDATA(AN$21 & \"\",PivotTableB!$A$3,\"SchoolName\",$B33,\"SubsidiaryName\",$C33,\"YearStart\",AI$13))),\"\")","v":744},{"$f":"IFERROR(IF($B33=\"\",\"\",\nIF(OR($L33=\"Nursery School\",$L33=\"All-through PRU\",$M33=\"True\"),\"n/a\",\nIF(GETPIVOTDATA(AO$21 & \"\",PivotTableB!$A$3,\"SchoolName\",$B33,\"SubsidiaryName\",$C33,\"YearStart\",AO$13)=\"\",\".\",\nGETPIVOTDATA(AO$21 & \"\",PivotTableB!$A$3,\"SchoolName\",$B33,\"SubsidiaryName\",$C33,\"YearStart\",AO$13)))),\"\")","v":140},{"$f":"IFERROR(IF(AO33=\".\",\".\",IF(AO33=\"n/a\",\"n/a\",\nGETPIVOTDATA(AP$21 & \"\",PivotTableB!$A$3,\"SchoolName\",$B33,\"SubsidiaryName\",$C33,\"YearStart\",AO$13))),\"\")","v":0},{"$f":"IFERROR(IF(AP33=\".\",\".\",IF(AP33=\"n/a\",\"n/a\",\nGETPIVOTDATA(AQ$21 & \"\",PivotTableB!$A$3,\"SchoolName\",$B33,\"SubsidiaryName\",$C33,\"YearStart\",AO$13))),\"\")","v":0},140,{"$f":"IFERROR(IF(AR33=\".\",\".\",IF(AR33=\"n/a\",\"n/a\",\nGETPIVOTDATA(AS$21 & \"\",PivotTableB!$A$3,\"SchoolName\",$B33,\"SubsidiaryName\",$C33,\"YearStart\",AO$13))),\"\")","v":0},{"$f":"IFERROR(IF(AS33=\".\",\".\",IF(AS33=\"n/a\",\"n/a\",\nGETPIVOTDATA(AT$21 & \"\",PivotTableB!$A$3,\"SchoolName\",$B33,\"SubsidiaryName\",$C33,\"YearStart\",AO$13))),\"\")","v":713},{"$f":"IFERROR(IF($B33=\"\",\"\",\nIF(OR($L33=\"Nursery School\",$L33=\"All-through PRU\",$M33=\"True\"),\"n/a\",\nIF(GETPIVOTDATA(AU$21 & \"\",PivotTableB!$A$3,\"SchoolName\",$B33,\"SubsidiaryName\",$C33,\"YearStart\",AU$13)=\"\",\".\",\nGETPIVOTDATA(AU$21 & \"\",PivotTableB!$A$3,\"SchoolName\",$B33,\"SubsidiaryName\",$C33,\"YearStart\",AU$13)))),\"\")","v":110},{"$f":"IFERROR(IF(AU33=\".\",\".\",IF(AU33=\"n/a\",\"n/a\",\nGETPIVOTDATA(AV$21 & \"\",PivotTableB!$A$3,\"SchoolName\",$B33,\"SubsidiaryName\",$C33,\"YearStart\",AU$13))),\"\")","v":0},{"$f":"IFERROR(IF(AV33=\".\",\".\",IF(AV33=\"n/a\",\"n/a\",\nGETPIVOTDATA(AW$21 & \"\",PivotTableB!$A$3,\"SchoolName\",$B33,\"SubsidiaryName\",$C33,\"YearStart\",AU$13))),\"\")","v":0},110,{"$f":"IFERROR(IF(AX33=\".\",\".\",IF(AX33=\"n/a\",\"n/a\",\nGETPIVOTDATA(AY$21 & \"\",PivotTableB!$A$3,\"SchoolName\",$B33,\"SubsidiaryName\",$C33,\"YearStart\",AU$13))),\"\")","v":30},{"$f":"IFERROR(IF(AY33=\".\",\".\",IF(AY33=\"n/a\",\"n/a\",\nGETPIVOTDATA(AZ$21 & \"\",PivotTableB!$A$3,\"SchoolName\",$B33,\"SubsidiaryName\",$C33,\"YearStart\",AU$13))),\"\")","v":713},{"$f":"IFERROR(IF($B33=\"\",\"\",\nIF(OR($L33=\"Nursery School\",$L33=\"All-through PRU\",$M33=\"True\"),\"n/a\",\nIF(GETPIVOTDATA(BA$21 & \"\",PivotTableB!$A$3,\"SchoolName\",$B33,\"SubsidiaryName\",$C33,\"YearStart\",BA$13)=\"\",\".\",\nGETPIVOTDATA(BA$21 & \"\",PivotTableB!$A$3,\"SchoolName\",$B33,\"SubsidiaryName\",$C33,\"YearStart\",BA$13)))),\"\")","v":110},{"$f":"IFERROR(IF(BA33=\".\",\".\",IF(BA33=\"n/a\",\"n/a\",\nGETPIVOTDATA(BB$21 & \"\",PivotTableB!$A$3,\"SchoolName\",$B33,\"SubsidiaryName\",$C33,\"YearStart\",BA$13))),\"\")","v":0},{"$f":"IFERROR(IF(BB33=\".\",\".\",IF(BB33=\"n/a\",\"n/a\",\nGETPIVOTDATA(BC$21 & \"\",PivotTableB!$A$3,\"SchoolName\",$B33,\"SubsidiaryName\",$C33,\"YearStart\",BA$13))),\"\")","v":0},{"$f":"IFERROR(IF(BC33=\".\",\".\",IF(BC33=\"n/a\",\"n/a\",\nGETPIVOTDATA(BD$21 & \"\",PivotTableB!$A$3,\"SchoolName\",$B33,\"SubsidiaryName\",$C33,\"YearStart\",BB$13))),\"\")","v":""},110,{"$f":"IFERROR(IF(BE33=\".\",\".\",IF(BE33=\"n/a\",\"n/a\",\nGETPIVOTDATA(BF$21 & \"\",PivotTableB!$A$3,\"SchoolName\",$B33,\"SubsidiaryName\",$C33,\"YearStart\",BA$13))),\"\")","v":30},{"$f":"IFERROR(IF(BF33=\".\",\".\",IF(BF33=\"n/a\",\"n/a\",\nGETPIVOTDATA(BG$21 & \"\",PivotTableB!$A$3,\"SchoolName\",$B33,\"SubsidiaryName\",$C33,\"YearStart\",BA$13))),\"\")","v":713},{"$f":"IFERROR(IF($B33=\"\",\"\",\nIF(OR($L33=\"Nursery School\",$L33=\"All-through PRU\",$M33=\"True\"),\"n/a\",\nIF(GETPIVOTDATA(BH$21 & \"\",PivotTableB!$A$3,\"SchoolName\",$B33,\"SubsidiaryName\",$C33,\"YearStart\",BH$13)=\"\",\".\",\nGETPIVOTDATA(BH$21 & \"\",PivotTableB!$A$3,\"SchoolName\",$B33,\"SubsidiaryName\",$C33,\"YearStart\",BH$13)))),\"\")","v":110},{"$f":"IFERROR(IF(BH33=\".\",\".\",IF(BH33=\"n/a\",\"n/a\",\nGETPIVOTDATA(BI$21 & \"\",PivotTableB!$A$3,\"SchoolName\",$B33,\"SubsidiaryName\",$C33,\"YearStart\",BH$13))),\"\")","v":0},{"$f":"IFERROR(IF(BI33=\".\",\".\",IF(BI33=\"n/a\",\"n/a\",\nGETPIVOTDATA(BJ$21 & \"\",PivotTableB!$A$3,\"SchoolName\",$B33,\"SubsidiaryName\",$C33,\"YearStart\",BH$13))),\"\")","v":0},{"$f":"IFERROR(IF(BJ33=\".\",\".\",IF(BJ33=\"n/a\",\"n/a\",\nGETPIVOTDATA(BK$21 & \"\",PivotTableB!$A$3,\"SchoolName\",$B33,\"SubsidiaryName\",$C33,\"YearStart\",BH$13))),\"\")","v":0},110,{"$f":"IFERROR(IF(BL33=\".\",\".\",IF(BL33=\"n/a\",\"n/a\",\nGETPIVOTDATA(BM$21 & \"\",PivotTableB!$A$3,\"SchoolName\",$B33,\"SubsidiaryName\",$C33,\"YearStart\",BH$13))),\"\")","v":30},{"$f":"IFERROR(IF(BM33=\".\",\".\",IF(BM33=\"n/a\",\"n/a\",\nGETPIVOTDATA(BN$21 & \"\",PivotTableB!$A$3,\"SchoolName\",$B33,\"SubsidiaryName\",$C33,\"YearStart\",BH$13))),\"\")","v":713},{"$f":"IFERROR(IF($B33=\"\",\"\",\nIF(OR($L33=\"Nursery School\",$L33=\"All-through PRU\",$M33=\"True\"),\"n/a\",\nIF(GETPIVOTDATA(BO$21 & \"\",PivotTableB!$A$3,\"SchoolName\",$B33,\"SubsidiaryName\",$C33,\"YearStart\",BO$13)=\"\",\".\",\nGETPIVOTDATA(BO$21 & \"\",PivotTableB!$A$3,\"SchoolName\",$B33,\"SubsidiaryName\",$C33,\"YearStart\",BO$13)))),\"\")","v":110},{"$f":"IFERROR(IF(BO33=\".\",\".\",IF(BO33=\"n/a\",\"n/a\",\nGETPIVOTDATA(BP$21 & \"\",PivotTableB!$A$3,\"SchoolName\",$B33,\"SubsidiaryName\",$C33,\"YearStart\",BO$13))),\"\")","v":0},{"$f":"IFERROR(IF(BP33=\".\",\".\",IF(BP33=\"n/a\",\"n/a\",\nGETPIVOTDATA(BQ$21 & \"\",PivotTableB!$A$3,\"SchoolName\",$B33,\"SubsidiaryName\",$C33,\"YearStart\",BO$13))),\"\")","v":0},{"$f":"IFERROR(IF(BQ33=\".\",\".\",IF(BQ33=\"n/a\",\"n/a\",\nGETPIVOTDATA(BR$21 & \"\",PivotTableB!$A$3,\"SchoolName\",$B33,\"SubsidiaryName\",$C33,\"YearStart\",BP$13))),\"\")","v":""},110,{"$f":"IFERROR(IF(BS33=\".\",\".\",IF(BS33=\"n/a\",\"n/a\",\nGETPIVOTDATA(BT$21 & \"\",PivotTableB!$A$3,\"SchoolName\",$B33,\"SubsidiaryName\",$C33,\"YearStart\",BO$13))),\"\")","v":30},{"$f":"IFERROR(IF(BT33=\".\",\".\",IF(BT33=\"n/a\",\"n/a\",\nGETPIVOTDATA(BU$21 & \"\",PivotTableB!$A$3,\"SchoolName\",$B33,\"SubsidiaryName\",$C33,\"YearStart\",BO$13))),\"\")","v":713},{"$f":"IFERROR(IF($B33=\"\",\"\",\nIF(OR($L33=\"Nursery School\",$L33=\"All-through PRU\",$M33=\"True\"),\"n/a\",\nIF(GETPIVOTDATA(BV$21 & \"\",PivotTableB!$A$3,\"SchoolName\",$B33,\"SubsidiaryName\",$C33,\"YearStart\",BV$13)=\"\",\".\",\nGETPIVOTDATA(BV$21 & \"\",PivotTableB!$A$3,\"SchoolName\",$B33,\"SubsidiaryName\",$C33,\"YearStart\",BV$13)))),\"\")","v":110},{"$f":"IFERROR(IF(BV33=\".\",\".\",IF(BV33=\"n/a\",\"n/a\",\nGETPIVOTDATA(BW$21 & \"\",PivotTableB!$A$3,\"SchoolName\",$B33,\"SubsidiaryName\",$C33,\"YearStart\",BV$13))),\"\")","v":0},{"$f":"IFERROR(IF(BW33=\".\",\".\",IF(BW33=\"n/a\",\"n/a\",\nGETPIVOTDATA(BX$21 & \"\",PivotTableB!$A$3,\"SchoolName\",$B33,\"SubsidiaryName\",$C33,\"YearStart\",BV$13))),\"\")","v":0},{"$f":"IFERROR(IF(BX33=\".\",\".\",IF(BX33=\"n/a\",\"n/a\",\nGETPIVOTDATA(BY$21 & \"\",PivotTableB!$A$3,\"SchoolName\",$B33,\"SubsidiaryName\",$C33,\"YearStart\",BV$13))),\"\")","v":0},110,{"$f":"IFERROR(IF(BZ33=\".\",\".\",IF(BZ33=\"n/a\",\"n/a\",\nGETPIVOTDATA(CA$21 & \"\",PivotTableB!$A$3,\"SchoolName\",$B33,\"SubsidiaryName\",$C33,\"YearStart\",BV$13))),\"\")","v":30},{"$f":"IFERROR(IF(CA33=\".\",\".\",IF(CA33=\"n/a\",\"n/a\",\nGETPIVOTDATA(CB$21 & \"\",PivotTableB!$A$3,\"SchoolName\",$B33,\"SubsidiaryName\",$C33,\"YearStart\",BV$13))),\"\")","v":713}]
[null,{"$f":"IF(PivotTableA!A21=\"\",\"n/a\",PivotTableA!A21)","v":"Clewer Green CE School"},{"$f":"IF(B34=\"n/a\",\"\",PivotTableA!B21)","v":"Clewer Green CE School"},{"$f":"IF($B34=\"n/a\",\"\",PivotTableA!C21)","v":"R"},{"$f":"IF($B34=\"n/a\",\"\",PivotTableA!D21)","v":"Windsor"},{"$f":"IF($B34=\"n/a\",\"\",PivotTableA!E21)","v":"Windsor South"},{"$f":"IF($B34=\"n/a\",\"\",PivotTableA!F21)","v":"New Town"},{"$f":"IF($B34=\"n/a\",\"\",PivotTableA!G21)","v":"Clewer East"},{"$f":"IF($B34=\"n/a\",\"\",PivotTableA!H21)","v":"None"},{"$f":"IF($B34=\"n/a\",\"\",PivotTableA!I21)","v":"Primary"},{"$f":"IF($B34=\"n/a\",\"\",PivotTableA!J21)","v":"Three Tier"},{"$f":"IF($B34=\"n/a\",\"\",PivotTableA!K21)","v":"First"},{"$f":"IF($B34=\"n/a\",\"\",PivotTableA!O21)","v":"FALSE"},{"$f":"IF($B34=\"n/a\",\"\",PivotTableA!L21)","v":"Voluntary Aided"},{"$f":"IF($B34=\"n/a\",\"\",PivotTableA!M21)","v":" "},{"$f":"IF($B34=\"n/a\",\"\",PivotTableA!N21)","v":"Church of England"},{"$f":"IFERROR(IF($B34=\"\",\"\",\nIF(OR($L34=\"Nursery School\",$L34=\"All-through PRU\",$M34=\"True\"),\"n/a\",\nIF(GETPIVOTDATA(Q$21 & \"\",PivotTableB!$A$3,\"SchoolName\",$B34,\"SubsidiaryName\",$C34,\"YearStart\",Q$13)=\"\",\".\",\nGETPIVOTDATA(Q$21 & \"\",PivotTableB!$A$3,\"SchoolName\",$B34,\"SubsidiaryName\",$C34,\"YearStart\",Q$13)))),\"\")","v":60},{"$f":"IFERROR(IF(Q34=\".\",\".\",IF(Q34=\"n/a\",\"n/a\",\nGETPIVOTDATA(R$21 & \"\",PivotTableB!$A$3,\"SchoolName\",$B34,\"SubsidiaryName\",$C34,\"YearStart\",Q$13))),\"\")","v":0},{"$f":"IFERROR(IF(R34=\".\",\".\",IF(R34=\"n/a\",\"n/a\",\nGETPIVOTDATA(S$21 & \"\",PivotTableB!$A$3,\"SchoolName\",$B34,\"SubsidiaryName\",$C34,\"YearStart\",Q$13))),\"\")","v":0},60,{"$f":"IFERROR(IF(T34=\".\",\".\",IF(T34=\"n/a\",\"n/a\",\nGETPIVOTDATA(U$21 & \"\",PivotTableB!$A$3,\"SchoolName\",$B34,\"SubsidiaryName\",$C34,\"YearStart\",Q$13))),\"\")","v":0},{"$f":"IFERROR(IF(U34=\".\",\".\",IF(U34=\"n/a\",\"n/a\",\nGETPIVOTDATA(V$21 & \"\",PivotTableB!$A$3,\"SchoolName\",$B34,\"SubsidiaryName\",$C34,\"YearStart\",Q$13))),\"\")","v":300},{"$f":"IFERROR(IF($B34=\"\",\"\",\nIF(OR($L34=\"Nursery School\",$L34=\"All-through PRU\",$M34=\"True\"),\"n/a\",\nIF(GETPIVOTDATA(W$21 & \"\",PivotTableB!$A$3,\"SchoolName\",$B34,\"SubsidiaryName\",$C34,\"YearStart\",W$13)=\"\",\".\",\nGETPIVOTDATA(W$21 & \"\",PivotTableB!$A$3,\"SchoolName\",$B34,\"SubsidiaryName\",$C34,\"YearStart\",W$13)))),\"\")","v":60},{"$f":"IFERROR(IF(W34=\".\",\".\",IF(W34=\"n/a\",\"n/a\",\nGETPIVOTDATA(X$21 & \"\",PivotTableB!$A$3,\"SchoolName\",$B34,\"SubsidiaryName\",$C34,\"YearStart\",W$13))),\"\")","v":0},{"$f":"IFERROR(IF(X34=\".\",\".\",IF(X34=\"n/a\",\"n/a\",\nGETPIVOTDATA(Y$21 & \"\",PivotTableB!$A$3,\"SchoolName\",$B34,\"SubsidiaryName\",$C34,\"YearStart\",W$13))),\"\")","v":0},60,{"$f":"IFERROR(IF(Z34=\".\",\".\",IF(Z34=\"n/a\",\"n/a\",\nGETPIVOTDATA(AA$21 & \"\",PivotTableB!$A$3,\"SchoolName\",$B34,\"SubsidiaryName\",$C34,\"YearStart\",W$13))),\"\")","v":0},{"$f":"IFERROR(IF(AA34=\".\",\".\",IF(AA34=\"n/a\",\"n/a\",\nGETPIVOTDATA(AB$21 & \"\",PivotTableB!$A$3,\"SchoolName\",$B34,\"SubsidiaryName\",$C34,\"YearStart\",W$13))),\"\")","v":300},{"$f":"IFERROR(IF($B34=\"\",\"\",\nIF(OR($L34=\"Nursery School\",$L34=\"All-through PRU\",$M34=\"True\"),\"n/a\",\nIF(GETPIVOTDATA(AC$21 & \"\",PivotTableB!$A$3,\"SchoolName\",$B34,\"SubsidiaryName\",$C34,\"YearStart\",AC$13)=\"\",\".\",\nGETPIVOTDATA(AC$21 & \"\",PivotTableB!$A$3,\"SchoolName\",$B34,\"SubsidiaryName\",$C34,\"YearStart\",AC$13)))),\"\")","v":60},{"$f":"IFERROR(IF(AC34=\".\",\".\",IF(AC34=\"n/a\",\"n/a\",\nGETPIVOTDATA(AD$21 & \"\",PivotTableB!$A$3,\"SchoolName\",$B34,\"SubsidiaryName\",$C34,\"YearStart\",AC$13))),\"\")","v":0},{"$f":"IFERROR(IF(AD34=\".\",\".\",IF(AD34=\"n/a\",\"n/a\",\nGETPIVOTDATA(AE$21 & \"\",PivotTableB!$A$3,\"SchoolName\",$B34,\"SubsidiaryName\",$C34,\"YearStart\",AC$13))),\"\")","v":0},60,{"$f":"IFERROR(IF(AF34=\".\",\".\",IF(AF34=\"n/a\",\"n/a\",\nGETPIVOTDATA(AG$21 & \"\",PivotTableB!$A$3,\"SchoolName\",$B34,\"SubsidiaryName\",$C34,\"YearStart\",AC$13))),\"\")","v":0},{"$f":"IFERROR(IF(AG34=\".\",\".\",IF(AG34=\"n/a\",\"n/a\",\nGETPIVOTDATA(AH$21 & \"\",PivotTableB!$A$3,\"SchoolName\",$B34,\"SubsidiaryName\",$C34,\"YearStart\",AC$13))),\"\")","v":300},{"$f":"IFERROR(IF($B34=\"\",\"\",\nIF(OR($L34=\"Nursery School\",$L34=\"All-through PRU\",$M34=\"True\"),\"n/a\",\nIF(GETPIVOTDATA(AI$21 & \"\",PivotTableB!$A$3,\"SchoolName\",$B34,\"SubsidiaryName\",$C34,\"YearStart\",AI$13)=\"\",\".\",\nGETPIVOTDATA(AI$21 & \"\",PivotTableB!$A$3,\"SchoolName\",$B34,\"SubsidiaryName\",$C34,\"YearStart\",AI$13)))),\"\")","v":60},{"$f":"IFERROR(IF(AI34=\".\",\".\",IF(AI34=\"n/a\",\"n/a\",\nGETPIVOTDATA(AJ$21 & \"\",PivotTableB!$A$3,\"SchoolName\",$B34,\"SubsidiaryName\",$C34,\"YearStart\",AI$13))),\"\")","v":0},{"$f":"IFERROR(IF(AJ34=\".\",\".\",IF(AJ34=\"n/a\",\"n/a\",\nGETPIVOTDATA(AK$21 & \"\",PivotTableB!$A$3,\"SchoolName\",$B34,\"SubsidiaryName\",$C34,\"YearStart\",AI$13))),\"\")","v":0},60,{"$f":"IFERROR(IF(AL34=\".\",\".\",IF(AL34=\"n/a\",\"n/a\",\nGETPIVOTDATA(AM$21 & \"\",PivotTableB!$A$3,\"SchoolName\",$B34,\"SubsidiaryName\",$C34,\"YearStart\",AI$13))),\"\")","v":0},{"$f":"IFERROR(IF(AM34=\".\",\".\",IF(AM34=\"n/a\",\"n/a\",\nGETPIVOTDATA(AN$21 & \"\",PivotTableB!$A$3,\"SchoolName\",$B34,\"SubsidiaryName\",$C34,\"YearStart\",AI$13))),\"\")","v":300},{"$f":"IFERROR(IF($B34=\"\",\"\",\nIF(OR($L34=\"Nursery School\",$L34=\"All-through PRU\",$M34=\"True\"),\"n/a\",\nIF(GETPIVOTDATA(AO$21 & \"\",PivotTableB!$A$3,\"SchoolName\",$B34,\"SubsidiaryName\",$C34,\"YearStart\",AO$13)=\"\",\".\",\nGETPIVOTDATA(AO$21 & \"\",PivotTableB!$A$3,\"SchoolName\",$B34,\"SubsidiaryName\",$C34,\"YearStart\",AO$13)))),\"\")","v":60},{"$f":"IFERROR(IF(AO34=\".\",\".\",IF(AO34=\"n/a\",\"n/a\",\nGETPIVOTDATA(AP$21 & \"\",PivotTableB!$A$3,\"SchoolName\",$B34,\"SubsidiaryName\",$C34,\"YearStart\",AO$13))),\"\")","v":0},{"$f":"IFERROR(IF(AP34=\".\",\".\",IF(AP34=\"n/a\",\"n/a\",\nGETPIVOTDATA(AQ$21 & \"\",PivotTableB!$A$3,\"SchoolName\",$B34,\"SubsidiaryName\",$C34,\"YearStart\",AO$13))),\"\")","v":0},60,{"$f":"IFERROR(IF(AR34=\".\",\".\",IF(AR34=\"n/a\",\"n/a\",\nGETPIVOTDATA(AS$21 & \"\",PivotTableB!$A$3,\"SchoolName\",$B34,\"SubsidiaryName\",$C34,\"YearStart\",AO$13))),\"\")","v":0},{"$f":"IFERROR(IF(AS34=\".\",\".\",IF(AS34=\"n/a\",\"n/a\",\nGETPIVOTDATA(AT$21 & \"\",PivotTableB!$A$3,\"SchoolName\",$B34,\"SubsidiaryName\",$C34,\"YearStart\",AO$13))),\"\")","v":300},{"$f":"IFERROR(IF($B34=\"\",\"\",\nIF(OR($L34=\"Nursery School\",$L34=\"All-through PRU\",$M34=\"True\"),\"n/a\",\nIF(GETPIVOTDATA(AU$21 & \"\",PivotTableB!$A$3,\"SchoolName\",$B34,\"SubsidiaryName\",$C34,\"YearStart\",AU$13)=\"\",\".\",\nGETPIVOTDATA(AU$21 & \"\",PivotTableB!$A$3,\"SchoolName\",$B34,\"SubsidiaryName\",$C34,\"YearStart\",AU$13)))),\"\")","v":60},{"$f":"IFERROR(IF(AU34=\".\",\".\",IF(AU34=\"n/a\",\"n/a\",\nGETPIVOTDATA(AV$21 & \"\",PivotTableB!$A$3,\"SchoolName\",$B34,\"SubsidiaryName\",$C34,\"YearStart\",AU$13))),\"\")","v":0},{"$f":"IFERROR(IF(AV34=\".\",\".\",IF(AV34=\"n/a\",\"n/a\",\nGETPIVOTDATA(AW$21 & \"\",PivotTableB!$A$3,\"SchoolName\",$B34,\"SubsidiaryName\",$C34,\"YearStart\",AU$13))),\"\")","v":0},60,{"$f":"IFERROR(IF(AX34=\".\",\".\",IF(AX34=\"n/a\",\"n/a\",\nGETPIVOTDATA(AY$21 & \"\",PivotTableB!$A$3,\"SchoolName\",$B34,\"SubsidiaryName\",$C34,\"YearStart\",AU$13))),\"\")","v":0},{"$f":"IFERROR(IF(AY34=\".\",\".\",IF(AY34=\"n/a\",\"n/a\",\nGETPIVOTDATA(AZ$21 & \"\",PivotTableB!$A$3,\"SchoolName\",$B34,\"SubsidiaryName\",$C34,\"YearStart\",AU$13))),\"\")","v":300},{"$f":"IFERROR(IF($B34=\"\",\"\",\nIF(OR($L34=\"Nursery School\",$L34=\"All-through PRU\",$M34=\"True\"),\"n/a\",\nIF(GETPIVOTDATA(BA$21 & \"\",PivotTableB!$A$3,\"SchoolName\",$B34,\"SubsidiaryName\",$C34,\"YearStart\",BA$13)=\"\",\".\",\nGETPIVOTDATA(BA$21 & \"\",PivotTableB!$A$3,\"SchoolName\",$B34,\"SubsidiaryName\",$C34,\"YearStart\",BA$13)))),\"\")","v":60},{"$f":"IFERROR(IF(BA34=\".\",\".\",IF(BA34=\"n/a\",\"n/a\",\nGETPIVOTDATA(BB$21 & \"\",PivotTableB!$A$3,\"SchoolName\",$B34,\"SubsidiaryName\",$C34,\"YearStart\",BA$13))),\"\")","v":0},{"$f":"IFERROR(IF(BB34=\".\",\".\",IF(BB34=\"n/a\",\"n/a\",\nGETPIVOTDATA(BC$21 & \"\",PivotTableB!$A$3,\"SchoolName\",$B34,\"SubsidiaryName\",$C34,\"YearStart\",BA$13))),\"\")","v":0},{"$f":"IFERROR(IF(BC34=\".\",\".\",IF(BC34=\"n/a\",\"n/a\",\nGETPIVOTDATA(BD$21 & \"\",PivotTableB!$A$3,\"SchoolName\",$B34,\"SubsidiaryName\",$C34,\"YearStart\",BB$13))),\"\")","v":""},60,{"$f":"IFERROR(IF(BE34=\".\",\".\",IF(BE34=\"n/a\",\"n/a\",\nGETPIVOTDATA(BF$21 & \"\",PivotTableB!$A$3,\"SchoolName\",$B34,\"SubsidiaryName\",$C34,\"YearStart\",BA$13))),\"\")","v":0},{"$f":"IFERROR(IF(BF34=\".\",\".\",IF(BF34=\"n/a\",\"n/a\",\nGETPIVOTDATA(BG$21 & \"\",PivotTableB!$A$3,\"SchoolName\",$B34,\"SubsidiaryName\",$C34,\"YearStart\",BA$13))),\"\")","v":300},{"$f":"IFERROR(IF($B34=\"\",\"\",\nIF(OR($L34=\"Nursery School\",$L34=\"All-through PRU\",$M34=\"True\"),\"n/a\",\nIF(GETPIVOTDATA(BH$21 & \"\",PivotTableB!$A$3,\"SchoolName\",$B34,\"SubsidiaryName\",$C34,\"YearStart\",BH$13)=\"\",\".\",\nGETPIVOTDATA(BH$21 & \"\",PivotTableB!$A$3,\"SchoolName\",$B34,\"SubsidiaryName\",$C34,\"YearStart\",BH$13)))),\"\")","v":60},{"$f":"IFERROR(IF(BH34=\".\",\".\",IF(BH34=\"n/a\",\"n/a\",\nGETPIVOTDATA(BI$21 & \"\",PivotTableB!$A$3,\"SchoolName\",$B34,\"SubsidiaryName\",$C34,\"YearStart\",BH$13))),\"\")","v":0},{"$f":"IFERROR(IF(BI34=\".\",\".\",IF(BI34=\"n/a\",\"n/a\",\nGETPIVOTDATA(BJ$21 & \"\",PivotTableB!$A$3,\"SchoolName\",$B34,\"SubsidiaryName\",$C34,\"YearStart\",BH$13))),\"\")","v":0},{"$f":"IFERROR(IF(BJ34=\".\",\".\",IF(BJ34=\"n/a\",\"n/a\",\nGETPIVOTDATA(BK$21 & \"\",PivotTableB!$A$3,\"SchoolName\",$B34,\"SubsidiaryName\",$C34,\"YearStart\",BH$13))),\"\")","v":0},60,{"$f":"IFERROR(IF(BL34=\".\",\".\",IF(BL34=\"n/a\",\"n/a\",\nGETPIVOTDATA(BM$21 & \"\",PivotTableB!$A$3,\"SchoolName\",$B34,\"SubsidiaryName\",$C34,\"YearStart\",BH$13))),\"\")","v":0},{"$f":"IFERROR(IF(BM34=\".\",\".\",IF(BM34=\"n/a\",\"n/a\",\nGETPIVOTDATA(BN$21 & \"\",PivotTableB!$A$3,\"SchoolName\",$B34,\"SubsidiaryName\",$C34,\"YearStart\",BH$13))),\"\")","v":300},{"$f":"IFERROR(IF($B34=\"\",\"\",\nIF(OR($L34=\"Nursery School\",$L34=\"All-through PRU\",$M34=\"True\"),\"n/a\",\nIF(GETPIVOTDATA(BO$21 & \"\",PivotTableB!$A$3,\"SchoolName\",$B34,\"SubsidiaryName\",$C34,\"YearStart\",BO$13)=\"\",\".\",\nGETPIVOTDATA(BO$21 & \"\",PivotTableB!$A$3,\"SchoolName\",$B34,\"SubsidiaryName\",$C34,\"YearStart\",BO$13)))),\"\")","v":60},{"$f":"IFERROR(IF(BO34=\".\",\".\",IF(BO34=\"n/a\",\"n/a\",\nGETPIVOTDATA(BP$21 & \"\",PivotTableB!$A$3,\"SchoolName\",$B34,\"SubsidiaryName\",$C34,\"YearStart\",BO$13))),\"\")","v":0},{"$f":"IFERROR(IF(BP34=\".\",\".\",IF(BP34=\"n/a\",\"n/a\",\nGETPIVOTDATA(BQ$21 & \"\",PivotTableB!$A$3,\"SchoolName\",$B34,\"SubsidiaryName\",$C34,\"YearStart\",BO$13))),\"\")","v":0},{"$f":"IFERROR(IF(BQ34=\".\",\".\",IF(BQ34=\"n/a\",\"n/a\",\nGETPIVOTDATA(BR$21 & \"\",PivotTableB!$A$3,\"SchoolName\",$B34,\"SubsidiaryName\",$C34,\"YearStart\",BP$13))),\"\")","v":""},60,{"$f":"IFERROR(IF(BS34=\".\",\".\",IF(BS34=\"n/a\",\"n/a\",\nGETPIVOTDATA(BT$21 & \"\",PivotTableB!$A$3,\"SchoolName\",$B34,\"SubsidiaryName\",$C34,\"YearStart\",BO$13))),\"\")","v":0},{"$f":"IFERROR(IF(BT34=\".\",\".\",IF(BT34=\"n/a\",\"n/a\",\nGETPIVOTDATA(BU$21 & \"\",PivotTableB!$A$3,\"SchoolName\",$B34,\"SubsidiaryName\",$C34,\"YearStart\",BO$13))),\"\")","v":300},{"$f":"IFERROR(IF($B34=\"\",\"\",\nIF(OR($L34=\"Nursery School\",$L34=\"All-through PRU\",$M34=\"True\"),\"n/a\",\nIF(GETPIVOTDATA(BV$21 & \"\",PivotTableB!$A$3,\"SchoolName\",$B34,\"SubsidiaryName\",$C34,\"YearStart\",BV$13)=\"\",\".\",\nGETPIVOTDATA(BV$21 & \"\",PivotTableB!$A$3,\"SchoolName\",$B34,\"SubsidiaryName\",$C34,\"YearStart\",BV$13)))),\"\")","v":60},{"$f":"IFERROR(IF(BV34=\".\",\".\",IF(BV34=\"n/a\",\"n/a\",\nGETPIVOTDATA(BW$21 & \"\",PivotTableB!$A$3,\"SchoolName\",$B34,\"SubsidiaryName\",$C34,\"YearStart\",BV$13))),\"\")","v":0},{"$f":"IFERROR(IF(BW34=\".\",\".\",IF(BW34=\"n/a\",\"n/a\",\nGETPIVOTDATA(BX$21 & \"\",PivotTableB!$A$3,\"SchoolName\",$B34,\"SubsidiaryName\",$C34,\"YearStart\",BV$13))),\"\")","v":0},{"$f":"IFERROR(IF(BX34=\".\",\".\",IF(BX34=\"n/a\",\"n/a\",\nGETPIVOTDATA(BY$21 & \"\",PivotTableB!$A$3,\"SchoolName\",$B34,\"SubsidiaryName\",$C34,\"YearStart\",BV$13))),\"\")","v":0},60,{"$f":"IFERROR(IF(BZ34=\".\",\".\",IF(BZ34=\"n/a\",\"n/a\",\nGETPIVOTDATA(CA$21 & \"\",PivotTableB!$A$3,\"SchoolName\",$B34,\"SubsidiaryName\",$C34,\"YearStart\",BV$13))),\"\")","v":0},{"$f":"IFERROR(IF(CA34=\".\",\".\",IF(CA34=\"n/a\",\"n/a\",\nGETPIVOTDATA(CB$21 & \"\",PivotTableB!$A$3,\"SchoolName\",$B34,\"SubsidiaryName\",$C34,\"YearStart\",BV$13))),\"\")","v":300}]
[null,{"$f":"IF(PivotTableA!A22=\"\",\"n/a\",PivotTableA!A22)","v":"Cookham Dean CE Primary School"},{"$f":"IF(B35=\"n/a\",\"\",PivotTableA!B22)","v":"Cookham Dean CE Primary School"},{"$f":"IF($B35=\"n/a\",\"\",PivotTableA!C22)","v":"R"},{"$f":"IF($B35=\"n/a\",\"\",PivotTableA!D22)","v":"Maidenhead"},{"$f":"IF($B35=\"n/a\",\"\",PivotTableA!E22)","v":"Bisham and Cookham"},{"$f":"IF($B35=\"n/a\",\"\",PivotTableA!F22)","v":"Cookham Dean South"},{"$f":"IF($B35=\"n/a\",\"\",PivotTableA!G22)","v":"Bisham and Cookham"},{"$f":"IF($B35=\"n/a\",\"\",PivotTableA!H22)","v":"Cookham"},{"$f":"IF($B35=\"n/a\",\"\",PivotTableA!I22)","v":"Primary"},{"$f":"IF($B35=\"n/a\",\"\",PivotTableA!J22)","v":"Two Tier"},{"$f":"IF($B35=\"n/a\",\"\",PivotTableA!K22)","v":"JMI"},{"$f":"IF($B35=\"n/a\",\"\",PivotTableA!O22)","v":"FALSE"},{"$f":"IF($B35=\"n/a\",\"\",PivotTableA!L22)","v":"Voluntary Aided"},{"$f":"IF($B35=\"n/a\",\"\",PivotTableA!M22)","v":" "},{"$f":"IF($B35=\"n/a\",\"\",PivotTableA!N22)","v":"Church of England"},{"$f":"IFERROR(IF($B35=\"\",\"\",\nIF(OR($L35=\"Nursery School\",$L35=\"All-through PRU\",$M35=\"True\"),\"n/a\",\nIF(GETPIVOTDATA(Q$21 & \"\",PivotTableB!$A$3,\"SchoolName\",$B35,\"SubsidiaryName\",$C35,\"YearStart\",Q$13)=\"\",\".\",\nGETPIVOTDATA(Q$21 & \"\",PivotTableB!$A$3,\"SchoolName\",$B35,\"SubsidiaryName\",$C35,\"YearStart\",Q$13)))),\"\")","v":26},{"$f":"IFERROR(IF(Q35=\".\",\".\",IF(Q35=\"n/a\",\"n/a\",\nGETPIVOTDATA(R$21 & \"\",PivotTableB!$A$3,\"SchoolName\",$B35,\"SubsidiaryName\",$C35,\"YearStart\",Q$13))),\"\")","v":0},{"$f":"IFERROR(IF(R35=\".\",\".\",IF(R35=\"n/a\",\"n/a\",\nGETPIVOTDATA(S$21 & \"\",PivotTableB!$A$3,\"SchoolName\",$B35,\"SubsidiaryName\",$C35,\"YearStart\",Q$13))),\"\")","v":0},26,{"$f":"IFERROR(IF(T35=\".\",\".\",IF(T35=\"n/a\",\"n/a\",\nGETPIVOTDATA(U$21 & \"\",PivotTableB!$A$3,\"SchoolName\",$B35,\"SubsidiaryName\",$C35,\"YearStart\",Q$13))),\"\")","v":0},{"$f":"IFERROR(IF(U35=\".\",\".\",IF(U35=\"n/a\",\"n/a\",\nGETPIVOTDATA(V$21 & \"\",PivotTableB!$A$3,\"SchoolName\",$B35,\"SubsidiaryName\",$C35,\"YearStart\",Q$13))),\"\")","v":189},{"$f":"IFERROR(IF($B35=\"\",\"\",\nIF(OR($L35=\"Nursery School\",$L35=\"All-through PRU\",$M35=\"True\"),\"n/a\",\nIF(GETPIVOTDATA(W$21 & \"\",PivotTableB!$A$3,\"SchoolName\",$B35,\"SubsidiaryName\",$C35,\"YearStart\",W$13)=\"\",\".\",\nGETPIVOTDATA(W$21 & \"\",PivotTableB!$A$3,\"SchoolName\",$B35,\"SubsidiaryName\",$C35,\"YearStart\",W$13)))),\"\")","v":26},{"$f":"IFERROR(IF(W35=\".\",\".\",IF(W35=\"n/a\",\"n/a\",\nGETPIVOTDATA(X$21 & \"\",PivotTableB!$A$3,\"SchoolName\",$B35,\"SubsidiaryName\",$C35,\"YearStart\",W$13))),\"\")","v":0},{"$f":"IFERROR(IF(X35=\".\",\".\",IF(X35=\"n/a\",\"n/a\",\nGETPIVOTDATA(Y$21 & \"\",PivotTableB!$A$3,\"SchoolName\",$B35,\"SubsidiaryName\",$C35,\"YearStart\",W$13))),\"\")","v":0},26,{"$f":"IFERROR(IF(Z35=\".\",\".\",IF(Z35=\"n/a\",\"n/a\",\nGETPIVOTDATA(AA$21 & \"\",PivotTableB!$A$3,\"SchoolName\",$B35,\"SubsidiaryName\",$C35,\"YearStart\",W$13))),\"\")","v":0},{"$f":"IFERROR(IF(AA35=\".\",\".\",IF(AA35=\"n/a\",\"n/a\",\nGETPIVOTDATA(AB$21 & \"\",PivotTableB!$A$3,\"SchoolName\",$B35,\"SubsidiaryName\",$C35,\"YearStart\",W$13))),\"\")","v":189},{"$f":"IFERROR(IF($B35=\"\",\"\",\nIF(OR($L35=\"Nursery School\",$L35=\"All-through PRU\",$M35=\"True\"),\"n/a\",\nIF(GETPIVOTDATA(AC$21 & \"\",PivotTableB!$A$3,\"SchoolName\",$B35,\"SubsidiaryName\",$C35,\"YearStart\",AC$13)=\"\",\".\",\nGETPIVOTDATA(AC$21 & \"\",PivotTableB!$A$3,\"SchoolName\",$B35,\"SubsidiaryName\",$C35,\"YearStart\",AC$13)))),\"\")","v":27},{"$f":"IFERROR(IF(AC35=\".\",\".\",IF(AC35=\"n/a\",\"n/a\",\nGETPIVOTDATA(AD$21 & \"\",PivotTableB!$A$3,\"SchoolName\",$B35,\"SubsidiaryName\",$C35,\"YearStart\",AC$13))),\"\")","v":0},{"$f":"IFERROR(IF(AD35=\".\",\".\",IF(AD35=\"n/a\",\"n/a\",\nGETPIVOTDATA(AE$21 & \"\",PivotTableB!$A$3,\"SchoolName\",$B35,\"SubsidiaryName\",$C35,\"YearStart\",AC$13))),\"\")","v":0},27,{"$f":"IFERROR(IF(AF35=\".\",\".\",IF(AF35=\"n/a\",\"n/a\",\nGETPIVOTDATA(AG$21 & \"\",PivotTableB!$A$3,\"SchoolName\",$B35,\"SubsidiaryName\",$C35,\"YearStart\",AC$13))),\"\")","v":0},{"$f":"IFERROR(IF(AG35=\".\",\".\",IF(AG35=\"n/a\",\"n/a\",\nGETPIVOTDATA(AH$21 & \"\",PivotTableB!$A$3,\"SchoolName\",$B35,\"SubsidiaryName\",$C35,\"YearStart\",AC$13))),\"\")","v":189},{"$f":"IFERROR(IF($B35=\"\",\"\",\nIF(OR($L35=\"Nursery School\",$L35=\"All-through PRU\",$M35=\"True\"),\"n/a\",\nIF(GETPIVOTDATA(AI$21 & \"\",PivotTableB!$A$3,\"SchoolName\",$B35,\"SubsidiaryName\",$C35,\"YearStart\",AI$13)=\"\",\".\",\nGETPIVOTDATA(AI$21 & \"\",PivotTableB!$A$3,\"SchoolName\",$B35,\"SubsidiaryName\",$C35,\"YearStart\",AI$13)))),\"\")","v":27},{"$f":"IFERROR(IF(AI35=\".\",\".\",IF(AI35=\"n/a\",\"n/a\",\nGETPIVOTDATA(AJ$21 & \"\",PivotTableB!$A$3,\"SchoolName\",$B35,\"SubsidiaryName\",$C35,\"YearStart\",AI$13))),\"\")","v":0},{"$f":"IFERROR(IF(AJ35=\".\",\".\",IF(AJ35=\"n/a\",\"n/a\",\nGETPIVOTDATA(AK$21 & \"\",PivotTableB!$A$3,\"SchoolName\",$B35,\"SubsidiaryName\",$C35,\"YearStart\",AI$13))),\"\")","v":0},27,{"$f":"IFERROR(IF(AL35=\".\",\".\",IF(AL35=\"n/a\",\"n/a\",\nGETPIVOTDATA(AM$21 & \"\",PivotTableB!$A$3,\"SchoolName\",$B35,\"SubsidiaryName\",$C35,\"YearStart\",AI$13))),\"\")","v":0},{"$f":"IFERROR(IF(AM35=\".\",\".\",IF(AM35=\"n/a\",\"n/a\",\nGETPIVOTDATA(AN$21 & \"\",PivotTableB!$A$3,\"SchoolName\",$B35,\"SubsidiaryName\",$C35,\"YearStart\",AI$13))),\"\")","v":189},{"$f":"IFERROR(IF($B35=\"\",\"\",\nIF(OR($L35=\"Nursery School\",$L35=\"All-through PRU\",$M35=\"True\"),\"n/a\",\nIF(GETPIVOTDATA(AO$21 & \"\",PivotTableB!$A$3,\"SchoolName\",$B35,\"SubsidiaryName\",$C35,\"YearStart\",AO$13)=\"\",\".\",\nGETPIVOTDATA(AO$21 & \"\",PivotTableB!$A$3,\"SchoolName\",$B35,\"SubsidiaryName\",$C35,\"YearStart\",AO$13)))),\"\")","v":27},{"$f":"IFERROR(IF(AO35=\".\",\".\",IF(AO35=\"n/a\",\"n/a\",\nGETPIVOTDATA(AP$21 & \"\",PivotTableB!$A$3,\"SchoolName\",$B35,\"SubsidiaryName\",$C35,\"YearStart\",AO$13))),\"\")","v":0},{"$f":"IFERROR(IF(AP35=\".\",\".\",IF(AP35=\"n/a\",\"n/a\",\nGETPIVOTDATA(AQ$21 & \"\",PivotTableB!$A$3,\"SchoolName\",$B35,\"SubsidiaryName\",$C35,\"YearStart\",AO$13))),\"\")","v":0},27,{"$f":"IFERROR(IF(AR35=\".\",\".\",IF(AR35=\"n/a\",\"n/a\",\nGETPIVOTDATA(AS$21 & \"\",PivotTableB!$A$3,\"SchoolName\",$B35,\"SubsidiaryName\",$C35,\"YearStart\",AO$13))),\"\")","v":0},{"$f":"IFERROR(IF(AS35=\".\",\".\",IF(AS35=\"n/a\",\"n/a\",\nGETPIVOTDATA(AT$21 & \"\",PivotTableB!$A$3,\"SchoolName\",$B35,\"SubsidiaryName\",$C35,\"YearStart\",AO$13))),\"\")","v":189},{"$f":"IFERROR(IF($B35=\"\",\"\",\nIF(OR($L35=\"Nursery School\",$L35=\"All-through PRU\",$M35=\"True\"),\"n/a\",\nIF(GETPIVOTDATA(AU$21 & \"\",PivotTableB!$A$3,\"SchoolName\",$B35,\"SubsidiaryName\",$C35,\"YearStart\",AU$13)=\"\",\".\",\nGETPIVOTDATA(AU$21 & \"\",PivotTableB!$A$3,\"SchoolName\",$B35,\"SubsidiaryName\",$C35,\"YearStart\",AU$13)))),\"\")","v":27},{"$f":"IFERROR(IF(AU35=\".\",\".\",IF(AU35=\"n/a\",\"n/a\",\nGETPIVOTDATA(AV$21 & \"\",PivotTableB!$A$3,\"SchoolName\",$B35,\"SubsidiaryName\",$C35,\"YearStart\",AU$13))),\"\")","v":0},{"$f":"IFERROR(IF(AV35=\".\",\".\",IF(AV35=\"n/a\",\"n/a\",\nGETPIVOTDATA(AW$21 & \"\",PivotTableB!$A$3,\"SchoolName\",$B35,\"SubsidiaryName\",$C35,\"YearStart\",AU$13))),\"\")","v":0},27,{"$f":"IFERROR(IF(AX35=\".\",\".\",IF(AX35=\"n/a\",\"n/a\",\nGETPIVOTDATA(AY$21 & \"\",PivotTableB!$A$3,\"SchoolName\",$B35,\"SubsidiaryName\",$C35,\"YearStart\",AU$13))),\"\")","v":0},{"$f":"IFERROR(IF(AY35=\".\",\".\",IF(AY35=\"n/a\",\"n/a\",\nGETPIVOTDATA(AZ$21 & \"\",PivotTableB!$A$3,\"SchoolName\",$B35,\"SubsidiaryName\",$C35,\"YearStart\",AU$13))),\"\")","v":189},{"$f":"IFERROR(IF($B35=\"\",\"\",\nIF(OR($L35=\"Nursery School\",$L35=\"All-through PRU\",$M35=\"True\"),\"n/a\",\nIF(GETPIVOTDATA(BA$21 & \"\",PivotTableB!$A$3,\"SchoolName\",$B35,\"SubsidiaryName\",$C35,\"YearStart\",BA$13)=\"\",\".\",\nGETPIVOTDATA(BA$21 & \"\",PivotTableB!$A$3,\"SchoolName\",$B35,\"SubsidiaryName\",$C35,\"YearStart\",BA$13)))),\"\")","v":27},{"$f":"IFERROR(IF(BA35=\".\",\".\",IF(BA35=\"n/a\",\"n/a\",\nGETPIVOTDATA(BB$21 & \"\",PivotTableB!$A$3,\"SchoolName\",$B35,\"SubsidiaryName\",$C35,\"YearStart\",BA$13))),\"\")","v":0},{"$f":"IFERROR(IF(BB35=\".\",\".\",IF(BB35=\"n/a\",\"n/a\",\nGETPIVOTDATA(BC$21 & \"\",PivotTableB!$A$3,\"SchoolName\",$B35,\"SubsidiaryName\",$C35,\"YearStart\",BA$13))),\"\")","v":0},{"$f":"IFERROR(IF(BC35=\".\",\".\",IF(BC35=\"n/a\",\"n/a\",\nGETPIVOTDATA(BD$21 & \"\",PivotTableB!$A$3,\"SchoolName\",$B35,\"SubsidiaryName\",$C35,\"YearStart\",BB$13))),\"\")","v":""},27,{"$f":"IFERROR(IF(BE35=\".\",\".\",IF(BE35=\"n/a\",\"n/a\",\nGETPIVOTDATA(BF$21 & \"\",PivotTableB!$A$3,\"SchoolName\",$B35,\"SubsidiaryName\",$C35,\"YearStart\",BA$13))),\"\")","v":0},{"$f":"IFERROR(IF(BF35=\".\",\".\",IF(BF35=\"n/a\",\"n/a\",\nGETPIVOTDATA(BG$21 & \"\",PivotTableB!$A$3,\"SchoolName\",$B35,\"SubsidiaryName\",$C35,\"YearStart\",BA$13))),\"\")","v":189},{"$f":"IFERROR(IF($B35=\"\",\"\",\nIF(OR($L35=\"Nursery School\",$L35=\"All-through PRU\",$M35=\"True\"),\"n/a\",\nIF(GETPIVOTDATA(BH$21 & \"\",PivotTableB!$A$3,\"SchoolName\",$B35,\"SubsidiaryName\",$C35,\"YearStart\",BH$13)=\"\",\".\",\nGETPIVOTDATA(BH$21 & \"\",PivotTableB!$A$3,\"SchoolName\",$B35,\"SubsidiaryName\",$C35,\"YearStart\",BH$13)))),\"\")","v":27},{"$f":"IFERROR(IF(BH35=\".\",\".\",IF(BH35=\"n/a\",\"n/a\",\nGETPIVOTDATA(BI$21 & \"\",PivotTableB!$A$3,\"SchoolName\",$B35,\"SubsidiaryName\",$C35,\"YearStart\",BH$13))),\"\")","v":0},{"$f":"IFERROR(IF(BI35=\".\",\".\",IF(BI35=\"n/a\",\"n/a\",\nGETPIVOTDATA(BJ$21 & \"\",PivotTableB!$A$3,\"SchoolName\",$B35,\"SubsidiaryName\",$C35,\"YearStart\",BH$13))),\"\")","v":0},{"$f":"IFERROR(IF(BJ35=\".\",\".\",IF(BJ35=\"n/a\",\"n/a\",\nGETPIVOTDATA(BK$21 & \"\",PivotTableB!$A$3,\"SchoolName\",$B35,\"SubsidiaryName\",$C35,\"YearStart\",BH$13))),\"\")","v":0},27,{"$f":"IFERROR(IF(BL35=\".\",\".\",IF(BL35=\"n/a\",\"n/a\",\nGETPIVOTDATA(BM$21 & \"\",PivotTableB!$A$3,\"SchoolName\",$B35,\"SubsidiaryName\",$C35,\"YearStart\",BH$13))),\"\")","v":0},{"$f":"IFERROR(IF(BM35=\".\",\".\",IF(BM35=\"n/a\",\"n/a\",\nGETPIVOTDATA(BN$21 & \"\",PivotTableB!$A$3,\"SchoolName\",$B35,\"SubsidiaryName\",$C35,\"YearStart\",BH$13))),\"\")","v":189},{"$f":"IFERROR(IF($B35=\"\",\"\",\nIF(OR($L35=\"Nursery School\",$L35=\"All-through PRU\",$M35=\"True\"),\"n/a\",\nIF(GETPIVOTDATA(BO$21 & \"\",PivotTableB!$A$3,\"SchoolName\",$B35,\"SubsidiaryName\",$C35,\"YearStart\",BO$13)=\"\",\".\",\nGETPIVOTDATA(BO$21 & \"\",PivotTableB!$A$3,\"SchoolName\",$B35,\"SubsidiaryName\",$C35,\"YearStart\",BO$13)))),\"\")","v":27},{"$f":"IFERROR(IF(BO35=\".\",\".\",IF(BO35=\"n/a\",\"n/a\",\nGETPIVOTDATA(BP$21 & \"\",PivotTableB!$A$3,\"SchoolName\",$B35,\"SubsidiaryName\",$C35,\"YearStart\",BO$13))),\"\")","v":0},{"$f":"IFERROR(IF(BP35=\".\",\".\",IF(BP35=\"n/a\",\"n/a\",\nGETPIVOTDATA(BQ$21 & \"\",PivotTableB!$A$3,\"SchoolName\",$B35,\"SubsidiaryName\",$C35,\"YearStart\",BO$13))),\"\")","v":0},{"$f":"IFERROR(IF(BQ35=\".\",\".\",IF(BQ35=\"n/a\",\"n/a\",\nGETPIVOTDATA(BR$21 & \"\",PivotTableB!$A$3,\"SchoolName\",$B35,\"SubsidiaryName\",$C35,\"YearStart\",BP$13))),\"\")","v":""},27,{"$f":"IFERROR(IF(BS35=\".\",\".\",IF(BS35=\"n/a\",\"n/a\",\nGETPIVOTDATA(BT$21 & \"\",PivotTableB!$A$3,\"SchoolName\",$B35,\"SubsidiaryName\",$C35,\"YearStart\",BO$13))),\"\")","v":0},{"$f":"IFERROR(IF(BT35=\".\",\".\",IF(BT35=\"n/a\",\"n/a\",\nGETPIVOTDATA(BU$21 & \"\",PivotTableB!$A$3,\"SchoolName\",$B35,\"SubsidiaryName\",$C35,\"YearStart\",BO$13))),\"\")","v":189},{"$f":"IFERROR(IF($B35=\"\",\"\",\nIF(OR($L35=\"Nursery School\",$L35=\"All-through PRU\",$M35=\"True\"),\"n/a\",\nIF(GETPIVOTDATA(BV$21 & \"\",PivotTableB!$A$3,\"SchoolName\",$B35,\"SubsidiaryName\",$C35,\"YearStart\",BV$13)=\"\",\".\",\nGETPIVOTDATA(BV$21 & \"\",PivotTableB!$A$3,\"SchoolName\",$B35,\"SubsidiaryName\",$C35,\"YearStart\",BV$13)))),\"\")","v":27},{"$f":"IFERROR(IF(BV35=\".\",\".\",IF(BV35=\"n/a\",\"n/a\",\nGETPIVOTDATA(BW$21 & \"\",PivotTableB!$A$3,\"SchoolName\",$B35,\"SubsidiaryName\",$C35,\"YearStart\",BV$13))),\"\")","v":0},{"$f":"IFERROR(IF(BW35=\".\",\".\",IF(BW35=\"n/a\",\"n/a\",\nGETPIVOTDATA(BX$21 & \"\",PivotTableB!$A$3,\"SchoolName\",$B35,\"SubsidiaryName\",$C35,\"YearStart\",BV$13))),\"\")","v":0},{"$f":"IFERROR(IF(BX35=\".\",\".\",IF(BX35=\"n/a\",\"n/a\",\nGETPIVOTDATA(BY$21 & \"\",PivotTableB!$A$3,\"SchoolName\",$B35,\"SubsidiaryName\",$C35,\"YearStart\",BV$13))),\"\")","v":0},27,{"$f":"IFERROR(IF(BZ35=\".\",\".\",IF(BZ35=\"n/a\",\"n/a\",\nGETPIVOTDATA(CA$21 & \"\",PivotTableB!$A$3,\"SchoolName\",$B35,\"SubsidiaryName\",$C35,\"YearStart\",BV$13))),\"\")","v":0},{"$f":"IFERROR(IF(CA35=\".\",\".\",IF(CA35=\"n/a\",\"n/a\",\nGETPIVOTDATA(CB$21 & \"\",PivotTableB!$A$3,\"SchoolName\",$B35,\"SubsidiaryName\",$C35,\"YearStart\",BV$13))),\"\")","v":189}]
[null,{"$f":"IF(PivotTableA!A23=\"\",\"n/a\",PivotTableA!A23)","v":"Cookham Nursery School"},{"$f":"IF(B36=\"n/a\",\"\",PivotTableA!B23)","v":"Cookham Nursery School"},{"$f":"IF($B36=\"n/a\",\"\",PivotTableA!C23)","v":"E1"},{"$f":"IF($B36=\"n/a\",\"\",PivotTableA!D23)","v":"Maidenhead"},{"$f":"IF($B36=\"n/a\",\"\",PivotTableA!E23)","v":"Bisham and Cookham"},{"$f":"IF($B36=\"n/a\",\"\",PivotTableA!F23)","v":"Cookham"},{"$f":"IF($B36=\"n/a\",\"\",PivotTableA!G23)","v":"Bisham and Cookham"},{"$f":"IF($B36=\"n/a\",\"\",PivotTableA!H23)","v":"Cookham"},{"$f":"IF($B36=\"n/a\",\"\",PivotTableA!I23)","v":"Early Years"},{"$f":"IF($B36=\"n/a\",\"\",PivotTableA!J23)","v":"NA"},{"$f":"IF($B36=\"n/a\",\"\",PivotTableA!K23)","v":"Nursery School"},{"$f":"IF($B36=\"n/a\",\"\",PivotTableA!O23)","v":"FALSE"},{"$f":"IF($B36=\"n/a\",\"\",PivotTableA!L23)","v":"Community"},{"$f":"IF($B36=\"n/a\",\"\",PivotTableA!M23)","v":" "},{"$f":"IF($B36=\"n/a\",\"\",PivotTableA!N23)","v":"None"},{"$f":"IFERROR(IF($B36=\"\",\"\",\nIF(OR($L36=\"Nursery School\",$L36=\"All-through PRU\",$M36=\"True\"),\"n/a\",\nIF(GETPIVOTDATA(Q$21 & \"\",PivotTableB!$A$3,\"SchoolName\",$B36,\"SubsidiaryName\",$C36,\"YearStart\",Q$13)=\"\",\".\",\nGETPIVOTDATA(Q$21 & \"\",PivotTableB!$A$3,\"SchoolName\",$B36,\"SubsidiaryName\",$C36,\"YearStart\",Q$13)))),\"\")","v":"n/a"},{"$f":"IFERROR(IF(Q36=\".\",\".\",IF(Q36=\"n/a\",\"n/a\",\nGETPIVOTDATA(R$21 & \"\",PivotTableB!$A$3,\"SchoolName\",$B36,\"SubsidiaryName\",$C36,\"YearStart\",Q$13))),\"\")","v":"n/a"},{"$f":"IFERROR(IF(R36=\".\",\".\",IF(R36=\"n/a\",\"n/a\",\nGETPIVOTDATA(S$21 & \"\",PivotTableB!$A$3,\"SchoolName\",$B36,\"SubsidiaryName\",$C36,\"YearStart\",Q$13))),\"\")","v":"n/a"},"n/a",{"$f":"IFERROR(IF(T36=\".\",\".\",IF(T36=\"n/a\",\"n/a\",\nGETPIVOTDATA(U$21 & \"\",PivotTableB!$A$3,\"SchoolName\",$B36,\"SubsidiaryName\",$C36,\"YearStart\",Q$13))),\"\")","v":"n/a"},{"$f":"IFERROR(IF(U36=\".\",\".\",IF(U36=\"n/a\",\"n/a\",\nGETPIVOTDATA(V$21 & \"\",PivotTableB!$A$3,\"SchoolName\",$B36,\"SubsidiaryName\",$C36,\"YearStart\",Q$13))),\"\")","v":"n/a"},{"$f":"IFERROR(IF($B36=\"\",\"\",\nIF(OR($L36=\"Nursery School\",$L36=\"All-through PRU\",$M36=\"True\"),\"n/a\",\nIF(GETPIVOTDATA(W$21 & \"\",PivotTableB!$A$3,\"SchoolName\",$B36,\"SubsidiaryName\",$C36,\"YearStart\",W$13)=\"\",\".\",\nGETPIVOTDATA(W$21 & \"\",PivotTableB!$A$3,\"SchoolName\",$B36,\"SubsidiaryName\",$C36,\"YearStart\",W$13)))),\"\")","v":"n/a"},{"$f":"IFERROR(IF(W36=\".\",\".\",IF(W36=\"n/a\",\"n/a\",\nGETPIVOTDATA(X$21 & \"\",PivotTableB!$A$3,\"SchoolName\",$B36,\"SubsidiaryName\",$C36,\"YearStart\",W$13))),\"\")","v":"n/a"},{"$f":"IFERROR(IF(X36=\".\",\".\",IF(X36=\"n/a\",\"n/a\",\nGETPIVOTDATA(Y$21 & \"\",PivotTableB!$A$3,\"SchoolName\",$B36,\"SubsidiaryName\",$C36,\"YearStart\",W$13))),\"\")","v":"n/a"},"n/a",{"$f":"IFERROR(IF(Z36=\".\",\".\",IF(Z36=\"n/a\",\"n/a\",\nGETPIVOTDATA(AA$21 & \"\",PivotTableB!$A$3,\"SchoolName\",$B36,\"SubsidiaryName\",$C36,\"YearStart\",W$13))),\"\")","v":"n/a"},{"$f":"IFERROR(IF(AA36=\".\",\".\",IF(AA36=\"n/a\",\"n/a\",\nGETPIVOTDATA(AB$21 & \"\",PivotTableB!$A$3,\"SchoolName\",$B36,\"SubsidiaryName\",$C36,\"YearStart\",W$13))),\"\")","v":"n/a"},{"$f":"IFERROR(IF($B36=\"\",\"\",\nIF(OR($L36=\"Nursery School\",$L36=\"All-through PRU\",$M36=\"True\"),\"n/a\",\nIF(GETPIVOTDATA(AC$21 & \"\",PivotTableB!$A$3,\"SchoolName\",$B36,\"SubsidiaryName\",$C36,\"YearStart\",AC$13)=\"\",\".\",\nGETPIVOTDATA(AC$21 & \"\",PivotTableB!$A$3,\"SchoolName\",$B36,\"SubsidiaryName\",$C36,\"YearStart\",AC$13)))),\"\")","v":"n/a"},{"$f":"IFERROR(IF(AC36=\".\",\".\",IF(AC36=\"n/a\",\"n/a\",\nGETPIVOTDATA(AD$21 & \"\",PivotTableB!$A$3,\"SchoolName\",$B36,\"SubsidiaryName\",$C36,\"YearStart\",AC$13))),\"\")","v":"n/a"},{"$f":"IFERROR(IF(AD36=\".\",\".\",IF(AD36=\"n/a\",\"n/a\",\nGETPIVOTDATA(AE$21 & \"\",PivotTableB!$A$3,\"SchoolName\",$B36,\"SubsidiaryName\",$C36,\"YearStart\",AC$13))),\"\")","v":"n/a"},"n/a",{"$f":"IFERROR(IF(AF36=\".\",\".\",IF(AF36=\"n/a\",\"n/a\",\nGETPIVOTDATA(AG$21 & \"\",PivotTableB!$A$3,\"SchoolName\",$B36,\"SubsidiaryName\",$C36,\"YearStart\",AC$13))),\"\")","v":"n/a"},{"$f":"IFERROR(IF(AG36=\".\",\".\",IF(AG36=\"n/a\",\"n/a\",\nGETPIVOTDATA(AH$21 & \"\",PivotTableB!$A$3,\"SchoolName\",$B36,\"SubsidiaryName\",$C36,\"YearStart\",AC$13))),\"\")","v":"n/a"},{"$f":"IFERROR(IF($B36=\"\",\"\",\nIF(OR($L36=\"Nursery School\",$L36=\"All-through PRU\",$M36=\"True\"),\"n/a\",\nIF(GETPIVOTDATA(AI$21 & \"\",PivotTableB!$A$3,\"SchoolName\",$B36,\"SubsidiaryName\",$C36,\"YearStart\",AI$13)=\"\",\".\",\nGETPIVOTDATA(AI$21 & \"\",PivotTableB!$A$3,\"SchoolName\",$B36,\"SubsidiaryName\",$C36,\"YearStart\",AI$13)))),\"\")","v":"n/a"},{"$f":"IFERROR(IF(AI36=\".\",\".\",IF(AI36=\"n/a\",\"n/a\",\nGETPIVOTDATA(AJ$21 & \"\",PivotTableB!$A$3,\"SchoolName\",$B36,\"SubsidiaryName\",$C36,\"YearStart\",AI$13))),\"\")","v":"n/a"},{"$f":"IFERROR(IF(AJ36=\".\",\".\",IF(AJ36=\"n/a\",\"n/a\",\nGETPIVOTDATA(AK$21 & \"\",PivotTableB!$A$3,\"SchoolName\",$B36,\"SubsidiaryName\",$C36,\"YearStart\",AI$13))),\"\")","v":"n/a"},"n/a",{"$f":"IFERROR(IF(AL36=\".\",\".\",IF(AL36=\"n/a\",\"n/a\",\nGETPIVOTDATA(AM$21 & \"\",PivotTableB!$A$3,\"SchoolName\",$B36,\"SubsidiaryName\",$C36,\"YearStart\",AI$13))),\"\")","v":"n/a"},{"$f":"IFERROR(IF(AM36=\".\",\".\",IF(AM36=\"n/a\",\"n/a\",\nGETPIVOTDATA(AN$21 & \"\",PivotTableB!$A$3,\"SchoolName\",$B36,\"SubsidiaryName\",$C36,\"YearStart\",AI$13))),\"\")","v":"n/a"},{"$f":"IFERROR(IF($B36=\"\",\"\",\nIF(OR($L36=\"Nursery School\",$L36=\"All-through PRU\",$M36=\"True\"),\"n/a\",\nIF(GETPIVOTDATA(AO$21 & \"\",PivotTableB!$A$3,\"SchoolName\",$B36,\"SubsidiaryName\",$C36,\"YearStart\",AO$13)=\"\",\".\",\nGETPIVOTDATA(AO$21 & \"\",PivotTableB!$A$3,\"SchoolName\",$B36,\"SubsidiaryName\",$C36,\"YearStart\",AO$13)))),\"\")","v":"n/a"},{"$f":"IFERROR(IF(AO36=\".\",\".\",IF(AO36=\"n/a\",\"n/a\",\nGETPIVOTDATA(AP$21 & \"\",PivotTableB!$A$3,\"SchoolName\",$B36,\"SubsidiaryName\",$C36,\"YearStart\",AO$13))),\"\")","v":"n/a"},{"$f":"IFERROR(IF(AP36=\".\",\".\",IF(AP36=\"n/a\",\"n/a\",\nGETPIVOTDATA(AQ$21 & \"\",PivotTableB!$A$3,\"SchoolName\",$B36,\"SubsidiaryName\",$C36,\"YearStart\",AO$13))),\"\")","v":"n/a"},"n/a",{"$f":"IFERROR(IF(AR36=\".\",\".\",IF(AR36=\"n/a\",\"n/a\",\nGETPIVOTDATA(AS$21 & \"\",PivotTableB!$A$3,\"SchoolName\",$B36,\"SubsidiaryName\",$C36,\"YearStart\",AO$13))),\"\")","v":"n/a"},{"$f":"IFERROR(IF(AS36=\".\",\".\",IF(AS36=\"n/a\",\"n/a\",\nGETPIVOTDATA(AT$21 & \"\",PivotTableB!$A$3,\"SchoolName\",$B36,\"SubsidiaryName\",$C36,\"YearStart\",AO$13))),\"\")","v":"n/a"},{"$f":"IFERROR(IF($B36=\"\",\"\",\nIF(OR($L36=\"Nursery School\",$L36=\"All-through PRU\",$M36=\"True\"),\"n/a\",\nIF(GETPIVOTDATA(AU$21 & \"\",PivotTableB!$A$3,\"SchoolName\",$B36,\"SubsidiaryName\",$C36,\"YearStart\",AU$13)=\"\",\".\",\nGETPIVOTDATA(AU$21 & \"\",PivotTableB!$A$3,\"SchoolName\",$B36,\"SubsidiaryName\",$C36,\"YearStart\",AU$13)))),\"\")","v":"n/a"},{"$f":"IFERROR(IF(AU36=\".\",\".\",IF(AU36=\"n/a\",\"n/a\",\nGETPIVOTDATA(AV$21 & \"\",PivotTableB!$A$3,\"SchoolName\",$B36,\"SubsidiaryName\",$C36,\"YearStart\",AU$13))),\"\")","v":"n/a"},{"$f":"IFERROR(IF(AV36=\".\",\".\",IF(AV36=\"n/a\",\"n/a\",\nGETPIVOTDATA(AW$21 & \"\",PivotTableB!$A$3,\"SchoolName\",$B36,\"SubsidiaryName\",$C36,\"YearStart\",AU$13))),\"\")","v":"n/a"},"n/a",{"$f":"IFERROR(IF(AX36=\".\",\".\",IF(AX36=\"n/a\",\"n/a\",\nGETPIVOTDATA(AY$21 & \"\",PivotTableB!$A$3,\"SchoolName\",$B36,\"SubsidiaryName\",$C36,\"YearStart\",AU$13))),\"\")","v":"n/a"},{"$f":"IFERROR(IF(AY36=\".\",\".\",IF(AY36=\"n/a\",\"n/a\",\nGETPIVOTDATA(AZ$21 & \"\",PivotTableB!$A$3,\"SchoolName\",$B36,\"SubsidiaryName\",$C36,\"YearStart\",AU$13))),\"\")","v":"n/a"},{"$f":"IFERROR(IF($B36=\"\",\"\",\nIF(OR($L36=\"Nursery School\",$L36=\"All-through PRU\",$M36=\"True\"),\"n/a\",\nIF(GETPIVOTDATA(BA$21 & \"\",PivotTableB!$A$3,\"SchoolName\",$B36,\"SubsidiaryName\",$C36,\"YearStart\",BA$13)=\"\",\".\",\nGETPIVOTDATA(BA$21 & \"\",PivotTableB!$A$3,\"SchoolName\",$B36,\"SubsidiaryName\",$C36,\"YearStart\",BA$13)))),\"\")","v":"n/a"},{"$f":"IFERROR(IF(BA36=\".\",\".\",IF(BA36=\"n/a\",\"n/a\",\nGETPIVOTDATA(BB$21 & \"\",PivotTableB!$A$3,\"SchoolName\",$B36,\"SubsidiaryName\",$C36,\"YearStart\",BA$13))),\"\")","v":"n/a"},{"$f":"IFERROR(IF(BB36=\".\",\".\",IF(BB36=\"n/a\",\"n/a\",\nGETPIVOTDATA(BC$21 & \"\",PivotTableB!$A$3,\"SchoolName\",$B36,\"SubsidiaryName\",$C36,\"YearStart\",BA$13))),\"\")","v":"n/a"},{"$f":"IFERROR(IF(BC36=\".\",\".\",IF(BC36=\"n/a\",\"n/a\",\nGETPIVOTDATA(BD$21 & \"\",PivotTableB!$A$3,\"SchoolName\",$B36,\"SubsidiaryName\",$C36,\"YearStart\",BB$13))),\"\")","v":"n/a"},"n/a",{"$f":"IFERROR(IF(BE36=\".\",\".\",IF(BE36=\"n/a\",\"n/a\",\nGETPIVOTDATA(BF$21 & \"\",PivotTableB!$A$3,\"SchoolName\",$B36,\"SubsidiaryName\",$C36,\"YearStart\",BA$13))),\"\")","v":"n/a"},{"$f":"IFERROR(IF(BF36=\".\",\".\",IF(BF36=\"n/a\",\"n/a\",\nGETPIVOTDATA(BG$21 & \"\",PivotTableB!$A$3,\"SchoolName\",$B36,\"SubsidiaryName\",$C36,\"YearStart\",BA$13))),\"\")","v":"n/a"},{"$f":"IFERROR(IF($B36=\"\",\"\",\nIF(OR($L36=\"Nursery School\",$L36=\"All-through PRU\",$M36=\"True\"),\"n/a\",\nIF(GETPIVOTDATA(BH$21 & \"\",PivotTableB!$A$3,\"SchoolName\",$B36,\"SubsidiaryName\",$C36,\"YearStart\",BH$13)=\"\",\".\",\nGETPIVOTDATA(BH$21 & \"\",PivotTableB!$A$3,\"SchoolName\",$B36,\"SubsidiaryName\",$C36,\"YearStart\",BH$13)))),\"\")","v":"n/a"},{"$f":"IFERROR(IF(BH36=\".\",\".\",IF(BH36=\"n/a\",\"n/a\",\nGETPIVOTDATA(BI$21 & \"\",PivotTableB!$A$3,\"SchoolName\",$B36,\"SubsidiaryName\",$C36,\"YearStart\",BH$13))),\"\")","v":"n/a"},{"$f":"IFERROR(IF(BI36=\".\",\".\",IF(BI36=\"n/a\",\"n/a\",\nGETPIVOTDATA(BJ$21 & \"\",PivotTableB!$A$3,\"SchoolName\",$B36,\"SubsidiaryName\",$C36,\"YearStart\",BH$13))),\"\")","v":"n/a"},{"$f":"IFERROR(IF(BJ36=\".\",\".\",IF(BJ36=\"n/a\",\"n/a\",\nGETPIVOTDATA(BK$21 & \"\",PivotTableB!$A$3,\"SchoolName\",$B36,\"SubsidiaryName\",$C36,\"YearStart\",BH$13))),\"\")","v":"n/a"},"n/a",{"$f":"IFERROR(IF(BL36=\".\",\".\",IF(BL36=\"n/a\",\"n/a\",\nGETPIVOTDATA(BM$21 & \"\",PivotTableB!$A$3,\"SchoolName\",$B36,\"SubsidiaryName\",$C36,\"YearStart\",BH$13))),\"\")","v":"n/a"},{"$f":"IFERROR(IF(BM36=\".\",\".\",IF(BM36=\"n/a\",\"n/a\",\nGETPIVOTDATA(BN$21 & \"\",PivotTableB!$A$3,\"SchoolName\",$B36,\"SubsidiaryName\",$C36,\"YearStart\",BH$13))),\"\")","v":"n/a"},{"$f":"IFERROR(IF($B36=\"\",\"\",\nIF(OR($L36=\"Nursery School\",$L36=\"All-through PRU\",$M36=\"True\"),\"n/a\",\nIF(GETPIVOTDATA(BO$21 & \"\",PivotTableB!$A$3,\"SchoolName\",$B36,\"SubsidiaryName\",$C36,\"YearStart\",BO$13)=\"\",\".\",\nGETPIVOTDATA(BO$21 & \"\",PivotTableB!$A$3,\"SchoolName\",$B36,\"SubsidiaryName\",$C36,\"YearStart\",BO$13)))),\"\")","v":"n/a"},{"$f":"IFERROR(IF(BO36=\".\",\".\",IF(BO36=\"n/a\",\"n/a\",\nGETPIVOTDATA(BP$21 & \"\",PivotTableB!$A$3,\"SchoolName\",$B36,\"SubsidiaryName\",$C36,\"YearStart\",BO$13))),\"\")","v":"n/a"},{"$f":"IFERROR(IF(BP36=\".\",\".\",IF(BP36=\"n/a\",\"n/a\",\nGETPIVOTDATA(BQ$21 & \"\",PivotTableB!$A$3,\"SchoolName\",$B36,\"SubsidiaryName\",$C36,\"YearStart\",BO$13))),\"\")","v":"n/a"},{"$f":"IFERROR(IF(BQ36=\".\",\".\",IF(BQ36=\"n/a\",\"n/a\",\nGETPIVOTDATA(BR$21 & \"\",PivotTableB!$A$3,\"SchoolName\",$B36,\"SubsidiaryName\",$C36,\"YearStart\",BP$13))),\"\")","v":"n/a"},"n/a",{"$f":"IFERROR(IF(BS36=\".\",\".\",IF(BS36=\"n/a\",\"n/a\",\nGETPIVOTDATA(BT$21 & \"\",PivotTableB!$A$3,\"SchoolName\",$B36,\"SubsidiaryName\",$C36,\"YearStart\",BO$13))),\"\")","v":"n/a"},{"$f":"IFERROR(IF(BT36=\".\",\".\",IF(BT36=\"n/a\",\"n/a\",\nGETPIVOTDATA(BU$21 & \"\",PivotTableB!$A$3,\"SchoolName\",$B36,\"SubsidiaryName\",$C36,\"YearStart\",BO$13))),\"\")","v":"n/a"},{"$f":"IFERROR(IF($B36=\"\",\"\",\nIF(OR($L36=\"Nursery School\",$L36=\"All-through PRU\",$M36=\"True\"),\"n/a\",\nIF(GETPIVOTDATA(BV$21 & \"\",PivotTableB!$A$3,\"SchoolName\",$B36,\"SubsidiaryName\",$C36,\"YearStart\",BV$13)=\"\",\".\",\nGETPIVOTDATA(BV$21 & \"\",PivotTableB!$A$3,\"SchoolName\",$B36,\"SubsidiaryName\",$C36,\"YearStart\",BV$13)))),\"\")","v":"n/a"},{"$f":"IFERROR(IF(BV36=\".\",\".\",IF(BV36=\"n/a\",\"n/a\",\nGETPIVOTDATA(BW$21 & \"\",PivotTableB!$A$3,\"SchoolName\",$B36,\"SubsidiaryName\",$C36,\"YearStart\",BV$13))),\"\")","v":"n/a"},{"$f":"IFERROR(IF(BW36=\".\",\".\",IF(BW36=\"n/a\",\"n/a\",\nGETPIVOTDATA(BX$21 & \"\",PivotTableB!$A$3,\"SchoolName\",$B36,\"SubsidiaryName\",$C36,\"YearStart\",BV$13))),\"\")","v":"n/a"},{"$f":"IFERROR(IF(BX36=\".\",\".\",IF(BX36=\"n/a\",\"n/a\",\nGETPIVOTDATA(BY$21 & \"\",PivotTableB!$A$3,\"SchoolName\",$B36,\"SubsidiaryName\",$C36,\"YearStart\",BV$13))),\"\")","v":"n/a"},"n/a",{"$f":"IFERROR(IF(BZ36=\".\",\".\",IF(BZ36=\"n/a\",\"n/a\",\nGETPIVOTDATA(CA$21 & \"\",PivotTableB!$A$3,\"SchoolName\",$B36,\"SubsidiaryName\",$C36,\"YearStart\",BV$13))),\"\")","v":"n/a"},{"$f":"IFERROR(IF(CA36=\".\",\".\",IF(CA36=\"n/a\",\"n/a\",\nGETPIVOTDATA(CB$21 & \"\",PivotTableB!$A$3,\"SchoolName\",$B36,\"SubsidiaryName\",$C36,\"YearStart\",BV$13))),\"\")","v":"n/a"}]
[null,{"$f":"IF(PivotTableA!A24=\"\",\"n/a\",PivotTableA!A24)","v":"Cookham Rise Primary School"},{"$f":"IF(B37=\"n/a\",\"\",PivotTableA!B24)","v":"Cookham Rise Primary School"},{"$f":"IF($B37=\"n/a\",\"\",PivotTableA!C24)","v":"R"},{"$f":"IF($B37=\"n/a\",\"\",PivotTableA!D24)","v":"Maidenhead"},{"$f":"IF($B37=\"n/a\",\"\",PivotTableA!E24)","v":"Bisham and Cookham"},{"$f":"IF($B37=\"n/a\",\"\",PivotTableA!F24)","v":"Cookham Rise"},{"$f":"IF($B37=\"n/a\",\"\",PivotTableA!G24)","v":"Bisham and Cookham"},{"$f":"IF($B37=\"n/a\",\"\",PivotTableA!H24)","v":"Cookham"},{"$f":"IF($B37=\"n/a\",\"\",PivotTableA!I24)","v":"Primary"},{"$f":"IF($B37=\"n/a\",\"\",PivotTableA!J24)","v":"Two Tier"},{"$f":"IF($B37=\"n/a\",\"\",PivotTableA!K24)","v":"JMI"},{"$f":"IF($B37=\"n/a\",\"\",PivotTableA!O24)","v":"FALSE"},{"$f":"IF($B37=\"n/a\",\"\",PivotTableA!L24)","v":"Community"},{"$f":"IF($B37=\"n/a\",\"\",PivotTableA!M24)","v":" "},{"$f":"IF($B37=\"n/a\",\"\",PivotTableA!N24)","v":"None"},{"$f":"IFERROR(IF($B37=\"\",\"\",\nIF(OR($L37=\"Nursery School\",$L37=\"All-through PRU\",$M37=\"True\"),\"n/a\",\nIF(GETPIVOTDATA(Q$21 & \"\",PivotTableB!$A$3,\"SchoolName\",$B37,\"SubsidiaryName\",$C37,\"YearStart\",Q$13)=\"\",\".\",\nGETPIVOTDATA(Q$21 & \"\",PivotTableB!$A$3,\"SchoolName\",$B37,\"SubsidiaryName\",$C37,\"YearStart\",Q$13)))),\"\")","v":30},{"$f":"IFERROR(IF(Q37=\".\",\".\",IF(Q37=\"n/a\",\"n/a\",\nGETPIVOTDATA(R$21 & \"\",PivotTableB!$A$3,\"SchoolName\",$B37,\"SubsidiaryName\",$C37,\"YearStart\",Q$13))),\"\")","v":0},{"$f":"IFERROR(IF(R37=\".\",\".\",IF(R37=\"n/a\",\"n/a\",\nGETPIVOTDATA(S$21 & \"\",PivotTableB!$A$3,\"SchoolName\",$B37,\"SubsidiaryName\",$C37,\"YearStart\",Q$13))),\"\")","v":0},30,{"$f":"IFERROR(IF(T37=\".\",\".\",IF(T37=\"n/a\",\"n/a\",\nGETPIVOTDATA(U$21 & \"\",PivotTableB!$A$3,\"SchoolName\",$B37,\"SubsidiaryName\",$C37,\"YearStart\",Q$13))),\"\")","v":0},{"$f":"IFERROR(IF(U37=\".\",\".\",IF(U37=\"n/a\",\"n/a\",\nGETPIVOTDATA(V$21 & \"\",PivotTableB!$A$3,\"SchoolName\",$B37,\"SubsidiaryName\",$C37,\"YearStart\",Q$13))),\"\")","v":210},{"$f":"IFERROR(IF($B37=\"\",\"\",\nIF(OR($L37=\"Nursery School\",$L37=\"All-through PRU\",$M37=\"True\"),\"n/a\",\nIF(GETPIVOTDATA(W$21 & \"\",PivotTableB!$A$3,\"SchoolName\",$B37,\"SubsidiaryName\",$C37,\"YearStart\",W$13)=\"\",\".\",\nGETPIVOTDATA(W$21 & \"\",PivotTableB!$A$3,\"SchoolName\",$B37,\"SubsidiaryName\",$C37,\"YearStart\",W$13)))),\"\")","v":30},{"$f":"IFERROR(IF(W37=\".\",\".\",IF(W37=\"n/a\",\"n/a\",\nGETPIVOTDATA(X$21 & \"\",PivotTableB!$A$3,\"SchoolName\",$B37,\"SubsidiaryName\",$C37,\"YearStart\",W$13))),\"\")","v":0},{"$f":"IFERROR(IF(X37=\".\",\".\",IF(X37=\"n/a\",\"n/a\",\nGETPIVOTDATA(Y$21 & \"\",PivotTableB!$A$3,\"SchoolName\",$B37,\"SubsidiaryName\",$C37,\"YearStart\",W$13))),\"\")","v":0},30,{"$f":"IFERROR(IF(Z37=\".\",\".\",IF(Z37=\"n/a\",\"n/a\",\nGETPIVOTDATA(AA$21 & \"\",PivotTableB!$A$3,\"SchoolName\",$B37,\"SubsidiaryName\",$C37,\"YearStart\",W$13))),\"\")","v":0},{"$f":"IFERROR(IF(AA37=\".\",\".\",IF(AA37=\"n/a\",\"n/a\",\nGETPIVOTDATA(AB$21 & \"\",PivotTableB!$A$3,\"SchoolName\",$B37,\"SubsidiaryName\",$C37,\"YearStart\",W$13))),\"\")","v":210},{"$f":"IFERROR(IF($B37=\"\",\"\",\nIF(OR($L37=\"Nursery School\",$L37=\"All-through PRU\",$M37=\"True\"),\"n/a\",\nIF(GETPIVOTDATA(AC$21 & \"\",PivotTableB!$A$3,\"SchoolName\",$B37,\"SubsidiaryName\",$C37,\"YearStart\",AC$13)=\"\",\".\",\nGETPIVOTDATA(AC$21 & \"\",PivotTableB!$A$3,\"SchoolName\",$B37,\"SubsidiaryName\",$C37,\"YearStart\",AC$13)))),\"\")","v":30},{"$f":"IFERROR(IF(AC37=\".\",\".\",IF(AC37=\"n/a\",\"n/a\",\nGETPIVOTDATA(AD$21 & \"\",PivotTableB!$A$3,\"SchoolName\",$B37,\"SubsidiaryName\",$C37,\"YearStart\",AC$13))),\"\")","v":0},{"$f":"IFERROR(IF(AD37=\".\",\".\",IF(AD37=\"n/a\",\"n/a\",\nGETPIVOTDATA(AE$21 & \"\",PivotTableB!$A$3,\"SchoolName\",$B37,\"SubsidiaryName\",$C37,\"YearStart\",AC$13))),\"\")","v":0},30,{"$f":"IFERROR(IF(AF37=\".\",\".\",IF(AF37=\"n/a\",\"n/a\",\nGETPIVOTDATA(AG$21 & \"\",PivotTableB!$A$3,\"SchoolName\",$B37,\"SubsidiaryName\",$C37,\"YearStart\",AC$13))),\"\")","v":0},{"$f":"IFERROR(IF(AG37=\".\",\".\",IF(AG37=\"n/a\",\"n/a\",\nGETPIVOTDATA(AH$21 & \"\",PivotTableB!$A$3,\"SchoolName\",$B37,\"SubsidiaryName\",$C37,\"YearStart\",AC$13))),\"\")","v":210},{"$f":"IFERROR(IF($B37=\"\",\"\",\nIF(OR($L37=\"Nursery School\",$L37=\"All-through PRU\",$M37=\"True\"),\"n/a\",\nIF(GETPIVOTDATA(AI$21 & \"\",PivotTableB!$A$3,\"SchoolName\",$B37,\"SubsidiaryName\",$C37,\"YearStart\",AI$13)=\"\",\".\",\nGETPIVOTDATA(AI$21 & \"\",PivotTableB!$A$3,\"SchoolName\",$B37,\"SubsidiaryName\",$C37,\"YearStart\",AI$13)))),\"\")","v":30},{"$f":"IFERROR(IF(AI37=\".\",\".\",IF(AI37=\"n/a\",\"n/a\",\nGETPIVOTDATA(AJ$21 & \"\",PivotTableB!$A$3,\"SchoolName\",$B37,\"SubsidiaryName\",$C37,\"YearStart\",AI$13))),\"\")","v":0},{"$f":"IFERROR(IF(AJ37=\".\",\".\",IF(AJ37=\"n/a\",\"n/a\",\nGETPIVOTDATA(AK$21 & \"\",PivotTableB!$A$3,\"SchoolName\",$B37,\"SubsidiaryName\",$C37,\"YearStart\",AI$13))),\"\")","v":0},30,{"$f":"IFERROR(IF(AL37=\".\",\".\",IF(AL37=\"n/a\",\"n/a\",\nGETPIVOTDATA(AM$21 & \"\",PivotTableB!$A$3,\"SchoolName\",$B37,\"SubsidiaryName\",$C37,\"YearStart\",AI$13))),\"\")","v":0},{"$f":"IFERROR(IF(AM37=\".\",\".\",IF(AM37=\"n/a\",\"n/a\",\nGETPIVOTDATA(AN$21 & \"\",PivotTableB!$A$3,\"SchoolName\",$B37,\"SubsidiaryName\",$C37,\"YearStart\",AI$13))),\"\")","v":210},{"$f":"IFERROR(IF($B37=\"\",\"\",\nIF(OR($L37=\"Nursery School\",$L37=\"All-through PRU\",$M37=\"True\"),\"n/a\",\nIF(GETPIVOTDATA(AO$21 & \"\",PivotTableB!$A$3,\"SchoolName\",$B37,\"SubsidiaryName\",$C37,\"YearStart\",AO$13)=\"\",\".\",\nGETPIVOTDATA(AO$21 & \"\",PivotTableB!$A$3,\"SchoolName\",$B37,\"SubsidiaryName\",$C37,\"YearStart\",AO$13)))),\"\")","v":30},{"$f":"IFERROR(IF(AO37=\".\",\".\",IF(AO37=\"n/a\",\"n/a\",\nGETPIVOTDATA(AP$21 & \"\",PivotTableB!$A$3,\"SchoolName\",$B37,\"SubsidiaryName\",$C37,\"YearStart\",AO$13))),\"\")","v":0},{"$f":"IFERROR(IF(AP37=\".\",\".\",IF(AP37=\"n/a\",\"n/a\",\nGETPIVOTDATA(AQ$21 & \"\",PivotTableB!$A$3,\"SchoolName\",$B37,\"SubsidiaryName\",$C37,\"YearStart\",AO$13))),\"\")","v":0},30,{"$f":"IFERROR(IF(AR37=\".\",\".\",IF(AR37=\"n/a\",\"n/a\",\nGETPIVOTDATA(AS$21 & \"\",PivotTableB!$A$3,\"SchoolName\",$B37,\"SubsidiaryName\",$C37,\"YearStart\",AO$13))),\"\")","v":0},{"$f":"IFERROR(IF(AS37=\".\",\".\",IF(AS37=\"n/a\",\"n/a\",\nGETPIVOTDATA(AT$21 & \"\",PivotTableB!$A$3,\"SchoolName\",$B37,\"SubsidiaryName\",$C37,\"YearStart\",AO$13))),\"\")","v":210},{"$f":"IFERROR(IF($B37=\"\",\"\",\nIF(OR($L37=\"Nursery School\",$L37=\"All-through PRU\",$M37=\"True\"),\"n/a\",\nIF(GETPIVOTDATA(AU$21 & \"\",PivotTableB!$A$3,\"SchoolName\",$B37,\"SubsidiaryName\",$C37,\"YearStart\",AU$13)=\"\",\".\",\nGETPIVOTDATA(AU$21 & \"\",PivotTableB!$A$3,\"SchoolName\",$B37,\"SubsidiaryName\",$C37,\"YearStart\",AU$13)))),\"\")","v":30},{"$f":"IFERROR(IF(AU37=\".\",\".\",IF(AU37=\"n/a\",\"n/a\",\nGETPIVOTDATA(AV$21 & \"\",PivotTableB!$A$3,\"SchoolName\",$B37,\"SubsidiaryName\",$C37,\"YearStart\",AU$13))),\"\")","v":0},{"$f":"IFERROR(IF(AV37=\".\",\".\",IF(AV37=\"n/a\",\"n/a\",\nGETPIVOTDATA(AW$21 & \"\",PivotTableB!$A$3,\"SchoolName\",$B37,\"SubsidiaryName\",$C37,\"YearStart\",AU$13))),\"\")","v":0},30,{"$f":"IFERROR(IF(AX37=\".\",\".\",IF(AX37=\"n/a\",\"n/a\",\nGETPIVOTDATA(AY$21 & \"\",PivotTableB!$A$3,\"SchoolName\",$B37,\"SubsidiaryName\",$C37,\"YearStart\",AU$13))),\"\")","v":0},{"$f":"IFERROR(IF(AY37=\".\",\".\",IF(AY37=\"n/a\",\"n/a\",\nGETPIVOTDATA(AZ$21 & \"\",PivotTableB!$A$3,\"SchoolName\",$B37,\"SubsidiaryName\",$C37,\"YearStart\",AU$13))),\"\")","v":210},{"$f":"IFERROR(IF($B37=\"\",\"\",\nIF(OR($L37=\"Nursery School\",$L37=\"All-through PRU\",$M37=\"True\"),\"n/a\",\nIF(GETPIVOTDATA(BA$21 & \"\",PivotTableB!$A$3,\"SchoolName\",$B37,\"SubsidiaryName\",$C37,\"YearStart\",BA$13)=\"\",\".\",\nGETPIVOTDATA(BA$21 & \"\",PivotTableB!$A$3,\"SchoolName\",$B37,\"SubsidiaryName\",$C37,\"YearStart\",BA$13)))),\"\")","v":30},{"$f":"IFERROR(IF(BA37=\".\",\".\",IF(BA37=\"n/a\",\"n/a\",\nGETPIVOTDATA(BB$21 & \"\",PivotTableB!$A$3,\"SchoolName\",$B37,\"SubsidiaryName\",$C37,\"YearStart\",BA$13))),\"\")","v":0},{"$f":"IFERROR(IF(BB37=\".\",\".\",IF(BB37=\"n/a\",\"n/a\",\nGETPIVOTDATA(BC$21 & \"\",PivotTableB!$A$3,\"SchoolName\",$B37,\"SubsidiaryName\",$C37,\"YearStart\",BA$13))),\"\")","v":0},{"$f":"IFERROR(IF(BC37=\".\",\".\",IF(BC37=\"n/a\",\"n/a\",\nGETPIVOTDATA(BD$21 & \"\",PivotTableB!$A$3,\"SchoolName\",$B37,\"SubsidiaryName\",$C37,\"YearStart\",BB$13))),\"\")","v":""},30,{"$f":"IFERROR(IF(BE37=\".\",\".\",IF(BE37=\"n/a\",\"n/a\",\nGETPIVOTDATA(BF$21 & \"\",PivotTableB!$A$3,\"SchoolName\",$B37,\"SubsidiaryName\",$C37,\"YearStart\",BA$13))),\"\")","v":0},{"$f":"IFERROR(IF(BF37=\".\",\".\",IF(BF37=\"n/a\",\"n/a\",\nGETPIVOTDATA(BG$21 & \"\",PivotTableB!$A$3,\"SchoolName\",$B37,\"SubsidiaryName\",$C37,\"YearStart\",BA$13))),\"\")","v":210},{"$f":"IFERROR(IF($B37=\"\",\"\",\nIF(OR($L37=\"Nursery School\",$L37=\"All-through PRU\",$M37=\"True\"),\"n/a\",\nIF(GETPIVOTDATA(BH$21 & \"\",PivotTableB!$A$3,\"SchoolName\",$B37,\"SubsidiaryName\",$C37,\"YearStart\",BH$13)=\"\",\".\",\nGETPIVOTDATA(BH$21 & \"\",PivotTableB!$A$3,\"SchoolName\",$B37,\"SubsidiaryName\",$C37,\"YearStart\",BH$13)))),\"\")","v":30},{"$f":"IFERROR(IF(BH37=\".\",\".\",IF(BH37=\"n/a\",\"n/a\",\nGETPIVOTDATA(BI$21 & \"\",PivotTableB!$A$3,\"SchoolName\",$B37,\"SubsidiaryName\",$C37,\"YearStart\",BH$13))),\"\")","v":0},{"$f":"IFERROR(IF(BI37=\".\",\".\",IF(BI37=\"n/a\",\"n/a\",\nGETPIVOTDATA(BJ$21 & \"\",PivotTableB!$A$3,\"SchoolName\",$B37,\"SubsidiaryName\",$C37,\"YearStart\",BH$13))),\"\")","v":0},{"$f":"IFERROR(IF(BJ37=\".\",\".\",IF(BJ37=\"n/a\",\"n/a\",\nGETPIVOTDATA(BK$21 & \"\",PivotTableB!$A$3,\"SchoolName\",$B37,\"SubsidiaryName\",$C37,\"YearStart\",BH$13))),\"\")","v":0},30,{"$f":"IFERROR(IF(BL37=\".\",\".\",IF(BL37=\"n/a\",\"n/a\",\nGETPIVOTDATA(BM$21 & \"\",PivotTableB!$A$3,\"SchoolName\",$B37,\"SubsidiaryName\",$C37,\"YearStart\",BH$13))),\"\")","v":0},{"$f":"IFERROR(IF(BM37=\".\",\".\",IF(BM37=\"n/a\",\"n/a\",\nGETPIVOTDATA(BN$21 & \"\",PivotTableB!$A$3,\"SchoolName\",$B37,\"SubsidiaryName\",$C37,\"YearStart\",BH$13))),\"\")","v":210},{"$f":"IFERROR(IF($B37=\"\",\"\",\nIF(OR($L37=\"Nursery School\",$L37=\"All-through PRU\",$M37=\"True\"),\"n/a\",\nIF(GETPIVOTDATA(BO$21 & \"\",PivotTableB!$A$3,\"SchoolName\",$B37,\"SubsidiaryName\",$C37,\"YearStart\",BO$13)=\"\",\".\",\nGETPIVOTDATA(BO$21 & \"\",PivotTableB!$A$3,\"SchoolName\",$B37,\"SubsidiaryName\",$C37,\"YearStart\",BO$13)))),\"\")","v":30},{"$f":"IFERROR(IF(BO37=\".\",\".\",IF(BO37=\"n/a\",\"n/a\",\nGETPIVOTDATA(BP$21 & \"\",PivotTableB!$A$3,\"SchoolName\",$B37,\"SubsidiaryName\",$C37,\"YearStart\",BO$13))),\"\")","v":0},{"$f":"IFERROR(IF(BP37=\".\",\".\",IF(BP37=\"n/a\",\"n/a\",\nGETPIVOTDATA(BQ$21 & \"\",PivotTableB!$A$3,\"SchoolName\",$B37,\"SubsidiaryName\",$C37,\"YearStart\",BO$13))),\"\")","v":0},{"$f":"IFERROR(IF(BQ37=\".\",\".\",IF(BQ37=\"n/a\",\"n/a\",\nGETPIVOTDATA(BR$21 & \"\",PivotTableB!$A$3,\"SchoolName\",$B37,\"SubsidiaryName\",$C37,\"YearStart\",BP$13))),\"\")","v":""},30,{"$f":"IFERROR(IF(BS37=\".\",\".\",IF(BS37=\"n/a\",\"n/a\",\nGETPIVOTDATA(BT$21 & \"\",PivotTableB!$A$3,\"SchoolName\",$B37,\"SubsidiaryName\",$C37,\"YearStart\",BO$13))),\"\")","v":0},{"$f":"IFERROR(IF(BT37=\".\",\".\",IF(BT37=\"n/a\",\"n/a\",\nGETPIVOTDATA(BU$21 & \"\",PivotTableB!$A$3,\"SchoolName\",$B37,\"SubsidiaryName\",$C37,\"YearStart\",BO$13))),\"\")","v":210},{"$f":"IFERROR(IF($B37=\"\",\"\",\nIF(OR($L37=\"Nursery School\",$L37=\"All-through PRU\",$M37=\"True\"),\"n/a\",\nIF(GETPIVOTDATA(BV$21 & \"\",PivotTableB!$A$3,\"SchoolName\",$B37,\"SubsidiaryName\",$C37,\"YearStart\",BV$13)=\"\",\".\",\nGETPIVOTDATA(BV$21 & \"\",PivotTableB!$A$3,\"SchoolName\",$B37,\"SubsidiaryName\",$C37,\"YearStart\",BV$13)))),\"\")","v":30},{"$f":"IFERROR(IF(BV37=\".\",\".\",IF(BV37=\"n/a\",\"n/a\",\nGETPIVOTDATA(BW$21 & \"\",PivotTableB!$A$3,\"SchoolName\",$B37,\"SubsidiaryName\",$C37,\"YearStart\",BV$13))),\"\")","v":0},{"$f":"IFERROR(IF(BW37=\".\",\".\",IF(BW37=\"n/a\",\"n/a\",\nGETPIVOTDATA(BX$21 & \"\",PivotTableB!$A$3,\"SchoolName\",$B37,\"SubsidiaryName\",$C37,\"YearStart\",BV$13))),\"\")","v":0},{"$f":"IFERROR(IF(BX37=\".\",\".\",IF(BX37=\"n/a\",\"n/a\",\nGETPIVOTDATA(BY$21 & \"\",PivotTableB!$A$3,\"SchoolName\",$B37,\"SubsidiaryName\",$C37,\"YearStart\",BV$13))),\"\")","v":0},30,{"$f":"IFERROR(IF(BZ37=\".\",\".\",IF(BZ37=\"n/a\",\"n/a\",\nGETPIVOTDATA(CA$21 & \"\",PivotTableB!$A$3,\"SchoolName\",$B37,\"SubsidiaryName\",$C37,\"YearStart\",BV$13))),\"\")","v":0},{"$f":"IFERROR(IF(CA37=\".\",\".\",IF(CA37=\"n/a\",\"n/a\",\nGETPIVOTDATA(CB$21 & \"\",PivotTableB!$A$3,\"SchoolName\",$B37,\"SubsidiaryName\",$C37,\"YearStart\",BV$13))),\"\")","v":210}]
[null,{"$f":"IF(PivotTableA!A25=\"\",\"n/a\",PivotTableA!A25)","v":"Courthouse Junior School"},{"$f":"IF(B38=\"n/a\",\"\",PivotTableA!B25)","v":"Courthouse Junior School"},{"$f":"IF($B38=\"n/a\",\"\",PivotTableA!C25)","v":"3"},{"$f":"IF($B38=\"n/a\",\"\",PivotTableA!D25)","v":"Maidenhead"},{"$f":"IF($B38=\"n/a\",\"\",PivotTableA!E25)","v":"North West Maidenhead"},{"$f":"IF($B38=\"n/a\",\"\",PivotTableA!F25)","v":"St Mark's"},{"$f":"IF($B38=\"n/a\",\"\",PivotTableA!G25)","v":"Pinkneys Green"},{"$f":"IF($B38=\"n/a\",\"\",PivotTableA!H25)","v":"None"},{"$f":"IF($B38=\"n/a\",\"\",PivotTableA!I25)","v":"Primary"},{"$f":"IF($B38=\"n/a\",\"\",PivotTableA!J25)","v":"Two Tier"},{"$f":"IF($B38=\"n/a\",\"\",PivotTableA!K25)","v":"Junior"},{"$f":"IF($B38=\"n/a\",\"\",PivotTableA!O25)","v":"FALSE"},{"$f":"IF($B38=\"n/a\",\"\",PivotTableA!L25)","v":"Community"},{"$f":"IF($B38=\"n/a\",\"\",PivotTableA!M25)","v":" "},{"$f":"IF($B38=\"n/a\",\"\",PivotTableA!N25)","v":"None"},{"$f":"IFERROR(IF($B38=\"\",\"\",\nIF(OR($L38=\"Nursery School\",$L38=\"All-through PRU\",$M38=\"True\"),\"n/a\",\nIF(GETPIVOTDATA(Q$21 & \"\",PivotTableB!$A$3,\"SchoolName\",$B38,\"SubsidiaryName\",$C38,\"YearStart\",Q$13)=\"\",\".\",\nGETPIVOTDATA(Q$21 & \"\",PivotTableB!$A$3,\"SchoolName\",$B38,\"SubsidiaryName\",$C38,\"YearStart\",Q$13)))),\"\")","v":105},{"$f":"IFERROR(IF(Q38=\".\",\".\",IF(Q38=\"n/a\",\"n/a\",\nGETPIVOTDATA(R$21 & \"\",PivotTableB!$A$3,\"SchoolName\",$B38,\"SubsidiaryName\",$C38,\"YearStart\",Q$13))),\"\")","v":0},{"$f":"IFERROR(IF(R38=\".\",\".\",IF(R38=\"n/a\",\"n/a\",\nGETPIVOTDATA(S$21 & \"\",PivotTableB!$A$3,\"SchoolName\",$B38,\"SubsidiaryName\",$C38,\"YearStart\",Q$13))),\"\")","v":0},105,{"$f":"IFERROR(IF(T38=\".\",\".\",IF(T38=\"n/a\",\"n/a\",\nGETPIVOTDATA(U$21 & \"\",PivotTableB!$A$3,\"SchoolName\",$B38,\"SubsidiaryName\",$C38,\"YearStart\",Q$13))),\"\")","v":0},{"$f":"IFERROR(IF(U38=\".\",\".\",IF(U38=\"n/a\",\"n/a\",\nGETPIVOTDATA(V$21 & \"\",PivotTableB!$A$3,\"SchoolName\",$B38,\"SubsidiaryName\",$C38,\"YearStart\",Q$13))),\"\")","v":420},{"$f":"IFERROR(IF($B38=\"\",\"\",\nIF(OR($L38=\"Nursery School\",$L38=\"All-through PRU\",$M38=\"True\"),\"n/a\",\nIF(GETPIVOTDATA(W$21 & \"\",PivotTableB!$A$3,\"SchoolName\",$B38,\"SubsidiaryName\",$C38,\"YearStart\",W$13)=\"\",\".\",\nGETPIVOTDATA(W$21 & \"\",PivotTableB!$A$3,\"SchoolName\",$B38,\"SubsidiaryName\",$C38,\"YearStart\",W$13)))),\"\")","v":105},{"$f":"IFERROR(IF(W38=\".\",\".\",IF(W38=\"n/a\",\"n/a\",\nGETPIVOTDATA(X$21 & \"\",PivotTableB!$A$3,\"SchoolName\",$B38,\"SubsidiaryName\",$C38,\"YearStart\",W$13))),\"\")","v":0},{"$f":"IFERROR(IF(X38=\".\",\".\",IF(X38=\"n/a\",\"n/a\",\nGETPIVOTDATA(Y$21 & \"\",PivotTableB!$A$3,\"SchoolName\",$B38,\"SubsidiaryName\",$C38,\"YearStart\",W$13))),\"\")","v":0},105,{"$f":"IFERROR(IF(Z38=\".\",\".\",IF(Z38=\"n/a\",\"n/a\",\nGETPIVOTDATA(AA$21 & \"\",PivotTableB!$A$3,\"SchoolName\",$B38,\"SubsidiaryName\",$C38,\"YearStart\",W$13))),\"\")","v":0},{"$f":"IFERROR(IF(AA38=\".\",\".\",IF(AA38=\"n/a\",\"n/a\",\nGETPIVOTDATA(AB$21 & \"\",PivotTableB!$A$3,\"SchoolName\",$B38,\"SubsidiaryName\",$C38,\"YearStart\",W$13))),\"\")","v":420},{"$f":"IFERROR(IF($B38=\"\",\"\",\nIF(OR($L38=\"Nursery School\",$L38=\"All-through PRU\",$M38=\"True\"),\"n/a\",\nIF(GETPIVOTDATA(AC$21 & \"\",PivotTableB!$A$3,\"SchoolName\",$B38,\"SubsidiaryName\",$C38,\"YearStart\",AC$13)=\"\",\".\",\nGETPIVOTDATA(AC$21 & \"\",PivotTableB!$A$3,\"SchoolName\",$B38,\"SubsidiaryName\",$C38,\"YearStart\",AC$13)))),\"\")","v":105},{"$f":"IFERROR(IF(AC38=\".\",\".\",IF(AC38=\"n/a\",\"n/a\",\nGETPIVOTDATA(AD$21 & \"\",PivotTableB!$A$3,\"SchoolName\",$B38,\"SubsidiaryName\",$C38,\"YearStart\",AC$13))),\"\")","v":0},{"$f":"IFERROR(IF(AD38=\".\",\".\",IF(AD38=\"n/a\",\"n/a\",\nGETPIVOTDATA(AE$21 & \"\",PivotTableB!$A$3,\"SchoolName\",$B38,\"SubsidiaryName\",$C38,\"YearStart\",AC$13))),\"\")","v":0},105,{"$f":"IFERROR(IF(AF38=\".\",\".\",IF(AF38=\"n/a\",\"n/a\",\nGETPIVOTDATA(AG$21 & \"\",PivotTableB!$A$3,\"SchoolName\",$B38,\"SubsidiaryName\",$C38,\"YearStart\",AC$13))),\"\")","v":0},{"$f":"IFERROR(IF(AG38=\".\",\".\",IF(AG38=\"n/a\",\"n/a\",\nGETPIVOTDATA(AH$21 & \"\",PivotTableB!$A$3,\"SchoolName\",$B38,\"SubsidiaryName\",$C38,\"YearStart\",AC$13))),\"\")","v":420},{"$f":"IFERROR(IF($B38=\"\",\"\",\nIF(OR($L38=\"Nursery School\",$L38=\"All-through PRU\",$M38=\"True\"),\"n/a\",\nIF(GETPIVOTDATA(AI$21 & \"\",PivotTableB!$A$3,\"SchoolName\",$B38,\"SubsidiaryName\",$C38,\"YearStart\",AI$13)=\"\",\".\",\nGETPIVOTDATA(AI$21 & \"\",PivotTableB!$A$3,\"SchoolName\",$B38,\"SubsidiaryName\",$C38,\"YearStart\",AI$13)))),\"\")","v":105},{"$f":"IFERROR(IF(AI38=\".\",\".\",IF(AI38=\"n/a\",\"n/a\",\nGETPIVOTDATA(AJ$21 & \"\",PivotTableB!$A$3,\"SchoolName\",$B38,\"SubsidiaryName\",$C38,\"YearStart\",AI$13))),\"\")","v":0},{"$f":"IFERROR(IF(AJ38=\".\",\".\",IF(AJ38=\"n/a\",\"n/a\",\nGETPIVOTDATA(AK$21 & \"\",PivotTableB!$A$3,\"SchoolName\",$B38,\"SubsidiaryName\",$C38,\"YearStart\",AI$13))),\"\")","v":0},105,{"$f":"IFERROR(IF(AL38=\".\",\".\",IF(AL38=\"n/a\",\"n/a\",\nGETPIVOTDATA(AM$21 & \"\",PivotTableB!$A$3,\"SchoolName\",$B38,\"SubsidiaryName\",$C38,\"YearStart\",AI$13))),\"\")","v":0},{"$f":"IFERROR(IF(AM38=\".\",\".\",IF(AM38=\"n/a\",\"n/a\",\nGETPIVOTDATA(AN$21 & \"\",PivotTableB!$A$3,\"SchoolName\",$B38,\"SubsidiaryName\",$C38,\"YearStart\",AI$13))),\"\")","v":420},{"$f":"IFERROR(IF($B38=\"\",\"\",\nIF(OR($L38=\"Nursery School\",$L38=\"All-through PRU\",$M38=\"True\"),\"n/a\",\nIF(GETPIVOTDATA(AO$21 & \"\",PivotTableB!$A$3,\"SchoolName\",$B38,\"SubsidiaryName\",$C38,\"YearStart\",AO$13)=\"\",\".\",\nGETPIVOTDATA(AO$21 & \"\",PivotTableB!$A$3,\"SchoolName\",$B38,\"SubsidiaryName\",$C38,\"YearStart\",AO$13)))),\"\")","v":105},{"$f":"IFERROR(IF(AO38=\".\",\".\",IF(AO38=\"n/a\",\"n/a\",\nGETPIVOTDATA(AP$21 & \"\",PivotTableB!$A$3,\"SchoolName\",$B38,\"SubsidiaryName\",$C38,\"YearStart\",AO$13))),\"\")","v":0},{"$f":"IFERROR(IF(AP38=\".\",\".\",IF(AP38=\"n/a\",\"n/a\",\nGETPIVOTDATA(AQ$21 & \"\",PivotTableB!$A$3,\"SchoolName\",$B38,\"SubsidiaryName\",$C38,\"YearStart\",AO$13))),\"\")","v":0},105,{"$f":"IFERROR(IF(AR38=\".\",\".\",IF(AR38=\"n/a\",\"n/a\",\nGETPIVOTDATA(AS$21 & \"\",PivotTableB!$A$3,\"SchoolName\",$B38,\"SubsidiaryName\",$C38,\"YearStart\",AO$13))),\"\")","v":0},{"$f":"IFERROR(IF(AS38=\".\",\".\",IF(AS38=\"n/a\",\"n/a\",\nGETPIVOTDATA(AT$21 & \"\",PivotTableB!$A$3,\"SchoolName\",$B38,\"SubsidiaryName\",$C38,\"YearStart\",AO$13))),\"\")","v":420},{"$f":"IFERROR(IF($B38=\"\",\"\",\nIF(OR($L38=\"Nursery School\",$L38=\"All-through PRU\",$M38=\"True\"),\"n/a\",\nIF(GETPIVOTDATA(AU$21 & \"\",PivotTableB!$A$3,\"SchoolName\",$B38,\"SubsidiaryName\",$C38,\"YearStart\",AU$13)=\"\",\".\",\nGETPIVOTDATA(AU$21 & \"\",PivotTableB!$A$3,\"SchoolName\",$B38,\"SubsidiaryName\",$C38,\"YearStart\",AU$13)))),\"\")","v":105},{"$f":"IFERROR(IF(AU38=\".\",\".\",IF(AU38=\"n/a\",\"n/a\",\nGETPIVOTDATA(AV$21 & \"\",PivotTableB!$A$3,\"SchoolName\",$B38,\"SubsidiaryName\",$C38,\"YearStart\",AU$13))),\"\")","v":0},{"$f":"IFERROR(IF(AV38=\".\",\".\",IF(AV38=\"n/a\",\"n/a\",\nGETPIVOTDATA(AW$21 & \"\",PivotTableB!$A$3,\"SchoolName\",$B38,\"SubsidiaryName\",$C38,\"YearStart\",AU$13))),\"\")","v":0},105,{"$f":"IFERROR(IF(AX38=\".\",\".\",IF(AX38=\"n/a\",\"n/a\",\nGETPIVOTDATA(AY$21 & \"\",PivotTableB!$A$3,\"SchoolName\",$B38,\"SubsidiaryName\",$C38,\"YearStart\",AU$13))),\"\")","v":0},{"$f":"IFERROR(IF(AY38=\".\",\".\",IF(AY38=\"n/a\",\"n/a\",\nGETPIVOTDATA(AZ$21 & \"\",PivotTableB!$A$3,\"SchoolName\",$B38,\"SubsidiaryName\",$C38,\"YearStart\",AU$13))),\"\")","v":420},{"$f":"IFERROR(IF($B38=\"\",\"\",\nIF(OR($L38=\"Nursery School\",$L38=\"All-through PRU\",$M38=\"True\"),\"n/a\",\nIF(GETPIVOTDATA(BA$21 & \"\",PivotTableB!$A$3,\"SchoolName\",$B38,\"SubsidiaryName\",$C38,\"YearStart\",BA$13)=\"\",\".\",\nGETPIVOTDATA(BA$21 & \"\",PivotTableB!$A$3,\"SchoolName\",$B38,\"SubsidiaryName\",$C38,\"YearStart\",BA$13)))),\"\")","v":105},{"$f":"IFERROR(IF(BA38=\".\",\".\",IF(BA38=\"n/a\",\"n/a\",\nGETPIVOTDATA(BB$21 & \"\",PivotTableB!$A$3,\"SchoolName\",$B38,\"SubsidiaryName\",$C38,\"YearStart\",BA$13))),\"\")","v":0},{"$f":"IFERROR(IF(BB38=\".\",\".\",IF(BB38=\"n/a\",\"n/a\",\nGETPIVOTDATA(BC$21 & \"\",PivotTableB!$A$3,\"SchoolName\",$B38,\"SubsidiaryName\",$C38,\"YearStart\",BA$13))),\"\")","v":0},{"$f":"IFERROR(IF(BC38=\".\",\".\",IF(BC38=\"n/a\",\"n/a\",\nGETPIVOTDATA(BD$21 & \"\",PivotTableB!$A$3,\"SchoolName\",$B38,\"SubsidiaryName\",$C38,\"YearStart\",BB$13))),\"\")","v":""},105,{"$f":"IFERROR(IF(BE38=\".\",\".\",IF(BE38=\"n/a\",\"n/a\",\nGETPIVOTDATA(BF$21 & \"\",PivotTableB!$A$3,\"SchoolName\",$B38,\"SubsidiaryName\",$C38,\"YearStart\",BA$13))),\"\")","v":0},{"$f":"IFERROR(IF(BF38=\".\",\".\",IF(BF38=\"n/a\",\"n/a\",\nGETPIVOTDATA(BG$21 & \"\",PivotTableB!$A$3,\"SchoolName\",$B38,\"SubsidiaryName\",$C38,\"YearStart\",BA$13))),\"\")","v":420},{"$f":"IFERROR(IF($B38=\"\",\"\",\nIF(OR($L38=\"Nursery School\",$L38=\"All-through PRU\",$M38=\"True\"),\"n/a\",\nIF(GETPIVOTDATA(BH$21 & \"\",PivotTableB!$A$3,\"SchoolName\",$B38,\"SubsidiaryName\",$C38,\"YearStart\",BH$13)=\"\",\".\",\nGETPIVOTDATA(BH$21 & \"\",PivotTableB!$A$3,\"SchoolName\",$B38,\"SubsidiaryName\",$C38,\"YearStart\",BH$13)))),\"\")","v":105},{"$f":"IFERROR(IF(BH38=\".\",\".\",IF(BH38=\"n/a\",\"n/a\",\nGETPIVOTDATA(BI$21 & \"\",PivotTableB!$A$3,\"SchoolName\",$B38,\"SubsidiaryName\",$C38,\"YearStart\",BH$13))),\"\")","v":0},{"$f":"IFERROR(IF(BI38=\".\",\".\",IF(BI38=\"n/a\",\"n/a\",\nGETPIVOTDATA(BJ$21 & \"\",PivotTableB!$A$3,\"SchoolName\",$B38,\"SubsidiaryName\",$C38,\"YearStart\",BH$13))),\"\")","v":0},{"$f":"IFERROR(IF(BJ38=\".\",\".\",IF(BJ38=\"n/a\",\"n/a\",\nGETPIVOTDATA(BK$21 & \"\",PivotTableB!$A$3,\"SchoolName\",$B38,\"SubsidiaryName\",$C38,\"YearStart\",BH$13))),\"\")","v":0},105,{"$f":"IFERROR(IF(BL38=\".\",\".\",IF(BL38=\"n/a\",\"n/a\",\nGETPIVOTDATA(BM$21 & \"\",PivotTableB!$A$3,\"SchoolName\",$B38,\"SubsidiaryName\",$C38,\"YearStart\",BH$13))),\"\")","v":0},{"$f":"IFERROR(IF(BM38=\".\",\".\",IF(BM38=\"n/a\",\"n/a\",\nGETPIVOTDATA(BN$21 & \"\",PivotTableB!$A$3,\"SchoolName\",$B38,\"SubsidiaryName\",$C38,\"YearStart\",BH$13))),\"\")","v":420},{"$f":"IFERROR(IF($B38=\"\",\"\",\nIF(OR($L38=\"Nursery School\",$L38=\"All-through PRU\",$M38=\"True\"),\"n/a\",\nIF(GETPIVOTDATA(BO$21 & \"\",PivotTableB!$A$3,\"SchoolName\",$B38,\"SubsidiaryName\",$C38,\"YearStart\",BO$13)=\"\",\".\",\nGETPIVOTDATA(BO$21 & \"\",PivotTableB!$A$3,\"SchoolName\",$B38,\"SubsidiaryName\",$C38,\"YearStart\",BO$13)))),\"\")","v":105},{"$f":"IFERROR(IF(BO38=\".\",\".\",IF(BO38=\"n/a\",\"n/a\",\nGETPIVOTDATA(BP$21 & \"\",PivotTableB!$A$3,\"SchoolName\",$B38,\"SubsidiaryName\",$C38,\"YearStart\",BO$13))),\"\")","v":0},{"$f":"IFERROR(IF(BP38=\".\",\".\",IF(BP38=\"n/a\",\"n/a\",\nGETPIVOTDATA(BQ$21 & \"\",PivotTableB!$A$3,\"SchoolName\",$B38,\"SubsidiaryName\",$C38,\"YearStart\",BO$13))),\"\")","v":0},{"$f":"IFERROR(IF(BQ38=\".\",\".\",IF(BQ38=\"n/a\",\"n/a\",\nGETPIVOTDATA(BR$21 & \"\",PivotTableB!$A$3,\"SchoolName\",$B38,\"SubsidiaryName\",$C38,\"YearStart\",BP$13))),\"\")","v":""},105,{"$f":"IFERROR(IF(BS38=\".\",\".\",IF(BS38=\"n/a\",\"n/a\",\nGETPIVOTDATA(BT$21 & \"\",PivotTableB!$A$3,\"SchoolName\",$B38,\"SubsidiaryName\",$C38,\"YearStart\",BO$13))),\"\")","v":0},{"$f":"IFERROR(IF(BT38=\".\",\".\",IF(BT38=\"n/a\",\"n/a\",\nGETPIVOTDATA(BU$21 & \"\",PivotTableB!$A$3,\"SchoolName\",$B38,\"SubsidiaryName\",$C38,\"YearStart\",BO$13))),\"\")","v":420},{"$f":"IFERROR(IF($B38=\"\",\"\",\nIF(OR($L38=\"Nursery School\",$L38=\"All-through PRU\",$M38=\"True\"),\"n/a\",\nIF(GETPIVOTDATA(BV$21 & \"\",PivotTableB!$A$3,\"SchoolName\",$B38,\"SubsidiaryName\",$C38,\"YearStart\",BV$13)=\"\",\".\",\nGETPIVOTDATA(BV$21 & \"\",PivotTableB!$A$3,\"SchoolName\",$B38,\"SubsidiaryName\",$C38,\"YearStart\",BV$13)))),\"\")","v":105},{"$f":"IFERROR(IF(BV38=\".\",\".\",IF(BV38=\"n/a\",\"n/a\",\nGETPIVOTDATA(BW$21 & \"\",PivotTableB!$A$3,\"SchoolName\",$B38,\"SubsidiaryName\",$C38,\"YearStart\",BV$13))),\"\")","v":0},{"$f":"IFERROR(IF(BW38=\".\",\".\",IF(BW38=\"n/a\",\"n/a\",\nGETPIVOTDATA(BX$21 & \"\",PivotTableB!$A$3,\"SchoolName\",$B38,\"SubsidiaryName\",$C38,\"YearStart\",BV$13))),\"\")","v":0},{"$f":"IFERROR(IF(BX38=\".\",\".\",IF(BX38=\"n/a\",\"n/a\",\nGETPIVOTDATA(BY$21 & \"\",PivotTableB!$A$3,\"SchoolName\",$B38,\"SubsidiaryName\",$C38,\"YearStart\",BV$13))),\"\")","v":0},105,{"$f":"IFERROR(IF(BZ38=\".\",\".\",IF(BZ38=\"n/a\",\"n/a\",\nGETPIVOTDATA(CA$21 & \"\",PivotTableB!$A$3,\"SchoolName\",$B38,\"SubsidiaryName\",$C38,\"YearStart\",BV$13))),\"\")","v":0},{"$f":"IFERROR(IF(CA38=\".\",\".\",IF(CA38=\"n/a\",\"n/a\",\nGETPIVOTDATA(CB$21 & \"\",PivotTableB!$A$3,\"SchoolName\",$B38,\"SubsidiaryName\",$C38,\"YearStart\",BV$13))),\"\")","v":420}]
[null,{"$f":"IF(PivotTableA!A26=\"\",\"n/a\",PivotTableA!A26)","v":"Cox Green School"},{"$f":"IF(B39=\"n/a\",\"\",PivotTableA!B26)","v":"Cox Green School"},{"$f":"IF($B39=\"n/a\",\"\",PivotTableA!C26)","v":"7"},{"$f":"IF($B39=\"n/a\",\"\",PivotTableA!D26)","v":"Maidenhead"},{"$f":"IF($B39=\"n/a\",\"\",PivotTableA!E26)","v":"South West Maidenhead"},{"$f":"IF($B39=\"n/a\",\"\",PivotTableA!F26)","v":"Lowbrook"},{"$f":"IF($B39=\"n/a\",\"\",PivotTableA!G26)","v":"Cox Green"},{"$f":"IF($B39=\"n/a\",\"\",PivotTableA!H26)","v":"Cox Green"},{"$f":"IF($B39=\"n/a\",\"\",PivotTableA!I26)","v":"Secondary"},{"$f":"IF($B39=\"n/a\",\"\",PivotTableA!J26)","v":"Two Tier"},{"$f":"IF($B39=\"n/a\",\"\",PivotTableA!K26)","v":"Secondary"},{"$f":"IF($B39=\"n/a\",\"\",PivotTableA!O26)","v":"FALSE"},{"$f":"IF($B39=\"n/a\",\"\",PivotTableA!L26)","v":"Academy"},{"$f":"IF($B39=\"n/a\",\"\",PivotTableA!M26)","v":"2011-12-01"},{"$f":"IF($B39=\"n/a\",\"\",PivotTableA!N26)","v":"None"},{"$f":"IFERROR(IF($B39=\"\",\"\",\nIF(OR($L39=\"Nursery School\",$L39=\"All-through PRU\",$M39=\"True\"),\"n/a\",\nIF(GETPIVOTDATA(Q$21 & \"\",PivotTableB!$A$3,\"SchoolName\",$B39,\"SubsidiaryName\",$C39,\"YearStart\",Q$13)=\"\",\".\",\nGETPIVOTDATA(Q$21 & \"\",PivotTableB!$A$3,\"SchoolName\",$B39,\"SubsidiaryName\",$C39,\"YearStart\",Q$13)))),\"\")","v":176},{"$f":"IFERROR(IF(Q39=\".\",\".\",IF(Q39=\"n/a\",\"n/a\",\nGETPIVOTDATA(R$21 & \"\",PivotTableB!$A$3,\"SchoolName\",$B39,\"SubsidiaryName\",$C39,\"YearStart\",Q$13))),\"\")","v":0},{"$f":"IFERROR(IF(R39=\".\",\".\",IF(R39=\"n/a\",\"n/a\",\nGETPIVOTDATA(S$21 & \"\",PivotTableB!$A$3,\"SchoolName\",$B39,\"SubsidiaryName\",$C39,\"YearStart\",Q$13))),\"\")","v":0},176,{"$f":"IFERROR(IF(T39=\".\",\".\",IF(T39=\"n/a\",\"n/a\",\nGETPIVOTDATA(U$21 & \"\",PivotTableB!$A$3,\"SchoolName\",$B39,\"SubsidiaryName\",$C39,\"YearStart\",Q$13))),\"\")","v":0},{"$f":"IFERROR(IF(U39=\".\",\".\",IF(U39=\"n/a\",\"n/a\",\nGETPIVOTDATA(V$21 & \"\",PivotTableB!$A$3,\"SchoolName\",$B39,\"SubsidiaryName\",$C39,\"YearStart\",Q$13))),\"\")","v":1077},{"$f":"IFERROR(IF($B39=\"\",\"\",\nIF(OR($L39=\"Nursery School\",$L39=\"All-through PRU\",$M39=\"True\"),\"n/a\",\nIF(GETPIVOTDATA(W$21 & \"\",PivotTableB!$A$3,\"SchoolName\",$B39,\"SubsidiaryName\",$C39,\"YearStart\",W$13)=\"\",\".\",\nGETPIVOTDATA(W$21 & \"\",PivotTableB!$A$3,\"SchoolName\",$B39,\"SubsidiaryName\",$C39,\"YearStart\",W$13)))),\"\")","v":176},{"$f":"IFERROR(IF(W39=\".\",\".\",IF(W39=\"n/a\",\"n/a\",\nGETPIVOTDATA(X$21 & \"\",PivotTableB!$A$3,\"SchoolName\",$B39,\"SubsidiaryName\",$C39,\"YearStart\",W$13))),\"\")","v":0},{"$f":"IFERROR(IF(X39=\".\",\".\",IF(X39=\"n/a\",\"n/a\",\nGETPIVOTDATA(Y$21 & \"\",PivotTableB!$A$3,\"SchoolName\",$B39,\"SubsidiaryName\",$C39,\"YearStart\",W$13))),\"\")","v":0},176,{"$f":"IFERROR(IF(Z39=\".\",\".\",IF(Z39=\"n/a\",\"n/a\",\nGETPIVOTDATA(AA$21 & \"\",PivotTableB!$A$3,\"SchoolName\",$B39,\"SubsidiaryName\",$C39,\"YearStart\",W$13))),\"\")","v":0},{"$f":"IFERROR(IF(AA39=\".\",\".\",IF(AA39=\"n/a\",\"n/a\",\nGETPIVOTDATA(AB$21 & \"\",PivotTableB!$A$3,\"SchoolName\",$B39,\"SubsidiaryName\",$C39,\"YearStart\",W$13))),\"\")","v":1077},{"$f":"IFERROR(IF($B39=\"\",\"\",\nIF(OR($L39=\"Nursery School\",$L39=\"All-through PRU\",$M39=\"True\"),\"n/a\",\nIF(GETPIVOTDATA(AC$21 & \"\",PivotTableB!$A$3,\"SchoolName\",$B39,\"SubsidiaryName\",$C39,\"YearStart\",AC$13)=\"\",\".\",\nGETPIVOTDATA(AC$21 & \"\",PivotTableB!$A$3,\"SchoolName\",$B39,\"SubsidiaryName\",$C39,\"YearStart\",AC$13)))),\"\")","v":176},{"$f":"IFERROR(IF(AC39=\".\",\".\",IF(AC39=\"n/a\",\"n/a\",\nGETPIVOTDATA(AD$21 & \"\",PivotTableB!$A$3,\"SchoolName\",$B39,\"SubsidiaryName\",$C39,\"YearStart\",AC$13))),\"\")","v":0},{"$f":"IFERROR(IF(AD39=\".\",\".\",IF(AD39=\"n/a\",\"n/a\",\nGETPIVOTDATA(AE$21 & \"\",PivotTableB!$A$3,\"SchoolName\",$B39,\"SubsidiaryName\",$C39,\"YearStart\",AC$13))),\"\")","v":0},176,{"$f":"IFERROR(IF(AF39=\".\",\".\",IF(AF39=\"n/a\",\"n/a\",\nGETPIVOTDATA(AG$21 & \"\",PivotTableB!$A$3,\"SchoolName\",$B39,\"SubsidiaryName\",$C39,\"YearStart\",AC$13))),\"\")","v":0},{"$f":"IFERROR(IF(AG39=\".\",\".\",IF(AG39=\"n/a\",\"n/a\",\nGETPIVOTDATA(AH$21 & \"\",PivotTableB!$A$3,\"SchoolName\",$B39,\"SubsidiaryName\",$C39,\"YearStart\",AC$13))),\"\")","v":1085},{"$f":"IFERROR(IF($B39=\"\",\"\",\nIF(OR($L39=\"Nursery School\",$L39=\"All-through PRU\",$M39=\"True\"),\"n/a\",\nIF(GETPIVOTDATA(AI$21 & \"\",PivotTableB!$A$3,\"SchoolName\",$B39,\"SubsidiaryName\",$C39,\"YearStart\",AI$13)=\"\",\".\",\nGETPIVOTDATA(AI$21 & \"\",PivotTableB!$A$3,\"SchoolName\",$B39,\"SubsidiaryName\",$C39,\"YearStart\",AI$13)))),\"\")","v":176},{"$f":"IFERROR(IF(AI39=\".\",\".\",IF(AI39=\"n/a\",\"n/a\",\nGETPIVOTDATA(AJ$21 & \"\",PivotTableB!$A$3,\"SchoolName\",$B39,\"SubsidiaryName\",$C39,\"YearStart\",AI$13))),\"\")","v":30},{"$f":"IFERROR(IF(AJ39=\".\",\".\",IF(AJ39=\"n/a\",\"n/a\",\nGETPIVOTDATA(AK$21 & \"\",PivotTableB!$A$3,\"SchoolName\",$B39,\"SubsidiaryName\",$C39,\"YearStart\",AI$13))),\"\")","v":0},206,{"$f":"IFERROR(IF(AL39=\".\",\".\",IF(AL39=\"n/a\",\"n/a\",\nGETPIVOTDATA(AM$21 & \"\",PivotTableB!$A$3,\"SchoolName\",$B39,\"SubsidiaryName\",$C39,\"YearStart\",AI$13))),\"\")","v":0},{"$f":"IFERROR(IF(AM39=\".\",\".\",IF(AM39=\"n/a\",\"n/a\",\nGETPIVOTDATA(AN$21 & \"\",PivotTableB!$A$3,\"SchoolName\",$B39,\"SubsidiaryName\",$C39,\"YearStart\",AI$13))),\"\")","v":1103},{"$f":"IFERROR(IF($B39=\"\",\"\",\nIF(OR($L39=\"Nursery School\",$L39=\"All-through PRU\",$M39=\"True\"),\"n/a\",\nIF(GETPIVOTDATA(AO$21 & \"\",PivotTableB!$A$3,\"SchoolName\",$B39,\"SubsidiaryName\",$C39,\"YearStart\",AO$13)=\"\",\".\",\nGETPIVOTDATA(AO$21 & \"\",PivotTableB!$A$3,\"SchoolName\",$B39,\"SubsidiaryName\",$C39,\"YearStart\",AO$13)))),\"\")","v":176},{"$f":"IFERROR(IF(AO39=\".\",\".\",IF(AO39=\"n/a\",\"n/a\",\nGETPIVOTDATA(AP$21 & \"\",PivotTableB!$A$3,\"SchoolName\",$B39,\"SubsidiaryName\",$C39,\"YearStart\",AO$13))),\"\")","v":30},{"$f":"IFERROR(IF(AP39=\".\",\".\",IF(AP39=\"n/a\",\"n/a\",\nGETPIVOTDATA(AQ$21 & \"\",PivotTableB!$A$3,\"SchoolName\",$B39,\"SubsidiaryName\",$C39,\"YearStart\",AO$13))),\"\")","v":0},206,{"$f":"IFERROR(IF(AR39=\".\",\".\",IF(AR39=\"n/a\",\"n/a\",\nGETPIVOTDATA(AS$21 & \"\",PivotTableB!$A$3,\"SchoolName\",$B39,\"SubsidiaryName\",$C39,\"YearStart\",AO$13))),\"\")","v":0},{"$f":"IFERROR(IF(AS39=\".\",\".\",IF(AS39=\"n/a\",\"n/a\",\nGETPIVOTDATA(AT$21 & \"\",PivotTableB!$A$3,\"SchoolName\",$B39,\"SubsidiaryName\",$C39,\"YearStart\",AO$13))),\"\")","v":1103},{"$f":"IFERROR(IF($B39=\"\",\"\",\nIF(OR($L39=\"Nursery School\",$L39=\"All-through PRU\",$M39=\"True\"),\"n/a\",\nIF(GETPIVOTDATA(AU$21 & \"\",PivotTableB!$A$3,\"SchoolName\",$B39,\"SubsidiaryName\",$C39,\"YearStart\",AU$13)=\"\",\".\",\nGETPIVOTDATA(AU$21 & \"\",PivotTableB!$A$3,\"SchoolName\",$B39,\"SubsidiaryName\",$C39,\"YearStart\",AU$13)))),\"\")","v":206},{"$f":"IFERROR(IF(AU39=\".\",\".\",IF(AU39=\"n/a\",\"n/a\",\nGETPIVOTDATA(AV$21 & \"\",PivotTableB!$A$3,\"SchoolName\",$B39,\"SubsidiaryName\",$C39,\"YearStart\",AU$13))),\"\")","v":4},{"$f":"IFERROR(IF(AV39=\".\",\".\",IF(AV39=\"n/a\",\"n/a\",\nGETPIVOTDATA(AW$21 & \"\",PivotTableB!$A$3,\"SchoolName\",$B39,\"SubsidiaryName\",$C39,\"YearStart\",AU$13))),\"\")","v":0},210,{"$f":"IFERROR(IF(AX39=\".\",\".\",IF(AX39=\"n/a\",\"n/a\",\nGETPIVOTDATA(AY$21 & \"\",PivotTableB!$A$3,\"SchoolName\",$B39,\"SubsidiaryName\",$C39,\"YearStart\",AU$13))),\"\")","v":0},{"$f":"IFERROR(IF(AY39=\".\",\".\",IF(AY39=\"n/a\",\"n/a\",\nGETPIVOTDATA(AZ$21 & \"\",PivotTableB!$A$3,\"SchoolName\",$B39,\"SubsidiaryName\",$C39,\"YearStart\",AU$13))),\"\")","v":1227},{"$f":"IFERROR(IF($B39=\"\",\"\",\nIF(OR($L39=\"Nursery School\",$L39=\"All-through PRU\",$M39=\"True\"),\"n/a\",\nIF(GETPIVOTDATA(BA$21 & \"\",PivotTableB!$A$3,\"SchoolName\",$B39,\"SubsidiaryName\",$C39,\"YearStart\",BA$13)=\"\",\".\",\nGETPIVOTDATA(BA$21 & \"\",PivotTableB!$A$3,\"SchoolName\",$B39,\"SubsidiaryName\",$C39,\"YearStart\",BA$13)))),\"\")","v":210},{"$f":"IFERROR(IF(BA39=\".\",\".\",IF(BA39=\"n/a\",\"n/a\",\nGETPIVOTDATA(BB$21 & \"\",PivotTableB!$A$3,\"SchoolName\",$B39,\"SubsidiaryName\",$C39,\"YearStart\",BA$13))),\"\")","v":0},{"$f":"IFERROR(IF(BB39=\".\",\".\",IF(BB39=\"n/a\",\"n/a\",\nGETPIVOTDATA(BC$21 & \"\",PivotTableB!$A$3,\"SchoolName\",$B39,\"SubsidiaryName\",$C39,\"YearStart\",BA$13))),\"\")","v":0},{"$f":"IFERROR(IF(BC39=\".\",\".\",IF(BC39=\"n/a\",\"n/a\",\nGETPIVOTDATA(BD$21 & \"\",PivotTableB!$A$3,\"SchoolName\",$B39,\"SubsidiaryName\",$C39,\"YearStart\",BB$13))),\"\")","v":""},210,{"$f":"IFERROR(IF(BE39=\".\",\".\",IF(BE39=\"n/a\",\"n/a\",\nGETPIVOTDATA(BF$21 & \"\",PivotTableB!$A$3,\"SchoolName\",$B39,\"SubsidiaryName\",$C39,\"YearStart\",BA$13))),\"\")","v":0},{"$f":"IFERROR(IF(BF39=\".\",\".\",IF(BF39=\"n/a\",\"n/a\",\nGETPIVOTDATA(BG$21 & \"\",PivotTableB!$A$3,\"SchoolName\",$B39,\"SubsidiaryName\",$C39,\"YearStart\",BA$13))),\"\")","v":1227},{"$f":"IFERROR(IF($B39=\"\",\"\",\nIF(OR($L39=\"Nursery School\",$L39=\"All-through PRU\",$M39=\"True\"),\"n/a\",\nIF(GETPIVOTDATA(BH$21 & \"\",PivotTableB!$A$3,\"SchoolName\",$B39,\"SubsidiaryName\",$C39,\"YearStart\",BH$13)=\"\",\".\",\nGETPIVOTDATA(BH$21 & \"\",PivotTableB!$A$3,\"SchoolName\",$B39,\"SubsidiaryName\",$C39,\"YearStart\",BH$13)))),\"\")","v":210},{"$f":"IFERROR(IF(BH39=\".\",\".\",IF(BH39=\"n/a\",\"n/a\",\nGETPIVOTDATA(BI$21 & \"\",PivotTableB!$A$3,\"SchoolName\",$B39,\"SubsidiaryName\",$C39,\"YearStart\",BH$13))),\"\")","v":0},{"$f":"IFERROR(IF(BI39=\".\",\".\",IF(BI39=\"n/a\",\"n/a\",\nGETPIVOTDATA(BJ$21 & \"\",PivotTableB!$A$3,\"SchoolName\",$B39,\"SubsidiaryName\",$C39,\"YearStart\",BH$13))),\"\")","v":0},{"$f":"IFERROR(IF(BJ39=\".\",\".\",IF(BJ39=\"n/a\",\"n/a\",\nGETPIVOTDATA(BK$21 & \"\",PivotTableB!$A$3,\"SchoolName\",$B39,\"SubsidiaryName\",$C39,\"YearStart\",BH$13))),\"\")","v":0},210,{"$f":"IFERROR(IF(BL39=\".\",\".\",IF(BL39=\"n/a\",\"n/a\",\nGETPIVOTDATA(BM$21 & \"\",PivotTableB!$A$3,\"SchoolName\",$B39,\"SubsidiaryName\",$C39,\"YearStart\",BH$13))),\"\")","v":0},{"$f":"IFERROR(IF(BM39=\".\",\".\",IF(BM39=\"n/a\",\"n/a\",\nGETPIVOTDATA(BN$21 & \"\",PivotTableB!$A$3,\"SchoolName\",$B39,\"SubsidiaryName\",$C39,\"YearStart\",BH$13))),\"\")","v":1227},{"$f":"IFERROR(IF($B39=\"\",\"\",\nIF(OR($L39=\"Nursery School\",$L39=\"All-through PRU\",$M39=\"True\"),\"n/a\",\nIF(GETPIVOTDATA(BO$21 & \"\",PivotTableB!$A$3,\"SchoolName\",$B39,\"SubsidiaryName\",$C39,\"YearStart\",BO$13)=\"\",\".\",\nGETPIVOTDATA(BO$21 & \"\",PivotTableB!$A$3,\"SchoolName\",$B39,\"SubsidiaryName\",$C39,\"YearStart\",BO$13)))),\"\")","v":210},{"$f":"IFERROR(IF(BO39=\".\",\".\",IF(BO39=\"n/a\",\"n/a\",\nGETPIVOTDATA(BP$21 & \"\",PivotTableB!$A$3,\"SchoolName\",$B39,\"SubsidiaryName\",$C39,\"YearStart\",BO$13))),\"\")","v":0},{"$f":"IFERROR(IF(BP39=\".\",\".\",IF(BP39=\"n/a\",\"n/a\",\nGETPIVOTDATA(BQ$21 & \"\",PivotTableB!$A$3,\"SchoolName\",$B39,\"SubsidiaryName\",$C39,\"YearStart\",BO$13))),\"\")","v":0},{"$f":"IFERROR(IF(BQ39=\".\",\".\",IF(BQ39=\"n/a\",\"n/a\",\nGETPIVOTDATA(BR$21 & \"\",PivotTableB!$A$3,\"SchoolName\",$B39,\"SubsidiaryName\",$C39,\"YearStart\",BP$13))),\"\")","v":""},210,{"$f":"IFERROR(IF(BS39=\".\",\".\",IF(BS39=\"n/a\",\"n/a\",\nGETPIVOTDATA(BT$21 & \"\",PivotTableB!$A$3,\"SchoolName\",$B39,\"SubsidiaryName\",$C39,\"YearStart\",BO$13))),\"\")","v":0},{"$f":"IFERROR(IF(BT39=\".\",\".\",IF(BT39=\"n/a\",\"n/a\",\nGETPIVOTDATA(BU$21 & \"\",PivotTableB!$A$3,\"SchoolName\",$B39,\"SubsidiaryName\",$C39,\"YearStart\",BO$13))),\"\")","v":1227},{"$f":"IFERROR(IF($B39=\"\",\"\",\nIF(OR($L39=\"Nursery School\",$L39=\"All-through PRU\",$M39=\"True\"),\"n/a\",\nIF(GETPIVOTDATA(BV$21 & \"\",PivotTableB!$A$3,\"SchoolName\",$B39,\"SubsidiaryName\",$C39,\"YearStart\",BV$13)=\"\",\".\",\nGETPIVOTDATA(BV$21 & \"\",PivotTableB!$A$3,\"SchoolName\",$B39,\"SubsidiaryName\",$C39,\"YearStart\",BV$13)))),\"\")","v":210},{"$f":"IFERROR(IF(BV39=\".\",\".\",IF(BV39=\"n/a\",\"n/a\",\nGETPIVOTDATA(BW$21 & \"\",PivotTableB!$A$3,\"SchoolName\",$B39,\"SubsidiaryName\",$C39,\"YearStart\",BV$13))),\"\")","v":0},{"$f":"IFERROR(IF(BW39=\".\",\".\",IF(BW39=\"n/a\",\"n/a\",\nGETPIVOTDATA(BX$21 & \"\",PivotTableB!$A$3,\"SchoolName\",$B39,\"SubsidiaryName\",$C39,\"YearStart\",BV$13))),\"\")","v":0},{"$f":"IFERROR(IF(BX39=\".\",\".\",IF(BX39=\"n/a\",\"n/a\",\nGETPIVOTDATA(BY$21 & \"\",PivotTableB!$A$3,\"SchoolName\",$B39,\"SubsidiaryName\",$C39,\"YearStart\",BV$13))),\"\")","v":0},210,{"$f":"IFERROR(IF(BZ39=\".\",\".\",IF(BZ39=\"n/a\",\"n/a\",\nGETPIVOTDATA(CA$21 & \"\",PivotTableB!$A$3,\"SchoolName\",$B39,\"SubsidiaryName\",$C39,\"YearStart\",BV$13))),\"\")","v":0},{"$f":"IFERROR(IF(CA39=\".\",\".\",IF(CA39=\"n/a\",\"n/a\",\nGETPIVOTDATA(CB$21 & \"\",PivotTableB!$A$3,\"SchoolName\",$B39,\"SubsidiaryName\",$C39,\"YearStart\",BV$13))),\"\")","v":1227}]
[null,{"$f":"IF(PivotTableA!A27=\"\",\"n/a\",PivotTableA!A27)","v":"Datchet St Mary's C of E Primary Academy"},{"$f":"IF(B40=\"n/a\",\"\",PivotTableA!B27)","v":"Datchet St Mary's C of E Primary Academy"},{"$f":"IF($B40=\"n/a\",\"\",PivotTableA!C27)","v":"R"},{"$f":"IF($B40=\"n/a\",\"\",PivotTableA!D27)","v":"Datchet & Wraysbury"},{"$f":"IF($B40=\"n/a\",\"\",PivotTableA!E27)","v":"Datchet and Wraysbury"},{"$f":"IF($B40=\"n/a\",\"\",PivotTableA!F27)","v":"Datchet East"},{"$f":"IF($B40=\"n/a\",\"\",PivotTableA!G27)","v":"Datchet"},{"$f":"IF($B40=\"n/a\",\"\",PivotTableA!H27)","v":"Datchet"},{"$f":"IF($B40=\"n/a\",\"\",PivotTableA!I27)","v":"Primary"},{"$f":"IF($B40=\"n/a\",\"\",PivotTableA!J27)","v":"Two Tier"},{"$f":"IF($B40=\"n/a\",\"\",PivotTableA!K27)","v":"JMI"},{"$f":"IF($B40=\"n/a\",\"\",PivotTableA!O27)","v":"FALSE"},{"$f":"IF($B40=\"n/a\",\"\",PivotTableA!L27)","v":"Academy"},{"$f":"IF($B40=\"n/a\",\"\",PivotTableA!M27)","v":"2012-01-01"},{"$f":"IF($B40=\"n/a\",\"\",PivotTableA!N27)","v":"Church of England"},{"$f":"IFERROR(IF($B40=\"\",\"\",\nIF(OR($L40=\"Nursery School\",$L40=\"All-through PRU\",$M40=\"True\"),\"n/a\",\nIF(GETPIVOTDATA(Q$21 & \"\",PivotTableB!$A$3,\"SchoolName\",$B40,\"SubsidiaryName\",$C40,\"YearStart\",Q$13)=\"\",\".\",\nGETPIVOTDATA(Q$21 & \"\",PivotTableB!$A$3,\"SchoolName\",$B40,\"SubsidiaryName\",$C40,\"YearStart\",Q$13)))),\"\")","v":30},{"$f":"IFERROR(IF(Q40=\".\",\".\",IF(Q40=\"n/a\",\"n/a\",\nGETPIVOTDATA(R$21 & \"\",PivotTableB!$A$3,\"SchoolName\",$B40,\"SubsidiaryName\",$C40,\"YearStart\",Q$13))),\"\")","v":0},{"$f":"IFERROR(IF(R40=\".\",\".\",IF(R40=\"n/a\",\"n/a\",\nGETPIVOTDATA(S$21 & \"\",PivotTableB!$A$3,\"SchoolName\",$B40,\"SubsidiaryName\",$C40,\"YearStart\",Q$13))),\"\")","v":0},30,{"$f":"IFERROR(IF(T40=\".\",\".\",IF(T40=\"n/a\",\"n/a\",\nGETPIVOTDATA(U$21 & \"\",PivotTableB!$A$3,\"SchoolName\",$B40,\"SubsidiaryName\",$C40,\"YearStart\",Q$13))),\"\")","v":0},{"$f":"IFERROR(IF(U40=\".\",\".\",IF(U40=\"n/a\",\"n/a\",\nGETPIVOTDATA(V$21 & \"\",PivotTableB!$A$3,\"SchoolName\",$B40,\"SubsidiaryName\",$C40,\"YearStart\",Q$13))),\"\")","v":204},{"$f":"IFERROR(IF($B40=\"\",\"\",\nIF(OR($L40=\"Nursery School\",$L40=\"All-through PRU\",$M40=\"True\"),\"n/a\",\nIF(GETPIVOTDATA(W$21 & \"\",PivotTableB!$A$3,\"SchoolName\",$B40,\"SubsidiaryName\",$C40,\"YearStart\",W$13)=\"\",\".\",\nGETPIVOTDATA(W$21 & \"\",PivotTableB!$A$3,\"SchoolName\",$B40,\"SubsidiaryName\",$C40,\"YearStart\",W$13)))),\"\")","v":30},{"$f":"IFERROR(IF(W40=\".\",\".\",IF(W40=\"n/a\",\"n/a\",\nGETPIVOTDATA(X$21 & \"\",PivotTableB!$A$3,\"SchoolName\",$B40,\"SubsidiaryName\",$C40,\"YearStart\",W$13))),\"\")","v":30},{"$f":"IFERROR(IF(X40=\".\",\".\",IF(X40=\"n/a\",\"n/a\",\nGETPIVOTDATA(Y$21 & \"\",PivotTableB!$A$3,\"SchoolName\",$B40,\"SubsidiaryName\",$C40,\"YearStart\",W$13))),\"\")","v":0},60,{"$f":"IFERROR(IF(Z40=\".\",\".\",IF(Z40=\"n/a\",\"n/a\",\nGETPIVOTDATA(AA$21 & \"\",PivotTableB!$A$3,\"SchoolName\",$B40,\"SubsidiaryName\",$C40,\"YearStart\",W$13))),\"\")","v":0},{"$f":"IFERROR(IF(AA40=\".\",\".\",IF(AA40=\"n/a\",\"n/a\",\nGETPIVOTDATA(AB$21 & \"\",PivotTableB!$A$3,\"SchoolName\",$B40,\"SubsidiaryName\",$C40,\"YearStart\",W$13))),\"\")","v":234},{"$f":"IFERROR(IF($B40=\"\",\"\",\nIF(OR($L40=\"Nursery School\",$L40=\"All-through PRU\",$M40=\"True\"),\"n/a\",\nIF(GETPIVOTDATA(AC$21 & \"\",PivotTableB!$A$3,\"SchoolName\",$B40,\"SubsidiaryName\",$C40,\"YearStart\",AC$13)=\"\",\".\",\nGETPIVOTDATA(AC$21 & \"\",PivotTableB!$A$3,\"SchoolName\",$B40,\"SubsidiaryName\",$C40,\"YearStart\",AC$13)))),\"\")","v":30},{"$f":"IFERROR(IF(AC40=\".\",\".\",IF(AC40=\"n/a\",\"n/a\",\nGETPIVOTDATA(AD$21 & \"\",PivotTableB!$A$3,\"SchoolName\",$B40,\"SubsidiaryName\",$C40,\"YearStart\",AC$13))),\"\")","v":0},{"$f":"IFERROR(IF(AD40=\".\",\".\",IF(AD40=\"n/a\",\"n/a\",\nGETPIVOTDATA(AE$21 & \"\",PivotTableB!$A$3,\"SchoolName\",$B40,\"SubsidiaryName\",$C40,\"YearStart\",AC$13))),\"\")","v":0},30,{"$f":"IFERROR(IF(AF40=\".\",\".\",IF(AF40=\"n/a\",\"n/a\",\nGETPIVOTDATA(AG$21 & \"\",PivotTableB!$A$3,\"SchoolName\",$B40,\"SubsidiaryName\",$C40,\"YearStart\",AC$13))),\"\")","v":0},{"$f":"IFERROR(IF(AG40=\".\",\".\",IF(AG40=\"n/a\",\"n/a\",\nGETPIVOTDATA(AH$21 & \"\",PivotTableB!$A$3,\"SchoolName\",$B40,\"SubsidiaryName\",$C40,\"YearStart\",AC$13))),\"\")","v":234},{"$f":"IFERROR(IF($B40=\"\",\"\",\nIF(OR($L40=\"Nursery School\",$L40=\"All-through PRU\",$M40=\"True\"),\"n/a\",\nIF(GETPIVOTDATA(AI$21 & \"\",PivotTableB!$A$3,\"SchoolName\",$B40,\"SubsidiaryName\",$C40,\"YearStart\",AI$13)=\"\",\".\",\nGETPIVOTDATA(AI$21 & \"\",PivotTableB!$A$3,\"SchoolName\",$B40,\"SubsidiaryName\",$C40,\"YearStart\",AI$13)))),\"\")","v":30},{"$f":"IFERROR(IF(AI40=\".\",\".\",IF(AI40=\"n/a\",\"n/a\",\nGETPIVOTDATA(AJ$21 & \"\",PivotTableB!$A$3,\"SchoolName\",$B40,\"SubsidiaryName\",$C40,\"YearStart\",AI$13))),\"\")","v":0},{"$f":"IFERROR(IF(AJ40=\".\",\".\",IF(AJ40=\"n/a\",\"n/a\",\nGETPIVOTDATA(AK$21 & \"\",PivotTableB!$A$3,\"SchoolName\",$B40,\"SubsidiaryName\",$C40,\"YearStart\",AI$13))),\"\")","v":0},30,{"$f":"IFERROR(IF(AL40=\".\",\".\",IF(AL40=\"n/a\",\"n/a\",\nGETPIVOTDATA(AM$21 & \"\",PivotTableB!$A$3,\"SchoolName\",$B40,\"SubsidiaryName\",$C40,\"YearStart\",AI$13))),\"\")","v":0},{"$f":"IFERROR(IF(AM40=\".\",\".\",IF(AM40=\"n/a\",\"n/a\",\nGETPIVOTDATA(AN$21 & \"\",PivotTableB!$A$3,\"SchoolName\",$B40,\"SubsidiaryName\",$C40,\"YearStart\",AI$13))),\"\")","v":234},{"$f":"IFERROR(IF($B40=\"\",\"\",\nIF(OR($L40=\"Nursery School\",$L40=\"All-through PRU\",$M40=\"True\"),\"n/a\",\nIF(GETPIVOTDATA(AO$21 & \"\",PivotTableB!$A$3,\"SchoolName\",$B40,\"SubsidiaryName\",$C40,\"YearStart\",AO$13)=\"\",\".\",\nGETPIVOTDATA(AO$21 & \"\",PivotTableB!$A$3,\"SchoolName\",$B40,\"SubsidiaryName\",$C40,\"YearStart\",AO$13)))),\"\")","v":30},{"$f":"IFERROR(IF(AO40=\".\",\".\",IF(AO40=\"n/a\",\"n/a\",\nGETPIVOTDATA(AP$21 & \"\",PivotTableB!$A$3,\"SchoolName\",$B40,\"SubsidiaryName\",$C40,\"YearStart\",AO$13))),\"\")","v":0},{"$f":"IFERROR(IF(AP40=\".\",\".\",IF(AP40=\"n/a\",\"n/a\",\nGETPIVOTDATA(AQ$21 & \"\",PivotTableB!$A$3,\"SchoolName\",$B40,\"SubsidiaryName\",$C40,\"YearStart\",AO$13))),\"\")","v":0},30,{"$f":"IFERROR(IF(AR40=\".\",\".\",IF(AR40=\"n/a\",\"n/a\",\nGETPIVOTDATA(AS$21 & \"\",PivotTableB!$A$3,\"SchoolName\",$B40,\"SubsidiaryName\",$C40,\"YearStart\",AO$13))),\"\")","v":0},{"$f":"IFERROR(IF(AS40=\".\",\".\",IF(AS40=\"n/a\",\"n/a\",\nGETPIVOTDATA(AT$21 & \"\",PivotTableB!$A$3,\"SchoolName\",$B40,\"SubsidiaryName\",$C40,\"YearStart\",AO$13))),\"\")","v":234},{"$f":"IFERROR(IF($B40=\"\",\"\",\nIF(OR($L40=\"Nursery School\",$L40=\"All-through PRU\",$M40=\"True\"),\"n/a\",\nIF(GETPIVOTDATA(AU$21 & \"\",PivotTableB!$A$3,\"SchoolName\",$B40,\"SubsidiaryName\",$C40,\"YearStart\",AU$13)=\"\",\".\",\nGETPIVOTDATA(AU$21 & \"\",PivotTableB!$A$3,\"SchoolName\",$B40,\"SubsidiaryName\",$C40,\"YearStart\",AU$13)))),\"\")","v":30},{"$f":"IFERROR(IF(AU40=\".\",\".\",IF(AU40=\"n/a\",\"n/a\",\nGETPIVOTDATA(AV$21 & \"\",PivotTableB!$A$3,\"SchoolName\",$B40,\"SubsidiaryName\",$C40,\"YearStart\",AU$13))),\"\")","v":0},{"$f":"IFERROR(IF(AV40=\".\",\".\",IF(AV40=\"n/a\",\"n/a\",\nGETPIVOTDATA(AW$21 & \"\",PivotTableB!$A$3,\"SchoolName\",$B40,\"SubsidiaryName\",$C40,\"YearStart\",AU$13))),\"\")","v":0},30,{"$f":"IFERROR(IF(AX40=\".\",\".\",IF(AX40=\"n/a\",\"n/a\",\nGETPIVOTDATA(AY$21 & \"\",PivotTableB!$A$3,\"SchoolName\",$B40,\"SubsidiaryName\",$C40,\"YearStart\",AU$13))),\"\")","v":0},{"$f":"IFERROR(IF(AY40=\".\",\".\",IF(AY40=\"n/a\",\"n/a\",\nGETPIVOTDATA(AZ$21 & \"\",PivotTableB!$A$3,\"SchoolName\",$B40,\"SubsidiaryName\",$C40,\"YearStart\",AU$13))),\"\")","v":234},{"$f":"IFERROR(IF($B40=\"\",\"\",\nIF(OR($L40=\"Nursery School\",$L40=\"All-through PRU\",$M40=\"True\"),\"n/a\",\nIF(GETPIVOTDATA(BA$21 & \"\",PivotTableB!$A$3,\"SchoolName\",$B40,\"SubsidiaryName\",$C40,\"YearStart\",BA$13)=\"\",\".\",\nGETPIVOTDATA(BA$21 & \"\",PivotTableB!$A$3,\"SchoolName\",$B40,\"SubsidiaryName\",$C40,\"YearStart\",BA$13)))),\"\")","v":30},{"$f":"IFERROR(IF(BA40=\".\",\".\",IF(BA40=\"n/a\",\"n/a\",\nGETPIVOTDATA(BB$21 & \"\",PivotTableB!$A$3,\"SchoolName\",$B40,\"SubsidiaryName\",$C40,\"YearStart\",BA$13))),\"\")","v":0},{"$f":"IFERROR(IF(BB40=\".\",\".\",IF(BB40=\"n/a\",\"n/a\",\nGETPIVOTDATA(BC$21 & \"\",PivotTableB!$A$3,\"SchoolName\",$B40,\"SubsidiaryName\",$C40,\"YearStart\",BA$13))),\"\")","v":0},{"$f":"IFERROR(IF(BC40=\".\",\".\",IF(BC40=\"n/a\",\"n/a\",\nGETPIVOTDATA(BD$21 & \"\",PivotTableB!$A$3,\"SchoolName\",$B40,\"SubsidiaryName\",$C40,\"YearStart\",BB$13))),\"\")","v":""},30,{"$f":"IFERROR(IF(BE40=\".\",\".\",IF(BE40=\"n/a\",\"n/a\",\nGETPIVOTDATA(BF$21 & \"\",PivotTableB!$A$3,\"SchoolName\",$B40,\"SubsidiaryName\",$C40,\"YearStart\",BA$13))),\"\")","v":0},{"$f":"IFERROR(IF(BF40=\".\",\".\",IF(BF40=\"n/a\",\"n/a\",\nGETPIVOTDATA(BG$21 & \"\",PivotTableB!$A$3,\"SchoolName\",$B40,\"SubsidiaryName\",$C40,\"YearStart\",BA$13))),\"\")","v":234},{"$f":"IFERROR(IF($B40=\"\",\"\",\nIF(OR($L40=\"Nursery School\",$L40=\"All-through PRU\",$M40=\"True\"),\"n/a\",\nIF(GETPIVOTDATA(BH$21 & \"\",PivotTableB!$A$3,\"SchoolName\",$B40,\"SubsidiaryName\",$C40,\"YearStart\",BH$13)=\"\",\".\",\nGETPIVOTDATA(BH$21 & \"\",PivotTableB!$A$3,\"SchoolName\",$B40,\"SubsidiaryName\",$C40,\"YearStart\",BH$13)))),\"\")","v":30},{"$f":"IFERROR(IF(BH40=\".\",\".\",IF(BH40=\"n/a\",\"n/a\",\nGETPIVOTDATA(BI$21 & \"\",PivotTableB!$A$3,\"SchoolName\",$B40,\"SubsidiaryName\",$C40,\"YearStart\",BH$13))),\"\")","v":0},{"$f":"IFERROR(IF(BI40=\".\",\".\",IF(BI40=\"n/a\",\"n/a\",\nGETPIVOTDATA(BJ$21 & \"\",PivotTableB!$A$3,\"SchoolName\",$B40,\"SubsidiaryName\",$C40,\"YearStart\",BH$13))),\"\")","v":0},{"$f":"IFERROR(IF(BJ40=\".\",\".\",IF(BJ40=\"n/a\",\"n/a\",\nGETPIVOTDATA(BK$21 & \"\",PivotTableB!$A$3,\"SchoolName\",$B40,\"SubsidiaryName\",$C40,\"YearStart\",BH$13))),\"\")","v":0},30,{"$f":"IFERROR(IF(BL40=\".\",\".\",IF(BL40=\"n/a\",\"n/a\",\nGETPIVOTDATA(BM$21 & \"\",PivotTableB!$A$3,\"SchoolName\",$B40,\"SubsidiaryName\",$C40,\"YearStart\",BH$13))),\"\")","v":0},{"$f":"IFERROR(IF(BM40=\".\",\".\",IF(BM40=\"n/a\",\"n/a\",\nGETPIVOTDATA(BN$21 & \"\",PivotTableB!$A$3,\"SchoolName\",$B40,\"SubsidiaryName\",$C40,\"YearStart\",BH$13))),\"\")","v":234},{"$f":"IFERROR(IF($B40=\"\",\"\",\nIF(OR($L40=\"Nursery School\",$L40=\"All-through PRU\",$M40=\"True\"),\"n/a\",\nIF(GETPIVOTDATA(BO$21 & \"\",PivotTableB!$A$3,\"SchoolName\",$B40,\"SubsidiaryName\",$C40,\"YearStart\",BO$13)=\"\",\".\",\nGETPIVOTDATA(BO$21 & \"\",PivotTableB!$A$3,\"SchoolName\",$B40,\"SubsidiaryName\",$C40,\"YearStart\",BO$13)))),\"\")","v":30},{"$f":"IFERROR(IF(BO40=\".\",\".\",IF(BO40=\"n/a\",\"n/a\",\nGETPIVOTDATA(BP$21 & \"\",PivotTableB!$A$3,\"SchoolName\",$B40,\"SubsidiaryName\",$C40,\"YearStart\",BO$13))),\"\")","v":0},{"$f":"IFERROR(IF(BP40=\".\",\".\",IF(BP40=\"n/a\",\"n/a\",\nGETPIVOTDATA(BQ$21 & \"\",PivotTableB!$A$3,\"SchoolName\",$B40,\"SubsidiaryName\",$C40,\"YearStart\",BO$13))),\"\")","v":0},{"$f":"IFERROR(IF(BQ40=\".\",\".\",IF(BQ40=\"n/a\",\"n/a\",\nGETPIVOTDATA(BR$21 & \"\",PivotTableB!$A$3,\"SchoolName\",$B40,\"SubsidiaryName\",$C40,\"YearStart\",BP$13))),\"\")","v":""},30,{"$f":"IFERROR(IF(BS40=\".\",\".\",IF(BS40=\"n/a\",\"n/a\",\nGETPIVOTDATA(BT$21 & \"\",PivotTableB!$A$3,\"SchoolName\",$B40,\"SubsidiaryName\",$C40,\"YearStart\",BO$13))),\"\")","v":0},{"$f":"IFERROR(IF(BT40=\".\",\".\",IF(BT40=\"n/a\",\"n/a\",\nGETPIVOTDATA(BU$21 & \"\",PivotTableB!$A$3,\"SchoolName\",$B40,\"SubsidiaryName\",$C40,\"YearStart\",BO$13))),\"\")","v":204},{"$f":"IFERROR(IF($B40=\"\",\"\",\nIF(OR($L40=\"Nursery School\",$L40=\"All-through PRU\",$M40=\"True\"),\"n/a\",\nIF(GETPIVOTDATA(BV$21 & \"\",PivotTableB!$A$3,\"SchoolName\",$B40,\"SubsidiaryName\",$C40,\"YearStart\",BV$13)=\"\",\".\",\nGETPIVOTDATA(BV$21 & \"\",PivotTableB!$A$3,\"SchoolName\",$B40,\"SubsidiaryName\",$C40,\"YearStart\",BV$13)))),\"\")","v":30},{"$f":"IFERROR(IF(BV40=\".\",\".\",IF(BV40=\"n/a\",\"n/a\",\nGETPIVOTDATA(BW$21 & \"\",PivotTableB!$A$3,\"SchoolName\",$B40,\"SubsidiaryName\",$C40,\"YearStart\",BV$13))),\"\")","v":0},{"$f":"IFERROR(IF(BW40=\".\",\".\",IF(BW40=\"n/a\",\"n/a\",\nGETPIVOTDATA(BX$21 & \"\",PivotTableB!$A$3,\"SchoolName\",$B40,\"SubsidiaryName\",$C40,\"YearStart\",BV$13))),\"\")","v":0},{"$f":"IFERROR(IF(BX40=\".\",\".\",IF(BX40=\"n/a\",\"n/a\",\nGETPIVOTDATA(BY$21 & \"\",PivotTableB!$A$3,\"SchoolName\",$B40,\"SubsidiaryName\",$C40,\"YearStart\",BV$13))),\"\")","v":0},30,{"$f":"IFERROR(IF(BZ40=\".\",\".\",IF(BZ40=\"n/a\",\"n/a\",\nGETPIVOTDATA(CA$21 & \"\",PivotTableB!$A$3,\"SchoolName\",$B40,\"SubsidiaryName\",$C40,\"YearStart\",BV$13))),\"\")","v":0},{"$f":"IFERROR(IF(CA40=\".\",\".\",IF(CA40=\"n/a\",\"n/a\",\nGETPIVOTDATA(CB$21 & \"\",PivotTableB!$A$3,\"SchoolName\",$B40,\"SubsidiaryName\",$C40,\"YearStart\",BV$13))),\"\")","v":204}]
[null,{"$f":"IF(PivotTableA!A28=\"\",\"n/a\",PivotTableA!A28)","v":"Dedworth Green First School"},{"$f":"IF(B41=\"n/a\",\"\",PivotTableA!B28)","v":"Dedworth Green First School"},{"$f":"IF($B41=\"n/a\",\"\",PivotTableA!C28)","v":"R"},{"$f":"IF($B41=\"n/a\",\"\",PivotTableA!D28)","v":"Windsor"},{"$f":"IF($B41=\"n/a\",\"\",PivotTableA!E28)","v":"Windsor North"},{"$f":"IF($B41=\"n/a\",\"\",PivotTableA!F28)","v":"Dedworth"},{"$f":"IF($B41=\"n/a\",\"\",PivotTableA!G28)","v":"Clewer North"},{"$f":"IF($B41=\"n/a\",\"\",PivotTableA!H28)","v":"None"},{"$f":"IF($B41=\"n/a\",\"\",PivotTableA!I28)","v":"Primary"},{"$f":"IF($B41=\"n/a\",\"\",PivotTableA!J28)","v":"Three Tier"},{"$f":"IF($B41=\"n/a\",\"\",PivotTableA!K28)","v":"First"},{"$f":"IF($B41=\"n/a\",\"\",PivotTableA!O28)","v":"FALSE"},{"$f":"IF($B41=\"n/a\",\"\",PivotTableA!L28)","v":"Academy"},{"$f":"IF($B41=\"n/a\",\"\",PivotTableA!M28)","v":"2016-05-01"},{"$f":"IF($B41=\"n/a\",\"\",PivotTableA!N28)","v":"None"},{"$f":"IFERROR(IF($B41=\"\",\"\",\nIF(OR($L41=\"Nursery School\",$L41=\"All-through PRU\",$M41=\"True\"),\"n/a\",\nIF(GETPIVOTDATA(Q$21 & \"\",PivotTableB!$A$3,\"SchoolName\",$B41,\"SubsidiaryName\",$C41,\"YearStart\",Q$13)=\"\",\".\",\nGETPIVOTDATA(Q$21 & \"\",PivotTableB!$A$3,\"SchoolName\",$B41,\"SubsidiaryName\",$C41,\"YearStart\",Q$13)))),\"\")","v":30},{"$f":"IFERROR(IF(Q41=\".\",\".\",IF(Q41=\"n/a\",\"n/a\",\nGETPIVOTDATA(R$21 & \"\",PivotTableB!$A$3,\"SchoolName\",$B41,\"SubsidiaryName\",$C41,\"YearStart\",Q$13))),\"\")","v":0},{"$f":"IFERROR(IF(R41=\".\",\".\",IF(R41=\"n/a\",\"n/a\",\nGETPIVOTDATA(S$21 & \"\",PivotTableB!$A$3,\"SchoolName\",$B41,\"SubsidiaryName\",$C41,\"YearStart\",Q$13))),\"\")","v":0},30,{"$f":"IFERROR(IF(T41=\".\",\".\",IF(T41=\"n/a\",\"n/a\",\nGETPIVOTDATA(U$21 & \"\",PivotTableB!$A$3,\"SchoolName\",$B41,\"SubsidiaryName\",$C41,\"YearStart\",Q$13))),\"\")","v":0},{"$f":"IFERROR(IF(U41=\".\",\".\",IF(U41=\"n/a\",\"n/a\",\nGETPIVOTDATA(V$21 & \"\",PivotTableB!$A$3,\"SchoolName\",$B41,\"SubsidiaryName\",$C41,\"YearStart\",Q$13))),\"\")","v":150},{"$f":"IFERROR(IF($B41=\"\",\"\",\nIF(OR($L41=\"Nursery School\",$L41=\"All-through PRU\",$M41=\"True\"),\"n/a\",\nIF(GETPIVOTDATA(W$21 & \"\",PivotTableB!$A$3,\"SchoolName\",$B41,\"SubsidiaryName\",$C41,\"YearStart\",W$13)=\"\",\".\",\nGETPIVOTDATA(W$21 & \"\",PivotTableB!$A$3,\"SchoolName\",$B41,\"SubsidiaryName\",$C41,\"YearStart\",W$13)))),\"\")","v":30},{"$f":"IFERROR(IF(W41=\".\",\".\",IF(W41=\"n/a\",\"n/a\",\nGETPIVOTDATA(X$21 & \"\",PivotTableB!$A$3,\"SchoolName\",$B41,\"SubsidiaryName\",$C41,\"YearStart\",W$13))),\"\")","v":30},{"$f":"IFERROR(IF(X41=\".\",\".\",IF(X41=\"n/a\",\"n/a\",\nGETPIVOTDATA(Y$21 & \"\",PivotTableB!$A$3,\"SchoolName\",$B41,\"SubsidiaryName\",$C41,\"YearStart\",W$13))),\"\")","v":0},60,{"$f":"IFERROR(IF(Z41=\".\",\".\",IF(Z41=\"n/a\",\"n/a\",\nGETPIVOTDATA(AA$21 & \"\",PivotTableB!$A$3,\"SchoolName\",$B41,\"SubsidiaryName\",$C41,\"YearStart\",W$13))),\"\")","v":0},{"$f":"IFERROR(IF(AA41=\".\",\".\",IF(AA41=\"n/a\",\"n/a\",\nGETPIVOTDATA(AB$21 & \"\",PivotTableB!$A$3,\"SchoolName\",$B41,\"SubsidiaryName\",$C41,\"YearStart\",W$13))),\"\")","v":180},{"$f":"IFERROR(IF($B41=\"\",\"\",\nIF(OR($L41=\"Nursery School\",$L41=\"All-through PRU\",$M41=\"True\"),\"n/a\",\nIF(GETPIVOTDATA(AC$21 & \"\",PivotTableB!$A$3,\"SchoolName\",$B41,\"SubsidiaryName\",$C41,\"YearStart\",AC$13)=\"\",\".\",\nGETPIVOTDATA(AC$21 & \"\",PivotTableB!$A$3,\"SchoolName\",$B41,\"SubsidiaryName\",$C41,\"YearStart\",AC$13)))),\"\")","v":30},{"$f":"IFERROR(IF(AC41=\".\",\".\",IF(AC41=\"n/a\",\"n/a\",\nGETPIVOTDATA(AD$21 & \"\",PivotTableB!$A$3,\"SchoolName\",$B41,\"SubsidiaryName\",$C41,\"YearStart\",AC$13))),\"\")","v":0},{"$f":"IFERROR(IF(AD41=\".\",\".\",IF(AD41=\"n/a\",\"n/a\",\nGETPIVOTDATA(AE$21 & \"\",PivotTableB!$A$3,\"SchoolName\",$B41,\"SubsidiaryName\",$C41,\"YearStart\",AC$13))),\"\")","v":0},30,{"$f":"IFERROR(IF(AF41=\".\",\".\",IF(AF41=\"n/a\",\"n/a\",\nGETPIVOTDATA(AG$21 & \"\",PivotTableB!$A$3,\"SchoolName\",$B41,\"SubsidiaryName\",$C41,\"YearStart\",AC$13))),\"\")","v":0},{"$f":"IFERROR(IF(AG41=\".\",\".\",IF(AG41=\"n/a\",\"n/a\",\nGETPIVOTDATA(AH$21 & \"\",PivotTableB!$A$3,\"SchoolName\",$B41,\"SubsidiaryName\",$C41,\"YearStart\",AC$13))),\"\")","v":180},{"$f":"IFERROR(IF($B41=\"\",\"\",\nIF(OR($L41=\"Nursery School\",$L41=\"All-through PRU\",$M41=\"True\"),\"n/a\",\nIF(GETPIVOTDATA(AI$21 & \"\",PivotTableB!$A$3,\"SchoolName\",$B41,\"SubsidiaryName\",$C41,\"YearStart\",AI$13)=\"\",\".\",\nGETPIVOTDATA(AI$21 & \"\",PivotTableB!$A$3,\"SchoolName\",$B41,\"SubsidiaryName\",$C41,\"YearStart\",AI$13)))),\"\")","v":30},{"$f":"IFERROR(IF(AI41=\".\",\".\",IF(AI41=\"n/a\",\"n/a\",\nGETPIVOTDATA(AJ$21 & \"\",PivotTableB!$A$3,\"SchoolName\",$B41,\"SubsidiaryName\",$C41,\"YearStart\",AI$13))),\"\")","v":0},{"$f":"IFERROR(IF(AJ41=\".\",\".\",IF(AJ41=\"n/a\",\"n/a\",\nGETPIVOTDATA(AK$21 & \"\",PivotTableB!$A$3,\"SchoolName\",$B41,\"SubsidiaryName\",$C41,\"YearStart\",AI$13))),\"\")","v":0},30,{"$f":"IFERROR(IF(AL41=\".\",\".\",IF(AL41=\"n/a\",\"n/a\",\nGETPIVOTDATA(AM$21 & \"\",PivotTableB!$A$3,\"SchoolName\",$B41,\"SubsidiaryName\",$C41,\"YearStart\",AI$13))),\"\")","v":0},{"$f":"IFERROR(IF(AM41=\".\",\".\",IF(AM41=\"n/a\",\"n/a\",\nGETPIVOTDATA(AN$21 & \"\",PivotTableB!$A$3,\"SchoolName\",$B41,\"SubsidiaryName\",$C41,\"YearStart\",AI$13))),\"\")","v":180},{"$f":"IFERROR(IF($B41=\"\",\"\",\nIF(OR($L41=\"Nursery School\",$L41=\"All-through PRU\",$M41=\"True\"),\"n/a\",\nIF(GETPIVOTDATA(AO$21 & \"\",PivotTableB!$A$3,\"SchoolName\",$B41,\"SubsidiaryName\",$C41,\"YearStart\",AO$13)=\"\",\".\",\nGETPIVOTDATA(AO$21 & \"\",PivotTableB!$A$3,\"SchoolName\",$B41,\"SubsidiaryName\",$C41,\"YearStart\",AO$13)))),\"\")","v":30},{"$f":"IFERROR(IF(AO41=\".\",\".\",IF(AO41=\"n/a\",\"n/a\",\nGETPIVOTDATA(AP$21 & \"\",PivotTableB!$A$3,\"SchoolName\",$B41,\"SubsidiaryName\",$C41,\"YearStart\",AO$13))),\"\")","v":0},{"$f":"IFERROR(IF(AP41=\".\",\".\",IF(AP41=\"n/a\",\"n/a\",\nGETPIVOTDATA(AQ$21 & \"\",PivotTableB!$A$3,\"SchoolName\",$B41,\"SubsidiaryName\",$C41,\"YearStart\",AO$13))),\"\")","v":0},30,{"$f":"IFERROR(IF(AR41=\".\",\".\",IF(AR41=\"n/a\",\"n/a\",\nGETPIVOTDATA(AS$21 & \"\",PivotTableB!$A$3,\"SchoolName\",$B41,\"SubsidiaryName\",$C41,\"YearStart\",AO$13))),\"\")","v":0},{"$f":"IFERROR(IF(AS41=\".\",\".\",IF(AS41=\"n/a\",\"n/a\",\nGETPIVOTDATA(AT$21 & \"\",PivotTableB!$A$3,\"SchoolName\",$B41,\"SubsidiaryName\",$C41,\"YearStart\",AO$13))),\"\")","v":180},{"$f":"IFERROR(IF($B41=\"\",\"\",\nIF(OR($L41=\"Nursery School\",$L41=\"All-through PRU\",$M41=\"True\"),\"n/a\",\nIF(GETPIVOTDATA(AU$21 & \"\",PivotTableB!$A$3,\"SchoolName\",$B41,\"SubsidiaryName\",$C41,\"YearStart\",AU$13)=\"\",\".\",\nGETPIVOTDATA(AU$21 & \"\",PivotTableB!$A$3,\"SchoolName\",$B41,\"SubsidiaryName\",$C41,\"YearStart\",AU$13)))),\"\")","v":30},{"$f":"IFERROR(IF(AU41=\".\",\".\",IF(AU41=\"n/a\",\"n/a\",\nGETPIVOTDATA(AV$21 & \"\",PivotTableB!$A$3,\"SchoolName\",$B41,\"SubsidiaryName\",$C41,\"YearStart\",AU$13))),\"\")","v":0},{"$f":"IFERROR(IF(AV41=\".\",\".\",IF(AV41=\"n/a\",\"n/a\",\nGETPIVOTDATA(AW$21 & \"\",PivotTableB!$A$3,\"SchoolName\",$B41,\"SubsidiaryName\",$C41,\"YearStart\",AU$13))),\"\")","v":0},30,{"$f":"IFERROR(IF(AX41=\".\",\".\",IF(AX41=\"n/a\",\"n/a\",\nGETPIVOTDATA(AY$21 & \"\",PivotTableB!$A$3,\"SchoolName\",$B41,\"SubsidiaryName\",$C41,\"YearStart\",AU$13))),\"\")","v":0},{"$f":"IFERROR(IF(AY41=\".\",\".\",IF(AY41=\"n/a\",\"n/a\",\nGETPIVOTDATA(AZ$21 & \"\",PivotTableB!$A$3,\"SchoolName\",$B41,\"SubsidiaryName\",$C41,\"YearStart\",AU$13))),\"\")","v":180},{"$f":"IFERROR(IF($B41=\"\",\"\",\nIF(OR($L41=\"Nursery School\",$L41=\"All-through PRU\",$M41=\"True\"),\"n/a\",\nIF(GETPIVOTDATA(BA$21 & \"\",PivotTableB!$A$3,\"SchoolName\",$B41,\"SubsidiaryName\",$C41,\"YearStart\",BA$13)=\"\",\".\",\nGETPIVOTDATA(BA$21 & \"\",PivotTableB!$A$3,\"SchoolName\",$B41,\"SubsidiaryName\",$C41,\"YearStart\",BA$13)))),\"\")","v":30},{"$f":"IFERROR(IF(BA41=\".\",\".\",IF(BA41=\"n/a\",\"n/a\",\nGETPIVOTDATA(BB$21 & \"\",PivotTableB!$A$3,\"SchoolName\",$B41,\"SubsidiaryName\",$C41,\"YearStart\",BA$13))),\"\")","v":0},{"$f":"IFERROR(IF(BB41=\".\",\".\",IF(BB41=\"n/a\",\"n/a\",\nGETPIVOTDATA(BC$21 & \"\",PivotTableB!$A$3,\"SchoolName\",$B41,\"SubsidiaryName\",$C41,\"YearStart\",BA$13))),\"\")","v":0},{"$f":"IFERROR(IF(BC41=\".\",\".\",IF(BC41=\"n/a\",\"n/a\",\nGETPIVOTDATA(BD$21 & \"\",PivotTableB!$A$3,\"SchoolName\",$B41,\"SubsidiaryName\",$C41,\"YearStart\",BB$13))),\"\")","v":""},30,{"$f":"IFERROR(IF(BE41=\".\",\".\",IF(BE41=\"n/a\",\"n/a\",\nGETPIVOTDATA(BF$21 & \"\",PivotTableB!$A$3,\"SchoolName\",$B41,\"SubsidiaryName\",$C41,\"YearStart\",BA$13))),\"\")","v":0},{"$f":"IFERROR(IF(BF41=\".\",\".\",IF(BF41=\"n/a\",\"n/a\",\nGETPIVOTDATA(BG$21 & \"\",PivotTableB!$A$3,\"SchoolName\",$B41,\"SubsidiaryName\",$C41,\"YearStart\",BA$13))),\"\")","v":150},{"$f":"IFERROR(IF($B41=\"\",\"\",\nIF(OR($L41=\"Nursery School\",$L41=\"All-through PRU\",$M41=\"True\"),\"n/a\",\nIF(GETPIVOTDATA(BH$21 & \"\",PivotTableB!$A$3,\"SchoolName\",$B41,\"SubsidiaryName\",$C41,\"YearStart\",BH$13)=\"\",\".\",\nGETPIVOTDATA(BH$21 & \"\",PivotTableB!$A$3,\"SchoolName\",$B41,\"SubsidiaryName\",$C41,\"YearStart\",BH$13)))),\"\")","v":30},{"$f":"IFERROR(IF(BH41=\".\",\".\",IF(BH41=\"n/a\",\"n/a\",\nGETPIVOTDATA(BI$21 & \"\",PivotTableB!$A$3,\"SchoolName\",$B41,\"SubsidiaryName\",$C41,\"YearStart\",BH$13))),\"\")","v":0},{"$f":"IFERROR(IF(BI41=\".\",\".\",IF(BI41=\"n/a\",\"n/a\",\nGETPIVOTDATA(BJ$21 & \"\",PivotTableB!$A$3,\"SchoolName\",$B41,\"SubsidiaryName\",$C41,\"YearStart\",BH$13))),\"\")","v":0},{"$f":"IFERROR(IF(BJ41=\".\",\".\",IF(BJ41=\"n/a\",\"n/a\",\nGETPIVOTDATA(BK$21 & \"\",PivotTableB!$A$3,\"SchoolName\",$B41,\"SubsidiaryName\",$C41,\"YearStart\",BH$13))),\"\")","v":0},30,{"$f":"IFERROR(IF(BL41=\".\",\".\",IF(BL41=\"n/a\",\"n/a\",\nGETPIVOTDATA(BM$21 & \"\",PivotTableB!$A$3,\"SchoolName\",$B41,\"SubsidiaryName\",$C41,\"YearStart\",BH$13))),\"\")","v":0},{"$f":"IFERROR(IF(BM41=\".\",\".\",IF(BM41=\"n/a\",\"n/a\",\nGETPIVOTDATA(BN$21 & \"\",PivotTableB!$A$3,\"SchoolName\",$B41,\"SubsidiaryName\",$C41,\"YearStart\",BH$13))),\"\")","v":150},{"$f":"IFERROR(IF($B41=\"\",\"\",\nIF(OR($L41=\"Nursery School\",$L41=\"All-through PRU\",$M41=\"True\"),\"n/a\",\nIF(GETPIVOTDATA(BO$21 & \"\",PivotTableB!$A$3,\"SchoolName\",$B41,\"SubsidiaryName\",$C41,\"YearStart\",BO$13)=\"\",\".\",\nGETPIVOTDATA(BO$21 & \"\",PivotTableB!$A$3,\"SchoolName\",$B41,\"SubsidiaryName\",$C41,\"YearStart\",BO$13)))),\"\")","v":30},{"$f":"IFERROR(IF(BO41=\".\",\".\",IF(BO41=\"n/a\",\"n/a\",\nGETPIVOTDATA(BP$21 & \"\",PivotTableB!$A$3,\"SchoolName\",$B41,\"SubsidiaryName\",$C41,\"YearStart\",BO$13))),\"\")","v":0},{"$f":"IFERROR(IF(BP41=\".\",\".\",IF(BP41=\"n/a\",\"n/a\",\nGETPIVOTDATA(BQ$21 & \"\",PivotTableB!$A$3,\"SchoolName\",$B41,\"SubsidiaryName\",$C41,\"YearStart\",BO$13))),\"\")","v":0},{"$f":"IFERROR(IF(BQ41=\".\",\".\",IF(BQ41=\"n/a\",\"n/a\",\nGETPIVOTDATA(BR$21 & \"\",PivotTableB!$A$3,\"SchoolName\",$B41,\"SubsidiaryName\",$C41,\"YearStart\",BP$13))),\"\")","v":""},30,{"$f":"IFERROR(IF(BS41=\".\",\".\",IF(BS41=\"n/a\",\"n/a\",\nGETPIVOTDATA(BT$21 & \"\",PivotTableB!$A$3,\"SchoolName\",$B41,\"SubsidiaryName\",$C41,\"YearStart\",BO$13))),\"\")","v":0},{"$f":"IFERROR(IF(BT41=\".\",\".\",IF(BT41=\"n/a\",\"n/a\",\nGETPIVOTDATA(BU$21 & \"\",PivotTableB!$A$3,\"SchoolName\",$B41,\"SubsidiaryName\",$C41,\"YearStart\",BO$13))),\"\")","v":150},{"$f":"IFERROR(IF($B41=\"\",\"\",\nIF(OR($L41=\"Nursery School\",$L41=\"All-through PRU\",$M41=\"True\"),\"n/a\",\nIF(GETPIVOTDATA(BV$21 & \"\",PivotTableB!$A$3,\"SchoolName\",$B41,\"SubsidiaryName\",$C41,\"YearStart\",BV$13)=\"\",\".\",\nGETPIVOTDATA(BV$21 & \"\",PivotTableB!$A$3,\"SchoolName\",$B41,\"SubsidiaryName\",$C41,\"YearStart\",BV$13)))),\"\")","v":30},{"$f":"IFERROR(IF(BV41=\".\",\".\",IF(BV41=\"n/a\",\"n/a\",\nGETPIVOTDATA(BW$21 & \"\",PivotTableB!$A$3,\"SchoolName\",$B41,\"SubsidiaryName\",$C41,\"YearStart\",BV$13))),\"\")","v":0},{"$f":"IFERROR(IF(BW41=\".\",\".\",IF(BW41=\"n/a\",\"n/a\",\nGETPIVOTDATA(BX$21 & \"\",PivotTableB!$A$3,\"SchoolName\",$B41,\"SubsidiaryName\",$C41,\"YearStart\",BV$13))),\"\")","v":0},{"$f":"IFERROR(IF(BX41=\".\",\".\",IF(BX41=\"n/a\",\"n/a\",\nGETPIVOTDATA(BY$21 & \"\",PivotTableB!$A$3,\"SchoolName\",$B41,\"SubsidiaryName\",$C41,\"YearStart\",BV$13))),\"\")","v":0},30,{"$f":"IFERROR(IF(BZ41=\".\",\".\",IF(BZ41=\"n/a\",\"n/a\",\nGETPIVOTDATA(CA$21 & \"\",PivotTableB!$A$3,\"SchoolName\",$B41,\"SubsidiaryName\",$C41,\"YearStart\",BV$13))),\"\")","v":0},{"$f":"IFERROR(IF(CA41=\".\",\".\",IF(CA41=\"n/a\",\"n/a\",\nGETPIVOTDATA(CB$21 & \"\",PivotTableB!$A$3,\"SchoolName\",$B41,\"SubsidiaryName\",$C41,\"YearStart\",BV$13))),\"\")","v":150}]
[null,{"$f":"IF(PivotTableA!A29=\"\",\"n/a\",PivotTableA!A29)","v":"Dedworth Middle School"},{"$f":"IF(B42=\"n/a\",\"\",PivotTableA!B29)","v":"Dedworth Middle School"},{"$f":"IF($B42=\"n/a\",\"\",PivotTableA!C29)","v":"5"},{"$f":"IF($B42=\"n/a\",\"\",PivotTableA!D29)","v":"Windsor"},{"$f":"IF($B42=\"n/a\",\"\",PivotTableA!E29)","v":"Windsor North"},{"$f":"IF($B42=\"n/a\",\"\",PivotTableA!F29)","v":"Dedworth"},{"$f":"IF($B42=\"n/a\",\"\",PivotTableA!G29)","v":"Clewer North"},{"$f":"IF($B42=\"n/a\",\"\",PivotTableA!H29)","v":"None"},{"$f":"IF($B42=\"n/a\",\"\",PivotTableA!I29)","v":"Secondary"},{"$f":"IF($B42=\"n/a\",\"\",PivotTableA!J29)","v":"Three Tier"},{"$f":"IF($B42=\"n/a\",\"\",PivotTableA!K29)","v":"Middle"},{"$f":"IF($B42=\"n/a\",\"\",PivotTableA!O29)","v":"FALSE"},{"$f":"IF($B42=\"n/a\",\"\",PivotTableA!L29)","v":"Academy"},{"$f":"IF($B42=\"n/a\",\"\",PivotTableA!M29)","v":"2016-05-01"},{"$f":"IF($B42=\"n/a\",\"\",PivotTableA!N29)","v":"None"},{"$f":"IFERROR(IF($B42=\"\",\"\",\nIF(OR($L42=\"Nursery School\",$L42=\"All-through PRU\",$M42=\"True\"),\"n/a\",\nIF(GETPIVOTDATA(Q$21 & \"\",PivotTableB!$A$3,\"SchoolName\",$B42,\"SubsidiaryName\",$C42,\"YearStart\",Q$13)=\"\",\".\",\nGETPIVOTDATA(Q$21 & \"\",PivotTableB!$A$3,\"SchoolName\",$B42,\"SubsidiaryName\",$C42,\"YearStart\",Q$13)))),\"\")","v":120},{"$f":"IFERROR(IF(Q42=\".\",\".\",IF(Q42=\"n/a\",\"n/a\",\nGETPIVOTDATA(R$21 & \"\",PivotTableB!$A$3,\"SchoolName\",$B42,\"SubsidiaryName\",$C42,\"YearStart\",Q$13))),\"\")","v":0},{"$f":"IFERROR(IF(R42=\".\",\".\",IF(R42=\"n/a\",\"n/a\",\nGETPIVOTDATA(S$21 & \"\",PivotTableB!$A$3,\"SchoolName\",$B42,\"SubsidiaryName\",$C42,\"YearStart\",Q$13))),\"\")","v":0},120,{"$f":"IFERROR(IF(T42=\".\",\".\",IF(T42=\"n/a\",\"n/a\",\nGETPIVOTDATA(U$21 & \"\",PivotTableB!$A$3,\"SchoolName\",$B42,\"SubsidiaryName\",$C42,\"YearStart\",Q$13))),\"\")","v":0},{"$f":"IFERROR(IF(U42=\".\",\".\",IF(U42=\"n/a\",\"n/a\",\nGETPIVOTDATA(V$21 & \"\",PivotTableB!$A$3,\"SchoolName\",$B42,\"SubsidiaryName\",$C42,\"YearStart\",Q$13))),\"\")","v":524},{"$f":"IFERROR(IF($B42=\"\",\"\",\nIF(OR($L42=\"Nursery School\",$L42=\"All-through PRU\",$M42=\"True\"),\"n/a\",\nIF(GETPIVOTDATA(W$21 & \"\",PivotTableB!$A$3,\"SchoolName\",$B42,\"SubsidiaryName\",$C42,\"YearStart\",W$13)=\"\",\".\",\nGETPIVOTDATA(W$21 & \"\",PivotTableB!$A$3,\"SchoolName\",$B42,\"SubsidiaryName\",$C42,\"YearStart\",W$13)))),\"\")","v":120},{"$f":"IFERROR(IF(W42=\".\",\".\",IF(W42=\"n/a\",\"n/a\",\nGETPIVOTDATA(X$21 & \"\",PivotTableB!$A$3,\"SchoolName\",$B42,\"SubsidiaryName\",$C42,\"YearStart\",W$13))),\"\")","v":0},{"$f":"IFERROR(IF(X42=\".\",\".\",IF(X42=\"n/a\",\"n/a\",\nGETPIVOTDATA(Y$21 & \"\",PivotTableB!$A$3,\"SchoolName\",$B42,\"SubsidiaryName\",$C42,\"YearStart\",W$13))),\"\")","v":0},120,{"$f":"IFERROR(IF(Z42=\".\",\".\",IF(Z42=\"n/a\",\"n/a\",\nGETPIVOTDATA(AA$21 & \"\",PivotTableB!$A$3,\"SchoolName\",$B42,\"SubsidiaryName\",$C42,\"YearStart\",W$13))),\"\")","v":0},{"$f":"IFERROR(IF(AA42=\".\",\".\",IF(AA42=\"n/a\",\"n/a\",\nGETPIVOTDATA(AB$21 & \"\",PivotTableB!$A$3,\"SchoolName\",$B42,\"SubsidiaryName\",$C42,\"YearStart\",W$13))),\"\")","v":524},{"$f":"IFERROR(IF($B42=\"\",\"\",\nIF(OR($L42=\"Nursery School\",$L42=\"All-through PRU\",$M42=\"True\"),\"n/a\",\nIF(GETPIVOTDATA(AC$21 & \"\",PivotTableB!$A$3,\"SchoolName\",$B42,\"SubsidiaryName\",$C42,\"YearStart\",AC$13)=\"\",\".\",\nGETPIVOTDATA(AC$21 & \"\",PivotTableB!$A$3,\"SchoolName\",$B42,\"SubsidiaryName\",$C42,\"YearStart\",AC$13)))),\"\")","v":120},{"$f":"IFERROR(IF(AC42=\".\",\".\",IF(AC42=\"n/a\",\"n/a\",\nGETPIVOTDATA(AD$21 & \"\",PivotTableB!$A$3,\"SchoolName\",$B42,\"SubsidiaryName\",$C42,\"YearStart\",AC$13))),\"\")","v":0},{"$f":"IFERROR(IF(AD42=\".\",\".\",IF(AD42=\"n/a\",\"n/a\",\nGETPIVOTDATA(AE$21 & \"\",PivotTableB!$A$3,\"SchoolName\",$B42,\"SubsidiaryName\",$C42,\"YearStart\",AC$13))),\"\")","v":0},120,{"$f":"IFERROR(IF(AF42=\".\",\".\",IF(AF42=\"n/a\",\"n/a\",\nGETPIVOTDATA(AG$21 & \"\",PivotTableB!$A$3,\"SchoolName\",$B42,\"SubsidiaryName\",$C42,\"YearStart\",AC$13))),\"\")","v":0},{"$f":"IFERROR(IF(AG42=\".\",\".\",IF(AG42=\"n/a\",\"n/a\",\nGETPIVOTDATA(AH$21 & \"\",PivotTableB!$A$3,\"SchoolName\",$B42,\"SubsidiaryName\",$C42,\"YearStart\",AC$13))),\"\")","v":541},{"$f":"IFERROR(IF($B42=\"\",\"\",\nIF(OR($L42=\"Nursery School\",$L42=\"All-through PRU\",$M42=\"True\"),\"n/a\",\nIF(GETPIVOTDATA(AI$21 & \"\",PivotTableB!$A$3,\"SchoolName\",$B42,\"SubsidiaryName\",$C42,\"YearStart\",AI$13)=\"\",\".\",\nGETPIVOTDATA(AI$21 & \"\",PivotTableB!$A$3,\"SchoolName\",$B42,\"SubsidiaryName\",$C42,\"YearStart\",AI$13)))),\"\")","v":120},{"$f":"IFERROR(IF(AI42=\".\",\".\",IF(AI42=\"n/a\",\"n/a\",\nGETPIVOTDATA(AJ$21 & \"\",PivotTableB!$A$3,\"SchoolName\",$B42,\"SubsidiaryName\",$C42,\"YearStart\",AI$13))),\"\")","v":0},{"$f":"IFERROR(IF(AJ42=\".\",\".\",IF(AJ42=\"n/a\",\"n/a\",\nGETPIVOTDATA(AK$21 & \"\",PivotTableB!$A$3,\"SchoolName\",$B42,\"SubsidiaryName\",$C42,\"YearStart\",AI$13))),\"\")","v":0},120,{"$f":"IFERROR(IF(AL42=\".\",\".\",IF(AL42=\"n/a\",\"n/a\",\nGETPIVOTDATA(AM$21 & \"\",PivotTableB!$A$3,\"SchoolName\",$B42,\"SubsidiaryName\",$C42,\"YearStart\",AI$13))),\"\")","v":0},{"$f":"IFERROR(IF(AM42=\".\",\".\",IF(AM42=\"n/a\",\"n/a\",\nGETPIVOTDATA(AN$21 & \"\",PivotTableB!$A$3,\"SchoolName\",$B42,\"SubsidiaryName\",$C42,\"YearStart\",AI$13))),\"\")","v":541},{"$f":"IFERROR(IF($B42=\"\",\"\",\nIF(OR($L42=\"Nursery School\",$L42=\"All-through PRU\",$M42=\"True\"),\"n/a\",\nIF(GETPIVOTDATA(AO$21 & \"\",PivotTableB!$A$3,\"SchoolName\",$B42,\"SubsidiaryName\",$C42,\"YearStart\",AO$13)=\"\",\".\",\nGETPIVOTDATA(AO$21 & \"\",PivotTableB!$A$3,\"SchoolName\",$B42,\"SubsidiaryName\",$C42,\"YearStart\",AO$13)))),\"\")","v":150},{"$f":"IFERROR(IF(AO42=\".\",\".\",IF(AO42=\"n/a\",\"n/a\",\nGETPIVOTDATA(AP$21 & \"\",PivotTableB!$A$3,\"SchoolName\",$B42,\"SubsidiaryName\",$C42,\"YearStart\",AO$13))),\"\")","v":0},{"$f":"IFERROR(IF(AP42=\".\",\".\",IF(AP42=\"n/a\",\"n/a\",\nGETPIVOTDATA(AQ$21 & \"\",PivotTableB!$A$3,\"SchoolName\",$B42,\"SubsidiaryName\",$C42,\"YearStart\",AO$13))),\"\")","v":0},150,{"$f":"IFERROR(IF(AR42=\".\",\".\",IF(AR42=\"n/a\",\"n/a\",\nGETPIVOTDATA(AS$21 & \"\",PivotTableB!$A$3,\"SchoolName\",$B42,\"SubsidiaryName\",$C42,\"YearStart\",AO$13))),\"\")","v":0},{"$f":"IFERROR(IF(AS42=\".\",\".\",IF(AS42=\"n/a\",\"n/a\",\nGETPIVOTDATA(AT$21 & \"\",PivotTableB!$A$3,\"SchoolName\",$B42,\"SubsidiaryName\",$C42,\"YearStart\",AO$13))),\"\")","v":541},{"$f":"IFERROR(IF($B42=\"\",\"\",\nIF(OR($L42=\"Nursery School\",$L42=\"All-through PRU\",$M42=\"True\"),\"n/a\",\nIF(GETPIVOTDATA(AU$21 & \"\",PivotTableB!$A$3,\"SchoolName\",$B42,\"SubsidiaryName\",$C42,\"YearStart\",AU$13)=\"\",\".\",\nGETPIVOTDATA(AU$21 & \"\",PivotTableB!$A$3,\"SchoolName\",$B42,\"SubsidiaryName\",$C42,\"YearStart\",AU$13)))),\"\")","v":180},{"$f":"IFERROR(IF(AU42=\".\",\".\",IF(AU42=\"n/a\",\"n/a\",\nGETPIVOTDATA(AV$21 & \"\",PivotTableB!$A$3,\"SchoolName\",$B42,\"SubsidiaryName\",$C42,\"YearStart\",AU$13))),\"\")","v":0},{"$f":"IFERROR(IF(AV42=\".\",\".\",IF(AV42=\"n/a\",\"n/a\",\nGETPIVOTDATA(AW$21 & \"\",PivotTableB!$A$3,\"SchoolName\",$B42,\"SubsidiaryName\",$C42,\"YearStart\",AU$13))),\"\")","v":0},180,{"$f":"IFERROR(IF(AX42=\".\",\".\",IF(AX42=\"n/a\",\"n/a\",\nGETPIVOTDATA(AY$21 & \"\",PivotTableB!$A$3,\"SchoolName\",$B42,\"SubsidiaryName\",$C42,\"YearStart\",AU$13))),\"\")","v":0},{"$f":"IFERROR(IF(AY42=\".\",\".\",IF(AY42=\"n/a\",\"n/a\",\nGETPIVOTDATA(AZ$21 & \"\",PivotTableB!$A$3,\"SchoolName\",$B42,\"SubsidiaryName\",$C42,\"YearStart\",AU$13))),\"\")","v":720},{"$f":"IFERROR(IF($B42=\"\",\"\",\nIF(OR($L42=\"Nursery School\",$L42=\"All-through PRU\",$M42=\"True\"),\"n/a\",\nIF(GETPIVOTDATA(BA$21 & \"\",PivotTableB!$A$3,\"SchoolName\",$B42,\"SubsidiaryName\",$C42,\"YearStart\",BA$13)=\"\",\".\",\nGETPIVOTDATA(BA$21 & \"\",PivotTableB!$A$3,\"SchoolName\",$B42,\"SubsidiaryName\",$C42,\"YearStart\",BA$13)))),\"\")","v":180},{"$f":"IFERROR(IF(BA42=\".\",\".\",IF(BA42=\"n/a\",\"n/a\",\nGETPIVOTDATA(BB$21 & \"\",PivotTableB!$A$3,\"SchoolName\",$B42,\"SubsidiaryName\",$C42,\"YearStart\",BA$13))),\"\")","v":0},{"$f":"IFERROR(IF(BB42=\".\",\".\",IF(BB42=\"n/a\",\"n/a\",\nGETPIVOTDATA(BC$21 & \"\",PivotTableB!$A$3,\"SchoolName\",$B42,\"SubsidiaryName\",$C42,\"YearStart\",BA$13))),\"\")","v":0},{"$f":"IFERROR(IF(BC42=\".\",\".\",IF(BC42=\"n/a\",\"n/a\",\nGETPIVOTDATA(BD$21 & \"\",PivotTableB!$A$3,\"SchoolName\",$B42,\"SubsidiaryName\",$C42,\"YearStart\",BB$13))),\"\")","v":""},180,{"$f":"IFERROR(IF(BE42=\".\",\".\",IF(BE42=\"n/a\",\"n/a\",\nGETPIVOTDATA(BF$21 & \"\",PivotTableB!$A$3,\"SchoolName\",$B42,\"SubsidiaryName\",$C42,\"YearStart\",BA$13))),\"\")","v":0},{"$f":"IFERROR(IF(BF42=\".\",\".\",IF(BF42=\"n/a\",\"n/a\",\nGETPIVOTDATA(BG$21 & \"\",PivotTableB!$A$3,\"SchoolName\",$B42,\"SubsidiaryName\",$C42,\"YearStart\",BA$13))),\"\")","v":720},{"$f":"IFERROR(IF($B42=\"\",\"\",\nIF(OR($L42=\"Nursery School\",$L42=\"All-through PRU\",$M42=\"True\"),\"n/a\",\nIF(GETPIVOTDATA(BH$21 & \"\",PivotTableB!$A$3,\"SchoolName\",$B42,\"SubsidiaryName\",$C42,\"YearStart\",BH$13)=\"\",\".\",\nGETPIVOTDATA(BH$21 & \"\",PivotTableB!$A$3,\"SchoolName\",$B42,\"SubsidiaryName\",$C42,\"YearStart\",BH$13)))),\"\")","v":180},{"$f":"IFERROR(IF(BH42=\".\",\".\",IF(BH42=\"n/a\",\"n/a\",\nGETPIVOTDATA(BI$21 & \"\",PivotTableB!$A$3,\"SchoolName\",$B42,\"SubsidiaryName\",$C42,\"YearStart\",BH$13))),\"\")","v":0},{"$f":"IFERROR(IF(BI42=\".\",\".\",IF(BI42=\"n/a\",\"n/a\",\nGETPIVOTDATA(BJ$21 & \"\",PivotTableB!$A$3,\"SchoolName\",$B42,\"SubsidiaryName\",$C42,\"YearStart\",BH$13))),\"\")","v":0},{"$f":"IFERROR(IF(BJ42=\".\",\".\",IF(BJ42=\"n/a\",\"n/a\",\nGETPIVOTDATA(BK$21 & \"\",PivotTableB!$A$3,\"SchoolName\",$B42,\"SubsidiaryName\",$C42,\"YearStart\",BH$13))),\"\")","v":0},180,{"$f":"IFERROR(IF(BL42=\".\",\".\",IF(BL42=\"n/a\",\"n/a\",\nGETPIVOTDATA(BM$21 & \"\",PivotTableB!$A$3,\"SchoolName\",$B42,\"SubsidiaryName\",$C42,\"YearStart\",BH$13))),\"\")","v":0},{"$f":"IFERROR(IF(BM42=\".\",\".\",IF(BM42=\"n/a\",\"n/a\",\nGETPIVOTDATA(BN$21 & \"\",PivotTableB!$A$3,\"SchoolName\",$B42,\"SubsidiaryName\",$C42,\"YearStart\",BH$13))),\"\")","v":720},{"$f":"IFERROR(IF($B42=\"\",\"\",\nIF(OR($L42=\"Nursery School\",$L42=\"All-through PRU\",$M42=\"True\"),\"n/a\",\nIF(GETPIVOTDATA(BO$21 & \"\",PivotTableB!$A$3,\"SchoolName\",$B42,\"SubsidiaryName\",$C42,\"YearStart\",BO$13)=\"\",\".\",\nGETPIVOTDATA(BO$21 & \"\",PivotTableB!$A$3,\"SchoolName\",$B42,\"SubsidiaryName\",$C42,\"YearStart\",BO$13)))),\"\")","v":180},{"$f":"IFERROR(IF(BO42=\".\",\".\",IF(BO42=\"n/a\",\"n/a\",\nGETPIVOTDATA(BP$21 & \"\",PivotTableB!$A$3,\"SchoolName\",$B42,\"SubsidiaryName\",$C42,\"YearStart\",BO$13))),\"\")","v":0},{"$f":"IFERROR(IF(BP42=\".\",\".\",IF(BP42=\"n/a\",\"n/a\",\nGETPIVOTDATA(BQ$21 & \"\",PivotTableB!$A$3,\"SchoolName\",$B42,\"SubsidiaryName\",$C42,\"YearStart\",BO$13))),\"\")","v":0},{"$f":"IFERROR(IF(BQ42=\".\",\".\",IF(BQ42=\"n/a\",\"n/a\",\nGETPIVOTDATA(BR$21 & \"\",PivotTableB!$A$3,\"SchoolName\",$B42,\"SubsidiaryName\",$C42,\"YearStart\",BP$13))),\"\")","v":""},180,{"$f":"IFERROR(IF(BS42=\".\",\".\",IF(BS42=\"n/a\",\"n/a\",\nGETPIVOTDATA(BT$21 & \"\",PivotTableB!$A$3,\"SchoolName\",$B42,\"SubsidiaryName\",$C42,\"YearStart\",BO$13))),\"\")","v":0},{"$f":"IFERROR(IF(BT42=\".\",\".\",IF(BT42=\"n/a\",\"n/a\",\nGETPIVOTDATA(BU$21 & \"\",PivotTableB!$A$3,\"SchoolName\",$B42,\"SubsidiaryName\",$C42,\"YearStart\",BO$13))),\"\")","v":720},{"$f":"IFERROR(IF($B42=\"\",\"\",\nIF(OR($L42=\"Nursery School\",$L42=\"All-through PRU\",$M42=\"True\"),\"n/a\",\nIF(GETPIVOTDATA(BV$21 & \"\",PivotTableB!$A$3,\"SchoolName\",$B42,\"SubsidiaryName\",$C42,\"YearStart\",BV$13)=\"\",\".\",\nGETPIVOTDATA(BV$21 & \"\",PivotTableB!$A$3,\"SchoolName\",$B42,\"SubsidiaryName\",$C42,\"YearStart\",BV$13)))),\"\")","v":180},{"$f":"IFERROR(IF(BV42=\".\",\".\",IF(BV42=\"n/a\",\"n/a\",\nGETPIVOTDATA(BW$21 & \"\",PivotTableB!$A$3,\"SchoolName\",$B42,\"SubsidiaryName\",$C42,\"YearStart\",BV$13))),\"\")","v":0},{"$f":"IFERROR(IF(BW42=\".\",\".\",IF(BW42=\"n/a\",\"n/a\",\nGETPIVOTDATA(BX$21 & \"\",PivotTableB!$A$3,\"SchoolName\",$B42,\"SubsidiaryName\",$C42,\"YearStart\",BV$13))),\"\")","v":0},{"$f":"IFERROR(IF(BX42=\".\",\".\",IF(BX42=\"n/a\",\"n/a\",\nGETPIVOTDATA(BY$21 & \"\",PivotTableB!$A$3,\"SchoolName\",$B42,\"SubsidiaryName\",$C42,\"YearStart\",BV$13))),\"\")","v":0},180,{"$f":"IFERROR(IF(BZ42=\".\",\".\",IF(BZ42=\"n/a\",\"n/a\",\nGETPIVOTDATA(CA$21 & \"\",PivotTableB!$A$3,\"SchoolName\",$B42,\"SubsidiaryName\",$C42,\"YearStart\",BV$13))),\"\")","v":0},{"$f":"IFERROR(IF(CA42=\".\",\".\",IF(CA42=\"n/a\",\"n/a\",\nGETPIVOTDATA(CB$21 & \"\",PivotTableB!$A$3,\"SchoolName\",$B42,\"SubsidiaryName\",$C42,\"YearStart\",BV$13))),\"\")","v":720}]
[null,{"$f":"IF(PivotTableA!A30=\"\",\"n/a\",PivotTableA!A30)","v":"Desborough College"},{"$f":"IF(B43=\"n/a\",\"\",PivotTableA!B30)","v":"Desborough College"},{"$f":"IF($B43=\"n/a\",\"\",PivotTableA!C30)","v":"7"},{"$f":"IF($B43=\"n/a\",\"\",PivotTableA!D30)","v":"Maidenhead"},{"$f":"IF($B43=\"n/a\",\"\",PivotTableA!E30)","v":"Central Maidenhead"},{"$f":"IF($B43=\"n/a\",\"\",PivotTableA!F30)","v":"Larchfield East"},{"$f":"IF($B43=\"n/a\",\"\",PivotTableA!G30)","v":"Oldfield"},{"$f":"IF($B43=\"n/a\",\"\",PivotTableA!H30)","v":"None"},{"$f":"IF($B43=\"n/a\",\"\",PivotTableA!I30)","v":"Secondary"},{"$f":"IF($B43=\"n/a\",\"\",PivotTableA!J30)","v":"Two Tier"},{"$f":"IF($B43=\"n/a\",\"\",PivotTableA!K30)","v":"Secondary"},{"$f":"IF($B43=\"n/a\",\"\",PivotTableA!O30)","v":"FALSE"},{"$f":"IF($B43=\"n/a\",\"\",PivotTableA!L30)","v":"Academy"},{"$f":"IF($B43=\"n/a\",\"\",PivotTableA!M30)","v":"2012-10-01"},{"$f":"IF($B43=\"n/a\",\"\",PivotTableA!N30)","v":"None"},{"$f":"IFERROR(IF($B43=\"\",\"\",\nIF(OR($L43=\"Nursery School\",$L43=\"All-through PRU\",$M43=\"True\"),\"n/a\",\nIF(GETPIVOTDATA(Q$21 & \"\",PivotTableB!$A$3,\"SchoolName\",$B43,\"SubsidiaryName\",$C43,\"YearStart\",Q$13)=\"\",\".\",\nGETPIVOTDATA(Q$21 & \"\",PivotTableB!$A$3,\"SchoolName\",$B43,\"SubsidiaryName\",$C43,\"YearStart\",Q$13)))),\"\")","v":189},{"$f":"IFERROR(IF(Q43=\".\",\".\",IF(Q43=\"n/a\",\"n/a\",\nGETPIVOTDATA(R$21 & \"\",PivotTableB!$A$3,\"SchoolName\",$B43,\"SubsidiaryName\",$C43,\"YearStart\",Q$13))),\"\")","v":0},{"$f":"IFERROR(IF(R43=\".\",\".\",IF(R43=\"n/a\",\"n/a\",\nGETPIVOTDATA(S$21 & \"\",PivotTableB!$A$3,\"SchoolName\",$B43,\"SubsidiaryName\",$C43,\"YearStart\",Q$13))),\"\")","v":0},189,{"$f":"IFERROR(IF(T43=\".\",\".\",IF(T43=\"n/a\",\"n/a\",\nGETPIVOTDATA(U$21 & \"\",PivotTableB!$A$3,\"SchoolName\",$B43,\"SubsidiaryName\",$C43,\"YearStart\",Q$13))),\"\")","v":0},{"$f":"IFERROR(IF(U43=\".\",\".\",IF(U43=\"n/a\",\"n/a\",\nGETPIVOTDATA(V$21 & \"\",PivotTableB!$A$3,\"SchoolName\",$B43,\"SubsidiaryName\",$C43,\"YearStart\",Q$13))),\"\")","v":1134},{"$f":"IFERROR(IF($B43=\"\",\"\",\nIF(OR($L43=\"Nursery School\",$L43=\"All-through PRU\",$M43=\"True\"),\"n/a\",\nIF(GETPIVOTDATA(W$21 & \"\",PivotTableB!$A$3,\"SchoolName\",$B43,\"SubsidiaryName\",$C43,\"YearStart\",W$13)=\"\",\".\",\nGETPIVOTDATA(W$21 & \"\",PivotTableB!$A$3,\"SchoolName\",$B43,\"SubsidiaryName\",$C43,\"YearStart\",W$13)))),\"\")","v":189},{"$f":"IFERROR(IF(W43=\".\",\".\",IF(W43=\"n/a\",\"n/a\",\nGETPIVOTDATA(X$21 & \"\",PivotTableB!$A$3,\"SchoolName\",$B43,\"SubsidiaryName\",$C43,\"YearStart\",W$13))),\"\")","v":0},{"$f":"IFERROR(IF(X43=\".\",\".\",IF(X43=\"n/a\",\"n/a\",\nGETPIVOTDATA(Y$21 & \"\",PivotTableB!$A$3,\"SchoolName\",$B43,\"SubsidiaryName\",$C43,\"YearStart\",W$13))),\"\")","v":0},189,{"$f":"IFERROR(IF(Z43=\".\",\".\",IF(Z43=\"n/a\",\"n/a\",\nGETPIVOTDATA(AA$21 & \"\",PivotTableB!$A$3,\"SchoolName\",$B43,\"SubsidiaryName\",$C43,\"YearStart\",W$13))),\"\")","v":0},{"$f":"IFERROR(IF(AA43=\".\",\".\",IF(AA43=\"n/a\",\"n/a\",\nGETPIVOTDATA(AB$21 & \"\",PivotTableB!$A$3,\"SchoolName\",$B43,\"SubsidiaryName\",$C43,\"YearStart\",W$13))),\"\")","v":1134},{"$f":"IFERROR(IF($B43=\"\",\"\",\nIF(OR($L43=\"Nursery School\",$L43=\"All-through PRU\",$M43=\"True\"),\"n/a\",\nIF(GETPIVOTDATA(AC$21 & \"\",PivotTableB!$A$3,\"SchoolName\",$B43,\"SubsidiaryName\",$C43,\"YearStart\",AC$13)=\"\",\".\",\nGETPIVOTDATA(AC$21 & \"\",PivotTableB!$A$3,\"SchoolName\",$B43,\"SubsidiaryName\",$C43,\"YearStart\",AC$13)))),\"\")","v":189},{"$f":"IFERROR(IF(AC43=\".\",\".\",IF(AC43=\"n/a\",\"n/a\",\nGETPIVOTDATA(AD$21 & \"\",PivotTableB!$A$3,\"SchoolName\",$B43,\"SubsidiaryName\",$C43,\"YearStart\",AC$13))),\"\")","v":0},{"$f":"IFERROR(IF(AD43=\".\",\".\",IF(AD43=\"n/a\",\"n/a\",\nGETPIVOTDATA(AE$21 & \"\",PivotTableB!$A$3,\"SchoolName\",$B43,\"SubsidiaryName\",$C43,\"YearStart\",AC$13))),\"\")","v":0},189,{"$f":"IFERROR(IF(AF43=\".\",\".\",IF(AF43=\"n/a\",\"n/a\",\nGETPIVOTDATA(AG$21 & \"\",PivotTableB!$A$3,\"SchoolName\",$B43,\"SubsidiaryName\",$C43,\"YearStart\",AC$13))),\"\")","v":0},{"$f":"IFERROR(IF(AG43=\".\",\".\",IF(AG43=\"n/a\",\"n/a\",\nGETPIVOTDATA(AH$21 & \"\",PivotTableB!$A$3,\"SchoolName\",$B43,\"SubsidiaryName\",$C43,\"YearStart\",AC$13))),\"\")","v":1186},{"$f":"IFERROR(IF($B43=\"\",\"\",\nIF(OR($L43=\"Nursery School\",$L43=\"All-through PRU\",$M43=\"True\"),\"n/a\",\nIF(GETPIVOTDATA(AI$21 & \"\",PivotTableB!$A$3,\"SchoolName\",$B43,\"SubsidiaryName\",$C43,\"YearStart\",AI$13)=\"\",\".\",\nGETPIVOTDATA(AI$21 & \"\",PivotTableB!$A$3,\"SchoolName\",$B43,\"SubsidiaryName\",$C43,\"YearStart\",AI$13)))),\"\")","v":189},{"$f":"IFERROR(IF(AI43=\".\",\".\",IF(AI43=\"n/a\",\"n/a\",\nGETPIVOTDATA(AJ$21 & \"\",PivotTableB!$A$3,\"SchoolName\",$B43,\"SubsidiaryName\",$C43,\"YearStart\",AI$13))),\"\")","v":0},{"$f":"IFERROR(IF(AJ43=\".\",\".\",IF(AJ43=\"n/a\",\"n/a\",\nGETPIVOTDATA(AK$21 & \"\",PivotTableB!$A$3,\"SchoolName\",$B43,\"SubsidiaryName\",$C43,\"YearStart\",AI$13))),\"\")","v":0},189,{"$f":"IFERROR(IF(AL43=\".\",\".\",IF(AL43=\"n/a\",\"n/a\",\nGETPIVOTDATA(AM$21 & \"\",PivotTableB!$A$3,\"SchoolName\",$B43,\"SubsidiaryName\",$C43,\"YearStart\",AI$13))),\"\")","v":0},{"$f":"IFERROR(IF(AM43=\".\",\".\",IF(AM43=\"n/a\",\"n/a\",\nGETPIVOTDATA(AN$21 & \"\",PivotTableB!$A$3,\"SchoolName\",$B43,\"SubsidiaryName\",$C43,\"YearStart\",AI$13))),\"\")","v":1186},{"$f":"IFERROR(IF($B43=\"\",\"\",\nIF(OR($L43=\"Nursery School\",$L43=\"All-through PRU\",$M43=\"True\"),\"n/a\",\nIF(GETPIVOTDATA(AO$21 & \"\",PivotTableB!$A$3,\"SchoolName\",$B43,\"SubsidiaryName\",$C43,\"YearStart\",AO$13)=\"\",\".\",\nGETPIVOTDATA(AO$21 & \"\",PivotTableB!$A$3,\"SchoolName\",$B43,\"SubsidiaryName\",$C43,\"YearStart\",AO$13)))),\"\")","v":189},{"$f":"IFERROR(IF(AO43=\".\",\".\",IF(AO43=\"n/a\",\"n/a\",\nGETPIVOTDATA(AP$21 & \"\",PivotTableB!$A$3,\"SchoolName\",$B43,\"SubsidiaryName\",$C43,\"YearStart\",AO$13))),\"\")","v":0},{"$f":"IFERROR(IF(AP43=\".\",\".\",IF(AP43=\"n/a\",\"n/a\",\nGETPIVOTDATA(AQ$21 & \"\",PivotTableB!$A$3,\"SchoolName\",$B43,\"SubsidiaryName\",$C43,\"YearStart\",AO$13))),\"\")","v":0},189,{"$f":"IFERROR(IF(AR43=\".\",\".\",IF(AR43=\"n/a\",\"n/a\",\nGETPIVOTDATA(AS$21 & \"\",PivotTableB!$A$3,\"SchoolName\",$B43,\"SubsidiaryName\",$C43,\"YearStart\",AO$13))),\"\")","v":0},{"$f":"IFERROR(IF(AS43=\".\",\".\",IF(AS43=\"n/a\",\"n/a\",\nGETPIVOTDATA(AT$21 & \"\",PivotTableB!$A$3,\"SchoolName\",$B43,\"SubsidiaryName\",$C43,\"YearStart\",AO$13))),\"\")","v":1186},{"$f":"IFERROR(IF($B43=\"\",\"\",\nIF(OR($L43=\"Nursery School\",$L43=\"All-through PRU\",$M43=\"True\"),\"n/a\",\nIF(GETPIVOTDATA(AU$21 & \"\",PivotTableB!$A$3,\"SchoolName\",$B43,\"SubsidiaryName\",$C43,\"YearStart\",AU$13)=\"\",\".\",\nGETPIVOTDATA(AU$21 & \"\",PivotTableB!$A$3,\"SchoolName\",$B43,\"SubsidiaryName\",$C43,\"YearStart\",AU$13)))),\"\")","v":189},{"$f":"IFERROR(IF(AU43=\".\",\".\",IF(AU43=\"n/a\",\"n/a\",\nGETPIVOTDATA(AV$21 & \"\",PivotTableB!$A$3,\"SchoolName\",$B43,\"SubsidiaryName\",$C43,\"YearStart\",AU$13))),\"\")","v":0},{"$f":"IFERROR(IF(AV43=\".\",\".\",IF(AV43=\"n/a\",\"n/a\",\nGETPIVOTDATA(AW$21 & \"\",PivotTableB!$A$3,\"SchoolName\",$B43,\"SubsidiaryName\",$C43,\"YearStart\",AU$13))),\"\")","v":0},189,{"$f":"IFERROR(IF(AX43=\".\",\".\",IF(AX43=\"n/a\",\"n/a\",\nGETPIVOTDATA(AY$21 & \"\",PivotTableB!$A$3,\"SchoolName\",$B43,\"SubsidiaryName\",$C43,\"YearStart\",AU$13))),\"\")","v":0},{"$f":"IFERROR(IF(AY43=\".\",\".\",IF(AY43=\"n/a\",\"n/a\",\nGETPIVOTDATA(AZ$21 & \"\",PivotTableB!$A$3,\"SchoolName\",$B43,\"SubsidiaryName\",$C43,\"YearStart\",AU$13))),\"\")","v":1186},{"$f":"IFERROR(IF($B43=\"\",\"\",\nIF(OR($L43=\"Nursery School\",$L43=\"All-through PRU\",$M43=\"True\"),\"n/a\",\nIF(GETPIVOTDATA(BA$21 & \"\",PivotTableB!$A$3,\"SchoolName\",$B43,\"SubsidiaryName\",$C43,\"YearStart\",BA$13)=\"\",\".\",\nGETPIVOTDATA(BA$21 & \"\",PivotTableB!$A$3,\"SchoolName\",$B43,\"SubsidiaryName\",$C43,\"YearStart\",BA$13)))),\"\")","v":189},{"$f":"IFERROR(IF(BA43=\".\",\".\",IF(BA43=\"n/a\",\"n/a\",\nGETPIVOTDATA(BB$21 & \"\",PivotTableB!$A$3,\"SchoolName\",$B43,\"SubsidiaryName\",$C43,\"YearStart\",BA$13))),\"\")","v":0},{"$f":"IFERROR(IF(BB43=\".\",\".\",IF(BB43=\"n/a\",\"n/a\",\nGETPIVOTDATA(BC$21 & \"\",PivotTableB!$A$3,\"SchoolName\",$B43,\"SubsidiaryName\",$C43,\"YearStart\",BA$13))),\"\")","v":0},{"$f":"IFERROR(IF(BC43=\".\",\".\",IF(BC43=\"n/a\",\"n/a\",\nGETPIVOTDATA(BD$21 & \"\",PivotTableB!$A$3,\"SchoolName\",$B43,\"SubsidiaryName\",$C43,\"YearStart\",BB$13))),\"\")","v":""},189,{"$f":"IFERROR(IF(BE43=\".\",\".\",IF(BE43=\"n/a\",\"n/a\",\nGETPIVOTDATA(BF$21 & \"\",PivotTableB!$A$3,\"SchoolName\",$B43,\"SubsidiaryName\",$C43,\"YearStart\",BA$13))),\"\")","v":0},{"$f":"IFERROR(IF(BF43=\".\",\".\",IF(BF43=\"n/a\",\"n/a\",\nGETPIVOTDATA(BG$21 & \"\",PivotTableB!$A$3,\"SchoolName\",$B43,\"SubsidiaryName\",$C43,\"YearStart\",BA$13))),\"\")","v":1186},{"$f":"IFERROR(IF($B43=\"\",\"\",\nIF(OR($L43=\"Nursery School\",$L43=\"All-through PRU\",$M43=\"True\"),\"n/a\",\nIF(GETPIVOTDATA(BH$21 & \"\",PivotTableB!$A$3,\"SchoolName\",$B43,\"SubsidiaryName\",$C43,\"YearStart\",BH$13)=\"\",\".\",\nGETPIVOTDATA(BH$21 & \"\",PivotTableB!$A$3,\"SchoolName\",$B43,\"SubsidiaryName\",$C43,\"YearStart\",BH$13)))),\"\")","v":189},{"$f":"IFERROR(IF(BH43=\".\",\".\",IF(BH43=\"n/a\",\"n/a\",\nGETPIVOTDATA(BI$21 & \"\",PivotTableB!$A$3,\"SchoolName\",$B43,\"SubsidiaryName\",$C43,\"YearStart\",BH$13))),\"\")","v":0},{"$f":"IFERROR(IF(BI43=\".\",\".\",IF(BI43=\"n/a\",\"n/a\",\nGETPIVOTDATA(BJ$21 & \"\",PivotTableB!$A$3,\"SchoolName\",$B43,\"SubsidiaryName\",$C43,\"YearStart\",BH$13))),\"\")","v":0},{"$f":"IFERROR(IF(BJ43=\".\",\".\",IF(BJ43=\"n/a\",\"n/a\",\nGETPIVOTDATA(BK$21 & \"\",PivotTableB!$A$3,\"SchoolName\",$B43,\"SubsidiaryName\",$C43,\"YearStart\",BH$13))),\"\")","v":0},189,{"$f":"IFERROR(IF(BL43=\".\",\".\",IF(BL43=\"n/a\",\"n/a\",\nGETPIVOTDATA(BM$21 & \"\",PivotTableB!$A$3,\"SchoolName\",$B43,\"SubsidiaryName\",$C43,\"YearStart\",BH$13))),\"\")","v":0},{"$f":"IFERROR(IF(BM43=\".\",\".\",IF(BM43=\"n/a\",\"n/a\",\nGETPIVOTDATA(BN$21 & \"\",PivotTableB!$A$3,\"SchoolName\",$B43,\"SubsidiaryName\",$C43,\"YearStart\",BH$13))),\"\")","v":1186},{"$f":"IFERROR(IF($B43=\"\",\"\",\nIF(OR($L43=\"Nursery School\",$L43=\"All-through PRU\",$M43=\"True\"),\"n/a\",\nIF(GETPIVOTDATA(BO$21 & \"\",PivotTableB!$A$3,\"SchoolName\",$B43,\"SubsidiaryName\",$C43,\"YearStart\",BO$13)=\"\",\".\",\nGETPIVOTDATA(BO$21 & \"\",PivotTableB!$A$3,\"SchoolName\",$B43,\"SubsidiaryName\",$C43,\"YearStart\",BO$13)))),\"\")","v":189},{"$f":"IFERROR(IF(BO43=\".\",\".\",IF(BO43=\"n/a\",\"n/a\",\nGETPIVOTDATA(BP$21 & \"\",PivotTableB!$A$3,\"SchoolName\",$B43,\"SubsidiaryName\",$C43,\"YearStart\",BO$13))),\"\")","v":0},{"$f":"IFERROR(IF(BP43=\".\",\".\",IF(BP43=\"n/a\",\"n/a\",\nGETPIVOTDATA(BQ$21 & \"\",PivotTableB!$A$3,\"SchoolName\",$B43,\"SubsidiaryName\",$C43,\"YearStart\",BO$13))),\"\")","v":0},{"$f":"IFERROR(IF(BQ43=\".\",\".\",IF(BQ43=\"n/a\",\"n/a\",\nGETPIVOTDATA(BR$21 & \"\",PivotTableB!$A$3,\"SchoolName\",$B43,\"SubsidiaryName\",$C43,\"YearStart\",BP$13))),\"\")","v":""},189,{"$f":"IFERROR(IF(BS43=\".\",\".\",IF(BS43=\"n/a\",\"n/a\",\nGETPIVOTDATA(BT$21 & \"\",PivotTableB!$A$3,\"SchoolName\",$B43,\"SubsidiaryName\",$C43,\"YearStart\",BO$13))),\"\")","v":0},{"$f":"IFERROR(IF(BT43=\".\",\".\",IF(BT43=\"n/a\",\"n/a\",\nGETPIVOTDATA(BU$21 & \"\",PivotTableB!$A$3,\"SchoolName\",$B43,\"SubsidiaryName\",$C43,\"YearStart\",BO$13))),\"\")","v":1186},{"$f":"IFERROR(IF($B43=\"\",\"\",\nIF(OR($L43=\"Nursery School\",$L43=\"All-through PRU\",$M43=\"True\"),\"n/a\",\nIF(GETPIVOTDATA(BV$21 & \"\",PivotTableB!$A$3,\"SchoolName\",$B43,\"SubsidiaryName\",$C43,\"YearStart\",BV$13)=\"\",\".\",\nGETPIVOTDATA(BV$21 & \"\",PivotTableB!$A$3,\"SchoolName\",$B43,\"SubsidiaryName\",$C43,\"YearStart\",BV$13)))),\"\")","v":189},{"$f":"IFERROR(IF(BV43=\".\",\".\",IF(BV43=\"n/a\",\"n/a\",\nGETPIVOTDATA(BW$21 & \"\",PivotTableB!$A$3,\"SchoolName\",$B43,\"SubsidiaryName\",$C43,\"YearStart\",BV$13))),\"\")","v":0},{"$f":"IFERROR(IF(BW43=\".\",\".\",IF(BW43=\"n/a\",\"n/a\",\nGETPIVOTDATA(BX$21 & \"\",PivotTableB!$A$3,\"SchoolName\",$B43,\"SubsidiaryName\",$C43,\"YearStart\",BV$13))),\"\")","v":0},{"$f":"IFERROR(IF(BX43=\".\",\".\",IF(BX43=\"n/a\",\"n/a\",\nGETPIVOTDATA(BY$21 & \"\",PivotTableB!$A$3,\"SchoolName\",$B43,\"SubsidiaryName\",$C43,\"YearStart\",BV$13))),\"\")","v":0},189,{"$f":"IFERROR(IF(BZ43=\".\",\".\",IF(BZ43=\"n/a\",\"n/a\",\nGETPIVOTDATA(CA$21 & \"\",PivotTableB!$A$3,\"SchoolName\",$B43,\"SubsidiaryName\",$C43,\"YearStart\",BV$13))),\"\")","v":0},{"$f":"IFERROR(IF(CA43=\".\",\".\",IF(CA43=\"n/a\",\"n/a\",\nGETPIVOTDATA(CB$21 & \"\",PivotTableB!$A$3,\"SchoolName\",$B43,\"SubsidiaryName\",$C43,\"YearStart\",BV$13))),\"\")","v":1186}]
[null,{"$f":"IF(PivotTableA!A31=\"\",\"n/a\",PivotTableA!A31)","v":"Eton Porny C of E First School"},{"$f":"IF(B44=\"n/a\",\"\",PivotTableA!B31)","v":"Eton Porny C of E First School"},{"$f":"IF($B44=\"n/a\",\"\",PivotTableA!C31)","v":"R"},{"$f":"IF($B44=\"n/a\",\"\",PivotTableA!D31)","v":"Windsor"},{"$f":"IF($B44=\"n/a\",\"\",PivotTableA!E31)","v":"Eton"},{"$f":"IF($B44=\"n/a\",\"\",PivotTableA!F31)","v":"Eton"},{"$f":"IF($B44=\"n/a\",\"\",PivotTableA!G31)","v":"Eton and Castle"},{"$f":"IF($B44=\"n/a\",\"\",PivotTableA!H31)","v":"Eton Town Council"},{"$f":"IF($B44=\"n/a\",\"\",PivotTableA!I31)","v":"Primary"},{"$f":"IF($B44=\"n/a\",\"\",PivotTableA!J31)","v":"Three Tier"},{"$f":"IF($B44=\"n/a\",\"\",PivotTableA!K31)","v":"First"},{"$f":"IF($B44=\"n/a\",\"\",PivotTableA!O31)","v":"FALSE"},{"$f":"IF($B44=\"n/a\",\"\",PivotTableA!L31)","v":"Academy"},{"$f":"IF($B44=\"n/a\",\"\",PivotTableA!M31)","v":"2016-02-01"},{"$f":"IF($B44=\"n/a\",\"\",PivotTableA!N31)","v":"Church of England"},{"$f":"IFERROR(IF($B44=\"\",\"\",\nIF(OR($L44=\"Nursery School\",$L44=\"All-through PRU\",$M44=\"True\"),\"n/a\",\nIF(GETPIVOTDATA(Q$21 & \"\",PivotTableB!$A$3,\"SchoolName\",$B44,\"SubsidiaryName\",$C44,\"YearStart\",Q$13)=\"\",\".\",\nGETPIVOTDATA(Q$21 & \"\",PivotTableB!$A$3,\"SchoolName\",$B44,\"SubsidiaryName\",$C44,\"YearStart\",Q$13)))),\"\")","v":30},{"$f":"IFERROR(IF(Q44=\".\",\".\",IF(Q44=\"n/a\",\"n/a\",\nGETPIVOTDATA(R$21 & \"\",PivotTableB!$A$3,\"SchoolName\",$B44,\"SubsidiaryName\",$C44,\"YearStart\",Q$13))),\"\")","v":0},{"$f":"IFERROR(IF(R44=\".\",\".\",IF(R44=\"n/a\",\"n/a\",\nGETPIVOTDATA(S$21 & \"\",PivotTableB!$A$3,\"SchoolName\",$B44,\"SubsidiaryName\",$C44,\"YearStart\",Q$13))),\"\")","v":0},30,{"$f":"IFERROR(IF(T44=\".\",\".\",IF(T44=\"n/a\",\"n/a\",\nGETPIVOTDATA(U$21 & \"\",PivotTableB!$A$3,\"SchoolName\",$B44,\"SubsidiaryName\",$C44,\"YearStart\",Q$13))),\"\")","v":0},{"$f":"IFERROR(IF(U44=\".\",\".\",IF(U44=\"n/a\",\"n/a\",\nGETPIVOTDATA(V$21 & \"\",PivotTableB!$A$3,\"SchoolName\",$B44,\"SubsidiaryName\",$C44,\"YearStart\",Q$13))),\"\")","v":136},{"$f":"IFERROR(IF($B44=\"\",\"\",\nIF(OR($L44=\"Nursery School\",$L44=\"All-through PRU\",$M44=\"True\"),\"n/a\",\nIF(GETPIVOTDATA(W$21 & \"\",PivotTableB!$A$3,\"SchoolName\",$B44,\"SubsidiaryName\",$C44,\"YearStart\",W$13)=\"\",\".\",\nGETPIVOTDATA(W$21 & \"\",PivotTableB!$A$3,\"SchoolName\",$B44,\"SubsidiaryName\",$C44,\"YearStart\",W$13)))),\"\")","v":30},{"$f":"IFERROR(IF(W44=\".\",\".\",IF(W44=\"n/a\",\"n/a\",\nGETPIVOTDATA(X$21 & \"\",PivotTableB!$A$3,\"SchoolName\",$B44,\"SubsidiaryName\",$C44,\"YearStart\",W$13))),\"\")","v":0},{"$f":"IFERROR(IF(X44=\".\",\".\",IF(X44=\"n/a\",\"n/a\",\nGETPIVOTDATA(Y$21 & \"\",PivotTableB!$A$3,\"SchoolName\",$B44,\"SubsidiaryName\",$C44,\"YearStart\",W$13))),\"\")","v":0},30,{"$f":"IFERROR(IF(Z44=\".\",\".\",IF(Z44=\"n/a\",\"n/a\",\nGETPIVOTDATA(AA$21 & \"\",PivotTableB!$A$3,\"SchoolName\",$B44,\"SubsidiaryName\",$C44,\"YearStart\",W$13))),\"\")","v":0},{"$f":"IFERROR(IF(AA44=\".\",\".\",IF(AA44=\"n/a\",\"n/a\",\nGETPIVOTDATA(AB$21 & \"\",PivotTableB!$A$3,\"SchoolName\",$B44,\"SubsidiaryName\",$C44,\"YearStart\",W$13))),\"\")","v":136},{"$f":"IFERROR(IF($B44=\"\",\"\",\nIF(OR($L44=\"Nursery School\",$L44=\"All-through PRU\",$M44=\"True\"),\"n/a\",\nIF(GETPIVOTDATA(AC$21 & \"\",PivotTableB!$A$3,\"SchoolName\",$B44,\"SubsidiaryName\",$C44,\"YearStart\",AC$13)=\"\",\".\",\nGETPIVOTDATA(AC$21 & \"\",PivotTableB!$A$3,\"SchoolName\",$B44,\"SubsidiaryName\",$C44,\"YearStart\",AC$13)))),\"\")","v":30},{"$f":"IFERROR(IF(AC44=\".\",\".\",IF(AC44=\"n/a\",\"n/a\",\nGETPIVOTDATA(AD$21 & \"\",PivotTableB!$A$3,\"SchoolName\",$B44,\"SubsidiaryName\",$C44,\"YearStart\",AC$13))),\"\")","v":0},{"$f":"IFERROR(IF(AD44=\".\",\".\",IF(AD44=\"n/a\",\"n/a\",\nGETPIVOTDATA(AE$21 & \"\",PivotTableB!$A$3,\"SchoolName\",$B44,\"SubsidiaryName\",$C44,\"YearStart\",AC$13))),\"\")","v":0},30,{"$f":"IFERROR(IF(AF44=\".\",\".\",IF(AF44=\"n/a\",\"n/a\",\nGETPIVOTDATA(AG$21 & \"\",PivotTableB!$A$3,\"SchoolName\",$B44,\"SubsidiaryName\",$C44,\"YearStart\",AC$13))),\"\")","v":0},{"$f":"IFERROR(IF(AG44=\".\",\".\",IF(AG44=\"n/a\",\"n/a\",\nGETPIVOTDATA(AH$21 & \"\",PivotTableB!$A$3,\"SchoolName\",$B44,\"SubsidiaryName\",$C44,\"YearStart\",AC$13))),\"\")","v":136},{"$f":"IFERROR(IF($B44=\"\",\"\",\nIF(OR($L44=\"Nursery School\",$L44=\"All-through PRU\",$M44=\"True\"),\"n/a\",\nIF(GETPIVOTDATA(AI$21 & \"\",PivotTableB!$A$3,\"SchoolName\",$B44,\"SubsidiaryName\",$C44,\"YearStart\",AI$13)=\"\",\".\",\nGETPIVOTDATA(AI$21 & \"\",PivotTableB!$A$3,\"SchoolName\",$B44,\"SubsidiaryName\",$C44,\"YearStart\",AI$13)))),\"\")","v":30},{"$f":"IFERROR(IF(AI44=\".\",\".\",IF(AI44=\"n/a\",\"n/a\",\nGETPIVOTDATA(AJ$21 & \"\",PivotTableB!$A$3,\"SchoolName\",$B44,\"SubsidiaryName\",$C44,\"YearStart\",AI$13))),\"\")","v":0},{"$f":"IFERROR(IF(AJ44=\".\",\".\",IF(AJ44=\"n/a\",\"n/a\",\nGETPIVOTDATA(AK$21 & \"\",PivotTableB!$A$3,\"SchoolName\",$B44,\"SubsidiaryName\",$C44,\"YearStart\",AI$13))),\"\")","v":0},30,{"$f":"IFERROR(IF(AL44=\".\",\".\",IF(AL44=\"n/a\",\"n/a\",\nGETPIVOTDATA(AM$21 & \"\",PivotTableB!$A$3,\"SchoolName\",$B44,\"SubsidiaryName\",$C44,\"YearStart\",AI$13))),\"\")","v":0},{"$f":"IFERROR(IF(AM44=\".\",\".\",IF(AM44=\"n/a\",\"n/a\",\nGETPIVOTDATA(AN$21 & \"\",PivotTableB!$A$3,\"SchoolName\",$B44,\"SubsidiaryName\",$C44,\"YearStart\",AI$13))),\"\")","v":136},{"$f":"IFERROR(IF($B44=\"\",\"\",\nIF(OR($L44=\"Nursery School\",$L44=\"All-through PRU\",$M44=\"True\"),\"n/a\",\nIF(GETPIVOTDATA(AO$21 & \"\",PivotTableB!$A$3,\"SchoolName\",$B44,\"SubsidiaryName\",$C44,\"YearStart\",AO$13)=\"\",\".\",\nGETPIVOTDATA(AO$21 & \"\",PivotTableB!$A$3,\"SchoolName\",$B44,\"SubsidiaryName\",$C44,\"YearStart\",AO$13)))),\"\")","v":30},{"$f":"IFERROR(IF(AO44=\".\",\".\",IF(AO44=\"n/a\",\"n/a\",\nGETPIVOTDATA(AP$21 & \"\",PivotTableB!$A$3,\"SchoolName\",$B44,\"SubsidiaryName\",$C44,\"YearStart\",AO$13))),\"\")","v":0},{"$f":"IFERROR(IF(AP44=\".\",\".\",IF(AP44=\"n/a\",\"n/a\",\nGETPIVOTDATA(AQ$21 & \"\",PivotTableB!$A$3,\"SchoolName\",$B44,\"SubsidiaryName\",$C44,\"YearStart\",AO$13))),\"\")","v":0},30,{"$f":"IFERROR(IF(AR44=\".\",\".\",IF(AR44=\"n/a\",\"n/a\",\nGETPIVOTDATA(AS$21 & \"\",PivotTableB!$A$3,\"SchoolName\",$B44,\"SubsidiaryName\",$C44,\"YearStart\",AO$13))),\"\")","v":0},{"$f":"IFERROR(IF(AS44=\".\",\".\",IF(AS44=\"n/a\",\"n/a\",\nGETPIVOTDATA(AT$21 & \"\",PivotTableB!$A$3,\"SchoolName\",$B44,\"SubsidiaryName\",$C44,\"YearStart\",AO$13))),\"\")","v":136},{"$f":"IFERROR(IF($B44=\"\",\"\",\nIF(OR($L44=\"Nursery School\",$L44=\"All-through PRU\",$M44=\"True\"),\"n/a\",\nIF(GETPIVOTDATA(AU$21 & \"\",PivotTableB!$A$3,\"SchoolName\",$B44,\"SubsidiaryName\",$C44,\"YearStart\",AU$13)=\"\",\".\",\nGETPIVOTDATA(AU$21 & \"\",PivotTableB!$A$3,\"SchoolName\",$B44,\"SubsidiaryName\",$C44,\"YearStart\",AU$13)))),\"\")","v":30},{"$f":"IFERROR(IF(AU44=\".\",\".\",IF(AU44=\"n/a\",\"n/a\",\nGETPIVOTDATA(AV$21 & \"\",PivotTableB!$A$3,\"SchoolName\",$B44,\"SubsidiaryName\",$C44,\"YearStart\",AU$13))),\"\")","v":0},{"$f":"IFERROR(IF(AV44=\".\",\".\",IF(AV44=\"n/a\",\"n/a\",\nGETPIVOTDATA(AW$21 & \"\",PivotTableB!$A$3,\"SchoolName\",$B44,\"SubsidiaryName\",$C44,\"YearStart\",AU$13))),\"\")","v":0},30,{"$f":"IFERROR(IF(AX44=\".\",\".\",IF(AX44=\"n/a\",\"n/a\",\nGETPIVOTDATA(AY$21 & \"\",PivotTableB!$A$3,\"SchoolName\",$B44,\"SubsidiaryName\",$C44,\"YearStart\",AU$13))),\"\")","v":0},{"$f":"IFERROR(IF(AY44=\".\",\".\",IF(AY44=\"n/a\",\"n/a\",\nGETPIVOTDATA(AZ$21 & \"\",PivotTableB!$A$3,\"SchoolName\",$B44,\"SubsidiaryName\",$C44,\"YearStart\",AU$13))),\"\")","v":136},{"$f":"IFERROR(IF($B44=\"\",\"\",\nIF(OR($L44=\"Nursery School\",$L44=\"All-through PRU\",$M44=\"True\"),\"n/a\",\nIF(GETPIVOTDATA(BA$21 & \"\",PivotTableB!$A$3,\"SchoolName\",$B44,\"SubsidiaryName\",$C44,\"YearStart\",BA$13)=\"\",\".\",\nGETPIVOTDATA(BA$21 & \"\",PivotTableB!$A$3,\"SchoolName\",$B44,\"SubsidiaryName\",$C44,\"YearStart\",BA$13)))),\"\")","v":30},{"$f":"IFERROR(IF(BA44=\".\",\".\",IF(BA44=\"n/a\",\"n/a\",\nGETPIVOTDATA(BB$21 & \"\",PivotTableB!$A$3,\"SchoolName\",$B44,\"SubsidiaryName\",$C44,\"YearStart\",BA$13))),\"\")","v":0},{"$f":"IFERROR(IF(BB44=\".\",\".\",IF(BB44=\"n/a\",\"n/a\",\nGETPIVOTDATA(BC$21 & \"\",PivotTableB!$A$3,\"SchoolName\",$B44,\"SubsidiaryName\",$C44,\"YearStart\",BA$13))),\"\")","v":0},{"$f":"IFERROR(IF(BC44=\".\",\".\",IF(BC44=\"n/a\",\"n/a\",\nGETPIVOTDATA(BD$21 & \"\",PivotTableB!$A$3,\"SchoolName\",$B44,\"SubsidiaryName\",$C44,\"YearStart\",BB$13))),\"\")","v":""},30,{"$f":"IFERROR(IF(BE44=\".\",\".\",IF(BE44=\"n/a\",\"n/a\",\nGETPIVOTDATA(BF$21 & \"\",PivotTableB!$A$3,\"SchoolName\",$B44,\"SubsidiaryName\",$C44,\"YearStart\",BA$13))),\"\")","v":0},{"$f":"IFERROR(IF(BF44=\".\",\".\",IF(BF44=\"n/a\",\"n/a\",\nGETPIVOTDATA(BG$21 & \"\",PivotTableB!$A$3,\"SchoolName\",$B44,\"SubsidiaryName\",$C44,\"YearStart\",BA$13))),\"\")","v":136},{"$f":"IFERROR(IF($B44=\"\",\"\",\nIF(OR($L44=\"Nursery School\",$L44=\"All-through PRU\",$M44=\"True\"),\"n/a\",\nIF(GETPIVOTDATA(BH$21 & \"\",PivotTableB!$A$3,\"SchoolName\",$B44,\"SubsidiaryName\",$C44,\"YearStart\",BH$13)=\"\",\".\",\nGETPIVOTDATA(BH$21 & \"\",PivotTableB!$A$3,\"SchoolName\",$B44,\"SubsidiaryName\",$C44,\"YearStart\",BH$13)))),\"\")","v":30},{"$f":"IFERROR(IF(BH44=\".\",\".\",IF(BH44=\"n/a\",\"n/a\",\nGETPIVOTDATA(BI$21 & \"\",PivotTableB!$A$3,\"SchoolName\",$B44,\"SubsidiaryName\",$C44,\"YearStart\",BH$13))),\"\")","v":0},{"$f":"IFERROR(IF(BI44=\".\",\".\",IF(BI44=\"n/a\",\"n/a\",\nGETPIVOTDATA(BJ$21 & \"\",PivotTableB!$A$3,\"SchoolName\",$B44,\"SubsidiaryName\",$C44,\"YearStart\",BH$13))),\"\")","v":0},{"$f":"IFERROR(IF(BJ44=\".\",\".\",IF(BJ44=\"n/a\",\"n/a\",\nGETPIVOTDATA(BK$21 & \"\",PivotTableB!$A$3,\"SchoolName\",$B44,\"SubsidiaryName\",$C44,\"YearStart\",BH$13))),\"\")","v":0},30,{"$f":"IFERROR(IF(BL44=\".\",\".\",IF(BL44=\"n/a\",\"n/a\",\nGETPIVOTDATA(BM$21 & \"\",PivotTableB!$A$3,\"SchoolName\",$B44,\"SubsidiaryName\",$C44,\"YearStart\",BH$13))),\"\")","v":0},{"$f":"IFERROR(IF(BM44=\".\",\".\",IF(BM44=\"n/a\",\"n/a\",\nGETPIVOTDATA(BN$21 & \"\",PivotTableB!$A$3,\"SchoolName\",$B44,\"SubsidiaryName\",$C44,\"YearStart\",BH$13))),\"\")","v":136},{"$f":"IFERROR(IF($B44=\"\",\"\",\nIF(OR($L44=\"Nursery School\",$L44=\"All-through PRU\",$M44=\"True\"),\"n/a\",\nIF(GETPIVOTDATA(BO$21 & \"\",PivotTableB!$A$3,\"SchoolName\",$B44,\"SubsidiaryName\",$C44,\"YearStart\",BO$13)=\"\",\".\",\nGETPIVOTDATA(BO$21 & \"\",PivotTableB!$A$3,\"SchoolName\",$B44,\"SubsidiaryName\",$C44,\"YearStart\",BO$13)))),\"\")","v":30},{"$f":"IFERROR(IF(BO44=\".\",\".\",IF(BO44=\"n/a\",\"n/a\",\nGETPIVOTDATA(BP$21 & \"\",PivotTableB!$A$3,\"SchoolName\",$B44,\"SubsidiaryName\",$C44,\"YearStart\",BO$13))),\"\")","v":0},{"$f":"IFERROR(IF(BP44=\".\",\".\",IF(BP44=\"n/a\",\"n/a\",\nGETPIVOTDATA(BQ$21 & \"\",PivotTableB!$A$3,\"SchoolName\",$B44,\"SubsidiaryName\",$C44,\"YearStart\",BO$13))),\"\")","v":0},{"$f":"IFERROR(IF(BQ44=\".\",\".\",IF(BQ44=\"n/a\",\"n/a\",\nGETPIVOTDATA(BR$21 & \"\",PivotTableB!$A$3,\"SchoolName\",$B44,\"SubsidiaryName\",$C44,\"YearStart\",BP$13))),\"\")","v":""},30,{"$f":"IFERROR(IF(BS44=\".\",\".\",IF(BS44=\"n/a\",\"n/a\",\nGETPIVOTDATA(BT$21 & \"\",PivotTableB!$A$3,\"SchoolName\",$B44,\"SubsidiaryName\",$C44,\"YearStart\",BO$13))),\"\")","v":0},{"$f":"IFERROR(IF(BT44=\".\",\".\",IF(BT44=\"n/a\",\"n/a\",\nGETPIVOTDATA(BU$21 & \"\",PivotTableB!$A$3,\"SchoolName\",$B44,\"SubsidiaryName\",$C44,\"YearStart\",BO$13))),\"\")","v":136},{"$f":"IFERROR(IF($B44=\"\",\"\",\nIF(OR($L44=\"Nursery School\",$L44=\"All-through PRU\",$M44=\"True\"),\"n/a\",\nIF(GETPIVOTDATA(BV$21 & \"\",PivotTableB!$A$3,\"SchoolName\",$B44,\"SubsidiaryName\",$C44,\"YearStart\",BV$13)=\"\",\".\",\nGETPIVOTDATA(BV$21 & \"\",PivotTableB!$A$3,\"SchoolName\",$B44,\"SubsidiaryName\",$C44,\"YearStart\",BV$13)))),\"\")","v":30},{"$f":"IFERROR(IF(BV44=\".\",\".\",IF(BV44=\"n/a\",\"n/a\",\nGETPIVOTDATA(BW$21 & \"\",PivotTableB!$A$3,\"SchoolName\",$B44,\"SubsidiaryName\",$C44,\"YearStart\",BV$13))),\"\")","v":0},{"$f":"IFERROR(IF(BW44=\".\",\".\",IF(BW44=\"n/a\",\"n/a\",\nGETPIVOTDATA(BX$21 & \"\",PivotTableB!$A$3,\"SchoolName\",$B44,\"SubsidiaryName\",$C44,\"YearStart\",BV$13))),\"\")","v":0},{"$f":"IFERROR(IF(BX44=\".\",\".\",IF(BX44=\"n/a\",\"n/a\",\nGETPIVOTDATA(BY$21 & \"\",PivotTableB!$A$3,\"SchoolName\",$B44,\"SubsidiaryName\",$C44,\"YearStart\",BV$13))),\"\")","v":0},30,{"$f":"IFERROR(IF(BZ44=\".\",\".\",IF(BZ44=\"n/a\",\"n/a\",\nGETPIVOTDATA(CA$21 & \"\",PivotTableB!$A$3,\"SchoolName\",$B44,\"SubsidiaryName\",$C44,\"YearStart\",BV$13))),\"\")","v":0},{"$f":"IFERROR(IF(CA44=\".\",\".\",IF(CA44=\"n/a\",\"n/a\",\nGETPIVOTDATA(CB$21 & \"\",PivotTableB!$A$3,\"SchoolName\",$B44,\"SubsidiaryName\",$C44,\"YearStart\",BV$13))),\"\")","v":136}]
[null,{"$f":"IF(PivotTableA!A32=\"\",\"n/a\",PivotTableA!A32)","v":"Eton Wick C of E First School"},{"$f":"IF(B45=\"n/a\",\"\",PivotTableA!B32)","v":"Eton Wick C of E First School"},{"$f":"IF($B45=\"n/a\",\"\",PivotTableA!C32)","v":"R"},{"$f":"IF($B45=\"n/a\",\"\",PivotTableA!D32)","v":"Windsor"},{"$f":"IF($B45=\"n/a\",\"\",PivotTableA!E32)","v":"Eton"},{"$f":"IF($B45=\"n/a\",\"\",PivotTableA!F32)","v":"Eton Wick"},{"$f":"IF($B45=\"n/a\",\"\",PivotTableA!G32)","v":"Eton Wick"},{"$f":"IF($B45=\"n/a\",\"\",PivotTableA!H32)","v":"Eton Town Council"},{"$f":"IF($B45=\"n/a\",\"\",PivotTableA!I32)","v":"Primary"},{"$f":"IF($B45=\"n/a\",\"\",PivotTableA!J32)","v":"Three Tier"},{"$f":"IF($B45=\"n/a\",\"\",PivotTableA!K32)","v":"First"},{"$f":"IF($B45=\"n/a\",\"\",PivotTableA!O32)","v":"FALSE"},{"$f":"IF($B45=\"n/a\",\"\",PivotTableA!L32)","v":"Voluntary Controlled"},{"$f":"IF($B45=\"n/a\",\"\",PivotTableA!M32)","v":" "},{"$f":"IF($B45=\"n/a\",\"\",PivotTableA!N32)","v":"Church of England"},{"$f":"IFERROR(IF($B45=\"\",\"\",\nIF(OR($L45=\"Nursery School\",$L45=\"All-through PRU\",$M45=\"True\"),\"n/a\",\nIF(GETPIVOTDATA(Q$21 & \"\",PivotTableB!$A$3,\"SchoolName\",$B45,\"SubsidiaryName\",$C45,\"YearStart\",Q$13)=\"\",\".\",\nGETPIVOTDATA(Q$21 & \"\",PivotTableB!$A$3,\"SchoolName\",$B45,\"SubsidiaryName\",$C45,\"YearStart\",Q$13)))),\"\")","v":30},{"$f":"IFERROR(IF(Q45=\".\",\".\",IF(Q45=\"n/a\",\"n/a\",\nGETPIVOTDATA(R$21 & \"\",PivotTableB!$A$3,\"SchoolName\",$B45,\"SubsidiaryName\",$C45,\"YearStart\",Q$13))),\"\")","v":0},{"$f":"IFERROR(IF(R45=\".\",\".\",IF(R45=\"n/a\",\"n/a\",\nGETPIVOTDATA(S$21 & \"\",PivotTableB!$A$3,\"SchoolName\",$B45,\"SubsidiaryName\",$C45,\"YearStart\",Q$13))),\"\")","v":0},30,{"$f":"IFERROR(IF(T45=\".\",\".\",IF(T45=\"n/a\",\"n/a\",\nGETPIVOTDATA(U$21 & \"\",PivotTableB!$A$3,\"SchoolName\",$B45,\"SubsidiaryName\",$C45,\"YearStart\",Q$13))),\"\")","v":0},{"$f":"IFERROR(IF(U45=\".\",\".\",IF(U45=\"n/a\",\"n/a\",\nGETPIVOTDATA(V$21 & \"\",PivotTableB!$A$3,\"SchoolName\",$B45,\"SubsidiaryName\",$C45,\"YearStart\",Q$13))),\"\")","v":165},{"$f":"IFERROR(IF($B45=\"\",\"\",\nIF(OR($L45=\"Nursery School\",$L45=\"All-through PRU\",$M45=\"True\"),\"n/a\",\nIF(GETPIVOTDATA(W$21 & \"\",PivotTableB!$A$3,\"SchoolName\",$B45,\"SubsidiaryName\",$C45,\"YearStart\",W$13)=\"\",\".\",\nGETPIVOTDATA(W$21 & \"\",PivotTableB!$A$3,\"SchoolName\",$B45,\"SubsidiaryName\",$C45,\"YearStart\",W$13)))),\"\")","v":30},{"$f":"IFERROR(IF(W45=\".\",\".\",IF(W45=\"n/a\",\"n/a\",\nGETPIVOTDATA(X$21 & \"\",PivotTableB!$A$3,\"SchoolName\",$B45,\"SubsidiaryName\",$C45,\"YearStart\",W$13))),\"\")","v":0},{"$f":"IFERROR(IF(X45=\".\",\".\",IF(X45=\"n/a\",\"n/a\",\nGETPIVOTDATA(Y$21 & \"\",PivotTableB!$A$3,\"SchoolName\",$B45,\"SubsidiaryName\",$C45,\"YearStart\",W$13))),\"\")","v":0},30,{"$f":"IFERROR(IF(Z45=\".\",\".\",IF(Z45=\"n/a\",\"n/a\",\nGETPIVOTDATA(AA$21 & \"\",PivotTableB!$A$3,\"SchoolName\",$B45,\"SubsidiaryName\",$C45,\"YearStart\",W$13))),\"\")","v":0},{"$f":"IFERROR(IF(AA45=\".\",\".\",IF(AA45=\"n/a\",\"n/a\",\nGETPIVOTDATA(AB$21 & \"\",PivotTableB!$A$3,\"SchoolName\",$B45,\"SubsidiaryName\",$C45,\"YearStart\",W$13))),\"\")","v":165},{"$f":"IFERROR(IF($B45=\"\",\"\",\nIF(OR($L45=\"Nursery School\",$L45=\"All-through PRU\",$M45=\"True\"),\"n/a\",\nIF(GETPIVOTDATA(AC$21 & \"\",PivotTableB!$A$3,\"SchoolName\",$B45,\"SubsidiaryName\",$C45,\"YearStart\",AC$13)=\"\",\".\",\nGETPIVOTDATA(AC$21 & \"\",PivotTableB!$A$3,\"SchoolName\",$B45,\"SubsidiaryName\",$C45,\"YearStart\",AC$13)))),\"\")","v":30},{"$f":"IFERROR(IF(AC45=\".\",\".\",IF(AC45=\"n/a\",\"n/a\",\nGETPIVOTDATA(AD$21 & \"\",PivotTableB!$A$3,\"SchoolName\",$B45,\"SubsidiaryName\",$C45,\"YearStart\",AC$13))),\"\")","v":0},{"$f":"IFERROR(IF(AD45=\".\",\".\",IF(AD45=\"n/a\",\"n/a\",\nGETPIVOTDATA(AE$21 & \"\",PivotTableB!$A$3,\"SchoolName\",$B45,\"SubsidiaryName\",$C45,\"YearStart\",AC$13))),\"\")","v":0},30,{"$f":"IFERROR(IF(AF45=\".\",\".\",IF(AF45=\"n/a\",\"n/a\",\nGETPIVOTDATA(AG$21 & \"\",PivotTableB!$A$3,\"SchoolName\",$B45,\"SubsidiaryName\",$C45,\"YearStart\",AC$13))),\"\")","v":0},{"$f":"IFERROR(IF(AG45=\".\",\".\",IF(AG45=\"n/a\",\"n/a\",\nGETPIVOTDATA(AH$21 & \"\",PivotTableB!$A$3,\"SchoolName\",$B45,\"SubsidiaryName\",$C45,\"YearStart\",AC$13))),\"\")","v":150},{"$f":"IFERROR(IF($B45=\"\",\"\",\nIF(OR($L45=\"Nursery School\",$L45=\"All-through PRU\",$M45=\"True\"),\"n/a\",\nIF(GETPIVOTDATA(AI$21 & \"\",PivotTableB!$A$3,\"SchoolName\",$B45,\"SubsidiaryName\",$C45,\"YearStart\",AI$13)=\"\",\".\",\nGETPIVOTDATA(AI$21 & \"\",PivotTableB!$A$3,\"SchoolName\",$B45,\"SubsidiaryName\",$C45,\"YearStart\",AI$13)))),\"\")","v":30},{"$f":"IFERROR(IF(AI45=\".\",\".\",IF(AI45=\"n/a\",\"n/a\",\nGETPIVOTDATA(AJ$21 & \"\",PivotTableB!$A$3,\"SchoolName\",$B45,\"SubsidiaryName\",$C45,\"YearStart\",AI$13))),\"\")","v":0},{"$f":"IFERROR(IF(AJ45=\".\",\".\",IF(AJ45=\"n/a\",\"n/a\",\nGETPIVOTDATA(AK$21 & \"\",PivotTableB!$A$3,\"SchoolName\",$B45,\"SubsidiaryName\",$C45,\"YearStart\",AI$13))),\"\")","v":0},30,{"$f":"IFERROR(IF(AL45=\".\",\".\",IF(AL45=\"n/a\",\"n/a\",\nGETPIVOTDATA(AM$21 & \"\",PivotTableB!$A$3,\"SchoolName\",$B45,\"SubsidiaryName\",$C45,\"YearStart\",AI$13))),\"\")","v":0},{"$f":"IFERROR(IF(AM45=\".\",\".\",IF(AM45=\"n/a\",\"n/a\",\nGETPIVOTDATA(AN$21 & \"\",PivotTableB!$A$3,\"SchoolName\",$B45,\"SubsidiaryName\",$C45,\"YearStart\",AI$13))),\"\")","v":150},{"$f":"IFERROR(IF($B45=\"\",\"\",\nIF(OR($L45=\"Nursery School\",$L45=\"All-through PRU\",$M45=\"True\"),\"n/a\",\nIF(GETPIVOTDATA(AO$21 & \"\",PivotTableB!$A$3,\"SchoolName\",$B45,\"SubsidiaryName\",$C45,\"YearStart\",AO$13)=\"\",\".\",\nGETPIVOTDATA(AO$21 & \"\",PivotTableB!$A$3,\"SchoolName\",$B45,\"SubsidiaryName\",$C45,\"YearStart\",AO$13)))),\"\")","v":30},{"$f":"IFERROR(IF(AO45=\".\",\".\",IF(AO45=\"n/a\",\"n/a\",\nGETPIVOTDATA(AP$21 & \"\",PivotTableB!$A$3,\"SchoolName\",$B45,\"SubsidiaryName\",$C45,\"YearStart\",AO$13))),\"\")","v":0},{"$f":"IFERROR(IF(AP45=\".\",\".\",IF(AP45=\"n/a\",\"n/a\",\nGETPIVOTDATA(AQ$21 & \"\",PivotTableB!$A$3,\"SchoolName\",$B45,\"SubsidiaryName\",$C45,\"YearStart\",AO$13))),\"\")","v":0},30,{"$f":"IFERROR(IF(AR45=\".\",\".\",IF(AR45=\"n/a\",\"n/a\",\nGETPIVOTDATA(AS$21 & \"\",PivotTableB!$A$3,\"SchoolName\",$B45,\"SubsidiaryName\",$C45,\"YearStart\",AO$13))),\"\")","v":0},{"$f":"IFERROR(IF(AS45=\".\",\".\",IF(AS45=\"n/a\",\"n/a\",\nGETPIVOTDATA(AT$21 & \"\",PivotTableB!$A$3,\"SchoolName\",$B45,\"SubsidiaryName\",$C45,\"YearStart\",AO$13))),\"\")","v":150},{"$f":"IFERROR(IF($B45=\"\",\"\",\nIF(OR($L45=\"Nursery School\",$L45=\"All-through PRU\",$M45=\"True\"),\"n/a\",\nIF(GETPIVOTDATA(AU$21 & \"\",PivotTableB!$A$3,\"SchoolName\",$B45,\"SubsidiaryName\",$C45,\"YearStart\",AU$13)=\"\",\".\",\nGETPIVOTDATA(AU$21 & \"\",PivotTableB!$A$3,\"SchoolName\",$B45,\"SubsidiaryName\",$C45,\"YearStart\",AU$13)))),\"\")","v":30},{"$f":"IFERROR(IF(AU45=\".\",\".\",IF(AU45=\"n/a\",\"n/a\",\nGETPIVOTDATA(AV$21 & \"\",PivotTableB!$A$3,\"SchoolName\",$B45,\"SubsidiaryName\",$C45,\"YearStart\",AU$13))),\"\")","v":0},{"$f":"IFERROR(IF(AV45=\".\",\".\",IF(AV45=\"n/a\",\"n/a\",\nGETPIVOTDATA(AW$21 & \"\",PivotTableB!$A$3,\"SchoolName\",$B45,\"SubsidiaryName\",$C45,\"YearStart\",AU$13))),\"\")","v":0},30,{"$f":"IFERROR(IF(AX45=\".\",\".\",IF(AX45=\"n/a\",\"n/a\",\nGETPIVOTDATA(AY$21 & \"\",PivotTableB!$A$3,\"SchoolName\",$B45,\"SubsidiaryName\",$C45,\"YearStart\",AU$13))),\"\")","v":0},{"$f":"IFERROR(IF(AY45=\".\",\".\",IF(AY45=\"n/a\",\"n/a\",\nGETPIVOTDATA(AZ$21 & \"\",PivotTableB!$A$3,\"SchoolName\",$B45,\"SubsidiaryName\",$C45,\"YearStart\",AU$13))),\"\")","v":150},{"$f":"IFERROR(IF($B45=\"\",\"\",\nIF(OR($L45=\"Nursery School\",$L45=\"All-through PRU\",$M45=\"True\"),\"n/a\",\nIF(GETPIVOTDATA(BA$21 & \"\",PivotTableB!$A$3,\"SchoolName\",$B45,\"SubsidiaryName\",$C45,\"YearStart\",BA$13)=\"\",\".\",\nGETPIVOTDATA(BA$21 & \"\",PivotTableB!$A$3,\"SchoolName\",$B45,\"SubsidiaryName\",$C45,\"YearStart\",BA$13)))),\"\")","v":30},{"$f":"IFERROR(IF(BA45=\".\",\".\",IF(BA45=\"n/a\",\"n/a\",\nGETPIVOTDATA(BB$21 & \"\",PivotTableB!$A$3,\"SchoolName\",$B45,\"SubsidiaryName\",$C45,\"YearStart\",BA$13))),\"\")","v":0},{"$f":"IFERROR(IF(BB45=\".\",\".\",IF(BB45=\"n/a\",\"n/a\",\nGETPIVOTDATA(BC$21 & \"\",PivotTableB!$A$3,\"SchoolName\",$B45,\"SubsidiaryName\",$C45,\"YearStart\",BA$13))),\"\")","v":0},{"$f":"IFERROR(IF(BC45=\".\",\".\",IF(BC45=\"n/a\",\"n/a\",\nGETPIVOTDATA(BD$21 & \"\",PivotTableB!$A$3,\"SchoolName\",$B45,\"SubsidiaryName\",$C45,\"YearStart\",BB$13))),\"\")","v":""},30,{"$f":"IFERROR(IF(BE45=\".\",\".\",IF(BE45=\"n/a\",\"n/a\",\nGETPIVOTDATA(BF$21 & \"\",PivotTableB!$A$3,\"SchoolName\",$B45,\"SubsidiaryName\",$C45,\"YearStart\",BA$13))),\"\")","v":0},{"$f":"IFERROR(IF(BF45=\".\",\".\",IF(BF45=\"n/a\",\"n/a\",\nGETPIVOTDATA(BG$21 & \"\",PivotTableB!$A$3,\"SchoolName\",$B45,\"SubsidiaryName\",$C45,\"YearStart\",BA$13))),\"\")","v":150},{"$f":"IFERROR(IF($B45=\"\",\"\",\nIF(OR($L45=\"Nursery School\",$L45=\"All-through PRU\",$M45=\"True\"),\"n/a\",\nIF(GETPIVOTDATA(BH$21 & \"\",PivotTableB!$A$3,\"SchoolName\",$B45,\"SubsidiaryName\",$C45,\"YearStart\",BH$13)=\"\",\".\",\nGETPIVOTDATA(BH$21 & \"\",PivotTableB!$A$3,\"SchoolName\",$B45,\"SubsidiaryName\",$C45,\"YearStart\",BH$13)))),\"\")","v":30},{"$f":"IFERROR(IF(BH45=\".\",\".\",IF(BH45=\"n/a\",\"n/a\",\nGETPIVOTDATA(BI$21 & \"\",PivotTableB!$A$3,\"SchoolName\",$B45,\"SubsidiaryName\",$C45,\"YearStart\",BH$13))),\"\")","v":0},{"$f":"IFERROR(IF(BI45=\".\",\".\",IF(BI45=\"n/a\",\"n/a\",\nGETPIVOTDATA(BJ$21 & \"\",PivotTableB!$A$3,\"SchoolName\",$B45,\"SubsidiaryName\",$C45,\"YearStart\",BH$13))),\"\")","v":0},{"$f":"IFERROR(IF(BJ45=\".\",\".\",IF(BJ45=\"n/a\",\"n/a\",\nGETPIVOTDATA(BK$21 & \"\",PivotTableB!$A$3,\"SchoolName\",$B45,\"SubsidiaryName\",$C45,\"YearStart\",BH$13))),\"\")","v":0},30,{"$f":"IFERROR(IF(BL45=\".\",\".\",IF(BL45=\"n/a\",\"n/a\",\nGETPIVOTDATA(BM$21 & \"\",PivotTableB!$A$3,\"SchoolName\",$B45,\"SubsidiaryName\",$C45,\"YearStart\",BH$13))),\"\")","v":0},{"$f":"IFERROR(IF(BM45=\".\",\".\",IF(BM45=\"n/a\",\"n/a\",\nGETPIVOTDATA(BN$21 & \"\",PivotTableB!$A$3,\"SchoolName\",$B45,\"SubsidiaryName\",$C45,\"YearStart\",BH$13))),\"\")","v":150},{"$f":"IFERROR(IF($B45=\"\",\"\",\nIF(OR($L45=\"Nursery School\",$L45=\"All-through PRU\",$M45=\"True\"),\"n/a\",\nIF(GETPIVOTDATA(BO$21 & \"\",PivotTableB!$A$3,\"SchoolName\",$B45,\"SubsidiaryName\",$C45,\"YearStart\",BO$13)=\"\",\".\",\nGETPIVOTDATA(BO$21 & \"\",PivotTableB!$A$3,\"SchoolName\",$B45,\"SubsidiaryName\",$C45,\"YearStart\",BO$13)))),\"\")","v":30},{"$f":"IFERROR(IF(BO45=\".\",\".\",IF(BO45=\"n/a\",\"n/a\",\nGETPIVOTDATA(BP$21 & \"\",PivotTableB!$A$3,\"SchoolName\",$B45,\"SubsidiaryName\",$C45,\"YearStart\",BO$13))),\"\")","v":0},{"$f":"IFERROR(IF(BP45=\".\",\".\",IF(BP45=\"n/a\",\"n/a\",\nGETPIVOTDATA(BQ$21 & \"\",PivotTableB!$A$3,\"SchoolName\",$B45,\"SubsidiaryName\",$C45,\"YearStart\",BO$13))),\"\")","v":0},{"$f":"IFERROR(IF(BQ45=\".\",\".\",IF(BQ45=\"n/a\",\"n/a\",\nGETPIVOTDATA(BR$21 & \"\",PivotTableB!$A$3,\"SchoolName\",$B45,\"SubsidiaryName\",$C45,\"YearStart\",BP$13))),\"\")","v":""},30,{"$f":"IFERROR(IF(BS45=\".\",\".\",IF(BS45=\"n/a\",\"n/a\",\nGETPIVOTDATA(BT$21 & \"\",PivotTableB!$A$3,\"SchoolName\",$B45,\"SubsidiaryName\",$C45,\"YearStart\",BO$13))),\"\")","v":0},{"$f":"IFERROR(IF(BT45=\".\",\".\",IF(BT45=\"n/a\",\"n/a\",\nGETPIVOTDATA(BU$21 & \"\",PivotTableB!$A$3,\"SchoolName\",$B45,\"SubsidiaryName\",$C45,\"YearStart\",BO$13))),\"\")","v":150},{"$f":"IFERROR(IF($B45=\"\",\"\",\nIF(OR($L45=\"Nursery School\",$L45=\"All-through PRU\",$M45=\"True\"),\"n/a\",\nIF(GETPIVOTDATA(BV$21 & \"\",PivotTableB!$A$3,\"SchoolName\",$B45,\"SubsidiaryName\",$C45,\"YearStart\",BV$13)=\"\",\".\",\nGETPIVOTDATA(BV$21 & \"\",PivotTableB!$A$3,\"SchoolName\",$B45,\"SubsidiaryName\",$C45,\"YearStart\",BV$13)))),\"\")","v":30},{"$f":"IFERROR(IF(BV45=\".\",\".\",IF(BV45=\"n/a\",\"n/a\",\nGETPIVOTDATA(BW$21 & \"\",PivotTableB!$A$3,\"SchoolName\",$B45,\"SubsidiaryName\",$C45,\"YearStart\",BV$13))),\"\")","v":0},{"$f":"IFERROR(IF(BW45=\".\",\".\",IF(BW45=\"n/a\",\"n/a\",\nGETPIVOTDATA(BX$21 & \"\",PivotTableB!$A$3,\"SchoolName\",$B45,\"SubsidiaryName\",$C45,\"YearStart\",BV$13))),\"\")","v":0},{"$f":"IFERROR(IF(BX45=\".\",\".\",IF(BX45=\"n/a\",\"n/a\",\nGETPIVOTDATA(BY$21 & \"\",PivotTableB!$A$3,\"SchoolName\",$B45,\"SubsidiaryName\",$C45,\"YearStart\",BV$13))),\"\")","v":0},30,{"$f":"IFERROR(IF(BZ45=\".\",\".\",IF(BZ45=\"n/a\",\"n/a\",\nGETPIVOTDATA(CA$21 & \"\",PivotTableB!$A$3,\"SchoolName\",$B45,\"SubsidiaryName\",$C45,\"YearStart\",BV$13))),\"\")","v":0},{"$f":"IFERROR(IF(CA45=\".\",\".\",IF(CA45=\"n/a\",\"n/a\",\nGETPIVOTDATA(CB$21 & \"\",PivotTableB!$A$3,\"SchoolName\",$B45,\"SubsidiaryName\",$C45,\"YearStart\",BV$13))),\"\")","v":150}]
[null,{"$f":"IF(PivotTableA!A33=\"\",\"n/a\",PivotTableA!A33)","v":"Forest Bridge School"},{"$f":"IF(B46=\"n/a\",\"\",PivotTableA!B33)","v":"Forest Bridge School"},{"$f":"IF($B46=\"n/a\",\"\",PivotTableA!C33)","v":"R"},{"$f":"IF($B46=\"n/a\",\"\",PivotTableA!D33)","v":"Maidenhead"},{"$f":"IF($B46=\"n/a\",\"\",PivotTableA!E33)","v":"South East Maidenhead"},{"$f":"IF($B46=\"n/a\",\"\",PivotTableA!F33)","v":"Fishery"},{"$f":"IF($B46=\"n/a\",\"\",PivotTableA!G33)","v":"Oldfield"},{"$f":"IF($B46=\"n/a\",\"\",PivotTableA!H33)","v":"None"},{"$f":"IF($B46=\"n/a\",\"\",PivotTableA!I33)","v":"All-through"},{"$f":"IF($B46=\"n/a\",\"\",PivotTableA!J33)","v":"NA"},{"$f":"IF($B46=\"n/a\",\"\",PivotTableA!K33)","v":"All Years"},{"$f":"IF($B46=\"n/a\",\"\",PivotTableA!O33)","v":"TRUE"},{"$f":"IF($B46=\"n/a\",\"\",PivotTableA!L33)","v":"Free School"},{"$f":"IF($B46=\"n/a\",\"\",PivotTableA!M33)","v":" "},{"$f":"IF($B46=\"n/a\",\"\",PivotTableA!N33)","v":"None"},{"$f":"IFERROR(IF($B46=\"\",\"\",\nIF(OR($L46=\"Nursery School\",$L46=\"All-through PRU\",$M46=\"True\"),\"n/a\",\nIF(GETPIVOTDATA(Q$21 & \"\",PivotTableB!$A$3,\"SchoolName\",$B46,\"SubsidiaryName\",$C46,\"YearStart\",Q$13)=\"\",\".\",\nGETPIVOTDATA(Q$21 & \"\",PivotTableB!$A$3,\"SchoolName\",$B46,\"SubsidiaryName\",$C46,\"YearStart\",Q$13)))),\"\")","v":"n/a"},{"$f":"IFERROR(IF(Q46=\".\",\".\",IF(Q46=\"n/a\",\"n/a\",\nGETPIVOTDATA(R$21 & \"\",PivotTableB!$A$3,\"SchoolName\",$B46,\"SubsidiaryName\",$C46,\"YearStart\",Q$13))),\"\")","v":"n/a"},{"$f":"IFERROR(IF(R46=\".\",\".\",IF(R46=\"n/a\",\"n/a\",\nGETPIVOTDATA(S$21 & \"\",PivotTableB!$A$3,\"SchoolName\",$B46,\"SubsidiaryName\",$C46,\"YearStart\",Q$13))),\"\")","v":"n/a"},"n/a",{"$f":"IFERROR(IF(T46=\".\",\".\",IF(T46=\"n/a\",\"n/a\",\nGETPIVOTDATA(U$21 & \"\",PivotTableB!$A$3,\"SchoolName\",$B46,\"SubsidiaryName\",$C46,\"YearStart\",Q$13))),\"\")","v":"n/a"},{"$f":"IFERROR(IF(U46=\".\",\".\",IF(U46=\"n/a\",\"n/a\",\nGETPIVOTDATA(V$21 & \"\",PivotTableB!$A$3,\"SchoolName\",$B46,\"SubsidiaryName\",$C46,\"YearStart\",Q$13))),\"\")","v":"n/a"},{"$f":"IFERROR(IF($B46=\"\",\"\",\nIF(OR($L46=\"Nursery School\",$L46=\"All-through PRU\",$M46=\"True\"),\"n/a\",\nIF(GETPIVOTDATA(W$21 & \"\",PivotTableB!$A$3,\"SchoolName\",$B46,\"SubsidiaryName\",$C46,\"YearStart\",W$13)=\"\",\".\",\nGETPIVOTDATA(W$21 & \"\",PivotTableB!$A$3,\"SchoolName\",$B46,\"SubsidiaryName\",$C46,\"YearStart\",W$13)))),\"\")","v":"n/a"},{"$f":"IFERROR(IF(W46=\".\",\".\",IF(W46=\"n/a\",\"n/a\",\nGETPIVOTDATA(X$21 & \"\",PivotTableB!$A$3,\"SchoolName\",$B46,\"SubsidiaryName\",$C46,\"YearStart\",W$13))),\"\")","v":"n/a"},{"$f":"IFERROR(IF(X46=\".\",\".\",IF(X46=\"n/a\",\"n/a\",\nGETPIVOTDATA(Y$21 & \"\",PivotTableB!$A$3,\"SchoolName\",$B46,\"SubsidiaryName\",$C46,\"YearStart\",W$13))),\"\")","v":"n/a"},"n/a",{"$f":"IFERROR(IF(Z46=\".\",\".\",IF(Z46=\"n/a\",\"n/a\",\nGETPIVOTDATA(AA$21 & \"\",PivotTableB!$A$3,\"SchoolName\",$B46,\"SubsidiaryName\",$C46,\"YearStart\",W$13))),\"\")","v":"n/a"},{"$f":"IFERROR(IF(AA46=\".\",\".\",IF(AA46=\"n/a\",\"n/a\",\nGETPIVOTDATA(AB$21 & \"\",PivotTableB!$A$3,\"SchoolName\",$B46,\"SubsidiaryName\",$C46,\"YearStart\",W$13))),\"\")","v":"n/a"},{"$f":"IFERROR(IF($B46=\"\",\"\",\nIF(OR($L46=\"Nursery School\",$L46=\"All-through PRU\",$M46=\"True\"),\"n/a\",\nIF(GETPIVOTDATA(AC$21 & \"\",PivotTableB!$A$3,\"SchoolName\",$B46,\"SubsidiaryName\",$C46,\"YearStart\",AC$13)=\"\",\".\",\nGETPIVOTDATA(AC$21 & \"\",PivotTableB!$A$3,\"SchoolName\",$B46,\"SubsidiaryName\",$C46,\"YearStart\",AC$13)))),\"\")","v":"n/a"},{"$f":"IFERROR(IF(AC46=\".\",\".\",IF(AC46=\"n/a\",\"n/a\",\nGETPIVOTDATA(AD$21 & \"\",PivotTableB!$A$3,\"SchoolName\",$B46,\"SubsidiaryName\",$C46,\"YearStart\",AC$13))),\"\")","v":"n/a"},{"$f":"IFERROR(IF(AD46=\".\",\".\",IF(AD46=\"n/a\",\"n/a\",\nGETPIVOTDATA(AE$21 & \"\",PivotTableB!$A$3,\"SchoolName\",$B46,\"SubsidiaryName\",$C46,\"YearStart\",AC$13))),\"\")","v":"n/a"},"n/a",{"$f":"IFERROR(IF(AF46=\".\",\".\",IF(AF46=\"n/a\",\"n/a\",\nGETPIVOTDATA(AG$21 & \"\",PivotTableB!$A$3,\"SchoolName\",$B46,\"SubsidiaryName\",$C46,\"YearStart\",AC$13))),\"\")","v":"n/a"},{"$f":"IFERROR(IF(AG46=\".\",\".\",IF(AG46=\"n/a\",\"n/a\",\nGETPIVOTDATA(AH$21 & \"\",PivotTableB!$A$3,\"SchoolName\",$B46,\"SubsidiaryName\",$C46,\"YearStart\",AC$13))),\"\")","v":"n/a"},{"$f":"IFERROR(IF($B46=\"\",\"\",\nIF(OR($L46=\"Nursery School\",$L46=\"All-through PRU\",$M46=\"True\"),\"n/a\",\nIF(GETPIVOTDATA(AI$21 & \"\",PivotTableB!$A$3,\"SchoolName\",$B46,\"SubsidiaryName\",$C46,\"YearStart\",AI$13)=\"\",\".\",\nGETPIVOTDATA(AI$21 & \"\",PivotTableB!$A$3,\"SchoolName\",$B46,\"SubsidiaryName\",$C46,\"YearStart\",AI$13)))),\"\")","v":"n/a"},{"$f":"IFERROR(IF(AI46=\".\",\".\",IF(AI46=\"n/a\",\"n/a\",\nGETPIVOTDATA(AJ$21 & \"\",PivotTableB!$A$3,\"SchoolName\",$B46,\"SubsidiaryName\",$C46,\"YearStart\",AI$13))),\"\")","v":"n/a"},{"$f":"IFERROR(IF(AJ46=\".\",\".\",IF(AJ46=\"n/a\",\"n/a\",\nGETPIVOTDATA(AK$21 & \"\",PivotTableB!$A$3,\"SchoolName\",$B46,\"SubsidiaryName\",$C46,\"YearStart\",AI$13))),\"\")","v":"n/a"},"n/a",{"$f":"IFERROR(IF(AL46=\".\",\".\",IF(AL46=\"n/a\",\"n/a\",\nGETPIVOTDATA(AM$21 & \"\",PivotTableB!$A$3,\"SchoolName\",$B46,\"SubsidiaryName\",$C46,\"YearStart\",AI$13))),\"\")","v":"n/a"},{"$f":"IFERROR(IF(AM46=\".\",\".\",IF(AM46=\"n/a\",\"n/a\",\nGETPIVOTDATA(AN$21 & \"\",PivotTableB!$A$3,\"SchoolName\",$B46,\"SubsidiaryName\",$C46,\"YearStart\",AI$13))),\"\")","v":"n/a"},{"$f":"IFERROR(IF($B46=\"\",\"\",\nIF(OR($L46=\"Nursery School\",$L46=\"All-through PRU\",$M46=\"True\"),\"n/a\",\nIF(GETPIVOTDATA(AO$21 & \"\",PivotTableB!$A$3,\"SchoolName\",$B46,\"SubsidiaryName\",$C46,\"YearStart\",AO$13)=\"\",\".\",\nGETPIVOTDATA(AO$21 & \"\",PivotTableB!$A$3,\"SchoolName\",$B46,\"SubsidiaryName\",$C46,\"YearStart\",AO$13)))),\"\")","v":"n/a"},{"$f":"IFERROR(IF(AO46=\".\",\".\",IF(AO46=\"n/a\",\"n/a\",\nGETPIVOTDATA(AP$21 & \"\",PivotTableB!$A$3,\"SchoolName\",$B46,\"SubsidiaryName\",$C46,\"YearStart\",AO$13))),\"\")","v":"n/a"},{"$f":"IFERROR(IF(AP46=\".\",\".\",IF(AP46=\"n/a\",\"n/a\",\nGETPIVOTDATA(AQ$21 & \"\",PivotTableB!$A$3,\"SchoolName\",$B46,\"SubsidiaryName\",$C46,\"YearStart\",AO$13))),\"\")","v":"n/a"},"n/a",{"$f":"IFERROR(IF(AR46=\".\",\".\",IF(AR46=\"n/a\",\"n/a\",\nGETPIVOTDATA(AS$21 & \"\",PivotTableB!$A$3,\"SchoolName\",$B46,\"SubsidiaryName\",$C46,\"YearStart\",AO$13))),\"\")","v":"n/a"},{"$f":"IFERROR(IF(AS46=\".\",\".\",IF(AS46=\"n/a\",\"n/a\",\nGETPIVOTDATA(AT$21 & \"\",PivotTableB!$A$3,\"SchoolName\",$B46,\"SubsidiaryName\",$C46,\"YearStart\",AO$13))),\"\")","v":"n/a"},{"$f":"IFERROR(IF($B46=\"\",\"\",\nIF(OR($L46=\"Nursery School\",$L46=\"All-through PRU\",$M46=\"True\"),\"n/a\",\nIF(GETPIVOTDATA(AU$21 & \"\",PivotTableB!$A$3,\"SchoolName\",$B46,\"SubsidiaryName\",$C46,\"YearStart\",AU$13)=\"\",\".\",\nGETPIVOTDATA(AU$21 & \"\",PivotTableB!$A$3,\"SchoolName\",$B46,\"SubsidiaryName\",$C46,\"YearStart\",AU$13)))),\"\")","v":"n/a"},{"$f":"IFERROR(IF(AU46=\".\",\".\",IF(AU46=\"n/a\",\"n/a\",\nGETPIVOTDATA(AV$21 & \"\",PivotTableB!$A$3,\"SchoolName\",$B46,\"SubsidiaryName\",$C46,\"YearStart\",AU$13))),\"\")","v":"n/a"},{"$f":"IFERROR(IF(AV46=\".\",\".\",IF(AV46=\"n/a\",\"n/a\",\nGETPIVOTDATA(AW$21 & \"\",PivotTableB!$A$3,\"SchoolName\",$B46,\"SubsidiaryName\",$C46,\"YearStart\",AU$13))),\"\")","v":"n/a"},"n/a",{"$f":"IFERROR(IF(AX46=\".\",\".\",IF(AX46=\"n/a\",\"n/a\",\nGETPIVOTDATA(AY$21 & \"\",PivotTableB!$A$3,\"SchoolName\",$B46,\"SubsidiaryName\",$C46,\"YearStart\",AU$13))),\"\")","v":"n/a"},{"$f":"IFERROR(IF(AY46=\".\",\".\",IF(AY46=\"n/a\",\"n/a\",\nGETPIVOTDATA(AZ$21 & \"\",PivotTableB!$A$3,\"SchoolName\",$B46,\"SubsidiaryName\",$C46,\"YearStart\",AU$13))),\"\")","v":"n/a"},{"$f":"IFERROR(IF($B46=\"\",\"\",\nIF(OR($L46=\"Nursery School\",$L46=\"All-through PRU\",$M46=\"True\"),\"n/a\",\nIF(GETPIVOTDATA(BA$21 & \"\",PivotTableB!$A$3,\"SchoolName\",$B46,\"SubsidiaryName\",$C46,\"YearStart\",BA$13)=\"\",\".\",\nGETPIVOTDATA(BA$21 & \"\",PivotTableB!$A$3,\"SchoolName\",$B46,\"SubsidiaryName\",$C46,\"YearStart\",BA$13)))),\"\")","v":"n/a"},{"$f":"IFERROR(IF(BA46=\".\",\".\",IF(BA46=\"n/a\",\"n/a\",\nGETPIVOTDATA(BB$21 & \"\",PivotTableB!$A$3,\"SchoolName\",$B46,\"SubsidiaryName\",$C46,\"YearStart\",BA$13))),\"\")","v":"n/a"},{"$f":"IFERROR(IF(BB46=\".\",\".\",IF(BB46=\"n/a\",\"n/a\",\nGETPIVOTDATA(BC$21 & \"\",PivotTableB!$A$3,\"SchoolName\",$B46,\"SubsidiaryName\",$C46,\"YearStart\",BA$13))),\"\")","v":"n/a"},{"$f":"IFERROR(IF(BC46=\".\",\".\",IF(BC46=\"n/a\",\"n/a\",\nGETPIVOTDATA(BD$21 & \"\",PivotTableB!$A$3,\"SchoolName\",$B46,\"SubsidiaryName\",$C46,\"YearStart\",BB$13))),\"\")","v":"n/a"},"n/a",{"$f":"IFERROR(IF(BE46=\".\",\".\",IF(BE46=\"n/a\",\"n/a\",\nGETPIVOTDATA(BF$21 & \"\",PivotTableB!$A$3,\"SchoolName\",$B46,\"SubsidiaryName\",$C46,\"YearStart\",BA$13))),\"\")","v":"n/a"},{"$f":"IFERROR(IF(BF46=\".\",\".\",IF(BF46=\"n/a\",\"n/a\",\nGETPIVOTDATA(BG$21 & \"\",PivotTableB!$A$3,\"SchoolName\",$B46,\"SubsidiaryName\",$C46,\"YearStart\",BA$13))),\"\")","v":"n/a"},{"$f":"IFERROR(IF($B46=\"\",\"\",\nIF(OR($L46=\"Nursery School\",$L46=\"All-through PRU\",$M46=\"True\"),\"n/a\",\nIF(GETPIVOTDATA(BH$21 & \"\",PivotTableB!$A$3,\"SchoolName\",$B46,\"SubsidiaryName\",$C46,\"YearStart\",BH$13)=\"\",\".\",\nGETPIVOTDATA(BH$21 & \"\",PivotTableB!$A$3,\"SchoolName\",$B46,\"SubsidiaryName\",$C46,\"YearStart\",BH$13)))),\"\")","v":"n/a"},{"$f":"IFERROR(IF(BH46=\".\",\".\",IF(BH46=\"n/a\",\"n/a\",\nGETPIVOTDATA(BI$21 & \"\",PivotTableB!$A$3,\"SchoolName\",$B46,\"SubsidiaryName\",$C46,\"YearStart\",BH$13))),\"\")","v":"n/a"},{"$f":"IFERROR(IF(BI46=\".\",\".\",IF(BI46=\"n/a\",\"n/a\",\nGETPIVOTDATA(BJ$21 & \"\",PivotTableB!$A$3,\"SchoolName\",$B46,\"SubsidiaryName\",$C46,\"YearStart\",BH$13))),\"\")","v":"n/a"},{"$f":"IFERROR(IF(BJ46=\".\",\".\",IF(BJ46=\"n/a\",\"n/a\",\nGETPIVOTDATA(BK$21 & \"\",PivotTableB!$A$3,\"SchoolName\",$B46,\"SubsidiaryName\",$C46,\"YearStart\",BH$13))),\"\")","v":"n/a"},"n/a",{"$f":"IFERROR(IF(BL46=\".\",\".\",IF(BL46=\"n/a\",\"n/a\",\nGETPIVOTDATA(BM$21 & \"\",PivotTableB!$A$3,\"SchoolName\",$B46,\"SubsidiaryName\",$C46,\"YearStart\",BH$13))),\"\")","v":"n/a"},{"$f":"IFERROR(IF(BM46=\".\",\".\",IF(BM46=\"n/a\",\"n/a\",\nGETPIVOTDATA(BN$21 & \"\",PivotTableB!$A$3,\"SchoolName\",$B46,\"SubsidiaryName\",$C46,\"YearStart\",BH$13))),\"\")","v":"n/a"},{"$f":"IFERROR(IF($B46=\"\",\"\",\nIF(OR($L46=\"Nursery School\",$L46=\"All-through PRU\",$M46=\"True\"),\"n/a\",\nIF(GETPIVOTDATA(BO$21 & \"\",PivotTableB!$A$3,\"SchoolName\",$B46,\"SubsidiaryName\",$C46,\"YearStart\",BO$13)=\"\",\".\",\nGETPIVOTDATA(BO$21 & \"\",PivotTableB!$A$3,\"SchoolName\",$B46,\"SubsidiaryName\",$C46,\"YearStart\",BO$13)))),\"\")","v":"n/a"},{"$f":"IFERROR(IF(BO46=\".\",\".\",IF(BO46=\"n/a\",\"n/a\",\nGETPIVOTDATA(BP$21 & \"\",PivotTableB!$A$3,\"SchoolName\",$B46,\"SubsidiaryName\",$C46,\"YearStart\",BO$13))),\"\")","v":"n/a"},{"$f":"IFERROR(IF(BP46=\".\",\".\",IF(BP46=\"n/a\",\"n/a\",\nGETPIVOTDATA(BQ$21 & \"\",PivotTableB!$A$3,\"SchoolName\",$B46,\"SubsidiaryName\",$C46,\"YearStart\",BO$13))),\"\")","v":"n/a"},{"$f":"IFERROR(IF(BQ46=\".\",\".\",IF(BQ46=\"n/a\",\"n/a\",\nGETPIVOTDATA(BR$21 & \"\",PivotTableB!$A$3,\"SchoolName\",$B46,\"SubsidiaryName\",$C46,\"YearStart\",BP$13))),\"\")","v":"n/a"},"n/a",{"$f":"IFERROR(IF(BS46=\".\",\".\",IF(BS46=\"n/a\",\"n/a\",\nGETPIVOTDATA(BT$21 & \"\",PivotTableB!$A$3,\"SchoolName\",$B46,\"SubsidiaryName\",$C46,\"YearStart\",BO$13))),\"\")","v":"n/a"},{"$f":"IFERROR(IF(BT46=\".\",\".\",IF(BT46=\"n/a\",\"n/a\",\nGETPIVOTDATA(BU$21 & \"\",PivotTableB!$A$3,\"SchoolName\",$B46,\"SubsidiaryName\",$C46,\"YearStart\",BO$13))),\"\")","v":"n/a"},{"$f":"IFERROR(IF($B46=\"\",\"\",\nIF(OR($L46=\"Nursery School\",$L46=\"All-through PRU\",$M46=\"True\"),\"n/a\",\nIF(GETPIVOTDATA(BV$21 & \"\",PivotTableB!$A$3,\"SchoolName\",$B46,\"SubsidiaryName\",$C46,\"YearStart\",BV$13)=\"\",\".\",\nGETPIVOTDATA(BV$21 & \"\",PivotTableB!$A$3,\"SchoolName\",$B46,\"SubsidiaryName\",$C46,\"YearStart\",BV$13)))),\"\")","v":"n/a"},{"$f":"IFERROR(IF(BV46=\".\",\".\",IF(BV46=\"n/a\",\"n/a\",\nGETPIVOTDATA(BW$21 & \"\",PivotTableB!$A$3,\"SchoolName\",$B46,\"SubsidiaryName\",$C46,\"YearStart\",BV$13))),\"\")","v":"n/a"},{"$f":"IFERROR(IF(BW46=\".\",\".\",IF(BW46=\"n/a\",\"n/a\",\nGETPIVOTDATA(BX$21 & \"\",PivotTableB!$A$3,\"SchoolName\",$B46,\"SubsidiaryName\",$C46,\"YearStart\",BV$13))),\"\")","v":"n/a"},{"$f":"IFERROR(IF(BX46=\".\",\".\",IF(BX46=\"n/a\",\"n/a\",\nGETPIVOTDATA(BY$21 & \"\",PivotTableB!$A$3,\"SchoolName\",$B46,\"SubsidiaryName\",$C46,\"YearStart\",BV$13))),\"\")","v":"n/a"},"n/a",{"$f":"IFERROR(IF(BZ46=\".\",\".\",IF(BZ46=\"n/a\",\"n/a\",\nGETPIVOTDATA(CA$21 & \"\",PivotTableB!$A$3,\"SchoolName\",$B46,\"SubsidiaryName\",$C46,\"YearStart\",BV$13))),\"\")","v":"n/a"},{"$f":"IFERROR(IF(CA46=\".\",\".\",IF(CA46=\"n/a\",\"n/a\",\nGETPIVOTDATA(CB$21 & \"\",PivotTableB!$A$3,\"SchoolName\",$B46,\"SubsidiaryName\",$C46,\"YearStart\",BV$13))),\"\")","v":"n/a"}]
[null,{"$f":"IF(PivotTableA!A34=\"\",\"n/a\",PivotTableA!A34)","v":"Furze Platt Infant School"},{"$f":"IF(B47=\"n/a\",\"\",PivotTableA!B34)","v":"Furze Platt Infant School"},{"$f":"IF($B47=\"n/a\",\"\",PivotTableA!C34)","v":"R"},{"$f":"IF($B47=\"n/a\",\"\",PivotTableA!D34)","v":"Maidenhead"},{"$f":"IF($B47=\"n/a\",\"\",PivotTableA!E34)","v":"North West Maidenhead"},{"$f":"IF($B47=\"n/a\",\"\",PivotTableA!F34)","v":"Furze Platt"},{"$f":"IF($B47=\"n/a\",\"\",PivotTableA!G34)","v":"Furze Platt"},{"$f":"IF($B47=\"n/a\",\"\",PivotTableA!H34)","v":"None"},{"$f":"IF($B47=\"n/a\",\"\",PivotTableA!I34)","v":"Primary"},{"$f":"IF($B47=\"n/a\",\"\",PivotTableA!J34)","v":"Two Tier"},{"$f":"IF($B47=\"n/a\",\"\",PivotTableA!K34)","v":"Infants"},{"$f":"IF($B47=\"n/a\",\"\",PivotTableA!O34)","v":"FALSE"},{"$f":"IF($B47=\"n/a\",\"\",PivotTableA!L34)","v":"Community"},{"$f":"IF($B47=\"n/a\",\"\",PivotTableA!M34)","v":" "},{"$f":"IF($B47=\"n/a\",\"\",PivotTableA!N34)","v":"None"},{"$f":"IFERROR(IF($B47=\"\",\"\",\nIF(OR($L47=\"Nursery School\",$L47=\"All-through PRU\",$M47=\"True\"),\"n/a\",\nIF(GETPIVOTDATA(Q$21 & \"\",PivotTableB!$A$3,\"SchoolName\",$B47,\"SubsidiaryName\",$C47,\"YearStart\",Q$13)=\"\",\".\",\nGETPIVOTDATA(Q$21 & \"\",PivotTableB!$A$3,\"SchoolName\",$B47,\"SubsidiaryName\",$C47,\"YearStart\",Q$13)))),\"\")","v":90},{"$f":"IFERROR(IF(Q47=\".\",\".\",IF(Q47=\"n/a\",\"n/a\",\nGETPIVOTDATA(R$21 & \"\",PivotTableB!$A$3,\"SchoolName\",$B47,\"SubsidiaryName\",$C47,\"YearStart\",Q$13))),\"\")","v":0},{"$f":"IFERROR(IF(R47=\".\",\".\",IF(R47=\"n/a\",\"n/a\",\nGETPIVOTDATA(S$21 & \"\",PivotTableB!$A$3,\"SchoolName\",$B47,\"SubsidiaryName\",$C47,\"YearStart\",Q$13))),\"\")","v":0},90,{"$f":"IFERROR(IF(T47=\".\",\".\",IF(T47=\"n/a\",\"n/a\",\nGETPIVOTDATA(U$21 & \"\",PivotTableB!$A$3,\"SchoolName\",$B47,\"SubsidiaryName\",$C47,\"YearStart\",Q$13))),\"\")","v":0},{"$f":"IFERROR(IF(U47=\".\",\".\",IF(U47=\"n/a\",\"n/a\",\nGETPIVOTDATA(V$21 & \"\",PivotTableB!$A$3,\"SchoolName\",$B47,\"SubsidiaryName\",$C47,\"YearStart\",Q$13))),\"\")","v":270},{"$f":"IFERROR(IF($B47=\"\",\"\",\nIF(OR($L47=\"Nursery School\",$L47=\"All-through PRU\",$M47=\"True\"),\"n/a\",\nIF(GETPIVOTDATA(W$21 & \"\",PivotTableB!$A$3,\"SchoolName\",$B47,\"SubsidiaryName\",$C47,\"YearStart\",W$13)=\"\",\".\",\nGETPIVOTDATA(W$21 & \"\",PivotTableB!$A$3,\"SchoolName\",$B47,\"SubsidiaryName\",$C47,\"YearStart\",W$13)))),\"\")","v":90},{"$f":"IFERROR(IF(W47=\".\",\".\",IF(W47=\"n/a\",\"n/a\",\nGETPIVOTDATA(X$21 & \"\",PivotTableB!$A$3,\"SchoolName\",$B47,\"SubsidiaryName\",$C47,\"YearStart\",W$13))),\"\")","v":0},{"$f":"IFERROR(IF(X47=\".\",\".\",IF(X47=\"n/a\",\"n/a\",\nGETPIVOTDATA(Y$21 & \"\",PivotTableB!$A$3,\"SchoolName\",$B47,\"SubsidiaryName\",$C47,\"YearStart\",W$13))),\"\")","v":0},90,{"$f":"IFERROR(IF(Z47=\".\",\".\",IF(Z47=\"n/a\",\"n/a\",\nGETPIVOTDATA(AA$21 & \"\",PivotTableB!$A$3,\"SchoolName\",$B47,\"SubsidiaryName\",$C47,\"YearStart\",W$13))),\"\")","v":0},{"$f":"IFERROR(IF(AA47=\".\",\".\",IF(AA47=\"n/a\",\"n/a\",\nGETPIVOTDATA(AB$21 & \"\",PivotTableB!$A$3,\"SchoolName\",$B47,\"SubsidiaryName\",$C47,\"YearStart\",W$13))),\"\")","v":270},{"$f":"IFERROR(IF($B47=\"\",\"\",\nIF(OR($L47=\"Nursery School\",$L47=\"All-through PRU\",$M47=\"True\"),\"n/a\",\nIF(GETPIVOTDATA(AC$21 & \"\",PivotTableB!$A$3,\"SchoolName\",$B47,\"SubsidiaryName\",$C47,\"YearStart\",AC$13)=\"\",\".\",\nGETPIVOTDATA(AC$21 & \"\",PivotTableB!$A$3,\"SchoolName\",$B47,\"SubsidiaryName\",$C47,\"YearStart\",AC$13)))),\"\")","v":90},{"$f":"IFERROR(IF(AC47=\".\",\".\",IF(AC47=\"n/a\",\"n/a\",\nGETPIVOTDATA(AD$21 & \"\",PivotTableB!$A$3,\"SchoolName\",$B47,\"SubsidiaryName\",$C47,\"YearStart\",AC$13))),\"\")","v":0},{"$f":"IFERROR(IF(AD47=\".\",\".\",IF(AD47=\"n/a\",\"n/a\",\nGETPIVOTDATA(AE$21 & \"\",PivotTableB!$A$3,\"SchoolName\",$B47,\"SubsidiaryName\",$C47,\"YearStart\",AC$13))),\"\")","v":0},90,{"$f":"IFERROR(IF(AF47=\".\",\".\",IF(AF47=\"n/a\",\"n/a\",\nGETPIVOTDATA(AG$21 & \"\",PivotTableB!$A$3,\"SchoolName\",$B47,\"SubsidiaryName\",$C47,\"YearStart\",AC$13))),\"\")","v":0},{"$f":"IFERROR(IF(AG47=\".\",\".\",IF(AG47=\"n/a\",\"n/a\",\nGETPIVOTDATA(AH$21 & \"\",PivotTableB!$A$3,\"SchoolName\",$B47,\"SubsidiaryName\",$C47,\"YearStart\",AC$13))),\"\")","v":270},{"$f":"IFERROR(IF($B47=\"\",\"\",\nIF(OR($L47=\"Nursery School\",$L47=\"All-through PRU\",$M47=\"True\"),\"n/a\",\nIF(GETPIVOTDATA(AI$21 & \"\",PivotTableB!$A$3,\"SchoolName\",$B47,\"SubsidiaryName\",$C47,\"YearStart\",AI$13)=\"\",\".\",\nGETPIVOTDATA(AI$21 & \"\",PivotTableB!$A$3,\"SchoolName\",$B47,\"SubsidiaryName\",$C47,\"YearStart\",AI$13)))),\"\")","v":90},{"$f":"IFERROR(IF(AI47=\".\",\".\",IF(AI47=\"n/a\",\"n/a\",\nGETPIVOTDATA(AJ$21 & \"\",PivotTableB!$A$3,\"SchoolName\",$B47,\"SubsidiaryName\",$C47,\"YearStart\",AI$13))),\"\")","v":0},{"$f":"IFERROR(IF(AJ47=\".\",\".\",IF(AJ47=\"n/a\",\"n/a\",\nGETPIVOTDATA(AK$21 & \"\",PivotTableB!$A$3,\"SchoolName\",$B47,\"SubsidiaryName\",$C47,\"YearStart\",AI$13))),\"\")","v":0},90,{"$f":"IFERROR(IF(AL47=\".\",\".\",IF(AL47=\"n/a\",\"n/a\",\nGETPIVOTDATA(AM$21 & \"\",PivotTableB!$A$3,\"SchoolName\",$B47,\"SubsidiaryName\",$C47,\"YearStart\",AI$13))),\"\")","v":0},{"$f":"IFERROR(IF(AM47=\".\",\".\",IF(AM47=\"n/a\",\"n/a\",\nGETPIVOTDATA(AN$21 & \"\",PivotTableB!$A$3,\"SchoolName\",$B47,\"SubsidiaryName\",$C47,\"YearStart\",AI$13))),\"\")","v":270},{"$f":"IFERROR(IF($B47=\"\",\"\",\nIF(OR($L47=\"Nursery School\",$L47=\"All-through PRU\",$M47=\"True\"),\"n/a\",\nIF(GETPIVOTDATA(AO$21 & \"\",PivotTableB!$A$3,\"SchoolName\",$B47,\"SubsidiaryName\",$C47,\"YearStart\",AO$13)=\"\",\".\",\nGETPIVOTDATA(AO$21 & \"\",PivotTableB!$A$3,\"SchoolName\",$B47,\"SubsidiaryName\",$C47,\"YearStart\",AO$13)))),\"\")","v":90},{"$f":"IFERROR(IF(AO47=\".\",\".\",IF(AO47=\"n/a\",\"n/a\",\nGETPIVOTDATA(AP$21 & \"\",PivotTableB!$A$3,\"SchoolName\",$B47,\"SubsidiaryName\",$C47,\"YearStart\",AO$13))),\"\")","v":0},{"$f":"IFERROR(IF(AP47=\".\",\".\",IF(AP47=\"n/a\",\"n/a\",\nGETPIVOTDATA(AQ$21 & \"\",PivotTableB!$A$3,\"SchoolName\",$B47,\"SubsidiaryName\",$C47,\"YearStart\",AO$13))),\"\")","v":0},90,{"$f":"IFERROR(IF(AR47=\".\",\".\",IF(AR47=\"n/a\",\"n/a\",\nGETPIVOTDATA(AS$21 & \"\",PivotTableB!$A$3,\"SchoolName\",$B47,\"SubsidiaryName\",$C47,\"YearStart\",AO$13))),\"\")","v":0},{"$f":"IFERROR(IF(AS47=\".\",\".\",IF(AS47=\"n/a\",\"n/a\",\nGETPIVOTDATA(AT$21 & \"\",PivotTableB!$A$3,\"SchoolName\",$B47,\"SubsidiaryName\",$C47,\"YearStart\",AO$13))),\"\")","v":270},{"$f":"IFERROR(IF($B47=\"\",\"\",\nIF(OR($L47=\"Nursery School\",$L47=\"All-through PRU\",$M47=\"True\"),\"n/a\",\nIF(GETPIVOTDATA(AU$21 & \"\",PivotTableB!$A$3,\"SchoolName\",$B47,\"SubsidiaryName\",$C47,\"YearStart\",AU$13)=\"\",\".\",\nGETPIVOTDATA(AU$21 & \"\",PivotTableB!$A$3,\"SchoolName\",$B47,\"SubsidiaryName\",$C47,\"YearStart\",AU$13)))),\"\")","v":90},{"$f":"IFERROR(IF(AU47=\".\",\".\",IF(AU47=\"n/a\",\"n/a\",\nGETPIVOTDATA(AV$21 & \"\",PivotTableB!$A$3,\"SchoolName\",$B47,\"SubsidiaryName\",$C47,\"YearStart\",AU$13))),\"\")","v":0},{"$f":"IFERROR(IF(AV47=\".\",\".\",IF(AV47=\"n/a\",\"n/a\",\nGETPIVOTDATA(AW$21 & \"\",PivotTableB!$A$3,\"SchoolName\",$B47,\"SubsidiaryName\",$C47,\"YearStart\",AU$13))),\"\")","v":0},90,{"$f":"IFERROR(IF(AX47=\".\",\".\",IF(AX47=\"n/a\",\"n/a\",\nGETPIVOTDATA(AY$21 & \"\",PivotTableB!$A$3,\"SchoolName\",$B47,\"SubsidiaryName\",$C47,\"YearStart\",AU$13))),\"\")","v":0},{"$f":"IFERROR(IF(AY47=\".\",\".\",IF(AY47=\"n/a\",\"n/a\",\nGETPIVOTDATA(AZ$21 & \"\",PivotTableB!$A$3,\"SchoolName\",$B47,\"SubsidiaryName\",$C47,\"YearStart\",AU$13))),\"\")","v":270},{"$f":"IFERROR(IF($B47=\"\",\"\",\nIF(OR($L47=\"Nursery School\",$L47=\"All-through PRU\",$M47=\"True\"),\"n/a\",\nIF(GETPIVOTDATA(BA$21 & \"\",PivotTableB!$A$3,\"SchoolName\",$B47,\"SubsidiaryName\",$C47,\"YearStart\",BA$13)=\"\",\".\",\nGETPIVOTDATA(BA$21 & \"\",PivotTableB!$A$3,\"SchoolName\",$B47,\"SubsidiaryName\",$C47,\"YearStart\",BA$13)))),\"\")","v":90},{"$f":"IFERROR(IF(BA47=\".\",\".\",IF(BA47=\"n/a\",\"n/a\",\nGETPIVOTDATA(BB$21 & \"\",PivotTableB!$A$3,\"SchoolName\",$B47,\"SubsidiaryName\",$C47,\"YearStart\",BA$13))),\"\")","v":0},{"$f":"IFERROR(IF(BB47=\".\",\".\",IF(BB47=\"n/a\",\"n/a\",\nGETPIVOTDATA(BC$21 & \"\",PivotTableB!$A$3,\"SchoolName\",$B47,\"SubsidiaryName\",$C47,\"YearStart\",BA$13))),\"\")","v":0},{"$f":"IFERROR(IF(BC47=\".\",\".\",IF(BC47=\"n/a\",\"n/a\",\nGETPIVOTDATA(BD$21 & \"\",PivotTableB!$A$3,\"SchoolName\",$B47,\"SubsidiaryName\",$C47,\"YearStart\",BB$13))),\"\")","v":""},90,{"$f":"IFERROR(IF(BE47=\".\",\".\",IF(BE47=\"n/a\",\"n/a\",\nGETPIVOTDATA(BF$21 & \"\",PivotTableB!$A$3,\"SchoolName\",$B47,\"SubsidiaryName\",$C47,\"YearStart\",BA$13))),\"\")","v":0},{"$f":"IFERROR(IF(BF47=\".\",\".\",IF(BF47=\"n/a\",\"n/a\",\nGETPIVOTDATA(BG$21 & \"\",PivotTableB!$A$3,\"SchoolName\",$B47,\"SubsidiaryName\",$C47,\"YearStart\",BA$13))),\"\")","v":270},{"$f":"IFERROR(IF($B47=\"\",\"\",\nIF(OR($L47=\"Nursery School\",$L47=\"All-through PRU\",$M47=\"True\"),\"n/a\",\nIF(GETPIVOTDATA(BH$21 & \"\",PivotTableB!$A$3,\"SchoolName\",$B47,\"SubsidiaryName\",$C47,\"YearStart\",BH$13)=\"\",\".\",\nGETPIVOTDATA(BH$21 & \"\",PivotTableB!$A$3,\"SchoolName\",$B47,\"SubsidiaryName\",$C47,\"YearStart\",BH$13)))),\"\")","v":90},{"$f":"IFERROR(IF(BH47=\".\",\".\",IF(BH47=\"n/a\",\"n/a\",\nGETPIVOTDATA(BI$21 & \"\",PivotTableB!$A$3,\"SchoolName\",$B47,\"SubsidiaryName\",$C47,\"YearStart\",BH$13))),\"\")","v":0},{"$f":"IFERROR(IF(BI47=\".\",\".\",IF(BI47=\"n/a\",\"n/a\",\nGETPIVOTDATA(BJ$21 & \"\",PivotTableB!$A$3,\"SchoolName\",$B47,\"SubsidiaryName\",$C47,\"YearStart\",BH$13))),\"\")","v":0},{"$f":"IFERROR(IF(BJ47=\".\",\".\",IF(BJ47=\"n/a\",\"n/a\",\nGETPIVOTDATA(BK$21 & \"\",PivotTableB!$A$3,\"SchoolName\",$B47,\"SubsidiaryName\",$C47,\"YearStart\",BH$13))),\"\")","v":0},90,{"$f":"IFERROR(IF(BL47=\".\",\".\",IF(BL47=\"n/a\",\"n/a\",\nGETPIVOTDATA(BM$21 & \"\",PivotTableB!$A$3,\"SchoolName\",$B47,\"SubsidiaryName\",$C47,\"YearStart\",BH$13))),\"\")","v":0},{"$f":"IFERROR(IF(BM47=\".\",\".\",IF(BM47=\"n/a\",\"n/a\",\nGETPIVOTDATA(BN$21 & \"\",PivotTableB!$A$3,\"SchoolName\",$B47,\"SubsidiaryName\",$C47,\"YearStart\",BH$13))),\"\")","v":270},{"$f":"IFERROR(IF($B47=\"\",\"\",\nIF(OR($L47=\"Nursery School\",$L47=\"All-through PRU\",$M47=\"True\"),\"n/a\",\nIF(GETPIVOTDATA(BO$21 & \"\",PivotTableB!$A$3,\"SchoolName\",$B47,\"SubsidiaryName\",$C47,\"YearStart\",BO$13)=\"\",\".\",\nGETPIVOTDATA(BO$21 & \"\",PivotTableB!$A$3,\"SchoolName\",$B47,\"SubsidiaryName\",$C47,\"YearStart\",BO$13)))),\"\")","v":90},{"$f":"IFERROR(IF(BO47=\".\",\".\",IF(BO47=\"n/a\",\"n/a\",\nGETPIVOTDATA(BP$21 & \"\",PivotTableB!$A$3,\"SchoolName\",$B47,\"SubsidiaryName\",$C47,\"YearStart\",BO$13))),\"\")","v":0},{"$f":"IFERROR(IF(BP47=\".\",\".\",IF(BP47=\"n/a\",\"n/a\",\nGETPIVOTDATA(BQ$21 & \"\",PivotTableB!$A$3,\"SchoolName\",$B47,\"SubsidiaryName\",$C47,\"YearStart\",BO$13))),\"\")","v":0},{"$f":"IFERROR(IF(BQ47=\".\",\".\",IF(BQ47=\"n/a\",\"n/a\",\nGETPIVOTDATA(BR$21 & \"\",PivotTableB!$A$3,\"SchoolName\",$B47,\"SubsidiaryName\",$C47,\"YearStart\",BP$13))),\"\")","v":""},90,{"$f":"IFERROR(IF(BS47=\".\",\".\",IF(BS47=\"n/a\",\"n/a\",\nGETPIVOTDATA(BT$21 & \"\",PivotTableB!$A$3,\"SchoolName\",$B47,\"SubsidiaryName\",$C47,\"YearStart\",BO$13))),\"\")","v":0},{"$f":"IFERROR(IF(BT47=\".\",\".\",IF(BT47=\"n/a\",\"n/a\",\nGETPIVOTDATA(BU$21 & \"\",PivotTableB!$A$3,\"SchoolName\",$B47,\"SubsidiaryName\",$C47,\"YearStart\",BO$13))),\"\")","v":270},{"$f":"IFERROR(IF($B47=\"\",\"\",\nIF(OR($L47=\"Nursery School\",$L47=\"All-through PRU\",$M47=\"True\"),\"n/a\",\nIF(GETPIVOTDATA(BV$21 & \"\",PivotTableB!$A$3,\"SchoolName\",$B47,\"SubsidiaryName\",$C47,\"YearStart\",BV$13)=\"\",\".\",\nGETPIVOTDATA(BV$21 & \"\",PivotTableB!$A$3,\"SchoolName\",$B47,\"SubsidiaryName\",$C47,\"YearStart\",BV$13)))),\"\")","v":90},{"$f":"IFERROR(IF(BV47=\".\",\".\",IF(BV47=\"n/a\",\"n/a\",\nGETPIVOTDATA(BW$21 & \"\",PivotTableB!$A$3,\"SchoolName\",$B47,\"SubsidiaryName\",$C47,\"YearStart\",BV$13))),\"\")","v":0},{"$f":"IFERROR(IF(BW47=\".\",\".\",IF(BW47=\"n/a\",\"n/a\",\nGETPIVOTDATA(BX$21 & \"\",PivotTableB!$A$3,\"SchoolName\",$B47,\"SubsidiaryName\",$C47,\"YearStart\",BV$13))),\"\")","v":0},{"$f":"IFERROR(IF(BX47=\".\",\".\",IF(BX47=\"n/a\",\"n/a\",\nGETPIVOTDATA(BY$21 & \"\",PivotTableB!$A$3,\"SchoolName\",$B47,\"SubsidiaryName\",$C47,\"YearStart\",BV$13))),\"\")","v":0},90,{"$f":"IFERROR(IF(BZ47=\".\",\".\",IF(BZ47=\"n/a\",\"n/a\",\nGETPIVOTDATA(CA$21 & \"\",PivotTableB!$A$3,\"SchoolName\",$B47,\"SubsidiaryName\",$C47,\"YearStart\",BV$13))),\"\")","v":0},{"$f":"IFERROR(IF(CA47=\".\",\".\",IF(CA47=\"n/a\",\"n/a\",\nGETPIVOTDATA(CB$21 & \"\",PivotTableB!$A$3,\"SchoolName\",$B47,\"SubsidiaryName\",$C47,\"YearStart\",BV$13))),\"\")","v":270}]
[null,{"$f":"IF(PivotTableA!A35=\"\",\"n/a\",PivotTableA!A35)","v":"Furze Platt Junior School"},{"$f":"IF(B48=\"n/a\",\"\",PivotTableA!B35)","v":"Furze Platt Junior School"},{"$f":"IF($B48=\"n/a\",\"\",PivotTableA!C35)","v":"3"},{"$f":"IF($B48=\"n/a\",\"\",PivotTableA!D35)","v":"Maidenhead"},{"$f":"IF($B48=\"n/a\",\"\",PivotTableA!E35)","v":"North West Maidenhead"},{"$f":"IF($B48=\"n/a\",\"\",PivotTableA!F35)","v":"Furze Platt"},{"$f":"IF($B48=\"n/a\",\"\",PivotTableA!G35)","v":"Furze Platt"},{"$f":"IF($B48=\"n/a\",\"\",PivotTableA!H35)","v":"None"},{"$f":"IF($B48=\"n/a\",\"\",PivotTableA!I35)","v":"Primary"},{"$f":"IF($B48=\"n/a\",\"\",PivotTableA!J35)","v":"Two Tier"},{"$f":"IF($B48=\"n/a\",\"\",PivotTableA!K35)","v":"Junior"},{"$f":"IF($B48=\"n/a\",\"\",PivotTableA!O35)","v":"FALSE"},{"$f":"IF($B48=\"n/a\",\"\",PivotTableA!L35)","v":"Community"},{"$f":"IF($B48=\"n/a\",\"\",PivotTableA!M35)","v":" "},{"$f":"IF($B48=\"n/a\",\"\",PivotTableA!N35)","v":"None"},{"$f":"IFERROR(IF($B48=\"\",\"\",\nIF(OR($L48=\"Nursery School\",$L48=\"All-through PRU\",$M48=\"True\"),\"n/a\",\nIF(GETPIVOTDATA(Q$21 & \"\",PivotTableB!$A$3,\"SchoolName\",$B48,\"SubsidiaryName\",$C48,\"YearStart\",Q$13)=\"\",\".\",\nGETPIVOTDATA(Q$21 & \"\",PivotTableB!$A$3,\"SchoolName\",$B48,\"SubsidiaryName\",$C48,\"YearStart\",Q$13)))),\"\")","v":90},{"$f":"IFERROR(IF(Q48=\".\",\".\",IF(Q48=\"n/a\",\"n/a\",\nGETPIVOTDATA(R$21 & \"\",PivotTableB!$A$3,\"SchoolName\",$B48,\"SubsidiaryName\",$C48,\"YearStart\",Q$13))),\"\")","v":0},{"$f":"IFERROR(IF(R48=\".\",\".\",IF(R48=\"n/a\",\"n/a\",\nGETPIVOTDATA(S$21 & \"\",PivotTableB!$A$3,\"SchoolName\",$B48,\"SubsidiaryName\",$C48,\"YearStart\",Q$13))),\"\")","v":0},90,{"$f":"IFERROR(IF(T48=\".\",\".\",IF(T48=\"n/a\",\"n/a\",\nGETPIVOTDATA(U$21 & \"\",PivotTableB!$A$3,\"SchoolName\",$B48,\"SubsidiaryName\",$C48,\"YearStart\",Q$13))),\"\")","v":0},{"$f":"IFERROR(IF(U48=\".\",\".\",IF(U48=\"n/a\",\"n/a\",\nGETPIVOTDATA(V$21 & \"\",PivotTableB!$A$3,\"SchoolName\",$B48,\"SubsidiaryName\",$C48,\"YearStart\",Q$13))),\"\")","v":330},{"$f":"IFERROR(IF($B48=\"\",\"\",\nIF(OR($L48=\"Nursery School\",$L48=\"All-through PRU\",$M48=\"True\"),\"n/a\",\nIF(GETPIVOTDATA(W$21 & \"\",PivotTableB!$A$3,\"SchoolName\",$B48,\"SubsidiaryName\",$C48,\"YearStart\",W$13)=\"\",\".\",\nGETPIVOTDATA(W$21 & \"\",PivotTableB!$A$3,\"SchoolName\",$B48,\"SubsidiaryName\",$C48,\"YearStart\",W$13)))),\"\")","v":90},{"$f":"IFERROR(IF(W48=\".\",\".\",IF(W48=\"n/a\",\"n/a\",\nGETPIVOTDATA(X$21 & \"\",PivotTableB!$A$3,\"SchoolName\",$B48,\"SubsidiaryName\",$C48,\"YearStart\",W$13))),\"\")","v":0},{"$f":"IFERROR(IF(X48=\".\",\".\",IF(X48=\"n/a\",\"n/a\",\nGETPIVOTDATA(Y$21 & \"\",PivotTableB!$A$3,\"SchoolName\",$B48,\"SubsidiaryName\",$C48,\"YearStart\",W$13))),\"\")","v":0},90,{"$f":"IFERROR(IF(Z48=\".\",\".\",IF(Z48=\"n/a\",\"n/a\",\nGETPIVOTDATA(AA$21 & \"\",PivotTableB!$A$3,\"SchoolName\",$B48,\"SubsidiaryName\",$C48,\"YearStart\",W$13))),\"\")","v":0},{"$f":"IFERROR(IF(AA48=\".\",\".\",IF(AA48=\"n/a\",\"n/a\",\nGETPIVOTDATA(AB$21 & \"\",PivotTableB!$A$3,\"SchoolName\",$B48,\"SubsidiaryName\",$C48,\"YearStart\",W$13))),\"\")","v":360},{"$f":"IFERROR(IF($B48=\"\",\"\",\nIF(OR($L48=\"Nursery School\",$L48=\"All-through PRU\",$M48=\"True\"),\"n/a\",\nIF(GETPIVOTDATA(AC$21 & \"\",PivotTableB!$A$3,\"SchoolName\",$B48,\"SubsidiaryName\",$C48,\"YearStart\",AC$13)=\"\",\".\",\nGETPIVOTDATA(AC$21 & \"\",PivotTableB!$A$3,\"SchoolName\",$B48,\"SubsidiaryName\",$C48,\"YearStart\",AC$13)))),\"\")","v":90},{"$f":"IFERROR(IF(AC48=\".\",\".\",IF(AC48=\"n/a\",\"n/a\",\nGETPIVOTDATA(AD$21 & \"\",PivotTableB!$A$3,\"SchoolName\",$B48,\"SubsidiaryName\",$C48,\"YearStart\",AC$13))),\"\")","v":0},{"$f":"IFERROR(IF(AD48=\".\",\".\",IF(AD48=\"n/a\",\"n/a\",\nGETPIVOTDATA(AE$21 & \"\",PivotTableB!$A$3,\"SchoolName\",$B48,\"SubsidiaryName\",$C48,\"YearStart\",AC$13))),\"\")","v":0},90,{"$f":"IFERROR(IF(AF48=\".\",\".\",IF(AF48=\"n/a\",\"n/a\",\nGETPIVOTDATA(AG$21 & \"\",PivotTableB!$A$3,\"SchoolName\",$B48,\"SubsidiaryName\",$C48,\"YearStart\",AC$13))),\"\")","v":0},{"$f":"IFERROR(IF(AG48=\".\",\".\",IF(AG48=\"n/a\",\"n/a\",\nGETPIVOTDATA(AH$21 & \"\",PivotTableB!$A$3,\"SchoolName\",$B48,\"SubsidiaryName\",$C48,\"YearStart\",AC$13))),\"\")","v":360},{"$f":"IFERROR(IF($B48=\"\",\"\",\nIF(OR($L48=\"Nursery School\",$L48=\"All-through PRU\",$M48=\"True\"),\"n/a\",\nIF(GETPIVOTDATA(AI$21 & \"\",PivotTableB!$A$3,\"SchoolName\",$B48,\"SubsidiaryName\",$C48,\"YearStart\",AI$13)=\"\",\".\",\nGETPIVOTDATA(AI$21 & \"\",PivotTableB!$A$3,\"SchoolName\",$B48,\"SubsidiaryName\",$C48,\"YearStart\",AI$13)))),\"\")","v":90},{"$f":"IFERROR(IF(AI48=\".\",\".\",IF(AI48=\"n/a\",\"n/a\",\nGETPIVOTDATA(AJ$21 & \"\",PivotTableB!$A$3,\"SchoolName\",$B48,\"SubsidiaryName\",$C48,\"YearStart\",AI$13))),\"\")","v":0},{"$f":"IFERROR(IF(AJ48=\".\",\".\",IF(AJ48=\"n/a\",\"n/a\",\nGETPIVOTDATA(AK$21 & \"\",PivotTableB!$A$3,\"SchoolName\",$B48,\"SubsidiaryName\",$C48,\"YearStart\",AI$13))),\"\")","v":0},90,{"$f":"IFERROR(IF(AL48=\".\",\".\",IF(AL48=\"n/a\",\"n/a\",\nGETPIVOTDATA(AM$21 & \"\",PivotTableB!$A$3,\"SchoolName\",$B48,\"SubsidiaryName\",$C48,\"YearStart\",AI$13))),\"\")","v":0},{"$f":"IFERROR(IF(AM48=\".\",\".\",IF(AM48=\"n/a\",\"n/a\",\nGETPIVOTDATA(AN$21 & \"\",PivotTableB!$A$3,\"SchoolName\",$B48,\"SubsidiaryName\",$C48,\"YearStart\",AI$13))),\"\")","v":360},{"$f":"IFERROR(IF($B48=\"\",\"\",\nIF(OR($L48=\"Nursery School\",$L48=\"All-through PRU\",$M48=\"True\"),\"n/a\",\nIF(GETPIVOTDATA(AO$21 & \"\",PivotTableB!$A$3,\"SchoolName\",$B48,\"SubsidiaryName\",$C48,\"YearStart\",AO$13)=\"\",\".\",\nGETPIVOTDATA(AO$21 & \"\",PivotTableB!$A$3,\"SchoolName\",$B48,\"SubsidiaryName\",$C48,\"YearStart\",AO$13)))),\"\")","v":90},{"$f":"IFERROR(IF(AO48=\".\",\".\",IF(AO48=\"n/a\",\"n/a\",\nGETPIVOTDATA(AP$21 & \"\",PivotTableB!$A$3,\"SchoolName\",$B48,\"SubsidiaryName\",$C48,\"YearStart\",AO$13))),\"\")","v":0},{"$f":"IFERROR(IF(AP48=\".\",\".\",IF(AP48=\"n/a\",\"n/a\",\nGETPIVOTDATA(AQ$21 & \"\",PivotTableB!$A$3,\"SchoolName\",$B48,\"SubsidiaryName\",$C48,\"YearStart\",AO$13))),\"\")","v":0},90,{"$f":"IFERROR(IF(AR48=\".\",\".\",IF(AR48=\"n/a\",\"n/a\",\nGETPIVOTDATA(AS$21 & \"\",PivotTableB!$A$3,\"SchoolName\",$B48,\"SubsidiaryName\",$C48,\"YearStart\",AO$13))),\"\")","v":0},{"$f":"IFERROR(IF(AS48=\".\",\".\",IF(AS48=\"n/a\",\"n/a\",\nGETPIVOTDATA(AT$21 & \"\",PivotTableB!$A$3,\"SchoolName\",$B48,\"SubsidiaryName\",$C48,\"YearStart\",AO$13))),\"\")","v":360},{"$f":"IFERROR(IF($B48=\"\",\"\",\nIF(OR($L48=\"Nursery School\",$L48=\"All-through PRU\",$M48=\"True\"),\"n/a\",\nIF(GETPIVOTDATA(AU$21 & \"\",PivotTableB!$A$3,\"SchoolName\",$B48,\"SubsidiaryName\",$C48,\"YearStart\",AU$13)=\"\",\".\",\nGETPIVOTDATA(AU$21 & \"\",PivotTableB!$A$3,\"SchoolName\",$B48,\"SubsidiaryName\",$C48,\"YearStart\",AU$13)))),\"\")","v":90},{"$f":"IFERROR(IF(AU48=\".\",\".\",IF(AU48=\"n/a\",\"n/a\",\nGETPIVOTDATA(AV$21 & \"\",PivotTableB!$A$3,\"SchoolName\",$B48,\"SubsidiaryName\",$C48,\"YearStart\",AU$13))),\"\")","v":0},{"$f":"IFERROR(IF(AV48=\".\",\".\",IF(AV48=\"n/a\",\"n/a\",\nGETPIVOTDATA(AW$21 & \"\",PivotTableB!$A$3,\"SchoolName\",$B48,\"SubsidiaryName\",$C48,\"YearStart\",AU$13))),\"\")","v":0},90,{"$f":"IFERROR(IF(AX48=\".\",\".\",IF(AX48=\"n/a\",\"n/a\",\nGETPIVOTDATA(AY$21 & \"\",PivotTableB!$A$3,\"SchoolName\",$B48,\"SubsidiaryName\",$C48,\"YearStart\",AU$13))),\"\")","v":0},{"$f":"IFERROR(IF(AY48=\".\",\".\",IF(AY48=\"n/a\",\"n/a\",\nGETPIVOTDATA(AZ$21 & \"\",PivotTableB!$A$3,\"SchoolName\",$B48,\"SubsidiaryName\",$C48,\"YearStart\",AU$13))),\"\")","v":360},{"$f":"IFERROR(IF($B48=\"\",\"\",\nIF(OR($L48=\"Nursery School\",$L48=\"All-through PRU\",$M48=\"True\"),\"n/a\",\nIF(GETPIVOTDATA(BA$21 & \"\",PivotTableB!$A$3,\"SchoolName\",$B48,\"SubsidiaryName\",$C48,\"YearStart\",BA$13)=\"\",\".\",\nGETPIVOTDATA(BA$21 & \"\",PivotTableB!$A$3,\"SchoolName\",$B48,\"SubsidiaryName\",$C48,\"YearStart\",BA$13)))),\"\")","v":90},{"$f":"IFERROR(IF(BA48=\".\",\".\",IF(BA48=\"n/a\",\"n/a\",\nGETPIVOTDATA(BB$21 & \"\",PivotTableB!$A$3,\"SchoolName\",$B48,\"SubsidiaryName\",$C48,\"YearStart\",BA$13))),\"\")","v":0},{"$f":"IFERROR(IF(BB48=\".\",\".\",IF(BB48=\"n/a\",\"n/a\",\nGETPIVOTDATA(BC$21 & \"\",PivotTableB!$A$3,\"SchoolName\",$B48,\"SubsidiaryName\",$C48,\"YearStart\",BA$13))),\"\")","v":0},{"$f":"IFERROR(IF(BC48=\".\",\".\",IF(BC48=\"n/a\",\"n/a\",\nGETPIVOTDATA(BD$21 & \"\",PivotTableB!$A$3,\"SchoolName\",$B48,\"SubsidiaryName\",$C48,\"YearStart\",BB$13))),\"\")","v":""},90,{"$f":"IFERROR(IF(BE48=\".\",\".\",IF(BE48=\"n/a\",\"n/a\",\nGETPIVOTDATA(BF$21 & \"\",PivotTableB!$A$3,\"SchoolName\",$B48,\"SubsidiaryName\",$C48,\"YearStart\",BA$13))),\"\")","v":0},{"$f":"IFERROR(IF(BF48=\".\",\".\",IF(BF48=\"n/a\",\"n/a\",\nGETPIVOTDATA(BG$21 & \"\",PivotTableB!$A$3,\"SchoolName\",$B48,\"SubsidiaryName\",$C48,\"YearStart\",BA$13))),\"\")","v":360},{"$f":"IFERROR(IF($B48=\"\",\"\",\nIF(OR($L48=\"Nursery School\",$L48=\"All-through PRU\",$M48=\"True\"),\"n/a\",\nIF(GETPIVOTDATA(BH$21 & \"\",PivotTableB!$A$3,\"SchoolName\",$B48,\"SubsidiaryName\",$C48,\"YearStart\",BH$13)=\"\",\".\",\nGETPIVOTDATA(BH$21 & \"\",PivotTableB!$A$3,\"SchoolName\",$B48,\"SubsidiaryName\",$C48,\"YearStart\",BH$13)))),\"\")","v":90},{"$f":"IFERROR(IF(BH48=\".\",\".\",IF(BH48=\"n/a\",\"n/a\",\nGETPIVOTDATA(BI$21 & \"\",PivotTableB!$A$3,\"SchoolName\",$B48,\"SubsidiaryName\",$C48,\"YearStart\",BH$13))),\"\")","v":0},{"$f":"IFERROR(IF(BI48=\".\",\".\",IF(BI48=\"n/a\",\"n/a\",\nGETPIVOTDATA(BJ$21 & \"\",PivotTableB!$A$3,\"SchoolName\",$B48,\"SubsidiaryName\",$C48,\"YearStart\",BH$13))),\"\")","v":0},{"$f":"IFERROR(IF(BJ48=\".\",\".\",IF(BJ48=\"n/a\",\"n/a\",\nGETPIVOTDATA(BK$21 & \"\",PivotTableB!$A$3,\"SchoolName\",$B48,\"SubsidiaryName\",$C48,\"YearStart\",BH$13))),\"\")","v":0},90,{"$f":"IFERROR(IF(BL48=\".\",\".\",IF(BL48=\"n/a\",\"n/a\",\nGETPIVOTDATA(BM$21 & \"\",PivotTableB!$A$3,\"SchoolName\",$B48,\"SubsidiaryName\",$C48,\"YearStart\",BH$13))),\"\")","v":0},{"$f":"IFERROR(IF(BM48=\".\",\".\",IF(BM48=\"n/a\",\"n/a\",\nGETPIVOTDATA(BN$21 & \"\",PivotTableB!$A$3,\"SchoolName\",$B48,\"SubsidiaryName\",$C48,\"YearStart\",BH$13))),\"\")","v":360},{"$f":"IFERROR(IF($B48=\"\",\"\",\nIF(OR($L48=\"Nursery School\",$L48=\"All-through PRU\",$M48=\"True\"),\"n/a\",\nIF(GETPIVOTDATA(BO$21 & \"\",PivotTableB!$A$3,\"SchoolName\",$B48,\"SubsidiaryName\",$C48,\"YearStart\",BO$13)=\"\",\".\",\nGETPIVOTDATA(BO$21 & \"\",PivotTableB!$A$3,\"SchoolName\",$B48,\"SubsidiaryName\",$C48,\"YearStart\",BO$13)))),\"\")","v":90},{"$f":"IFERROR(IF(BO48=\".\",\".\",IF(BO48=\"n/a\",\"n/a\",\nGETPIVOTDATA(BP$21 & \"\",PivotTableB!$A$3,\"SchoolName\",$B48,\"SubsidiaryName\",$C48,\"YearStart\",BO$13))),\"\")","v":0},{"$f":"IFERROR(IF(BP48=\".\",\".\",IF(BP48=\"n/a\",\"n/a\",\nGETPIVOTDATA(BQ$21 & \"\",PivotTableB!$A$3,\"SchoolName\",$B48,\"SubsidiaryName\",$C48,\"YearStart\",BO$13))),\"\")","v":0},{"$f":"IFERROR(IF(BQ48=\".\",\".\",IF(BQ48=\"n/a\",\"n/a\",\nGETPIVOTDATA(BR$21 & \"\",PivotTableB!$A$3,\"SchoolName\",$B48,\"SubsidiaryName\",$C48,\"YearStart\",BP$13))),\"\")","v":""},90,{"$f":"IFERROR(IF(BS48=\".\",\".\",IF(BS48=\"n/a\",\"n/a\",\nGETPIVOTDATA(BT$21 & \"\",PivotTableB!$A$3,\"SchoolName\",$B48,\"SubsidiaryName\",$C48,\"YearStart\",BO$13))),\"\")","v":0},{"$f":"IFERROR(IF(BT48=\".\",\".\",IF(BT48=\"n/a\",\"n/a\",\nGETPIVOTDATA(BU$21 & \"\",PivotTableB!$A$3,\"SchoolName\",$B48,\"SubsidiaryName\",$C48,\"YearStart\",BO$13))),\"\")","v":360},{"$f":"IFERROR(IF($B48=\"\",\"\",\nIF(OR($L48=\"Nursery School\",$L48=\"All-through PRU\",$M48=\"True\"),\"n/a\",\nIF(GETPIVOTDATA(BV$21 & \"\",PivotTableB!$A$3,\"SchoolName\",$B48,\"SubsidiaryName\",$C48,\"YearStart\",BV$13)=\"\",\".\",\nGETPIVOTDATA(BV$21 & \"\",PivotTableB!$A$3,\"SchoolName\",$B48,\"SubsidiaryName\",$C48,\"YearStart\",BV$13)))),\"\")","v":90},{"$f":"IFERROR(IF(BV48=\".\",\".\",IF(BV48=\"n/a\",\"n/a\",\nGETPIVOTDATA(BW$21 & \"\",PivotTableB!$A$3,\"SchoolName\",$B48,\"SubsidiaryName\",$C48,\"YearStart\",BV$13))),\"\")","v":0},{"$f":"IFERROR(IF(BW48=\".\",\".\",IF(BW48=\"n/a\",\"n/a\",\nGETPIVOTDATA(BX$21 & \"\",PivotTableB!$A$3,\"SchoolName\",$B48,\"SubsidiaryName\",$C48,\"YearStart\",BV$13))),\"\")","v":0},{"$f":"IFERROR(IF(BX48=\".\",\".\",IF(BX48=\"n/a\",\"n/a\",\nGETPIVOTDATA(BY$21 & \"\",PivotTableB!$A$3,\"SchoolName\",$B48,\"SubsidiaryName\",$C48,\"YearStart\",BV$13))),\"\")","v":0},90,{"$f":"IFERROR(IF(BZ48=\".\",\".\",IF(BZ48=\"n/a\",\"n/a\",\nGETPIVOTDATA(CA$21 & \"\",PivotTableB!$A$3,\"SchoolName\",$B48,\"SubsidiaryName\",$C48,\"YearStart\",BV$13))),\"\")","v":0},{"$f":"IFERROR(IF(CA48=\".\",\".\",IF(CA48=\"n/a\",\"n/a\",\nGETPIVOTDATA(CB$21 & \"\",PivotTableB!$A$3,\"SchoolName\",$B48,\"SubsidiaryName\",$C48,\"YearStart\",BV$13))),\"\")","v":360}]
[null,{"$f":"IF(PivotTableA!A36=\"\",\"n/a\",PivotTableA!A36)","v":"Furze Platt Senior School"},{"$f":"IF(B49=\"n/a\",\"\",PivotTableA!B36)","v":"Furze Platt Senior School"},{"$f":"IF($B49=\"n/a\",\"\",PivotTableA!C36)","v":"7"},{"$f":"IF($B49=\"n/a\",\"\",PivotTableA!D36)","v":"Maidenhead"},{"$f":"IF($B49=\"n/a\",\"\",PivotTableA!E36)","v":"North West Maidenhead"},{"$f":"IF($B49=\"n/a\",\"\",PivotTableA!F36)","v":"Furze Platt"},{"$f":"IF($B49=\"n/a\",\"\",PivotTableA!G36)","v":"Furze Platt"},{"$f":"IF($B49=\"n/a\",\"\",PivotTableA!H36)","v":"None"},{"$f":"IF($B49=\"n/a\",\"\",PivotTableA!I36)","v":"Secondary"},{"$f":"IF($B49=\"n/a\",\"\",PivotTableA!J36)","v":"Two Tier"},{"$f":"IF($B49=\"n/a\",\"\",PivotTableA!K36)","v":"Secondary"},{"$f":"IF($B49=\"n/a\",\"\",PivotTableA!O36)","v":"FALSE"},{"$f":"IF($B49=\"n/a\",\"\",PivotTableA!L36)","v":"Academy"},{"$f":"IF($B49=\"n/a\",\"\",PivotTableA!M36)","v":"2011-12-01"},{"$f":"IF($B49=\"n/a\",\"\",PivotTableA!N36)","v":"None"},{"$f":"IFERROR(IF($B49=\"\",\"\",\nIF(OR($L49=\"Nursery School\",$L49=\"All-through PRU\",$M49=\"True\"),\"n/a\",\nIF(GETPIVOTDATA(Q$21 & \"\",PivotTableB!$A$3,\"SchoolName\",$B49,\"SubsidiaryName\",$C49,\"YearStart\",Q$13)=\"\",\".\",\nGETPIVOTDATA(Q$21 & \"\",PivotTableB!$A$3,\"SchoolName\",$B49,\"SubsidiaryName\",$C49,\"YearStart\",Q$13)))),\"\")","v":193},{"$f":"IFERROR(IF(Q49=\".\",\".\",IF(Q49=\"n/a\",\"n/a\",\nGETPIVOTDATA(R$21 & \"\",PivotTableB!$A$3,\"SchoolName\",$B49,\"SubsidiaryName\",$C49,\"YearStart\",Q$13))),\"\")","v":0},{"$f":"IFERROR(IF(R49=\".\",\".\",IF(R49=\"n/a\",\"n/a\",\nGETPIVOTDATA(S$21 & \"\",PivotTableB!$A$3,\"SchoolName\",$B49,\"SubsidiaryName\",$C49,\"YearStart\",Q$13))),\"\")","v":0},193,{"$f":"IFERROR(IF(T49=\".\",\".\",IF(T49=\"n/a\",\"n/a\",\nGETPIVOTDATA(U$21 & \"\",PivotTableB!$A$3,\"SchoolName\",$B49,\"SubsidiaryName\",$C49,\"YearStart\",Q$13))),\"\")","v":0},{"$f":"IFERROR(IF(U49=\".\",\".\",IF(U49=\"n/a\",\"n/a\",\nGETPIVOTDATA(V$21 & \"\",PivotTableB!$A$3,\"SchoolName\",$B49,\"SubsidiaryName\",$C49,\"YearStart\",Q$13))),\"\")","v":1304},{"$f":"IFERROR(IF($B49=\"\",\"\",\nIF(OR($L49=\"Nursery School\",$L49=\"All-through PRU\",$M49=\"True\"),\"n/a\",\nIF(GETPIVOTDATA(W$21 & \"\",PivotTableB!$A$3,\"SchoolName\",$B49,\"SubsidiaryName\",$C49,\"YearStart\",W$13)=\"\",\".\",\nGETPIVOTDATA(W$21 & \"\",PivotTableB!$A$3,\"SchoolName\",$B49,\"SubsidiaryName\",$C49,\"YearStart\",W$13)))),\"\")","v":193},{"$f":"IFERROR(IF(W49=\".\",\".\",IF(W49=\"n/a\",\"n/a\",\nGETPIVOTDATA(X$21 & \"\",PivotTableB!$A$3,\"SchoolName\",$B49,\"SubsidiaryName\",$C49,\"YearStart\",W$13))),\"\")","v":0},{"$f":"IFERROR(IF(X49=\".\",\".\",IF(X49=\"n/a\",\"n/a\",\nGETPIVOTDATA(Y$21 & \"\",PivotTableB!$A$3,\"SchoolName\",$B49,\"SubsidiaryName\",$C49,\"YearStart\",W$13))),\"\")","v":0},193,{"$f":"IFERROR(IF(Z49=\".\",\".\",IF(Z49=\"n/a\",\"n/a\",\nGETPIVOTDATA(AA$21 & \"\",PivotTableB!$A$3,\"SchoolName\",$B49,\"SubsidiaryName\",$C49,\"YearStart\",W$13))),\"\")","v":0},{"$f":"IFERROR(IF(AA49=\".\",\".\",IF(AA49=\"n/a\",\"n/a\",\nGETPIVOTDATA(AB$21 & \"\",PivotTableB!$A$3,\"SchoolName\",$B49,\"SubsidiaryName\",$C49,\"YearStart\",W$13))),\"\")","v":1304},{"$f":"IFERROR(IF($B49=\"\",\"\",\nIF(OR($L49=\"Nursery School\",$L49=\"All-through PRU\",$M49=\"True\"),\"n/a\",\nIF(GETPIVOTDATA(AC$21 & \"\",PivotTableB!$A$3,\"SchoolName\",$B49,\"SubsidiaryName\",$C49,\"YearStart\",AC$13)=\"\",\".\",\nGETPIVOTDATA(AC$21 & \"\",PivotTableB!$A$3,\"SchoolName\",$B49,\"SubsidiaryName\",$C49,\"YearStart\",AC$13)))),\"\")","v":193},{"$f":"IFERROR(IF(AC49=\".\",\".\",IF(AC49=\"n/a\",\"n/a\",\nGETPIVOTDATA(AD$21 & \"\",PivotTableB!$A$3,\"SchoolName\",$B49,\"SubsidiaryName\",$C49,\"YearStart\",AC$13))),\"\")","v":0},{"$f":"IFERROR(IF(AD49=\".\",\".\",IF(AD49=\"n/a\",\"n/a\",\nGETPIVOTDATA(AE$21 & \"\",PivotTableB!$A$3,\"SchoolName\",$B49,\"SubsidiaryName\",$C49,\"YearStart\",AC$13))),\"\")","v":0},193,{"$f":"IFERROR(IF(AF49=\".\",\".\",IF(AF49=\"n/a\",\"n/a\",\nGETPIVOTDATA(AG$21 & \"\",PivotTableB!$A$3,\"SchoolName\",$B49,\"SubsidiaryName\",$C49,\"YearStart\",AC$13))),\"\")","v":0},{"$f":"IFERROR(IF(AG49=\".\",\".\",IF(AG49=\"n/a\",\"n/a\",\nGETPIVOTDATA(AH$21 & \"\",PivotTableB!$A$3,\"SchoolName\",$B49,\"SubsidiaryName\",$C49,\"YearStart\",AC$13))),\"\")","v":1243},{"$f":"IFERROR(IF($B49=\"\",\"\",\nIF(OR($L49=\"Nursery School\",$L49=\"All-through PRU\",$M49=\"True\"),\"n/a\",\nIF(GETPIVOTDATA(AI$21 & \"\",PivotTableB!$A$3,\"SchoolName\",$B49,\"SubsidiaryName\",$C49,\"YearStart\",AI$13)=\"\",\".\",\nGETPIVOTDATA(AI$21 & \"\",PivotTableB!$A$3,\"SchoolName\",$B49,\"SubsidiaryName\",$C49,\"YearStart\",AI$13)))),\"\")","v":193},{"$f":"IFERROR(IF(AI49=\".\",\".\",IF(AI49=\"n/a\",\"n/a\",\nGETPIVOTDATA(AJ$21 & \"\",PivotTableB!$A$3,\"SchoolName\",$B49,\"SubsidiaryName\",$C49,\"YearStart\",AI$13))),\"\")","v":30},{"$f":"IFERROR(IF(AJ49=\".\",\".\",IF(AJ49=\"n/a\",\"n/a\",\nGETPIVOTDATA(AK$21 & \"\",PivotTableB!$A$3,\"SchoolName\",$B49,\"SubsidiaryName\",$C49,\"YearStart\",AI$13))),\"\")","v":0},223,{"$f":"IFERROR(IF(AL49=\".\",\".\",IF(AL49=\"n/a\",\"n/a\",\nGETPIVOTDATA(AM$21 & \"\",PivotTableB!$A$3,\"SchoolName\",$B49,\"SubsidiaryName\",$C49,\"YearStart\",AI$13))),\"\")","v":0},{"$f":"IFERROR(IF(AM49=\".\",\".\",IF(AM49=\"n/a\",\"n/a\",\nGETPIVOTDATA(AN$21 & \"\",PivotTableB!$A$3,\"SchoolName\",$B49,\"SubsidiaryName\",$C49,\"YearStart\",AI$13))),\"\")","v":1339},{"$f":"IFERROR(IF($B49=\"\",\"\",\nIF(OR($L49=\"Nursery School\",$L49=\"All-through PRU\",$M49=\"True\"),\"n/a\",\nIF(GETPIVOTDATA(AO$21 & \"\",PivotTableB!$A$3,\"SchoolName\",$B49,\"SubsidiaryName\",$C49,\"YearStart\",AO$13)=\"\",\".\",\nGETPIVOTDATA(AO$21 & \"\",PivotTableB!$A$3,\"SchoolName\",$B49,\"SubsidiaryName\",$C49,\"YearStart\",AO$13)))),\"\")","v":193},{"$f":"IFERROR(IF(AO49=\".\",\".\",IF(AO49=\"n/a\",\"n/a\",\nGETPIVOTDATA(AP$21 & \"\",PivotTableB!$A$3,\"SchoolName\",$B49,\"SubsidiaryName\",$C49,\"YearStart\",AO$13))),\"\")","v":30},{"$f":"IFERROR(IF(AP49=\".\",\".\",IF(AP49=\"n/a\",\"n/a\",\nGETPIVOTDATA(AQ$21 & \"\",PivotTableB!$A$3,\"SchoolName\",$B49,\"SubsidiaryName\",$C49,\"YearStart\",AO$13))),\"\")","v":0},223,{"$f":"IFERROR(IF(AR49=\".\",\".\",IF(AR49=\"n/a\",\"n/a\",\nGETPIVOTDATA(AS$21 & \"\",PivotTableB!$A$3,\"SchoolName\",$B49,\"SubsidiaryName\",$C49,\"YearStart\",AO$13))),\"\")","v":0},{"$f":"IFERROR(IF(AS49=\".\",\".\",IF(AS49=\"n/a\",\"n/a\",\nGETPIVOTDATA(AT$21 & \"\",PivotTableB!$A$3,\"SchoolName\",$B49,\"SubsidiaryName\",$C49,\"YearStart\",AO$13))),\"\")","v":1301},{"$f":"IFERROR(IF($B49=\"\",\"\",\nIF(OR($L49=\"Nursery School\",$L49=\"All-through PRU\",$M49=\"True\"),\"n/a\",\nIF(GETPIVOTDATA(AU$21 & \"\",PivotTableB!$A$3,\"SchoolName\",$B49,\"SubsidiaryName\",$C49,\"YearStart\",AU$13)=\"\",\".\",\nGETPIVOTDATA(AU$21 & \"\",PivotTableB!$A$3,\"SchoolName\",$B49,\"SubsidiaryName\",$C49,\"YearStart\",AU$13)))),\"\")","v":223},{"$f":"IFERROR(IF(AU49=\".\",\".\",IF(AU49=\"n/a\",\"n/a\",\nGETPIVOTDATA(AV$21 & \"\",PivotTableB!$A$3,\"SchoolName\",$B49,\"SubsidiaryName\",$C49,\"YearStart\",AU$13))),\"\")","v":0},{"$f":"IFERROR(IF(AV49=\".\",\".\",IF(AV49=\"n/a\",\"n/a\",\nGETPIVOTDATA(AW$21 & \"\",PivotTableB!$A$3,\"SchoolName\",$B49,\"SubsidiaryName\",$C49,\"YearStart\",AU$13))),\"\")","v":0},223,{"$f":"IFERROR(IF(AX49=\".\",\".\",IF(AX49=\"n/a\",\"n/a\",\nGETPIVOTDATA(AY$21 & \"\",PivotTableB!$A$3,\"SchoolName\",$B49,\"SubsidiaryName\",$C49,\"YearStart\",AU$13))),\"\")","v":0},{"$f":"IFERROR(IF(AY49=\".\",\".\",IF(AY49=\"n/a\",\"n/a\",\nGETPIVOTDATA(AZ$21 & \"\",PivotTableB!$A$3,\"SchoolName\",$B49,\"SubsidiaryName\",$C49,\"YearStart\",AU$13))),\"\")","v":1454},{"$f":"IFERROR(IF($B49=\"\",\"\",\nIF(OR($L49=\"Nursery School\",$L49=\"All-through PRU\",$M49=\"True\"),\"n/a\",\nIF(GETPIVOTDATA(BA$21 & \"\",PivotTableB!$A$3,\"SchoolName\",$B49,\"SubsidiaryName\",$C49,\"YearStart\",BA$13)=\"\",\".\",\nGETPIVOTDATA(BA$21 & \"\",PivotTableB!$A$3,\"SchoolName\",$B49,\"SubsidiaryName\",$C49,\"YearStart\",BA$13)))),\"\")","v":253},{"$f":"IFERROR(IF(BA49=\".\",\".\",IF(BA49=\"n/a\",\"n/a\",\nGETPIVOTDATA(BB$21 & \"\",PivotTableB!$A$3,\"SchoolName\",$B49,\"SubsidiaryName\",$C49,\"YearStart\",BA$13))),\"\")","v":0},{"$f":"IFERROR(IF(BB49=\".\",\".\",IF(BB49=\"n/a\",\"n/a\",\nGETPIVOTDATA(BC$21 & \"\",PivotTableB!$A$3,\"SchoolName\",$B49,\"SubsidiaryName\",$C49,\"YearStart\",BA$13))),\"\")","v":0},{"$f":"IFERROR(IF(BC49=\".\",\".\",IF(BC49=\"n/a\",\"n/a\",\nGETPIVOTDATA(BD$21 & \"\",PivotTableB!$A$3,\"SchoolName\",$B49,\"SubsidiaryName\",$C49,\"YearStart\",BB$13))),\"\")","v":""},253,{"$f":"IFERROR(IF(BE49=\".\",\".\",IF(BE49=\"n/a\",\"n/a\",\nGETPIVOTDATA(BF$21 & \"\",PivotTableB!$A$3,\"SchoolName\",$B49,\"SubsidiaryName\",$C49,\"YearStart\",BA$13))),\"\")","v":0},{"$f":"IFERROR(IF(BF49=\".\",\".\",IF(BF49=\"n/a\",\"n/a\",\nGETPIVOTDATA(BG$21 & \"\",PivotTableB!$A$3,\"SchoolName\",$B49,\"SubsidiaryName\",$C49,\"YearStart\",BA$13))),\"\")","v":1454},{"$f":"IFERROR(IF($B49=\"\",\"\",\nIF(OR($L49=\"Nursery School\",$L49=\"All-through PRU\",$M49=\"True\"),\"n/a\",\nIF(GETPIVOTDATA(BH$21 & \"\",PivotTableB!$A$3,\"SchoolName\",$B49,\"SubsidiaryName\",$C49,\"YearStart\",BH$13)=\"\",\".\",\nGETPIVOTDATA(BH$21 & \"\",PivotTableB!$A$3,\"SchoolName\",$B49,\"SubsidiaryName\",$C49,\"YearStart\",BH$13)))),\"\")","v":253},{"$f":"IFERROR(IF(BH49=\".\",\".\",IF(BH49=\"n/a\",\"n/a\",\nGETPIVOTDATA(BI$21 & \"\",PivotTableB!$A$3,\"SchoolName\",$B49,\"SubsidiaryName\",$C49,\"YearStart\",BH$13))),\"\")","v":0},{"$f":"IFERROR(IF(BI49=\".\",\".\",IF(BI49=\"n/a\",\"n/a\",\nGETPIVOTDATA(BJ$21 & \"\",PivotTableB!$A$3,\"SchoolName\",$B49,\"SubsidiaryName\",$C49,\"YearStart\",BH$13))),\"\")","v":0},{"$f":"IFERROR(IF(BJ49=\".\",\".\",IF(BJ49=\"n/a\",\"n/a\",\nGETPIVOTDATA(BK$21 & \"\",PivotTableB!$A$3,\"SchoolName\",$B49,\"SubsidiaryName\",$C49,\"YearStart\",BH$13))),\"\")","v":0},253,{"$f":"IFERROR(IF(BL49=\".\",\".\",IF(BL49=\"n/a\",\"n/a\",\nGETPIVOTDATA(BM$21 & \"\",PivotTableB!$A$3,\"SchoolName\",$B49,\"SubsidiaryName\",$C49,\"YearStart\",BH$13))),\"\")","v":0},{"$f":"IFERROR(IF(BM49=\".\",\".\",IF(BM49=\"n/a\",\"n/a\",\nGETPIVOTDATA(BN$21 & \"\",PivotTableB!$A$3,\"SchoolName\",$B49,\"SubsidiaryName\",$C49,\"YearStart\",BH$13))),\"\")","v":1454},{"$f":"IFERROR(IF($B49=\"\",\"\",\nIF(OR($L49=\"Nursery School\",$L49=\"All-through PRU\",$M49=\"True\"),\"n/a\",\nIF(GETPIVOTDATA(BO$21 & \"\",PivotTableB!$A$3,\"SchoolName\",$B49,\"SubsidiaryName\",$C49,\"YearStart\",BO$13)=\"\",\".\",\nGETPIVOTDATA(BO$21 & \"\",PivotTableB!$A$3,\"SchoolName\",$B49,\"SubsidiaryName\",$C49,\"YearStart\",BO$13)))),\"\")","v":253},{"$f":"IFERROR(IF(BO49=\".\",\".\",IF(BO49=\"n/a\",\"n/a\",\nGETPIVOTDATA(BP$21 & \"\",PivotTableB!$A$3,\"SchoolName\",$B49,\"SubsidiaryName\",$C49,\"YearStart\",BO$13))),\"\")","v":0},{"$f":"IFERROR(IF(BP49=\".\",\".\",IF(BP49=\"n/a\",\"n/a\",\nGETPIVOTDATA(BQ$21 & \"\",PivotTableB!$A$3,\"SchoolName\",$B49,\"SubsidiaryName\",$C49,\"YearStart\",BO$13))),\"\")","v":0},{"$f":"IFERROR(IF(BQ49=\".\",\".\",IF(BQ49=\"n/a\",\"n/a\",\nGETPIVOTDATA(BR$21 & \"\",PivotTableB!$A$3,\"SchoolName\",$B49,\"SubsidiaryName\",$C49,\"YearStart\",BP$13))),\"\")","v":""},253,{"$f":"IFERROR(IF(BS49=\".\",\".\",IF(BS49=\"n/a\",\"n/a\",\nGETPIVOTDATA(BT$21 & \"\",PivotTableB!$A$3,\"SchoolName\",$B49,\"SubsidiaryName\",$C49,\"YearStart\",BO$13))),\"\")","v":0},{"$f":"IFERROR(IF(BT49=\".\",\".\",IF(BT49=\"n/a\",\"n/a\",\nGETPIVOTDATA(BU$21 & \"\",PivotTableB!$A$3,\"SchoolName\",$B49,\"SubsidiaryName\",$C49,\"YearStart\",BO$13))),\"\")","v":1454},{"$f":"IFERROR(IF($B49=\"\",\"\",\nIF(OR($L49=\"Nursery School\",$L49=\"All-through PRU\",$M49=\"True\"),\"n/a\",\nIF(GETPIVOTDATA(BV$21 & \"\",PivotTableB!$A$3,\"SchoolName\",$B49,\"SubsidiaryName\",$C49,\"YearStart\",BV$13)=\"\",\".\",\nGETPIVOTDATA(BV$21 & \"\",PivotTableB!$A$3,\"SchoolName\",$B49,\"SubsidiaryName\",$C49,\"YearStart\",BV$13)))),\"\")","v":253},{"$f":"IFERROR(IF(BV49=\".\",\".\",IF(BV49=\"n/a\",\"n/a\",\nGETPIVOTDATA(BW$21 & \"\",PivotTableB!$A$3,\"SchoolName\",$B49,\"SubsidiaryName\",$C49,\"YearStart\",BV$13))),\"\")","v":0},{"$f":"IFERROR(IF(BW49=\".\",\".\",IF(BW49=\"n/a\",\"n/a\",\nGETPIVOTDATA(BX$21 & \"\",PivotTableB!$A$3,\"SchoolName\",$B49,\"SubsidiaryName\",$C49,\"YearStart\",BV$13))),\"\")","v":0},{"$f":"IFERROR(IF(BX49=\".\",\".\",IF(BX49=\"n/a\",\"n/a\",\nGETPIVOTDATA(BY$21 & \"\",PivotTableB!$A$3,\"SchoolName\",$B49,\"SubsidiaryName\",$C49,\"YearStart\",BV$13))),\"\")","v":0},253,{"$f":"IFERROR(IF(BZ49=\".\",\".\",IF(BZ49=\"n/a\",\"n/a\",\nGETPIVOTDATA(CA$21 & \"\",PivotTableB!$A$3,\"SchoolName\",$B49,\"SubsidiaryName\",$C49,\"YearStart\",BV$13))),\"\")","v":0},{"$f":"IFERROR(IF(CA49=\".\",\".\",IF(CA49=\"n/a\",\"n/a\",\nGETPIVOTDATA(CB$21 & \"\",PivotTableB!$A$3,\"SchoolName\",$B49,\"SubsidiaryName\",$C49,\"YearStart\",BV$13))),\"\")","v":1454}]
[null,{"$f":"IF(PivotTableA!A37=\"\",\"n/a\",PivotTableA!A37)","v":"Hilltop First School"},{"$f":"IF(B50=\"n/a\",\"\",PivotTableA!B37)","v":"Hilltop First School"},{"$f":"IF($B50=\"n/a\",\"\",PivotTableA!C37)","v":"R"},{"$f":"IF($B50=\"n/a\",\"\",PivotTableA!D37)","v":"Windsor"},{"$f":"IF($B50=\"n/a\",\"\",PivotTableA!E37)","v":"Windsor South"},{"$f":"IF($B50=\"n/a\",\"\",PivotTableA!F37)","v":"Hilltop"},{"$f":"IF($B50=\"n/a\",\"\",PivotTableA!G37)","v":"Clewer South"},{"$f":"IF($B50=\"n/a\",\"\",PivotTableA!H37)","v":"None"},{"$f":"IF($B50=\"n/a\",\"\",PivotTableA!I37)","v":"Primary"},{"$f":"IF($B50=\"n/a\",\"\",PivotTableA!J37)","v":"Three Tier"},{"$f":"IF($B50=\"n/a\",\"\",PivotTableA!K37)","v":"First"},{"$f":"IF($B50=\"n/a\",\"\",PivotTableA!O37)","v":"FALSE"},{"$f":"IF($B50=\"n/a\",\"\",PivotTableA!L37)","v":"Community"},{"$f":"IF($B50=\"n/a\",\"\",PivotTableA!M37)","v":" "},{"$f":"IF($B50=\"n/a\",\"\",PivotTableA!N37)","v":"None"},{"$f":"IFERROR(IF($B50=\"\",\"\",\nIF(OR($L50=\"Nursery School\",$L50=\"All-through PRU\",$M50=\"True\"),\"n/a\",\nIF(GETPIVOTDATA(Q$21 & \"\",PivotTableB!$A$3,\"SchoolName\",$B50,\"SubsidiaryName\",$C50,\"YearStart\",Q$13)=\"\",\".\",\nGETPIVOTDATA(Q$21 & \"\",PivotTableB!$A$3,\"SchoolName\",$B50,\"SubsidiaryName\",$C50,\"YearStart\",Q$13)))),\"\")","v":45},{"$f":"IFERROR(IF(Q50=\".\",\".\",IF(Q50=\"n/a\",\"n/a\",\nGETPIVOTDATA(R$21 & \"\",PivotTableB!$A$3,\"SchoolName\",$B50,\"SubsidiaryName\",$C50,\"YearStart\",Q$13))),\"\")","v":0},{"$f":"IFERROR(IF(R50=\".\",\".\",IF(R50=\"n/a\",\"n/a\",\nGETPIVOTDATA(S$21 & \"\",PivotTableB!$A$3,\"SchoolName\",$B50,\"SubsidiaryName\",$C50,\"YearStart\",Q$13))),\"\")","v":0},45,{"$f":"IFERROR(IF(T50=\".\",\".\",IF(T50=\"n/a\",\"n/a\",\nGETPIVOTDATA(U$21 & \"\",PivotTableB!$A$3,\"SchoolName\",$B50,\"SubsidiaryName\",$C50,\"YearStart\",Q$13))),\"\")","v":0},{"$f":"IFERROR(IF(U50=\".\",\".\",IF(U50=\"n/a\",\"n/a\",\nGETPIVOTDATA(V$21 & \"\",PivotTableB!$A$3,\"SchoolName\",$B50,\"SubsidiaryName\",$C50,\"YearStart\",Q$13))),\"\")","v":225},{"$f":"IFERROR(IF($B50=\"\",\"\",\nIF(OR($L50=\"Nursery School\",$L50=\"All-through PRU\",$M50=\"True\"),\"n/a\",\nIF(GETPIVOTDATA(W$21 & \"\",PivotTableB!$A$3,\"SchoolName\",$B50,\"SubsidiaryName\",$C50,\"YearStart\",W$13)=\"\",\".\",\nGETPIVOTDATA(W$21 & \"\",PivotTableB!$A$3,\"SchoolName\",$B50,\"SubsidiaryName\",$C50,\"YearStart\",W$13)))),\"\")","v":45},{"$f":"IFERROR(IF(W50=\".\",\".\",IF(W50=\"n/a\",\"n/a\",\nGETPIVOTDATA(X$21 & \"\",PivotTableB!$A$3,\"SchoolName\",$B50,\"SubsidiaryName\",$C50,\"YearStart\",W$13))),\"\")","v":0},{"$f":"IFERROR(IF(X50=\".\",\".\",IF(X50=\"n/a\",\"n/a\",\nGETPIVOTDATA(Y$21 & \"\",PivotTableB!$A$3,\"SchoolName\",$B50,\"SubsidiaryName\",$C50,\"YearStart\",W$13))),\"\")","v":0},45,{"$f":"IFERROR(IF(Z50=\".\",\".\",IF(Z50=\"n/a\",\"n/a\",\nGETPIVOTDATA(AA$21 & \"\",PivotTableB!$A$3,\"SchoolName\",$B50,\"SubsidiaryName\",$C50,\"YearStart\",W$13))),\"\")","v":0},{"$f":"IFERROR(IF(AA50=\".\",\".\",IF(AA50=\"n/a\",\"n/a\",\nGETPIVOTDATA(AB$21 & \"\",PivotTableB!$A$3,\"SchoolName\",$B50,\"SubsidiaryName\",$C50,\"YearStart\",W$13))),\"\")","v":225},{"$f":"IFERROR(IF($B50=\"\",\"\",\nIF(OR($L50=\"Nursery School\",$L50=\"All-through PRU\",$M50=\"True\"),\"n/a\",\nIF(GETPIVOTDATA(AC$21 & \"\",PivotTableB!$A$3,\"SchoolName\",$B50,\"SubsidiaryName\",$C50,\"YearStart\",AC$13)=\"\",\".\",\nGETPIVOTDATA(AC$21 & \"\",PivotTableB!$A$3,\"SchoolName\",$B50,\"SubsidiaryName\",$C50,\"YearStart\",AC$13)))),\"\")","v":45},{"$f":"IFERROR(IF(AC50=\".\",\".\",IF(AC50=\"n/a\",\"n/a\",\nGETPIVOTDATA(AD$21 & \"\",PivotTableB!$A$3,\"SchoolName\",$B50,\"SubsidiaryName\",$C50,\"YearStart\",AC$13))),\"\")","v":0},{"$f":"IFERROR(IF(AD50=\".\",\".\",IF(AD50=\"n/a\",\"n/a\",\nGETPIVOTDATA(AE$21 & \"\",PivotTableB!$A$3,\"SchoolName\",$B50,\"SubsidiaryName\",$C50,\"YearStart\",AC$13))),\"\")","v":0},45,{"$f":"IFERROR(IF(AF50=\".\",\".\",IF(AF50=\"n/a\",\"n/a\",\nGETPIVOTDATA(AG$21 & \"\",PivotTableB!$A$3,\"SchoolName\",$B50,\"SubsidiaryName\",$C50,\"YearStart\",AC$13))),\"\")","v":0},{"$f":"IFERROR(IF(AG50=\".\",\".\",IF(AG50=\"n/a\",\"n/a\",\nGETPIVOTDATA(AH$21 & \"\",PivotTableB!$A$3,\"SchoolName\",$B50,\"SubsidiaryName\",$C50,\"YearStart\",AC$13))),\"\")","v":225},{"$f":"IFERROR(IF($B50=\"\",\"\",\nIF(OR($L50=\"Nursery School\",$L50=\"All-through PRU\",$M50=\"True\"),\"n/a\",\nIF(GETPIVOTDATA(AI$21 & \"\",PivotTableB!$A$3,\"SchoolName\",$B50,\"SubsidiaryName\",$C50,\"YearStart\",AI$13)=\"\",\".\",\nGETPIVOTDATA(AI$21 & \"\",PivotTableB!$A$3,\"SchoolName\",$B50,\"SubsidiaryName\",$C50,\"YearStart\",AI$13)))),\"\")","v":45},{"$f":"IFERROR(IF(AI50=\".\",\".\",IF(AI50=\"n/a\",\"n/a\",\nGETPIVOTDATA(AJ$21 & \"\",PivotTableB!$A$3,\"SchoolName\",$B50,\"SubsidiaryName\",$C50,\"YearStart\",AI$13))),\"\")","v":0},{"$f":"IFERROR(IF(AJ50=\".\",\".\",IF(AJ50=\"n/a\",\"n/a\",\nGETPIVOTDATA(AK$21 & \"\",PivotTableB!$A$3,\"SchoolName\",$B50,\"SubsidiaryName\",$C50,\"YearStart\",AI$13))),\"\")","v":0},45,{"$f":"IFERROR(IF(AL50=\".\",\".\",IF(AL50=\"n/a\",\"n/a\",\nGETPIVOTDATA(AM$21 & \"\",PivotTableB!$A$3,\"SchoolName\",$B50,\"SubsidiaryName\",$C50,\"YearStart\",AI$13))),\"\")","v":0},{"$f":"IFERROR(IF(AM50=\".\",\".\",IF(AM50=\"n/a\",\"n/a\",\nGETPIVOTDATA(AN$21 & \"\",PivotTableB!$A$3,\"SchoolName\",$B50,\"SubsidiaryName\",$C50,\"YearStart\",AI$13))),\"\")","v":225},{"$f":"IFERROR(IF($B50=\"\",\"\",\nIF(OR($L50=\"Nursery School\",$L50=\"All-through PRU\",$M50=\"True\"),\"n/a\",\nIF(GETPIVOTDATA(AO$21 & \"\",PivotTableB!$A$3,\"SchoolName\",$B50,\"SubsidiaryName\",$C50,\"YearStart\",AO$13)=\"\",\".\",\nGETPIVOTDATA(AO$21 & \"\",PivotTableB!$A$3,\"SchoolName\",$B50,\"SubsidiaryName\",$C50,\"YearStart\",AO$13)))),\"\")","v":45},{"$f":"IFERROR(IF(AO50=\".\",\".\",IF(AO50=\"n/a\",\"n/a\",\nGETPIVOTDATA(AP$21 & \"\",PivotTableB!$A$3,\"SchoolName\",$B50,\"SubsidiaryName\",$C50,\"YearStart\",AO$13))),\"\")","v":0},{"$f":"IFERROR(IF(AP50=\".\",\".\",IF(AP50=\"n/a\",\"n/a\",\nGETPIVOTDATA(AQ$21 & \"\",PivotTableB!$A$3,\"SchoolName\",$B50,\"SubsidiaryName\",$C50,\"YearStart\",AO$13))),\"\")","v":0},45,{"$f":"IFERROR(IF(AR50=\".\",\".\",IF(AR50=\"n/a\",\"n/a\",\nGETPIVOTDATA(AS$21 & \"\",PivotTableB!$A$3,\"SchoolName\",$B50,\"SubsidiaryName\",$C50,\"YearStart\",AO$13))),\"\")","v":0},{"$f":"IFERROR(IF(AS50=\".\",\".\",IF(AS50=\"n/a\",\"n/a\",\nGETPIVOTDATA(AT$21 & \"\",PivotTableB!$A$3,\"SchoolName\",$B50,\"SubsidiaryName\",$C50,\"YearStart\",AO$13))),\"\")","v":225},{"$f":"IFERROR(IF($B50=\"\",\"\",\nIF(OR($L50=\"Nursery School\",$L50=\"All-through PRU\",$M50=\"True\"),\"n/a\",\nIF(GETPIVOTDATA(AU$21 & \"\",PivotTableB!$A$3,\"SchoolName\",$B50,\"SubsidiaryName\",$C50,\"YearStart\",AU$13)=\"\",\".\",\nGETPIVOTDATA(AU$21 & \"\",PivotTableB!$A$3,\"SchoolName\",$B50,\"SubsidiaryName\",$C50,\"YearStart\",AU$13)))),\"\")","v":45},{"$f":"IFERROR(IF(AU50=\".\",\".\",IF(AU50=\"n/a\",\"n/a\",\nGETPIVOTDATA(AV$21 & \"\",PivotTableB!$A$3,\"SchoolName\",$B50,\"SubsidiaryName\",$C50,\"YearStart\",AU$13))),\"\")","v":0},{"$f":"IFERROR(IF(AV50=\".\",\".\",IF(AV50=\"n/a\",\"n/a\",\nGETPIVOTDATA(AW$21 & \"\",PivotTableB!$A$3,\"SchoolName\",$B50,\"SubsidiaryName\",$C50,\"YearStart\",AU$13))),\"\")","v":0},45,{"$f":"IFERROR(IF(AX50=\".\",\".\",IF(AX50=\"n/a\",\"n/a\",\nGETPIVOTDATA(AY$21 & \"\",PivotTableB!$A$3,\"SchoolName\",$B50,\"SubsidiaryName\",$C50,\"YearStart\",AU$13))),\"\")","v":0},{"$f":"IFERROR(IF(AY50=\".\",\".\",IF(AY50=\"n/a\",\"n/a\",\nGETPIVOTDATA(AZ$21 & \"\",PivotTableB!$A$3,\"SchoolName\",$B50,\"SubsidiaryName\",$C50,\"YearStart\",AU$13))),\"\")","v":225},{"$f":"IFERROR(IF($B50=\"\",\"\",\nIF(OR($L50=\"Nursery School\",$L50=\"All-through PRU\",$M50=\"True\"),\"n/a\",\nIF(GETPIVOTDATA(BA$21 & \"\",PivotTableB!$A$3,\"SchoolName\",$B50,\"SubsidiaryName\",$C50,\"YearStart\",BA$13)=\"\",\".\",\nGETPIVOTDATA(BA$21 & \"\",PivotTableB!$A$3,\"SchoolName\",$B50,\"SubsidiaryName\",$C50,\"YearStart\",BA$13)))),\"\")","v":45},{"$f":"IFERROR(IF(BA50=\".\",\".\",IF(BA50=\"n/a\",\"n/a\",\nGETPIVOTDATA(BB$21 & \"\",PivotTableB!$A$3,\"SchoolName\",$B50,\"SubsidiaryName\",$C50,\"YearStart\",BA$13))),\"\")","v":0},{"$f":"IFERROR(IF(BB50=\".\",\".\",IF(BB50=\"n/a\",\"n/a\",\nGETPIVOTDATA(BC$21 & \"\",PivotTableB!$A$3,\"SchoolName\",$B50,\"SubsidiaryName\",$C50,\"YearStart\",BA$13))),\"\")","v":0},{"$f":"IFERROR(IF(BC50=\".\",\".\",IF(BC50=\"n/a\",\"n/a\",\nGETPIVOTDATA(BD$21 & \"\",PivotTableB!$A$3,\"SchoolName\",$B50,\"SubsidiaryName\",$C50,\"YearStart\",BB$13))),\"\")","v":""},45,{"$f":"IFERROR(IF(BE50=\".\",\".\",IF(BE50=\"n/a\",\"n/a\",\nGETPIVOTDATA(BF$21 & \"\",PivotTableB!$A$3,\"SchoolName\",$B50,\"SubsidiaryName\",$C50,\"YearStart\",BA$13))),\"\")","v":0},{"$f":"IFERROR(IF(BF50=\".\",\".\",IF(BF50=\"n/a\",\"n/a\",\nGETPIVOTDATA(BG$21 & \"\",PivotTableB!$A$3,\"SchoolName\",$B50,\"SubsidiaryName\",$C50,\"YearStart\",BA$13))),\"\")","v":225},{"$f":"IFERROR(IF($B50=\"\",\"\",\nIF(OR($L50=\"Nursery School\",$L50=\"All-through PRU\",$M50=\"True\"),\"n/a\",\nIF(GETPIVOTDATA(BH$21 & \"\",PivotTableB!$A$3,\"SchoolName\",$B50,\"SubsidiaryName\",$C50,\"YearStart\",BH$13)=\"\",\".\",\nGETPIVOTDATA(BH$21 & \"\",PivotTableB!$A$3,\"SchoolName\",$B50,\"SubsidiaryName\",$C50,\"YearStart\",BH$13)))),\"\")","v":45},{"$f":"IFERROR(IF(BH50=\".\",\".\",IF(BH50=\"n/a\",\"n/a\",\nGETPIVOTDATA(BI$21 & \"\",PivotTableB!$A$3,\"SchoolName\",$B50,\"SubsidiaryName\",$C50,\"YearStart\",BH$13))),\"\")","v":0},{"$f":"IFERROR(IF(BI50=\".\",\".\",IF(BI50=\"n/a\",\"n/a\",\nGETPIVOTDATA(BJ$21 & \"\",PivotTableB!$A$3,\"SchoolName\",$B50,\"SubsidiaryName\",$C50,\"YearStart\",BH$13))),\"\")","v":0},{"$f":"IFERROR(IF(BJ50=\".\",\".\",IF(BJ50=\"n/a\",\"n/a\",\nGETPIVOTDATA(BK$21 & \"\",PivotTableB!$A$3,\"SchoolName\",$B50,\"SubsidiaryName\",$C50,\"YearStart\",BH$13))),\"\")","v":0},45,{"$f":"IFERROR(IF(BL50=\".\",\".\",IF(BL50=\"n/a\",\"n/a\",\nGETPIVOTDATA(BM$21 & \"\",PivotTableB!$A$3,\"SchoolName\",$B50,\"SubsidiaryName\",$C50,\"YearStart\",BH$13))),\"\")","v":0},{"$f":"IFERROR(IF(BM50=\".\",\".\",IF(BM50=\"n/a\",\"n/a\",\nGETPIVOTDATA(BN$21 & \"\",PivotTableB!$A$3,\"SchoolName\",$B50,\"SubsidiaryName\",$C50,\"YearStart\",BH$13))),\"\")","v":225},{"$f":"IFERROR(IF($B50=\"\",\"\",\nIF(OR($L50=\"Nursery School\",$L50=\"All-through PRU\",$M50=\"True\"),\"n/a\",\nIF(GETPIVOTDATA(BO$21 & \"\",PivotTableB!$A$3,\"SchoolName\",$B50,\"SubsidiaryName\",$C50,\"YearStart\",BO$13)=\"\",\".\",\nGETPIVOTDATA(BO$21 & \"\",PivotTableB!$A$3,\"SchoolName\",$B50,\"SubsidiaryName\",$C50,\"YearStart\",BO$13)))),\"\")","v":45},{"$f":"IFERROR(IF(BO50=\".\",\".\",IF(BO50=\"n/a\",\"n/a\",\nGETPIVOTDATA(BP$21 & \"\",PivotTableB!$A$3,\"SchoolName\",$B50,\"SubsidiaryName\",$C50,\"YearStart\",BO$13))),\"\")","v":0},{"$f":"IFERROR(IF(BP50=\".\",\".\",IF(BP50=\"n/a\",\"n/a\",\nGETPIVOTDATA(BQ$21 & \"\",PivotTableB!$A$3,\"SchoolName\",$B50,\"SubsidiaryName\",$C50,\"YearStart\",BO$13))),\"\")","v":0},{"$f":"IFERROR(IF(BQ50=\".\",\".\",IF(BQ50=\"n/a\",\"n/a\",\nGETPIVOTDATA(BR$21 & \"\",PivotTableB!$A$3,\"SchoolName\",$B50,\"SubsidiaryName\",$C50,\"YearStart\",BP$13))),\"\")","v":""},45,{"$f":"IFERROR(IF(BS50=\".\",\".\",IF(BS50=\"n/a\",\"n/a\",\nGETPIVOTDATA(BT$21 & \"\",PivotTableB!$A$3,\"SchoolName\",$B50,\"SubsidiaryName\",$C50,\"YearStart\",BO$13))),\"\")","v":0},{"$f":"IFERROR(IF(BT50=\".\",\".\",IF(BT50=\"n/a\",\"n/a\",\nGETPIVOTDATA(BU$21 & \"\",PivotTableB!$A$3,\"SchoolName\",$B50,\"SubsidiaryName\",$C50,\"YearStart\",BO$13))),\"\")","v":225},{"$f":"IFERROR(IF($B50=\"\",\"\",\nIF(OR($L50=\"Nursery School\",$L50=\"All-through PRU\",$M50=\"True\"),\"n/a\",\nIF(GETPIVOTDATA(BV$21 & \"\",PivotTableB!$A$3,\"SchoolName\",$B50,\"SubsidiaryName\",$C50,\"YearStart\",BV$13)=\"\",\".\",\nGETPIVOTDATA(BV$21 & \"\",PivotTableB!$A$3,\"SchoolName\",$B50,\"SubsidiaryName\",$C50,\"YearStart\",BV$13)))),\"\")","v":45},{"$f":"IFERROR(IF(BV50=\".\",\".\",IF(BV50=\"n/a\",\"n/a\",\nGETPIVOTDATA(BW$21 & \"\",PivotTableB!$A$3,\"SchoolName\",$B50,\"SubsidiaryName\",$C50,\"YearStart\",BV$13))),\"\")","v":0},{"$f":"IFERROR(IF(BW50=\".\",\".\",IF(BW50=\"n/a\",\"n/a\",\nGETPIVOTDATA(BX$21 & \"\",PivotTableB!$A$3,\"SchoolName\",$B50,\"SubsidiaryName\",$C50,\"YearStart\",BV$13))),\"\")","v":0},{"$f":"IFERROR(IF(BX50=\".\",\".\",IF(BX50=\"n/a\",\"n/a\",\nGETPIVOTDATA(BY$21 & \"\",PivotTableB!$A$3,\"SchoolName\",$B50,\"SubsidiaryName\",$C50,\"YearStart\",BV$13))),\"\")","v":0},45,{"$f":"IFERROR(IF(BZ50=\".\",\".\",IF(BZ50=\"n/a\",\"n/a\",\nGETPIVOTDATA(CA$21 & \"\",PivotTableB!$A$3,\"SchoolName\",$B50,\"SubsidiaryName\",$C50,\"YearStart\",BV$13))),\"\")","v":0},{"$f":"IFERROR(IF(CA50=\".\",\".\",IF(CA50=\"n/a\",\"n/a\",\nGETPIVOTDATA(CB$21 & \"\",PivotTableB!$A$3,\"SchoolName\",$B50,\"SubsidiaryName\",$C50,\"YearStart\",BV$13))),\"\")","v":225}]
[null,{"$f":"IF(PivotTableA!A38=\"\",\"n/a\",PivotTableA!A38)","v":"Holy Trinity C of E Primary School, Cookham"},{"$f":"IF(B51=\"n/a\",\"\",PivotTableA!B38)","v":"Holy Trinity C of E Primary School, Cookham"},{"$f":"IF($B51=\"n/a\",\"\",PivotTableA!C38)","v":"R"},{"$f":"IF($B51=\"n/a\",\"\",PivotTableA!D38)","v":"Maidenhead"},{"$f":"IF($B51=\"n/a\",\"\",PivotTableA!E38)","v":"Bisham and Cookham"},{"$f":"IF($B51=\"n/a\",\"\",PivotTableA!F38)","v":"Cookham"},{"$f":"IF($B51=\"n/a\",\"\",PivotTableA!G38)","v":"Bisham and Cookham"},{"$f":"IF($B51=\"n/a\",\"\",PivotTableA!H38)","v":"Cookham"},{"$f":"IF($B51=\"n/a\",\"\",PivotTableA!I38)","v":"Primary"},{"$f":"IF($B51=\"n/a\",\"\",PivotTableA!J38)","v":"Two Tier"},{"$f":"IF($B51=\"n/a\",\"\",PivotTableA!K38)","v":"JMI"},{"$f":"IF($B51=\"n/a\",\"\",PivotTableA!O38)","v":"FALSE"},{"$f":"IF($B51=\"n/a\",\"\",PivotTableA!L38)","v":"Voluntary Controlled"},{"$f":"IF($B51=\"n/a\",\"\",PivotTableA!M38)","v":" "},{"$f":"IF($B51=\"n/a\",\"\",PivotTableA!N38)","v":"Church of England"},{"$f":"IFERROR(IF($B51=\"\",\"\",\nIF(OR($L51=\"Nursery School\",$L51=\"All-through PRU\",$M51=\"True\"),\"n/a\",\nIF(GETPIVOTDATA(Q$21 & \"\",PivotTableB!$A$3,\"SchoolName\",$B51,\"SubsidiaryName\",$C51,\"YearStart\",Q$13)=\"\",\".\",\nGETPIVOTDATA(Q$21 & \"\",PivotTableB!$A$3,\"SchoolName\",$B51,\"SubsidiaryName\",$C51,\"YearStart\",Q$13)))),\"\")","v":32},{"$f":"IFERROR(IF(Q51=\".\",\".\",IF(Q51=\"n/a\",\"n/a\",\nGETPIVOTDATA(R$21 & \"\",PivotTableB!$A$3,\"SchoolName\",$B51,\"SubsidiaryName\",$C51,\"YearStart\",Q$13))),\"\")","v":0},{"$f":"IFERROR(IF(R51=\".\",\".\",IF(R51=\"n/a\",\"n/a\",\nGETPIVOTDATA(S$21 & \"\",PivotTableB!$A$3,\"SchoolName\",$B51,\"SubsidiaryName\",$C51,\"YearStart\",Q$13))),\"\")","v":0},32,{"$f":"IFERROR(IF(T51=\".\",\".\",IF(T51=\"n/a\",\"n/a\",\nGETPIVOTDATA(U$21 & \"\",PivotTableB!$A$3,\"SchoolName\",$B51,\"SubsidiaryName\",$C51,\"YearStart\",Q$13))),\"\")","v":0},{"$f":"IFERROR(IF(U51=\".\",\".\",IF(U51=\"n/a\",\"n/a\",\nGETPIVOTDATA(V$21 & \"\",PivotTableB!$A$3,\"SchoolName\",$B51,\"SubsidiaryName\",$C51,\"YearStart\",Q$13))),\"\")","v":224},{"$f":"IFERROR(IF($B51=\"\",\"\",\nIF(OR($L51=\"Nursery School\",$L51=\"All-through PRU\",$M51=\"True\"),\"n/a\",\nIF(GETPIVOTDATA(W$21 & \"\",PivotTableB!$A$3,\"SchoolName\",$B51,\"SubsidiaryName\",$C51,\"YearStart\",W$13)=\"\",\".\",\nGETPIVOTDATA(W$21 & \"\",PivotTableB!$A$3,\"SchoolName\",$B51,\"SubsidiaryName\",$C51,\"YearStart\",W$13)))),\"\")","v":32},{"$f":"IFERROR(IF(W51=\".\",\".\",IF(W51=\"n/a\",\"n/a\",\nGETPIVOTDATA(X$21 & \"\",PivotTableB!$A$3,\"SchoolName\",$B51,\"SubsidiaryName\",$C51,\"YearStart\",W$13))),\"\")","v":0},{"$f":"IFERROR(IF(X51=\".\",\".\",IF(X51=\"n/a\",\"n/a\",\nGETPIVOTDATA(Y$21 & \"\",PivotTableB!$A$3,\"SchoolName\",$B51,\"SubsidiaryName\",$C51,\"YearStart\",W$13))),\"\")","v":0},32,{"$f":"IFERROR(IF(Z51=\".\",\".\",IF(Z51=\"n/a\",\"n/a\",\nGETPIVOTDATA(AA$21 & \"\",PivotTableB!$A$3,\"SchoolName\",$B51,\"SubsidiaryName\",$C51,\"YearStart\",W$13))),\"\")","v":0},{"$f":"IFERROR(IF(AA51=\".\",\".\",IF(AA51=\"n/a\",\"n/a\",\nGETPIVOTDATA(AB$21 & \"\",PivotTableB!$A$3,\"SchoolName\",$B51,\"SubsidiaryName\",$C51,\"YearStart\",W$13))),\"\")","v":224},{"$f":"IFERROR(IF($B51=\"\",\"\",\nIF(OR($L51=\"Nursery School\",$L51=\"All-through PRU\",$M51=\"True\"),\"n/a\",\nIF(GETPIVOTDATA(AC$21 & \"\",PivotTableB!$A$3,\"SchoolName\",$B51,\"SubsidiaryName\",$C51,\"YearStart\",AC$13)=\"\",\".\",\nGETPIVOTDATA(AC$21 & \"\",PivotTableB!$A$3,\"SchoolName\",$B51,\"SubsidiaryName\",$C51,\"YearStart\",AC$13)))),\"\")","v":30},{"$f":"IFERROR(IF(AC51=\".\",\".\",IF(AC51=\"n/a\",\"n/a\",\nGETPIVOTDATA(AD$21 & \"\",PivotTableB!$A$3,\"SchoolName\",$B51,\"SubsidiaryName\",$C51,\"YearStart\",AC$13))),\"\")","v":0},{"$f":"IFERROR(IF(AD51=\".\",\".\",IF(AD51=\"n/a\",\"n/a\",\nGETPIVOTDATA(AE$21 & \"\",PivotTableB!$A$3,\"SchoolName\",$B51,\"SubsidiaryName\",$C51,\"YearStart\",AC$13))),\"\")","v":0},30,{"$f":"IFERROR(IF(AF51=\".\",\".\",IF(AF51=\"n/a\",\"n/a\",\nGETPIVOTDATA(AG$21 & \"\",PivotTableB!$A$3,\"SchoolName\",$B51,\"SubsidiaryName\",$C51,\"YearStart\",AC$13))),\"\")","v":0},{"$f":"IFERROR(IF(AG51=\".\",\".\",IF(AG51=\"n/a\",\"n/a\",\nGETPIVOTDATA(AH$21 & \"\",PivotTableB!$A$3,\"SchoolName\",$B51,\"SubsidiaryName\",$C51,\"YearStart\",AC$13))),\"\")","v":222},{"$f":"IFERROR(IF($B51=\"\",\"\",\nIF(OR($L51=\"Nursery School\",$L51=\"All-through PRU\",$M51=\"True\"),\"n/a\",\nIF(GETPIVOTDATA(AI$21 & \"\",PivotTableB!$A$3,\"SchoolName\",$B51,\"SubsidiaryName\",$C51,\"YearStart\",AI$13)=\"\",\".\",\nGETPIVOTDATA(AI$21 & \"\",PivotTableB!$A$3,\"SchoolName\",$B51,\"SubsidiaryName\",$C51,\"YearStart\",AI$13)))),\"\")","v":30},{"$f":"IFERROR(IF(AI51=\".\",\".\",IF(AI51=\"n/a\",\"n/a\",\nGETPIVOTDATA(AJ$21 & \"\",PivotTableB!$A$3,\"SchoolName\",$B51,\"SubsidiaryName\",$C51,\"YearStart\",AI$13))),\"\")","v":0},{"$f":"IFERROR(IF(AJ51=\".\",\".\",IF(AJ51=\"n/a\",\"n/a\",\nGETPIVOTDATA(AK$21 & \"\",PivotTableB!$A$3,\"SchoolName\",$B51,\"SubsidiaryName\",$C51,\"YearStart\",AI$13))),\"\")","v":0},30,{"$f":"IFERROR(IF(AL51=\".\",\".\",IF(AL51=\"n/a\",\"n/a\",\nGETPIVOTDATA(AM$21 & \"\",PivotTableB!$A$3,\"SchoolName\",$B51,\"SubsidiaryName\",$C51,\"YearStart\",AI$13))),\"\")","v":0},{"$f":"IFERROR(IF(AM51=\".\",\".\",IF(AM51=\"n/a\",\"n/a\",\nGETPIVOTDATA(AN$21 & \"\",PivotTableB!$A$3,\"SchoolName\",$B51,\"SubsidiaryName\",$C51,\"YearStart\",AI$13))),\"\")","v":220},{"$f":"IFERROR(IF($B51=\"\",\"\",\nIF(OR($L51=\"Nursery School\",$L51=\"All-through PRU\",$M51=\"True\"),\"n/a\",\nIF(GETPIVOTDATA(AO$21 & \"\",PivotTableB!$A$3,\"SchoolName\",$B51,\"SubsidiaryName\",$C51,\"YearStart\",AO$13)=\"\",\".\",\nGETPIVOTDATA(AO$21 & \"\",PivotTableB!$A$3,\"SchoolName\",$B51,\"SubsidiaryName\",$C51,\"YearStart\",AO$13)))),\"\")","v":30},{"$f":"IFERROR(IF(AO51=\".\",\".\",IF(AO51=\"n/a\",\"n/a\",\nGETPIVOTDATA(AP$21 & \"\",PivotTableB!$A$3,\"SchoolName\",$B51,\"SubsidiaryName\",$C51,\"YearStart\",AO$13))),\"\")","v":0},{"$f":"IFERROR(IF(AP51=\".\",\".\",IF(AP51=\"n/a\",\"n/a\",\nGETPIVOTDATA(AQ$21 & \"\",PivotTableB!$A$3,\"SchoolName\",$B51,\"SubsidiaryName\",$C51,\"YearStart\",AO$13))),\"\")","v":0},30,{"$f":"IFERROR(IF(AR51=\".\",\".\",IF(AR51=\"n/a\",\"n/a\",\nGETPIVOTDATA(AS$21 & \"\",PivotTableB!$A$3,\"SchoolName\",$B51,\"SubsidiaryName\",$C51,\"YearStart\",AO$13))),\"\")","v":0},{"$f":"IFERROR(IF(AS51=\".\",\".\",IF(AS51=\"n/a\",\"n/a\",\nGETPIVOTDATA(AT$21 & \"\",PivotTableB!$A$3,\"SchoolName\",$B51,\"SubsidiaryName\",$C51,\"YearStart\",AO$13))),\"\")","v":210},{"$f":"IFERROR(IF($B51=\"\",\"\",\nIF(OR($L51=\"Nursery School\",$L51=\"All-through PRU\",$M51=\"True\"),\"n/a\",\nIF(GETPIVOTDATA(AU$21 & \"\",PivotTableB!$A$3,\"SchoolName\",$B51,\"SubsidiaryName\",$C51,\"YearStart\",AU$13)=\"\",\".\",\nGETPIVOTDATA(AU$21 & \"\",PivotTableB!$A$3,\"SchoolName\",$B51,\"SubsidiaryName\",$C51,\"YearStart\",AU$13)))),\"\")","v":30},{"$f":"IFERROR(IF(AU51=\".\",\".\",IF(AU51=\"n/a\",\"n/a\",\nGETPIVOTDATA(AV$21 & \"\",PivotTableB!$A$3,\"SchoolName\",$B51,\"SubsidiaryName\",$C51,\"YearStart\",AU$13))),\"\")","v":0},{"$f":"IFERROR(IF(AV51=\".\",\".\",IF(AV51=\"n/a\",\"n/a\",\nGETPIVOTDATA(AW$21 & \"\",PivotTableB!$A$3,\"SchoolName\",$B51,\"SubsidiaryName\",$C51,\"YearStart\",AU$13))),\"\")","v":0},30,{"$f":"IFERROR(IF(AX51=\".\",\".\",IF(AX51=\"n/a\",\"n/a\",\nGETPIVOTDATA(AY$21 & \"\",PivotTableB!$A$3,\"SchoolName\",$B51,\"SubsidiaryName\",$C51,\"YearStart\",AU$13))),\"\")","v":0},{"$f":"IFERROR(IF(AY51=\".\",\".\",IF(AY51=\"n/a\",\"n/a\",\nGETPIVOTDATA(AZ$21 & \"\",PivotTableB!$A$3,\"SchoolName\",$B51,\"SubsidiaryName\",$C51,\"YearStart\",AU$13))),\"\")","v":210},{"$f":"IFERROR(IF($B51=\"\",\"\",\nIF(OR($L51=\"Nursery School\",$L51=\"All-through PRU\",$M51=\"True\"),\"n/a\",\nIF(GETPIVOTDATA(BA$21 & \"\",PivotTableB!$A$3,\"SchoolName\",$B51,\"SubsidiaryName\",$C51,\"YearStart\",BA$13)=\"\",\".\",\nGETPIVOTDATA(BA$21 & \"\",PivotTableB!$A$3,\"SchoolName\",$B51,\"SubsidiaryName\",$C51,\"YearStart\",BA$13)))),\"\")","v":30},{"$f":"IFERROR(IF(BA51=\".\",\".\",IF(BA51=\"n/a\",\"n/a\",\nGETPIVOTDATA(BB$21 & \"\",PivotTableB!$A$3,\"SchoolName\",$B51,\"SubsidiaryName\",$C51,\"YearStart\",BA$13))),\"\")","v":0},{"$f":"IFERROR(IF(BB51=\".\",\".\",IF(BB51=\"n/a\",\"n/a\",\nGETPIVOTDATA(BC$21 & \"\",PivotTableB!$A$3,\"SchoolName\",$B51,\"SubsidiaryName\",$C51,\"YearStart\",BA$13))),\"\")","v":0},{"$f":"IFERROR(IF(BC51=\".\",\".\",IF(BC51=\"n/a\",\"n/a\",\nGETPIVOTDATA(BD$21 & \"\",PivotTableB!$A$3,\"SchoolName\",$B51,\"SubsidiaryName\",$C51,\"YearStart\",BB$13))),\"\")","v":""},30,{"$f":"IFERROR(IF(BE51=\".\",\".\",IF(BE51=\"n/a\",\"n/a\",\nGETPIVOTDATA(BF$21 & \"\",PivotTableB!$A$3,\"SchoolName\",$B51,\"SubsidiaryName\",$C51,\"YearStart\",BA$13))),\"\")","v":0},{"$f":"IFERROR(IF(BF51=\".\",\".\",IF(BF51=\"n/a\",\"n/a\",\nGETPIVOTDATA(BG$21 & \"\",PivotTableB!$A$3,\"SchoolName\",$B51,\"SubsidiaryName\",$C51,\"YearStart\",BA$13))),\"\")","v":210},{"$f":"IFERROR(IF($B51=\"\",\"\",\nIF(OR($L51=\"Nursery School\",$L51=\"All-through PRU\",$M51=\"True\"),\"n/a\",\nIF(GETPIVOTDATA(BH$21 & \"\",PivotTableB!$A$3,\"SchoolName\",$B51,\"SubsidiaryName\",$C51,\"YearStart\",BH$13)=\"\",\".\",\nGETPIVOTDATA(BH$21 & \"\",PivotTableB!$A$3,\"SchoolName\",$B51,\"SubsidiaryName\",$C51,\"YearStart\",BH$13)))),\"\")","v":30},{"$f":"IFERROR(IF(BH51=\".\",\".\",IF(BH51=\"n/a\",\"n/a\",\nGETPIVOTDATA(BI$21 & \"\",PivotTableB!$A$3,\"SchoolName\",$B51,\"SubsidiaryName\",$C51,\"YearStart\",BH$13))),\"\")","v":0},{"$f":"IFERROR(IF(BI51=\".\",\".\",IF(BI51=\"n/a\",\"n/a\",\nGETPIVOTDATA(BJ$21 & \"\",PivotTableB!$A$3,\"SchoolName\",$B51,\"SubsidiaryName\",$C51,\"YearStart\",BH$13))),\"\")","v":0},{"$f":"IFERROR(IF(BJ51=\".\",\".\",IF(BJ51=\"n/a\",\"n/a\",\nGETPIVOTDATA(BK$21 & \"\",PivotTableB!$A$3,\"SchoolName\",$B51,\"SubsidiaryName\",$C51,\"YearStart\",BH$13))),\"\")","v":0},30,{"$f":"IFERROR(IF(BL51=\".\",\".\",IF(BL51=\"n/a\",\"n/a\",\nGETPIVOTDATA(BM$21 & \"\",PivotTableB!$A$3,\"SchoolName\",$B51,\"SubsidiaryName\",$C51,\"YearStart\",BH$13))),\"\")","v":0},{"$f":"IFERROR(IF(BM51=\".\",\".\",IF(BM51=\"n/a\",\"n/a\",\nGETPIVOTDATA(BN$21 & \"\",PivotTableB!$A$3,\"SchoolName\",$B51,\"SubsidiaryName\",$C51,\"YearStart\",BH$13))),\"\")","v":210},{"$f":"IFERROR(IF($B51=\"\",\"\",\nIF(OR($L51=\"Nursery School\",$L51=\"All-through PRU\",$M51=\"True\"),\"n/a\",\nIF(GETPIVOTDATA(BO$21 & \"\",PivotTableB!$A$3,\"SchoolName\",$B51,\"SubsidiaryName\",$C51,\"YearStart\",BO$13)=\"\",\".\",\nGETPIVOTDATA(BO$21 & \"\",PivotTableB!$A$3,\"SchoolName\",$B51,\"SubsidiaryName\",$C51,\"YearStart\",BO$13)))),\"\")","v":30},{"$f":"IFERROR(IF(BO51=\".\",\".\",IF(BO51=\"n/a\",\"n/a\",\nGETPIVOTDATA(BP$21 & \"\",PivotTableB!$A$3,\"SchoolName\",$B51,\"SubsidiaryName\",$C51,\"YearStart\",BO$13))),\"\")","v":0},{"$f":"IFERROR(IF(BP51=\".\",\".\",IF(BP51=\"n/a\",\"n/a\",\nGETPIVOTDATA(BQ$21 & \"\",PivotTableB!$A$3,\"SchoolName\",$B51,\"SubsidiaryName\",$C51,\"YearStart\",BO$13))),\"\")","v":0},{"$f":"IFERROR(IF(BQ51=\".\",\".\",IF(BQ51=\"n/a\",\"n/a\",\nGETPIVOTDATA(BR$21 & \"\",PivotTableB!$A$3,\"SchoolName\",$B51,\"SubsidiaryName\",$C51,\"YearStart\",BP$13))),\"\")","v":""},30,{"$f":"IFERROR(IF(BS51=\".\",\".\",IF(BS51=\"n/a\",\"n/a\",\nGETPIVOTDATA(BT$21 & \"\",PivotTableB!$A$3,\"SchoolName\",$B51,\"SubsidiaryName\",$C51,\"YearStart\",BO$13))),\"\")","v":0},{"$f":"IFERROR(IF(BT51=\".\",\".\",IF(BT51=\"n/a\",\"n/a\",\nGETPIVOTDATA(BU$21 & \"\",PivotTableB!$A$3,\"SchoolName\",$B51,\"SubsidiaryName\",$C51,\"YearStart\",BO$13))),\"\")","v":210},{"$f":"IFERROR(IF($B51=\"\",\"\",\nIF(OR($L51=\"Nursery School\",$L51=\"All-through PRU\",$M51=\"True\"),\"n/a\",\nIF(GETPIVOTDATA(BV$21 & \"\",PivotTableB!$A$3,\"SchoolName\",$B51,\"SubsidiaryName\",$C51,\"YearStart\",BV$13)=\"\",\".\",\nGETPIVOTDATA(BV$21 & \"\",PivotTableB!$A$3,\"SchoolName\",$B51,\"SubsidiaryName\",$C51,\"YearStart\",BV$13)))),\"\")","v":30},{"$f":"IFERROR(IF(BV51=\".\",\".\",IF(BV51=\"n/a\",\"n/a\",\nGETPIVOTDATA(BW$21 & \"\",PivotTableB!$A$3,\"SchoolName\",$B51,\"SubsidiaryName\",$C51,\"YearStart\",BV$13))),\"\")","v":0},{"$f":"IFERROR(IF(BW51=\".\",\".\",IF(BW51=\"n/a\",\"n/a\",\nGETPIVOTDATA(BX$21 & \"\",PivotTableB!$A$3,\"SchoolName\",$B51,\"SubsidiaryName\",$C51,\"YearStart\",BV$13))),\"\")","v":0},{"$f":"IFERROR(IF(BX51=\".\",\".\",IF(BX51=\"n/a\",\"n/a\",\nGETPIVOTDATA(BY$21 & \"\",PivotTableB!$A$3,\"SchoolName\",$B51,\"SubsidiaryName\",$C51,\"YearStart\",BV$13))),\"\")","v":0},30,{"$f":"IFERROR(IF(BZ51=\".\",\".\",IF(BZ51=\"n/a\",\"n/a\",\nGETPIVOTDATA(CA$21 & \"\",PivotTableB!$A$3,\"SchoolName\",$B51,\"SubsidiaryName\",$C51,\"YearStart\",BV$13))),\"\")","v":0},{"$f":"IFERROR(IF(CA51=\".\",\".\",IF(CA51=\"n/a\",\"n/a\",\nGETPIVOTDATA(CB$21 & \"\",PivotTableB!$A$3,\"SchoolName\",$B51,\"SubsidiaryName\",$C51,\"YearStart\",BV$13))),\"\")","v":210}]
[null,{"$f":"IF(PivotTableA!A39=\"\",\"n/a\",PivotTableA!A39)","v":"Holy Trinity CE Primary School, Sunningdale"},{"$f":"IF(B52=\"n/a\",\"\",PivotTableA!B39)","v":"Holy Trinity CE Primary School, Sunningdale"},{"$f":"IF($B52=\"n/a\",\"\",PivotTableA!C39)","v":"R"},{"$f":"IF($B52=\"n/a\",\"\",PivotTableA!D39)","v":"Ascot"},{"$f":"IF($B52=\"n/a\",\"\",PivotTableA!E39)","v":"Ascot"},{"$f":"IF($B52=\"n/a\",\"\",PivotTableA!F39)","v":"North Sunningdale"},{"$f":"IF($B52=\"n/a\",\"\",PivotTableA!G39)","v":"Sunningdale"},{"$f":"IF($B52=\"n/a\",\"\",PivotTableA!H39)","v":"Sunningdale"},{"$f":"IF($B52=\"n/a\",\"\",PivotTableA!I39)","v":"Primary"},{"$f":"IF($B52=\"n/a\",\"\",PivotTableA!J39)","v":"Two Tier"},{"$f":"IF($B52=\"n/a\",\"\",PivotTableA!K39)","v":"JMI"},{"$f":"IF($B52=\"n/a\",\"\",PivotTableA!O39)","v":"FALSE"},{"$f":"IF($B52=\"n/a\",\"\",PivotTableA!L39)","v":"Voluntary Aided"},{"$f":"IF($B52=\"n/a\",\"\",PivotTableA!M39)","v":" "},{"$f":"IF($B52=\"n/a\",\"\",PivotTableA!N39)","v":"Church of England"},{"$f":"IFERROR(IF($B52=\"\",\"\",\nIF(OR($L52=\"Nursery School\",$L52=\"All-through PRU\",$M52=\"True\"),\"n/a\",\nIF(GETPIVOTDATA(Q$21 & \"\",PivotTableB!$A$3,\"SchoolName\",$B52,\"SubsidiaryName\",$C52,\"YearStart\",Q$13)=\"\",\".\",\nGETPIVOTDATA(Q$21 & \"\",PivotTableB!$A$3,\"SchoolName\",$B52,\"SubsidiaryName\",$C52,\"YearStart\",Q$13)))),\"\")","v":30},{"$f":"IFERROR(IF(Q52=\".\",\".\",IF(Q52=\"n/a\",\"n/a\",\nGETPIVOTDATA(R$21 & \"\",PivotTableB!$A$3,\"SchoolName\",$B52,\"SubsidiaryName\",$C52,\"YearStart\",Q$13))),\"\")","v":0},{"$f":"IFERROR(IF(R52=\".\",\".\",IF(R52=\"n/a\",\"n/a\",\nGETPIVOTDATA(S$21 & \"\",PivotTableB!$A$3,\"SchoolName\",$B52,\"SubsidiaryName\",$C52,\"YearStart\",Q$13))),\"\")","v":0},30,{"$f":"IFERROR(IF(T52=\".\",\".\",IF(T52=\"n/a\",\"n/a\",\nGETPIVOTDATA(U$21 & \"\",PivotTableB!$A$3,\"SchoolName\",$B52,\"SubsidiaryName\",$C52,\"YearStart\",Q$13))),\"\")","v":0},{"$f":"IFERROR(IF(U52=\".\",\".\",IF(U52=\"n/a\",\"n/a\",\nGETPIVOTDATA(V$21 & \"\",PivotTableB!$A$3,\"SchoolName\",$B52,\"SubsidiaryName\",$C52,\"YearStart\",Q$13))),\"\")","v":210},{"$f":"IFERROR(IF($B52=\"\",\"\",\nIF(OR($L52=\"Nursery School\",$L52=\"All-through PRU\",$M52=\"True\"),\"n/a\",\nIF(GETPIVOTDATA(W$21 & \"\",PivotTableB!$A$3,\"SchoolName\",$B52,\"SubsidiaryName\",$C52,\"YearStart\",W$13)=\"\",\".\",\nGETPIVOTDATA(W$21 & \"\",PivotTableB!$A$3,\"SchoolName\",$B52,\"SubsidiaryName\",$C52,\"YearStart\",W$13)))),\"\")","v":30},{"$f":"IFERROR(IF(W52=\".\",\".\",IF(W52=\"n/a\",\"n/a\",\nGETPIVOTDATA(X$21 & \"\",PivotTableB!$A$3,\"SchoolName\",$B52,\"SubsidiaryName\",$C52,\"YearStart\",W$13))),\"\")","v":0},{"$f":"IFERROR(IF(X52=\".\",\".\",IF(X52=\"n/a\",\"n/a\",\nGETPIVOTDATA(Y$21 & \"\",PivotTableB!$A$3,\"SchoolName\",$B52,\"SubsidiaryName\",$C52,\"YearStart\",W$13))),\"\")","v":0},30,{"$f":"IFERROR(IF(Z52=\".\",\".\",IF(Z52=\"n/a\",\"n/a\",\nGETPIVOTDATA(AA$21 & \"\",PivotTableB!$A$3,\"SchoolName\",$B52,\"SubsidiaryName\",$C52,\"YearStart\",W$13))),\"\")","v":0},{"$f":"IFERROR(IF(AA52=\".\",\".\",IF(AA52=\"n/a\",\"n/a\",\nGETPIVOTDATA(AB$21 & \"\",PivotTableB!$A$3,\"SchoolName\",$B52,\"SubsidiaryName\",$C52,\"YearStart\",W$13))),\"\")","v":210},{"$f":"IFERROR(IF($B52=\"\",\"\",\nIF(OR($L52=\"Nursery School\",$L52=\"All-through PRU\",$M52=\"True\"),\"n/a\",\nIF(GETPIVOTDATA(AC$21 & \"\",PivotTableB!$A$3,\"SchoolName\",$B52,\"SubsidiaryName\",$C52,\"YearStart\",AC$13)=\"\",\".\",\nGETPIVOTDATA(AC$21 & \"\",PivotTableB!$A$3,\"SchoolName\",$B52,\"SubsidiaryName\",$C52,\"YearStart\",AC$13)))),\"\")","v":30},{"$f":"IFERROR(IF(AC52=\".\",\".\",IF(AC52=\"n/a\",\"n/a\",\nGETPIVOTDATA(AD$21 & \"\",PivotTableB!$A$3,\"SchoolName\",$B52,\"SubsidiaryName\",$C52,\"YearStart\",AC$13))),\"\")","v":15},{"$f":"IFERROR(IF(AD52=\".\",\".\",IF(AD52=\"n/a\",\"n/a\",\nGETPIVOTDATA(AE$21 & \"\",PivotTableB!$A$3,\"SchoolName\",$B52,\"SubsidiaryName\",$C52,\"YearStart\",AC$13))),\"\")","v":0},45,{"$f":"IFERROR(IF(AF52=\".\",\".\",IF(AF52=\"n/a\",\"n/a\",\nGETPIVOTDATA(AG$21 & \"\",PivotTableB!$A$3,\"SchoolName\",$B52,\"SubsidiaryName\",$C52,\"YearStart\",AC$13))),\"\")","v":0},{"$f":"IFERROR(IF(AG52=\".\",\".\",IF(AG52=\"n/a\",\"n/a\",\nGETPIVOTDATA(AH$21 & \"\",PivotTableB!$A$3,\"SchoolName\",$B52,\"SubsidiaryName\",$C52,\"YearStart\",AC$13))),\"\")","v":225},{"$f":"IFERROR(IF($B52=\"\",\"\",\nIF(OR($L52=\"Nursery School\",$L52=\"All-through PRU\",$M52=\"True\"),\"n/a\",\nIF(GETPIVOTDATA(AI$21 & \"\",PivotTableB!$A$3,\"SchoolName\",$B52,\"SubsidiaryName\",$C52,\"YearStart\",AI$13)=\"\",\".\",\nGETPIVOTDATA(AI$21 & \"\",PivotTableB!$A$3,\"SchoolName\",$B52,\"SubsidiaryName\",$C52,\"YearStart\",AI$13)))),\"\")","v":30},{"$f":"IFERROR(IF(AI52=\".\",\".\",IF(AI52=\"n/a\",\"n/a\",\nGETPIVOTDATA(AJ$21 & \"\",PivotTableB!$A$3,\"SchoolName\",$B52,\"SubsidiaryName\",$C52,\"YearStart\",AI$13))),\"\")","v":0},{"$f":"IFERROR(IF(AJ52=\".\",\".\",IF(AJ52=\"n/a\",\"n/a\",\nGETPIVOTDATA(AK$21 & \"\",PivotTableB!$A$3,\"SchoolName\",$B52,\"SubsidiaryName\",$C52,\"YearStart\",AI$13))),\"\")","v":0},30,{"$f":"IFERROR(IF(AL52=\".\",\".\",IF(AL52=\"n/a\",\"n/a\",\nGETPIVOTDATA(AM$21 & \"\",PivotTableB!$A$3,\"SchoolName\",$B52,\"SubsidiaryName\",$C52,\"YearStart\",AI$13))),\"\")","v":0},{"$f":"IFERROR(IF(AM52=\".\",\".\",IF(AM52=\"n/a\",\"n/a\",\nGETPIVOTDATA(AN$21 & \"\",PivotTableB!$A$3,\"SchoolName\",$B52,\"SubsidiaryName\",$C52,\"YearStart\",AI$13))),\"\")","v":225},{"$f":"IFERROR(IF($B52=\"\",\"\",\nIF(OR($L52=\"Nursery School\",$L52=\"All-through PRU\",$M52=\"True\"),\"n/a\",\nIF(GETPIVOTDATA(AO$21 & \"\",PivotTableB!$A$3,\"SchoolName\",$B52,\"SubsidiaryName\",$C52,\"YearStart\",AO$13)=\"\",\".\",\nGETPIVOTDATA(AO$21 & \"\",PivotTableB!$A$3,\"SchoolName\",$B52,\"SubsidiaryName\",$C52,\"YearStart\",AO$13)))),\"\")","v":30},{"$f":"IFERROR(IF(AO52=\".\",\".\",IF(AO52=\"n/a\",\"n/a\",\nGETPIVOTDATA(AP$21 & \"\",PivotTableB!$A$3,\"SchoolName\",$B52,\"SubsidiaryName\",$C52,\"YearStart\",AO$13))),\"\")","v":0},{"$f":"IFERROR(IF(AP52=\".\",\".\",IF(AP52=\"n/a\",\"n/a\",\nGETPIVOTDATA(AQ$21 & \"\",PivotTableB!$A$3,\"SchoolName\",$B52,\"SubsidiaryName\",$C52,\"YearStart\",AO$13))),\"\")","v":0},30,{"$f":"IFERROR(IF(AR52=\".\",\".\",IF(AR52=\"n/a\",\"n/a\",\nGETPIVOTDATA(AS$21 & \"\",PivotTableB!$A$3,\"SchoolName\",$B52,\"SubsidiaryName\",$C52,\"YearStart\",AO$13))),\"\")","v":0},{"$f":"IFERROR(IF(AS52=\".\",\".\",IF(AS52=\"n/a\",\"n/a\",\nGETPIVOTDATA(AT$21 & \"\",PivotTableB!$A$3,\"SchoolName\",$B52,\"SubsidiaryName\",$C52,\"YearStart\",AO$13))),\"\")","v":225},{"$f":"IFERROR(IF($B52=\"\",\"\",\nIF(OR($L52=\"Nursery School\",$L52=\"All-through PRU\",$M52=\"True\"),\"n/a\",\nIF(GETPIVOTDATA(AU$21 & \"\",PivotTableB!$A$3,\"SchoolName\",$B52,\"SubsidiaryName\",$C52,\"YearStart\",AU$13)=\"\",\".\",\nGETPIVOTDATA(AU$21 & \"\",PivotTableB!$A$3,\"SchoolName\",$B52,\"SubsidiaryName\",$C52,\"YearStart\",AU$13)))),\"\")","v":30},{"$f":"IFERROR(IF(AU52=\".\",\".\",IF(AU52=\"n/a\",\"n/a\",\nGETPIVOTDATA(AV$21 & \"\",PivotTableB!$A$3,\"SchoolName\",$B52,\"SubsidiaryName\",$C52,\"YearStart\",AU$13))),\"\")","v":0},{"$f":"IFERROR(IF(AV52=\".\",\".\",IF(AV52=\"n/a\",\"n/a\",\nGETPIVOTDATA(AW$21 & \"\",PivotTableB!$A$3,\"SchoolName\",$B52,\"SubsidiaryName\",$C52,\"YearStart\",AU$13))),\"\")","v":0},30,{"$f":"IFERROR(IF(AX52=\".\",\".\",IF(AX52=\"n/a\",\"n/a\",\nGETPIVOTDATA(AY$21 & \"\",PivotTableB!$A$3,\"SchoolName\",$B52,\"SubsidiaryName\",$C52,\"YearStart\",AU$13))),\"\")","v":0},{"$f":"IFERROR(IF(AY52=\".\",\".\",IF(AY52=\"n/a\",\"n/a\",\nGETPIVOTDATA(AZ$21 & \"\",PivotTableB!$A$3,\"SchoolName\",$B52,\"SubsidiaryName\",$C52,\"YearStart\",AU$13))),\"\")","v":225},{"$f":"IFERROR(IF($B52=\"\",\"\",\nIF(OR($L52=\"Nursery School\",$L52=\"All-through PRU\",$M52=\"True\"),\"n/a\",\nIF(GETPIVOTDATA(BA$21 & \"\",PivotTableB!$A$3,\"SchoolName\",$B52,\"SubsidiaryName\",$C52,\"YearStart\",BA$13)=\"\",\".\",\nGETPIVOTDATA(BA$21 & \"\",PivotTableB!$A$3,\"SchoolName\",$B52,\"SubsidiaryName\",$C52,\"YearStart\",BA$13)))),\"\")","v":30},{"$f":"IFERROR(IF(BA52=\".\",\".\",IF(BA52=\"n/a\",\"n/a\",\nGETPIVOTDATA(BB$21 & \"\",PivotTableB!$A$3,\"SchoolName\",$B52,\"SubsidiaryName\",$C52,\"YearStart\",BA$13))),\"\")","v":0},{"$f":"IFERROR(IF(BB52=\".\",\".\",IF(BB52=\"n/a\",\"n/a\",\nGETPIVOTDATA(BC$21 & \"\",PivotTableB!$A$3,\"SchoolName\",$B52,\"SubsidiaryName\",$C52,\"YearStart\",BA$13))),\"\")","v":0},{"$f":"IFERROR(IF(BC52=\".\",\".\",IF(BC52=\"n/a\",\"n/a\",\nGETPIVOTDATA(BD$21 & \"\",PivotTableB!$A$3,\"SchoolName\",$B52,\"SubsidiaryName\",$C52,\"YearStart\",BB$13))),\"\")","v":""},30,{"$f":"IFERROR(IF(BE52=\".\",\".\",IF(BE52=\"n/a\",\"n/a\",\nGETPIVOTDATA(BF$21 & \"\",PivotTableB!$A$3,\"SchoolName\",$B52,\"SubsidiaryName\",$C52,\"YearStart\",BA$13))),\"\")","v":0},{"$f":"IFERROR(IF(BF52=\".\",\".\",IF(BF52=\"n/a\",\"n/a\",\nGETPIVOTDATA(BG$21 & \"\",PivotTableB!$A$3,\"SchoolName\",$B52,\"SubsidiaryName\",$C52,\"YearStart\",BA$13))),\"\")","v":225},{"$f":"IFERROR(IF($B52=\"\",\"\",\nIF(OR($L52=\"Nursery School\",$L52=\"All-through PRU\",$M52=\"True\"),\"n/a\",\nIF(GETPIVOTDATA(BH$21 & \"\",PivotTableB!$A$3,\"SchoolName\",$B52,\"SubsidiaryName\",$C52,\"YearStart\",BH$13)=\"\",\".\",\nGETPIVOTDATA(BH$21 & \"\",PivotTableB!$A$3,\"SchoolName\",$B52,\"SubsidiaryName\",$C52,\"YearStart\",BH$13)))),\"\")","v":30},{"$f":"IFERROR(IF(BH52=\".\",\".\",IF(BH52=\"n/a\",\"n/a\",\nGETPIVOTDATA(BI$21 & \"\",PivotTableB!$A$3,\"SchoolName\",$B52,\"SubsidiaryName\",$C52,\"YearStart\",BH$13))),\"\")","v":0},{"$f":"IFERROR(IF(BI52=\".\",\".\",IF(BI52=\"n/a\",\"n/a\",\nGETPIVOTDATA(BJ$21 & \"\",PivotTableB!$A$3,\"SchoolName\",$B52,\"SubsidiaryName\",$C52,\"YearStart\",BH$13))),\"\")","v":0},{"$f":"IFERROR(IF(BJ52=\".\",\".\",IF(BJ52=\"n/a\",\"n/a\",\nGETPIVOTDATA(BK$21 & \"\",PivotTableB!$A$3,\"SchoolName\",$B52,\"SubsidiaryName\",$C52,\"YearStart\",BH$13))),\"\")","v":0},30,{"$f":"IFERROR(IF(BL52=\".\",\".\",IF(BL52=\"n/a\",\"n/a\",\nGETPIVOTDATA(BM$21 & \"\",PivotTableB!$A$3,\"SchoolName\",$B52,\"SubsidiaryName\",$C52,\"YearStart\",BH$13))),\"\")","v":0},{"$f":"IFERROR(IF(BM52=\".\",\".\",IF(BM52=\"n/a\",\"n/a\",\nGETPIVOTDATA(BN$21 & \"\",PivotTableB!$A$3,\"SchoolName\",$B52,\"SubsidiaryName\",$C52,\"YearStart\",BH$13))),\"\")","v":225},{"$f":"IFERROR(IF($B52=\"\",\"\",\nIF(OR($L52=\"Nursery School\",$L52=\"All-through PRU\",$M52=\"True\"),\"n/a\",\nIF(GETPIVOTDATA(BO$21 & \"\",PivotTableB!$A$3,\"SchoolName\",$B52,\"SubsidiaryName\",$C52,\"YearStart\",BO$13)=\"\",\".\",\nGETPIVOTDATA(BO$21 & \"\",PivotTableB!$A$3,\"SchoolName\",$B52,\"SubsidiaryName\",$C52,\"YearStart\",BO$13)))),\"\")","v":30},{"$f":"IFERROR(IF(BO52=\".\",\".\",IF(BO52=\"n/a\",\"n/a\",\nGETPIVOTDATA(BP$21 & \"\",PivotTableB!$A$3,\"SchoolName\",$B52,\"SubsidiaryName\",$C52,\"YearStart\",BO$13))),\"\")","v":0},{"$f":"IFERROR(IF(BP52=\".\",\".\",IF(BP52=\"n/a\",\"n/a\",\nGETPIVOTDATA(BQ$21 & \"\",PivotTableB!$A$3,\"SchoolName\",$B52,\"SubsidiaryName\",$C52,\"YearStart\",BO$13))),\"\")","v":0},{"$f":"IFERROR(IF(BQ52=\".\",\".\",IF(BQ52=\"n/a\",\"n/a\",\nGETPIVOTDATA(BR$21 & \"\",PivotTableB!$A$3,\"SchoolName\",$B52,\"SubsidiaryName\",$C52,\"YearStart\",BP$13))),\"\")","v":""},30,{"$f":"IFERROR(IF(BS52=\".\",\".\",IF(BS52=\"n/a\",\"n/a\",\nGETPIVOTDATA(BT$21 & \"\",PivotTableB!$A$3,\"SchoolName\",$B52,\"SubsidiaryName\",$C52,\"YearStart\",BO$13))),\"\")","v":0},{"$f":"IFERROR(IF(BT52=\".\",\".\",IF(BT52=\"n/a\",\"n/a\",\nGETPIVOTDATA(BU$21 & \"\",PivotTableB!$A$3,\"SchoolName\",$B52,\"SubsidiaryName\",$C52,\"YearStart\",BO$13))),\"\")","v":225},{"$f":"IFERROR(IF($B52=\"\",\"\",\nIF(OR($L52=\"Nursery School\",$L52=\"All-through PRU\",$M52=\"True\"),\"n/a\",\nIF(GETPIVOTDATA(BV$21 & \"\",PivotTableB!$A$3,\"SchoolName\",$B52,\"SubsidiaryName\",$C52,\"YearStart\",BV$13)=\"\",\".\",\nGETPIVOTDATA(BV$21 & \"\",PivotTableB!$A$3,\"SchoolName\",$B52,\"SubsidiaryName\",$C52,\"YearStart\",BV$13)))),\"\")","v":30},{"$f":"IFERROR(IF(BV52=\".\",\".\",IF(BV52=\"n/a\",\"n/a\",\nGETPIVOTDATA(BW$21 & \"\",PivotTableB!$A$3,\"SchoolName\",$B52,\"SubsidiaryName\",$C52,\"YearStart\",BV$13))),\"\")","v":0},{"$f":"IFERROR(IF(BW52=\".\",\".\",IF(BW52=\"n/a\",\"n/a\",\nGETPIVOTDATA(BX$21 & \"\",PivotTableB!$A$3,\"SchoolName\",$B52,\"SubsidiaryName\",$C52,\"YearStart\",BV$13))),\"\")","v":0},{"$f":"IFERROR(IF(BX52=\".\",\".\",IF(BX52=\"n/a\",\"n/a\",\nGETPIVOTDATA(BY$21 & \"\",PivotTableB!$A$3,\"SchoolName\",$B52,\"SubsidiaryName\",$C52,\"YearStart\",BV$13))),\"\")","v":0},30,{"$f":"IFERROR(IF(BZ52=\".\",\".\",IF(BZ52=\"n/a\",\"n/a\",\nGETPIVOTDATA(CA$21 & \"\",PivotTableB!$A$3,\"SchoolName\",$B52,\"SubsidiaryName\",$C52,\"YearStart\",BV$13))),\"\")","v":0},{"$f":"IFERROR(IF(CA52=\".\",\".\",IF(CA52=\"n/a\",\"n/a\",\nGETPIVOTDATA(CB$21 & \"\",PivotTableB!$A$3,\"SchoolName\",$B52,\"SubsidiaryName\",$C52,\"YearStart\",BV$13))),\"\")","v":225}]
[null,{"$f":"IF(PivotTableA!A40=\"\",\"n/a\",PivotTableA!A40)","v":"Holyport C of E Primary School & Foundation Unit"},{"$f":"IF(B53=\"n/a\",\"\",PivotTableA!B40)","v":"Holyport C of E Primary School & Foundation Unit"},{"$f":"IF($B53=\"n/a\",\"\",PivotTableA!C40)","v":"R"},{"$f":"IF($B53=\"n/a\",\"\",PivotTableA!D40)","v":"Maidenhead"},{"$f":"IF($B53=\"n/a\",\"\",PivotTableA!E40)","v":"South East Maidenhead"},{"$f":"IF($B53=\"n/a\",\"\",PivotTableA!F40)","v":"Holyport Rural"},{"$f":"IF($B53=\"n/a\",\"\",PivotTableA!G40)","v":"Bray"},{"$f":"IF($B53=\"n/a\",\"\",PivotTableA!H40)","v":"Bray"},{"$f":"IF($B53=\"n/a\",\"\",PivotTableA!I40)","v":"Primary"},{"$f":"IF($B53=\"n/a\",\"\",PivotTableA!J40)","v":"Two Tier"},{"$f":"IF($B53=\"n/a\",\"\",PivotTableA!K40)","v":"JMI"},{"$f":"IF($B53=\"n/a\",\"\",PivotTableA!O40)","v":"FALSE"},{"$f":"IF($B53=\"n/a\",\"\",PivotTableA!L40)","v":"Academy"},{"$f":"IF($B53=\"n/a\",\"\",PivotTableA!M40)","v":"2016-06-01"},{"$f":"IF($B53=\"n/a\",\"\",PivotTableA!N40)","v":"Church of England"},{"$f":"IFERROR(IF($B53=\"\",\"\",\nIF(OR($L53=\"Nursery School\",$L53=\"All-through PRU\",$M53=\"True\"),\"n/a\",\nIF(GETPIVOTDATA(Q$21 & \"\",PivotTableB!$A$3,\"SchoolName\",$B53,\"SubsidiaryName\",$C53,\"YearStart\",Q$13)=\"\",\".\",\nGETPIVOTDATA(Q$21 & \"\",PivotTableB!$A$3,\"SchoolName\",$B53,\"SubsidiaryName\",$C53,\"YearStart\",Q$13)))),\"\")","v":60},{"$f":"IFERROR(IF(Q53=\".\",\".\",IF(Q53=\"n/a\",\"n/a\",\nGETPIVOTDATA(R$21 & \"\",PivotTableB!$A$3,\"SchoolName\",$B53,\"SubsidiaryName\",$C53,\"YearStart\",Q$13))),\"\")","v":0},{"$f":"IFERROR(IF(R53=\".\",\".\",IF(R53=\"n/a\",\"n/a\",\nGETPIVOTDATA(S$21 & \"\",PivotTableB!$A$3,\"SchoolName\",$B53,\"SubsidiaryName\",$C53,\"YearStart\",Q$13))),\"\")","v":0},60,{"$f":"IFERROR(IF(T53=\".\",\".\",IF(T53=\"n/a\",\"n/a\",\nGETPIVOTDATA(U$21 & \"\",PivotTableB!$A$3,\"SchoolName\",$B53,\"SubsidiaryName\",$C53,\"YearStart\",Q$13))),\"\")","v":0},{"$f":"IFERROR(IF(U53=\".\",\".\",IF(U53=\"n/a\",\"n/a\",\nGETPIVOTDATA(V$21 & \"\",PivotTableB!$A$3,\"SchoolName\",$B53,\"SubsidiaryName\",$C53,\"YearStart\",Q$13))),\"\")","v":420},{"$f":"IFERROR(IF($B53=\"\",\"\",\nIF(OR($L53=\"Nursery School\",$L53=\"All-through PRU\",$M53=\"True\"),\"n/a\",\nIF(GETPIVOTDATA(W$21 & \"\",PivotTableB!$A$3,\"SchoolName\",$B53,\"SubsidiaryName\",$C53,\"YearStart\",W$13)=\"\",\".\",\nGETPIVOTDATA(W$21 & \"\",PivotTableB!$A$3,\"SchoolName\",$B53,\"SubsidiaryName\",$C53,\"YearStart\",W$13)))),\"\")","v":60},{"$f":"IFERROR(IF(W53=\".\",\".\",IF(W53=\"n/a\",\"n/a\",\nGETPIVOTDATA(X$21 & \"\",PivotTableB!$A$3,\"SchoolName\",$B53,\"SubsidiaryName\",$C53,\"YearStart\",W$13))),\"\")","v":0},{"$f":"IFERROR(IF(X53=\".\",\".\",IF(X53=\"n/a\",\"n/a\",\nGETPIVOTDATA(Y$21 & \"\",PivotTableB!$A$3,\"SchoolName\",$B53,\"SubsidiaryName\",$C53,\"YearStart\",W$13))),\"\")","v":0},60,{"$f":"IFERROR(IF(Z53=\".\",\".\",IF(Z53=\"n/a\",\"n/a\",\nGETPIVOTDATA(AA$21 & \"\",PivotTableB!$A$3,\"SchoolName\",$B53,\"SubsidiaryName\",$C53,\"YearStart\",W$13))),\"\")","v":0},{"$f":"IFERROR(IF(AA53=\".\",\".\",IF(AA53=\"n/a\",\"n/a\",\nGETPIVOTDATA(AB$21 & \"\",PivotTableB!$A$3,\"SchoolName\",$B53,\"SubsidiaryName\",$C53,\"YearStart\",W$13))),\"\")","v":420},{"$f":"IFERROR(IF($B53=\"\",\"\",\nIF(OR($L53=\"Nursery School\",$L53=\"All-through PRU\",$M53=\"True\"),\"n/a\",\nIF(GETPIVOTDATA(AC$21 & \"\",PivotTableB!$A$3,\"SchoolName\",$B53,\"SubsidiaryName\",$C53,\"YearStart\",AC$13)=\"\",\".\",\nGETPIVOTDATA(AC$21 & \"\",PivotTableB!$A$3,\"SchoolName\",$B53,\"SubsidiaryName\",$C53,\"YearStart\",AC$13)))),\"\")","v":60},{"$f":"IFERROR(IF(AC53=\".\",\".\",IF(AC53=\"n/a\",\"n/a\",\nGETPIVOTDATA(AD$21 & \"\",PivotTableB!$A$3,\"SchoolName\",$B53,\"SubsidiaryName\",$C53,\"YearStart\",AC$13))),\"\")","v":0},{"$f":"IFERROR(IF(AD53=\".\",\".\",IF(AD53=\"n/a\",\"n/a\",\nGETPIVOTDATA(AE$21 & \"\",PivotTableB!$A$3,\"SchoolName\",$B53,\"SubsidiaryName\",$C53,\"YearStart\",AC$13))),\"\")","v":0},60,{"$f":"IFERROR(IF(AF53=\".\",\".\",IF(AF53=\"n/a\",\"n/a\",\nGETPIVOTDATA(AG$21 & \"\",PivotTableB!$A$3,\"SchoolName\",$B53,\"SubsidiaryName\",$C53,\"YearStart\",AC$13))),\"\")","v":0},{"$f":"IFERROR(IF(AG53=\".\",\".\",IF(AG53=\"n/a\",\"n/a\",\nGETPIVOTDATA(AH$21 & \"\",PivotTableB!$A$3,\"SchoolName\",$B53,\"SubsidiaryName\",$C53,\"YearStart\",AC$13))),\"\")","v":420},{"$f":"IFERROR(IF($B53=\"\",\"\",\nIF(OR($L53=\"Nursery School\",$L53=\"All-through PRU\",$M53=\"True\"),\"n/a\",\nIF(GETPIVOTDATA(AI$21 & \"\",PivotTableB!$A$3,\"SchoolName\",$B53,\"SubsidiaryName\",$C53,\"YearStart\",AI$13)=\"\",\".\",\nGETPIVOTDATA(AI$21 & \"\",PivotTableB!$A$3,\"SchoolName\",$B53,\"SubsidiaryName\",$C53,\"YearStart\",AI$13)))),\"\")","v":60},{"$f":"IFERROR(IF(AI53=\".\",\".\",IF(AI53=\"n/a\",\"n/a\",\nGETPIVOTDATA(AJ$21 & \"\",PivotTableB!$A$3,\"SchoolName\",$B53,\"SubsidiaryName\",$C53,\"YearStart\",AI$13))),\"\")","v":0},{"$f":"IFERROR(IF(AJ53=\".\",\".\",IF(AJ53=\"n/a\",\"n/a\",\nGETPIVOTDATA(AK$21 & \"\",PivotTableB!$A$3,\"SchoolName\",$B53,\"SubsidiaryName\",$C53,\"YearStart\",AI$13))),\"\")","v":0},60,{"$f":"IFERROR(IF(AL53=\".\",\".\",IF(AL53=\"n/a\",\"n/a\",\nGETPIVOTDATA(AM$21 & \"\",PivotTableB!$A$3,\"SchoolName\",$B53,\"SubsidiaryName\",$C53,\"YearStart\",AI$13))),\"\")","v":0},{"$f":"IFERROR(IF(AM53=\".\",\".\",IF(AM53=\"n/a\",\"n/a\",\nGETPIVOTDATA(AN$21 & \"\",PivotTableB!$A$3,\"SchoolName\",$B53,\"SubsidiaryName\",$C53,\"YearStart\",AI$13))),\"\")","v":420},{"$f":"IFERROR(IF($B53=\"\",\"\",\nIF(OR($L53=\"Nursery School\",$L53=\"All-through PRU\",$M53=\"True\"),\"n/a\",\nIF(GETPIVOTDATA(AO$21 & \"\",PivotTableB!$A$3,\"SchoolName\",$B53,\"SubsidiaryName\",$C53,\"YearStart\",AO$13)=\"\",\".\",\nGETPIVOTDATA(AO$21 & \"\",PivotTableB!$A$3,\"SchoolName\",$B53,\"SubsidiaryName\",$C53,\"YearStart\",AO$13)))),\"\")","v":60},{"$f":"IFERROR(IF(AO53=\".\",\".\",IF(AO53=\"n/a\",\"n/a\",\nGETPIVOTDATA(AP$21 & \"\",PivotTableB!$A$3,\"SchoolName\",$B53,\"SubsidiaryName\",$C53,\"YearStart\",AO$13))),\"\")","v":0},{"$f":"IFERROR(IF(AP53=\".\",\".\",IF(AP53=\"n/a\",\"n/a\",\nGETPIVOTDATA(AQ$21 & \"\",PivotTableB!$A$3,\"SchoolName\",$B53,\"SubsidiaryName\",$C53,\"YearStart\",AO$13))),\"\")","v":0},60,{"$f":"IFERROR(IF(AR53=\".\",\".\",IF(AR53=\"n/a\",\"n/a\",\nGETPIVOTDATA(AS$21 & \"\",PivotTableB!$A$3,\"SchoolName\",$B53,\"SubsidiaryName\",$C53,\"YearStart\",AO$13))),\"\")","v":0},{"$f":"IFERROR(IF(AS53=\".\",\".\",IF(AS53=\"n/a\",\"n/a\",\nGETPIVOTDATA(AT$21 & \"\",PivotTableB!$A$3,\"SchoolName\",$B53,\"SubsidiaryName\",$C53,\"YearStart\",AO$13))),\"\")","v":420},{"$f":"IFERROR(IF($B53=\"\",\"\",\nIF(OR($L53=\"Nursery School\",$L53=\"All-through PRU\",$M53=\"True\"),\"n/a\",\nIF(GETPIVOTDATA(AU$21 & \"\",PivotTableB!$A$3,\"SchoolName\",$B53,\"SubsidiaryName\",$C53,\"YearStart\",AU$13)=\"\",\".\",\nGETPIVOTDATA(AU$21 & \"\",PivotTableB!$A$3,\"SchoolName\",$B53,\"SubsidiaryName\",$C53,\"YearStart\",AU$13)))),\"\")","v":60},{"$f":"IFERROR(IF(AU53=\".\",\".\",IF(AU53=\"n/a\",\"n/a\",\nGETPIVOTDATA(AV$21 & \"\",PivotTableB!$A$3,\"SchoolName\",$B53,\"SubsidiaryName\",$C53,\"YearStart\",AU$13))),\"\")","v":0},{"$f":"IFERROR(IF(AV53=\".\",\".\",IF(AV53=\"n/a\",\"n/a\",\nGETPIVOTDATA(AW$21 & \"\",PivotTableB!$A$3,\"SchoolName\",$B53,\"SubsidiaryName\",$C53,\"YearStart\",AU$13))),\"\")","v":0},60,{"$f":"IFERROR(IF(AX53=\".\",\".\",IF(AX53=\"n/a\",\"n/a\",\nGETPIVOTDATA(AY$21 & \"\",PivotTableB!$A$3,\"SchoolName\",$B53,\"SubsidiaryName\",$C53,\"YearStart\",AU$13))),\"\")","v":0},{"$f":"IFERROR(IF(AY53=\".\",\".\",IF(AY53=\"n/a\",\"n/a\",\nGETPIVOTDATA(AZ$21 & \"\",PivotTableB!$A$3,\"SchoolName\",$B53,\"SubsidiaryName\",$C53,\"YearStart\",AU$13))),\"\")","v":420},{"$f":"IFERROR(IF($B53=\"\",\"\",\nIF(OR($L53=\"Nursery School\",$L53=\"All-through PRU\",$M53=\"True\"),\"n/a\",\nIF(GETPIVOTDATA(BA$21 & \"\",PivotTableB!$A$3,\"SchoolName\",$B53,\"SubsidiaryName\",$C53,\"YearStart\",BA$13)=\"\",\".\",\nGETPIVOTDATA(BA$21 & \"\",PivotTableB!$A$3,\"SchoolName\",$B53,\"SubsidiaryName\",$C53,\"YearStart\",BA$13)))),\"\")","v":60},{"$f":"IFERROR(IF(BA53=\".\",\".\",IF(BA53=\"n/a\",\"n/a\",\nGETPIVOTDATA(BB$21 & \"\",PivotTableB!$A$3,\"SchoolName\",$B53,\"SubsidiaryName\",$C53,\"YearStart\",BA$13))),\"\")","v":0},{"$f":"IFERROR(IF(BB53=\".\",\".\",IF(BB53=\"n/a\",\"n/a\",\nGETPIVOTDATA(BC$21 & \"\",PivotTableB!$A$3,\"SchoolName\",$B53,\"SubsidiaryName\",$C53,\"YearStart\",BA$13))),\"\")","v":0},{"$f":"IFERROR(IF(BC53=\".\",\".\",IF(BC53=\"n/a\",\"n/a\",\nGETPIVOTDATA(BD$21 & \"\",PivotTableB!$A$3,\"SchoolName\",$B53,\"SubsidiaryName\",$C53,\"YearStart\",BB$13))),\"\")","v":""},60,{"$f":"IFERROR(IF(BE53=\".\",\".\",IF(BE53=\"n/a\",\"n/a\",\nGETPIVOTDATA(BF$21 & \"\",PivotTableB!$A$3,\"SchoolName\",$B53,\"SubsidiaryName\",$C53,\"YearStart\",BA$13))),\"\")","v":0},{"$f":"IFERROR(IF(BF53=\".\",\".\",IF(BF53=\"n/a\",\"n/a\",\nGETPIVOTDATA(BG$21 & \"\",PivotTableB!$A$3,\"SchoolName\",$B53,\"SubsidiaryName\",$C53,\"YearStart\",BA$13))),\"\")","v":420},{"$f":"IFERROR(IF($B53=\"\",\"\",\nIF(OR($L53=\"Nursery School\",$L53=\"All-through PRU\",$M53=\"True\"),\"n/a\",\nIF(GETPIVOTDATA(BH$21 & \"\",PivotTableB!$A$3,\"SchoolName\",$B53,\"SubsidiaryName\",$C53,\"YearStart\",BH$13)=\"\",\".\",\nGETPIVOTDATA(BH$21 & \"\",PivotTableB!$A$3,\"SchoolName\",$B53,\"SubsidiaryName\",$C53,\"YearStart\",BH$13)))),\"\")","v":60},{"$f":"IFERROR(IF(BH53=\".\",\".\",IF(BH53=\"n/a\",\"n/a\",\nGETPIVOTDATA(BI$21 & \"\",PivotTableB!$A$3,\"SchoolName\",$B53,\"SubsidiaryName\",$C53,\"YearStart\",BH$13))),\"\")","v":0},{"$f":"IFERROR(IF(BI53=\".\",\".\",IF(BI53=\"n/a\",\"n/a\",\nGETPIVOTDATA(BJ$21 & \"\",PivotTableB!$A$3,\"SchoolName\",$B53,\"SubsidiaryName\",$C53,\"YearStart\",BH$13))),\"\")","v":0},{"$f":"IFERROR(IF(BJ53=\".\",\".\",IF(BJ53=\"n/a\",\"n/a\",\nGETPIVOTDATA(BK$21 & \"\",PivotTableB!$A$3,\"SchoolName\",$B53,\"SubsidiaryName\",$C53,\"YearStart\",BH$13))),\"\")","v":0},60,{"$f":"IFERROR(IF(BL53=\".\",\".\",IF(BL53=\"n/a\",\"n/a\",\nGETPIVOTDATA(BM$21 & \"\",PivotTableB!$A$3,\"SchoolName\",$B53,\"SubsidiaryName\",$C53,\"YearStart\",BH$13))),\"\")","v":0},{"$f":"IFERROR(IF(BM53=\".\",\".\",IF(BM53=\"n/a\",\"n/a\",\nGETPIVOTDATA(BN$21 & \"\",PivotTableB!$A$3,\"SchoolName\",$B53,\"SubsidiaryName\",$C53,\"YearStart\",BH$13))),\"\")","v":420},{"$f":"IFERROR(IF($B53=\"\",\"\",\nIF(OR($L53=\"Nursery School\",$L53=\"All-through PRU\",$M53=\"True\"),\"n/a\",\nIF(GETPIVOTDATA(BO$21 & \"\",PivotTableB!$A$3,\"SchoolName\",$B53,\"SubsidiaryName\",$C53,\"YearStart\",BO$13)=\"\",\".\",\nGETPIVOTDATA(BO$21 & \"\",PivotTableB!$A$3,\"SchoolName\",$B53,\"SubsidiaryName\",$C53,\"YearStart\",BO$13)))),\"\")","v":60},{"$f":"IFERROR(IF(BO53=\".\",\".\",IF(BO53=\"n/a\",\"n/a\",\nGETPIVOTDATA(BP$21 & \"\",PivotTableB!$A$3,\"SchoolName\",$B53,\"SubsidiaryName\",$C53,\"YearStart\",BO$13))),\"\")","v":0},{"$f":"IFERROR(IF(BP53=\".\",\".\",IF(BP53=\"n/a\",\"n/a\",\nGETPIVOTDATA(BQ$21 & \"\",PivotTableB!$A$3,\"SchoolName\",$B53,\"SubsidiaryName\",$C53,\"YearStart\",BO$13))),\"\")","v":0},{"$f":"IFERROR(IF(BQ53=\".\",\".\",IF(BQ53=\"n/a\",\"n/a\",\nGETPIVOTDATA(BR$21 & \"\",PivotTableB!$A$3,\"SchoolName\",$B53,\"SubsidiaryName\",$C53,\"YearStart\",BP$13))),\"\")","v":""},60,{"$f":"IFERROR(IF(BS53=\".\",\".\",IF(BS53=\"n/a\",\"n/a\",\nGETPIVOTDATA(BT$21 & \"\",PivotTableB!$A$3,\"SchoolName\",$B53,\"SubsidiaryName\",$C53,\"YearStart\",BO$13))),\"\")","v":0},{"$f":"IFERROR(IF(BT53=\".\",\".\",IF(BT53=\"n/a\",\"n/a\",\nGETPIVOTDATA(BU$21 & \"\",PivotTableB!$A$3,\"SchoolName\",$B53,\"SubsidiaryName\",$C53,\"YearStart\",BO$13))),\"\")","v":420},{"$f":"IFERROR(IF($B53=\"\",\"\",\nIF(OR($L53=\"Nursery School\",$L53=\"All-through PRU\",$M53=\"True\"),\"n/a\",\nIF(GETPIVOTDATA(BV$21 & \"\",PivotTableB!$A$3,\"SchoolName\",$B53,\"SubsidiaryName\",$C53,\"YearStart\",BV$13)=\"\",\".\",\nGETPIVOTDATA(BV$21 & \"\",PivotTableB!$A$3,\"SchoolName\",$B53,\"SubsidiaryName\",$C53,\"YearStart\",BV$13)))),\"\")","v":60},{"$f":"IFERROR(IF(BV53=\".\",\".\",IF(BV53=\"n/a\",\"n/a\",\nGETPIVOTDATA(BW$21 & \"\",PivotTableB!$A$3,\"SchoolName\",$B53,\"SubsidiaryName\",$C53,\"YearStart\",BV$13))),\"\")","v":0},{"$f":"IFERROR(IF(BW53=\".\",\".\",IF(BW53=\"n/a\",\"n/a\",\nGETPIVOTDATA(BX$21 & \"\",PivotTableB!$A$3,\"SchoolName\",$B53,\"SubsidiaryName\",$C53,\"YearStart\",BV$13))),\"\")","v":0},{"$f":"IFERROR(IF(BX53=\".\",\".\",IF(BX53=\"n/a\",\"n/a\",\nGETPIVOTDATA(BY$21 & \"\",PivotTableB!$A$3,\"SchoolName\",$B53,\"SubsidiaryName\",$C53,\"YearStart\",BV$13))),\"\")","v":0},60,{"$f":"IFERROR(IF(BZ53=\".\",\".\",IF(BZ53=\"n/a\",\"n/a\",\nGETPIVOTDATA(CA$21 & \"\",PivotTableB!$A$3,\"SchoolName\",$B53,\"SubsidiaryName\",$C53,\"YearStart\",BV$13))),\"\")","v":0},{"$f":"IFERROR(IF(CA53=\".\",\".\",IF(CA53=\"n/a\",\"n/a\",\nGETPIVOTDATA(CB$21 & \"\",PivotTableB!$A$3,\"SchoolName\",$B53,\"SubsidiaryName\",$C53,\"YearStart\",BV$13))),\"\")","v":420}]
[null,{"$f":"IF(PivotTableA!A41=\"\",\"n/a\",PivotTableA!A41)","v":"Holyport College"},{"$f":"IF(B54=\"n/a\",\"\",PivotTableA!B41)","v":"Holyport College (Year 7)"},{"$f":"IF($B54=\"n/a\",\"\",PivotTableA!C41)","v":"7"},{"$f":"IF($B54=\"n/a\",\"\",PivotTableA!D41)","v":"Maidenhead"},{"$f":"IF($B54=\"n/a\",\"\",PivotTableA!E41)","v":"South East Maidenhead"},{"$f":"IF($B54=\"n/a\",\"\",PivotTableA!F41)","v":"Holyport Rural"},{"$f":"IF($B54=\"n/a\",\"\",PivotTableA!G41)","v":"Bray"},{"$f":"IF($B54=\"n/a\",\"\",PivotTableA!H41)","v":"Bray"},{"$f":"IF($B54=\"n/a\",\"\",PivotTableA!I41)","v":"Secondary"},{"$f":"IF($B54=\"n/a\",\"\",PivotTableA!J41)","v":"Two Tier"},{"$f":"IF($B54=\"n/a\",\"\",PivotTableA!K41)","v":"Secondary"},{"$f":"IF($B54=\"n/a\",\"\",PivotTableA!O41)","v":"FALSE"},{"$f":"IF($B54=\"n/a\",\"\",PivotTableA!L41)","v":"Free School"},{"$f":"IF($B54=\"n/a\",\"\",PivotTableA!M41)","v":" "},{"$f":"IF($B54=\"n/a\",\"\",PivotTableA!N41)","v":"None"},{"$f":"IFERROR(IF($B54=\"\",\"\",\nIF(OR($L54=\"Nursery School\",$L54=\"All-through PRU\",$M54=\"True\"),\"n/a\",\nIF(GETPIVOTDATA(Q$21 & \"\",PivotTableB!$A$3,\"SchoolName\",$B54,\"SubsidiaryName\",$C54,\"YearStart\",Q$13)=\"\",\".\",\nGETPIVOTDATA(Q$21 & \"\",PivotTableB!$A$3,\"SchoolName\",$B54,\"SubsidiaryName\",$C54,\"YearStart\",Q$13)))),\"\")","v":"."},{"$f":"IFERROR(IF(Q54=\".\",\".\",IF(Q54=\"n/a\",\"n/a\",\nGETPIVOTDATA(R$21 & \"\",PivotTableB!$A$3,\"SchoolName\",$B54,\"SubsidiaryName\",$C54,\"YearStart\",Q$13))),\"\")","v":"."},{"$f":"IFERROR(IF(R54=\".\",\".\",IF(R54=\"n/a\",\"n/a\",\nGETPIVOTDATA(S$21 & \"\",PivotTableB!$A$3,\"SchoolName\",$B54,\"SubsidiaryName\",$C54,\"YearStart\",Q$13))),\"\")","v":"."},".",{"$f":"IFERROR(IF(T54=\".\",\".\",IF(T54=\"n/a\",\"n/a\",\nGETPIVOTDATA(U$21 & \"\",PivotTableB!$A$3,\"SchoolName\",$B54,\"SubsidiaryName\",$C54,\"YearStart\",Q$13))),\"\")","v":"."},{"$f":"IFERROR(IF(U54=\".\",\".\",IF(U54=\"n/a\",\"n/a\",\nGETPIVOTDATA(V$21 & \"\",PivotTableB!$A$3,\"SchoolName\",$B54,\"SubsidiaryName\",$C54,\"YearStart\",Q$13))),\"\")","v":"."},{"$f":"IFERROR(IF($B54=\"\",\"\",\nIF(OR($L54=\"Nursery School\",$L54=\"All-through PRU\",$M54=\"True\"),\"n/a\",\nIF(GETPIVOTDATA(W$21 & \"\",PivotTableB!$A$3,\"SchoolName\",$B54,\"SubsidiaryName\",$C54,\"YearStart\",W$13)=\"\",\".\",\nGETPIVOTDATA(W$21 & \"\",PivotTableB!$A$3,\"SchoolName\",$B54,\"SubsidiaryName\",$C54,\"YearStart\",W$13)))),\"\")","v":40},{"$f":"IFERROR(IF(W54=\".\",\".\",IF(W54=\"n/a\",\"n/a\",\nGETPIVOTDATA(X$21 & \"\",PivotTableB!$A$3,\"SchoolName\",$B54,\"SubsidiaryName\",$C54,\"YearStart\",W$13))),\"\")","v":40},{"$f":"IFERROR(IF(X54=\".\",\".\",IF(X54=\"n/a\",\"n/a\",\nGETPIVOTDATA(Y$21 & \"\",PivotTableB!$A$3,\"SchoolName\",$B54,\"SubsidiaryName\",$C54,\"YearStart\",W$13))),\"\")","v":18},80,{"$f":"IFERROR(IF(Z54=\".\",\".\",IF(Z54=\"n/a\",\"n/a\",\nGETPIVOTDATA(AA$21 & \"\",PivotTableB!$A$3,\"SchoolName\",$B54,\"SubsidiaryName\",$C54,\"YearStart\",W$13))),\"\")","v":0},{"$f":"IFERROR(IF(AA54=\".\",\".\",IF(AA54=\"n/a\",\"n/a\",\nGETPIVOTDATA(AB$21 & \"\",PivotTableB!$A$3,\"SchoolName\",$B54,\"SubsidiaryName\",$C54,\"YearStart\",W$13))),\"\")","v":280},{"$f":"IFERROR(IF($B54=\"\",\"\",\nIF(OR($L54=\"Nursery School\",$L54=\"All-through PRU\",$M54=\"True\"),\"n/a\",\nIF(GETPIVOTDATA(AC$21 & \"\",PivotTableB!$A$3,\"SchoolName\",$B54,\"SubsidiaryName\",$C54,\"YearStart\",AC$13)=\"\",\".\",\nGETPIVOTDATA(AC$21 & \"\",PivotTableB!$A$3,\"SchoolName\",$B54,\"SubsidiaryName\",$C54,\"YearStart\",AC$13)))),\"\")","v":40},{"$f":"IFERROR(IF(AC54=\".\",\".\",IF(AC54=\"n/a\",\"n/a\",\nGETPIVOTDATA(AD$21 & \"\",PivotTableB!$A$3,\"SchoolName\",$B54,\"SubsidiaryName\",$C54,\"YearStart\",AC$13))),\"\")","v":4},{"$f":"IFERROR(IF(AD54=\".\",\".\",IF(AD54=\"n/a\",\"n/a\",\nGETPIVOTDATA(AE$21 & \"\",PivotTableB!$A$3,\"SchoolName\",$B54,\"SubsidiaryName\",$C54,\"YearStart\",AC$13))),\"\")","v":18},44,{"$f":"IFERROR(IF(AF54=\".\",\".\",IF(AF54=\"n/a\",\"n/a\",\nGETPIVOTDATA(AG$21 & \"\",PivotTableB!$A$3,\"SchoolName\",$B54,\"SubsidiaryName\",$C54,\"YearStart\",AC$13))),\"\")","v":0},{"$f":"IFERROR(IF(AG54=\".\",\".\",IF(AG54=\"n/a\",\"n/a\",\nGETPIVOTDATA(AH$21 & \"\",PivotTableB!$A$3,\"SchoolName\",$B54,\"SubsidiaryName\",$C54,\"YearStart\",AC$13))),\"\")","v":318},{"$f":"IFERROR(IF($B54=\"\",\"\",\nIF(OR($L54=\"Nursery School\",$L54=\"All-through PRU\",$M54=\"True\"),\"n/a\",\nIF(GETPIVOTDATA(AI$21 & \"\",PivotTableB!$A$3,\"SchoolName\",$B54,\"SubsidiaryName\",$C54,\"YearStart\",AI$13)=\"\",\".\",\nGETPIVOTDATA(AI$21 & \"\",PivotTableB!$A$3,\"SchoolName\",$B54,\"SubsidiaryName\",$C54,\"YearStart\",AI$13)))),\"\")","v":44},{"$f":"IFERROR(IF(AI54=\".\",\".\",IF(AI54=\"n/a\",\"n/a\",\nGETPIVOTDATA(AJ$21 & \"\",PivotTableB!$A$3,\"SchoolName\",$B54,\"SubsidiaryName\",$C54,\"YearStart\",AI$13))),\"\")","v":0},{"$f":"IFERROR(IF(AJ54=\".\",\".\",IF(AJ54=\"n/a\",\"n/a\",\nGETPIVOTDATA(AK$21 & \"\",PivotTableB!$A$3,\"SchoolName\",$B54,\"SubsidiaryName\",$C54,\"YearStart\",AI$13))),\"\")","v":18},44,{"$f":"IFERROR(IF(AL54=\".\",\".\",IF(AL54=\"n/a\",\"n/a\",\nGETPIVOTDATA(AM$21 & \"\",PivotTableB!$A$3,\"SchoolName\",$B54,\"SubsidiaryName\",$C54,\"YearStart\",AI$13))),\"\")","v":0},{"$f":"IFERROR(IF(AM54=\".\",\".\",IF(AM54=\"n/a\",\"n/a\",\nGETPIVOTDATA(AN$21 & \"\",PivotTableB!$A$3,\"SchoolName\",$B54,\"SubsidiaryName\",$C54,\"YearStart\",AI$13))),\"\")","v":318},{"$f":"IFERROR(IF($B54=\"\",\"\",\nIF(OR($L54=\"Nursery School\",$L54=\"All-through PRU\",$M54=\"True\"),\"n/a\",\nIF(GETPIVOTDATA(AO$21 & \"\",PivotTableB!$A$3,\"SchoolName\",$B54,\"SubsidiaryName\",$C54,\"YearStart\",AO$13)=\"\",\".\",\nGETPIVOTDATA(AO$21 & \"\",PivotTableB!$A$3,\"SchoolName\",$B54,\"SubsidiaryName\",$C54,\"YearStart\",AO$13)))),\"\")","v":44},{"$f":"IFERROR(IF(AO54=\".\",\".\",IF(AO54=\"n/a\",\"n/a\",\nGETPIVOTDATA(AP$21 & \"\",PivotTableB!$A$3,\"SchoolName\",$B54,\"SubsidiaryName\",$C54,\"YearStart\",AO$13))),\"\")","v":0},{"$f":"IFERROR(IF(AP54=\".\",\".\",IF(AP54=\"n/a\",\"n/a\",\nGETPIVOTDATA(AQ$21 & \"\",PivotTableB!$A$3,\"SchoolName\",$B54,\"SubsidiaryName\",$C54,\"YearStart\",AO$13))),\"\")","v":18},44,{"$f":"IFERROR(IF(AR54=\".\",\".\",IF(AR54=\"n/a\",\"n/a\",\nGETPIVOTDATA(AS$21 & \"\",PivotTableB!$A$3,\"SchoolName\",$B54,\"SubsidiaryName\",$C54,\"YearStart\",AO$13))),\"\")","v":0},{"$f":"IFERROR(IF(AS54=\".\",\".\",IF(AS54=\"n/a\",\"n/a\",\nGETPIVOTDATA(AT$21 & \"\",PivotTableB!$A$3,\"SchoolName\",$B54,\"SubsidiaryName\",$C54,\"YearStart\",AO$13))),\"\")","v":318},{"$f":"IFERROR(IF($B54=\"\",\"\",\nIF(OR($L54=\"Nursery School\",$L54=\"All-through PRU\",$M54=\"True\"),\"n/a\",\nIF(GETPIVOTDATA(AU$21 & \"\",PivotTableB!$A$3,\"SchoolName\",$B54,\"SubsidiaryName\",$C54,\"YearStart\",AU$13)=\"\",\".\",\nGETPIVOTDATA(AU$21 & \"\",PivotTableB!$A$3,\"SchoolName\",$B54,\"SubsidiaryName\",$C54,\"YearStart\",AU$13)))),\"\")","v":44},{"$f":"IFERROR(IF(AU54=\".\",\".\",IF(AU54=\"n/a\",\"n/a\",\nGETPIVOTDATA(AV$21 & \"\",PivotTableB!$A$3,\"SchoolName\",$B54,\"SubsidiaryName\",$C54,\"YearStart\",AU$13))),\"\")","v":0},{"$f":"IFERROR(IF(AV54=\".\",\".\",IF(AV54=\"n/a\",\"n/a\",\nGETPIVOTDATA(AW$21 & \"\",PivotTableB!$A$3,\"SchoolName\",$B54,\"SubsidiaryName\",$C54,\"YearStart\",AU$13))),\"\")","v":18},44,{"$f":"IFERROR(IF(AX54=\".\",\".\",IF(AX54=\"n/a\",\"n/a\",\nGETPIVOTDATA(AY$21 & \"\",PivotTableB!$A$3,\"SchoolName\",$B54,\"SubsidiaryName\",$C54,\"YearStart\",AU$13))),\"\")","v":0},{"$f":"IFERROR(IF(AY54=\".\",\".\",IF(AY54=\"n/a\",\"n/a\",\nGETPIVOTDATA(AZ$21 & \"\",PivotTableB!$A$3,\"SchoolName\",$B54,\"SubsidiaryName\",$C54,\"YearStart\",AU$13))),\"\")","v":318},{"$f":"IFERROR(IF($B54=\"\",\"\",\nIF(OR($L54=\"Nursery School\",$L54=\"All-through PRU\",$M54=\"True\"),\"n/a\",\nIF(GETPIVOTDATA(BA$21 & \"\",PivotTableB!$A$3,\"SchoolName\",$B54,\"SubsidiaryName\",$C54,\"YearStart\",BA$13)=\"\",\".\",\nGETPIVOTDATA(BA$21 & \"\",PivotTableB!$A$3,\"SchoolName\",$B54,\"SubsidiaryName\",$C54,\"YearStart\",BA$13)))),\"\")","v":44},{"$f":"IFERROR(IF(BA54=\".\",\".\",IF(BA54=\"n/a\",\"n/a\",\nGETPIVOTDATA(BB$21 & \"\",PivotTableB!$A$3,\"SchoolName\",$B54,\"SubsidiaryName\",$C54,\"YearStart\",BA$13))),\"\")","v":0},{"$f":"IFERROR(IF(BB54=\".\",\".\",IF(BB54=\"n/a\",\"n/a\",\nGETPIVOTDATA(BC$21 & \"\",PivotTableB!$A$3,\"SchoolName\",$B54,\"SubsidiaryName\",$C54,\"YearStart\",BA$13))),\"\")","v":0},{"$f":"IFERROR(IF(BC54=\".\",\".\",IF(BC54=\"n/a\",\"n/a\",\nGETPIVOTDATA(BD$21 & \"\",PivotTableB!$A$3,\"SchoolName\",$B54,\"SubsidiaryName\",$C54,\"YearStart\",BB$13))),\"\")","v":""},44,{"$f":"IFERROR(IF(BE54=\".\",\".\",IF(BE54=\"n/a\",\"n/a\",\nGETPIVOTDATA(BF$21 & \"\",PivotTableB!$A$3,\"SchoolName\",$B54,\"SubsidiaryName\",$C54,\"YearStart\",BA$13))),\"\")","v":0},{"$f":"IFERROR(IF(BF54=\".\",\".\",IF(BF54=\"n/a\",\"n/a\",\nGETPIVOTDATA(BG$21 & \"\",PivotTableB!$A$3,\"SchoolName\",$B54,\"SubsidiaryName\",$C54,\"YearStart\",BA$13))),\"\")","v":318},{"$f":"IFERROR(IF($B54=\"\",\"\",\nIF(OR($L54=\"Nursery School\",$L54=\"All-through PRU\",$M54=\"True\"),\"n/a\",\nIF(GETPIVOTDATA(BH$21 & \"\",PivotTableB!$A$3,\"SchoolName\",$B54,\"SubsidiaryName\",$C54,\"YearStart\",BH$13)=\"\",\".\",\nGETPIVOTDATA(BH$21 & \"\",PivotTableB!$A$3,\"SchoolName\",$B54,\"SubsidiaryName\",$C54,\"YearStart\",BH$13)))),\"\")","v":44},{"$f":"IFERROR(IF(BH54=\".\",\".\",IF(BH54=\"n/a\",\"n/a\",\nGETPIVOTDATA(BI$21 & \"\",PivotTableB!$A$3,\"SchoolName\",$B54,\"SubsidiaryName\",$C54,\"YearStart\",BH$13))),\"\")","v":0},{"$f":"IFERROR(IF(BI54=\".\",\".\",IF(BI54=\"n/a\",\"n/a\",\nGETPIVOTDATA(BJ$21 & \"\",PivotTableB!$A$3,\"SchoolName\",$B54,\"SubsidiaryName\",$C54,\"YearStart\",BH$13))),\"\")","v":0},{"$f":"IFERROR(IF(BJ54=\".\",\".\",IF(BJ54=\"n/a\",\"n/a\",\nGETPIVOTDATA(BK$21 & \"\",PivotTableB!$A$3,\"SchoolName\",$B54,\"SubsidiaryName\",$C54,\"YearStart\",BH$13))),\"\")","v":18},44,{"$f":"IFERROR(IF(BL54=\".\",\".\",IF(BL54=\"n/a\",\"n/a\",\nGETPIVOTDATA(BM$21 & \"\",PivotTableB!$A$3,\"SchoolName\",$B54,\"SubsidiaryName\",$C54,\"YearStart\",BH$13))),\"\")","v":0},{"$f":"IFERROR(IF(BM54=\".\",\".\",IF(BM54=\"n/a\",\"n/a\",\nGETPIVOTDATA(BN$21 & \"\",PivotTableB!$A$3,\"SchoolName\",$B54,\"SubsidiaryName\",$C54,\"YearStart\",BH$13))),\"\")","v":318},{"$f":"IFERROR(IF($B54=\"\",\"\",\nIF(OR($L54=\"Nursery School\",$L54=\"All-through PRU\",$M54=\"True\"),\"n/a\",\nIF(GETPIVOTDATA(BO$21 & \"\",PivotTableB!$A$3,\"SchoolName\",$B54,\"SubsidiaryName\",$C54,\"YearStart\",BO$13)=\"\",\".\",\nGETPIVOTDATA(BO$21 & \"\",PivotTableB!$A$3,\"SchoolName\",$B54,\"SubsidiaryName\",$C54,\"YearStart\",BO$13)))),\"\")","v":44},{"$f":"IFERROR(IF(BO54=\".\",\".\",IF(BO54=\"n/a\",\"n/a\",\nGETPIVOTDATA(BP$21 & \"\",PivotTableB!$A$3,\"SchoolName\",$B54,\"SubsidiaryName\",$C54,\"YearStart\",BO$13))),\"\")","v":0},{"$f":"IFERROR(IF(BP54=\".\",\".\",IF(BP54=\"n/a\",\"n/a\",\nGETPIVOTDATA(BQ$21 & \"\",PivotTableB!$A$3,\"SchoolName\",$B54,\"SubsidiaryName\",$C54,\"YearStart\",BO$13))),\"\")","v":0},{"$f":"IFERROR(IF(BQ54=\".\",\".\",IF(BQ54=\"n/a\",\"n/a\",\nGETPIVOTDATA(BR$21 & \"\",PivotTableB!$A$3,\"SchoolName\",$B54,\"SubsidiaryName\",$C54,\"YearStart\",BP$13))),\"\")","v":""},44,{"$f":"IFERROR(IF(BS54=\".\",\".\",IF(BS54=\"n/a\",\"n/a\",\nGETPIVOTDATA(BT$21 & \"\",PivotTableB!$A$3,\"SchoolName\",$B54,\"SubsidiaryName\",$C54,\"YearStart\",BO$13))),\"\")","v":0},{"$f":"IFERROR(IF(BT54=\".\",\".\",IF(BT54=\"n/a\",\"n/a\",\nGETPIVOTDATA(BU$21 & \"\",PivotTableB!$A$3,\"SchoolName\",$B54,\"SubsidiaryName\",$C54,\"YearStart\",BO$13))),\"\")","v":318},{"$f":"IFERROR(IF($B54=\"\",\"\",\nIF(OR($L54=\"Nursery School\",$L54=\"All-through PRU\",$M54=\"True\"),\"n/a\",\nIF(GETPIVOTDATA(BV$21 & \"\",PivotTableB!$A$3,\"SchoolName\",$B54,\"SubsidiaryName\",$C54,\"YearStart\",BV$13)=\"\",\".\",\nGETPIVOTDATA(BV$21 & \"\",PivotTableB!$A$3,\"SchoolName\",$B54,\"SubsidiaryName\",$C54,\"YearStart\",BV$13)))),\"\")","v":44},{"$f":"IFERROR(IF(BV54=\".\",\".\",IF(BV54=\"n/a\",\"n/a\",\nGETPIVOTDATA(BW$21 & \"\",PivotTableB!$A$3,\"SchoolName\",$B54,\"SubsidiaryName\",$C54,\"YearStart\",BV$13))),\"\")","v":0},{"$f":"IFERROR(IF(BW54=\".\",\".\",IF(BW54=\"n/a\",\"n/a\",\nGETPIVOTDATA(BX$21 & \"\",PivotTableB!$A$3,\"SchoolName\",$B54,\"SubsidiaryName\",$C54,\"YearStart\",BV$13))),\"\")","v":0},{"$f":"IFERROR(IF(BX54=\".\",\".\",IF(BX54=\"n/a\",\"n/a\",\nGETPIVOTDATA(BY$21 & \"\",PivotTableB!$A$3,\"SchoolName\",$B54,\"SubsidiaryName\",$C54,\"YearStart\",BV$13))),\"\")","v":18},44,{"$f":"IFERROR(IF(BZ54=\".\",\".\",IF(BZ54=\"n/a\",\"n/a\",\nGETPIVOTDATA(CA$21 & \"\",PivotTableB!$A$3,\"SchoolName\",$B54,\"SubsidiaryName\",$C54,\"YearStart\",BV$13))),\"\")","v":0},{"$f":"IFERROR(IF(CA54=\".\",\".\",IF(CA54=\"n/a\",\"n/a\",\nGETPIVOTDATA(CB$21 & \"\",PivotTableB!$A$3,\"SchoolName\",$B54,\"SubsidiaryName\",$C54,\"YearStart\",BV$13))),\"\")","v":318}]
[null,{"$f":"IF(PivotTableA!A42=\"\",\"n/a\",PivotTableA!A42)","v":"Holyport College"},{"$f":"IF(B55=\"n/a\",\"\",PivotTableA!B42)","v":"Holyport College (Year 9)"},{"$f":"IF($B55=\"n/a\",\"\",PivotTableA!C42)","v":"9"},{"$f":"IF($B55=\"n/a\",\"\",PivotTableA!D42)","v":"Windsor"},{"$f":"IF($B55=\"n/a\",\"\",PivotTableA!E42)","v":"Windsor Villages"},{"$f":"IF($B55=\"n/a\",\"\",PivotTableA!F42)","v":"Fifield"},{"$f":"IF($B55=\"n/a\",\"\",PivotTableA!G42)","v":"None"},{"$f":"IF($B55=\"n/a\",\"\",PivotTableA!H42)","v":"Bray"},{"$f":"IF($B55=\"n/a\",\"\",PivotTableA!I42)","v":"Secondary"},{"$f":"IF($B55=\"n/a\",\"\",PivotTableA!J42)","v":"Three Tier"},{"$f":"IF($B55=\"n/a\",\"\",PivotTableA!K42)","v":"Upper"},{"$f":"IF($B55=\"n/a\",\"\",PivotTableA!O42)","v":"FALSE"},{"$f":"IF($B55=\"n/a\",\"\",PivotTableA!L42)","v":"Free School"},{"$f":"IF($B55=\"n/a\",\"\",PivotTableA!M42)","v":" "},{"$f":"IF($B55=\"n/a\",\"\",PivotTableA!N42)","v":"None"},{"$f":"IFERROR(IF($B55=\"\",\"\",\nIF(OR($L55=\"Nursery School\",$L55=\"All-through PRU\",$M55=\"True\"),\"n/a\",\nIF(GETPIVOTDATA(Q$21 & \"\",PivotTableB!$A$3,\"SchoolName\",$B55,\"SubsidiaryName\",$C55,\"YearStart\",Q$13)=\"\",\".\",\nGETPIVOTDATA(Q$21 & \"\",PivotTableB!$A$3,\"SchoolName\",$B55,\"SubsidiaryName\",$C55,\"YearStart\",Q$13)))),\"\")","v":"."},{"$f":"IFERROR(IF(Q55=\".\",\".\",IF(Q55=\"n/a\",\"n/a\",\nGETPIVOTDATA(R$21 & \"\",PivotTableB!$A$3,\"SchoolName\",$B55,\"SubsidiaryName\",$C55,\"YearStart\",Q$13))),\"\")","v":"."},{"$f":"IFERROR(IF(R55=\".\",\".\",IF(R55=\"n/a\",\"n/a\",\nGETPIVOTDATA(S$21 & \"\",PivotTableB!$A$3,\"SchoolName\",$B55,\"SubsidiaryName\",$C55,\"YearStart\",Q$13))),\"\")","v":"."},".",{"$f":"IFERROR(IF(T55=\".\",\".\",IF(T55=\"n/a\",\"n/a\",\nGETPIVOTDATA(U$21 & \"\",PivotTableB!$A$3,\"SchoolName\",$B55,\"SubsidiaryName\",$C55,\"YearStart\",Q$13))),\"\")","v":"."},{"$f":"IFERROR(IF(U55=\".\",\".\",IF(U55=\"n/a\",\"n/a\",\nGETPIVOTDATA(V$21 & \"\",PivotTableB!$A$3,\"SchoolName\",$B55,\"SubsidiaryName\",$C55,\"YearStart\",Q$13))),\"\")","v":"."},{"$f":"IFERROR(IF($B55=\"\",\"\",\nIF(OR($L55=\"Nursery School\",$L55=\"All-through PRU\",$M55=\"True\"),\"n/a\",\nIF(GETPIVOTDATA(W$21 & \"\",PivotTableB!$A$3,\"SchoolName\",$B55,\"SubsidiaryName\",$C55,\"YearStart\",W$13)=\"\",\".\",\nGETPIVOTDATA(W$21 & \"\",PivotTableB!$A$3,\"SchoolName\",$B55,\"SubsidiaryName\",$C55,\"YearStart\",W$13)))),\"\")","v":40},{"$f":"IFERROR(IF(W55=\".\",\".\",IF(W55=\"n/a\",\"n/a\",\nGETPIVOTDATA(X$21 & \"\",PivotTableB!$A$3,\"SchoolName\",$B55,\"SubsidiaryName\",$C55,\"YearStart\",W$13))),\"\")","v":0},{"$f":"IFERROR(IF(X55=\".\",\".\",IF(X55=\"n/a\",\"n/a\",\nGETPIVOTDATA(Y$21 & \"\",PivotTableB!$A$3,\"SchoolName\",$B55,\"SubsidiaryName\",$C55,\"YearStart\",W$13))),\"\")","v":18},40,{"$f":"IFERROR(IF(Z55=\".\",\".\",IF(Z55=\"n/a\",\"n/a\",\nGETPIVOTDATA(AA$21 & \"\",PivotTableB!$A$3,\"SchoolName\",$B55,\"SubsidiaryName\",$C55,\"YearStart\",W$13))),\"\")","v":0},{"$f":"IFERROR(IF(AA55=\".\",\".\",IF(AA55=\"n/a\",\"n/a\",\nGETPIVOTDATA(AB$21 & \"\",PivotTableB!$A$3,\"SchoolName\",$B55,\"SubsidiaryName\",$C55,\"YearStart\",W$13))),\"\")","v":200},{"$f":"IFERROR(IF($B55=\"\",\"\",\nIF(OR($L55=\"Nursery School\",$L55=\"All-through PRU\",$M55=\"True\"),\"n/a\",\nIF(GETPIVOTDATA(AC$21 & \"\",PivotTableB!$A$3,\"SchoolName\",$B55,\"SubsidiaryName\",$C55,\"YearStart\",AC$13)=\"\",\".\",\nGETPIVOTDATA(AC$21 & \"\",PivotTableB!$A$3,\"SchoolName\",$B55,\"SubsidiaryName\",$C55,\"YearStart\",AC$13)))),\"\")","v":40},{"$f":"IFERROR(IF(AC55=\".\",\".\",IF(AC55=\"n/a\",\"n/a\",\nGETPIVOTDATA(AD$21 & \"\",PivotTableB!$A$3,\"SchoolName\",$B55,\"SubsidiaryName\",$C55,\"YearStart\",AC$13))),\"\")","v":4},{"$f":"IFERROR(IF(AD55=\".\",\".\",IF(AD55=\"n/a\",\"n/a\",\nGETPIVOTDATA(AE$21 & \"\",PivotTableB!$A$3,\"SchoolName\",$B55,\"SubsidiaryName\",$C55,\"YearStart\",AC$13))),\"\")","v":18},44,{"$f":"IFERROR(IF(AF55=\".\",\".\",IF(AF55=\"n/a\",\"n/a\",\nGETPIVOTDATA(AG$21 & \"\",PivotTableB!$A$3,\"SchoolName\",$B55,\"SubsidiaryName\",$C55,\"YearStart\",AC$13))),\"\")","v":0},{"$f":"IFERROR(IF(AG55=\".\",\".\",IF(AG55=\"n/a\",\"n/a\",\nGETPIVOTDATA(AH$21 & \"\",PivotTableB!$A$3,\"SchoolName\",$B55,\"SubsidiaryName\",$C55,\"YearStart\",AC$13))),\"\")","v":230},{"$f":"IFERROR(IF($B55=\"\",\"\",\nIF(OR($L55=\"Nursery School\",$L55=\"All-through PRU\",$M55=\"True\"),\"n/a\",\nIF(GETPIVOTDATA(AI$21 & \"\",PivotTableB!$A$3,\"SchoolName\",$B55,\"SubsidiaryName\",$C55,\"YearStart\",AI$13)=\"\",\".\",\nGETPIVOTDATA(AI$21 & \"\",PivotTableB!$A$3,\"SchoolName\",$B55,\"SubsidiaryName\",$C55,\"YearStart\",AI$13)))),\"\")","v":44},{"$f":"IFERROR(IF(AI55=\".\",\".\",IF(AI55=\"n/a\",\"n/a\",\nGETPIVOTDATA(AJ$21 & \"\",PivotTableB!$A$3,\"SchoolName\",$B55,\"SubsidiaryName\",$C55,\"YearStart\",AI$13))),\"\")","v":0},{"$f":"IFERROR(IF(AJ55=\".\",\".\",IF(AJ55=\"n/a\",\"n/a\",\nGETPIVOTDATA(AK$21 & \"\",PivotTableB!$A$3,\"SchoolName\",$B55,\"SubsidiaryName\",$C55,\"YearStart\",AI$13))),\"\")","v":18},44,{"$f":"IFERROR(IF(AL55=\".\",\".\",IF(AL55=\"n/a\",\"n/a\",\nGETPIVOTDATA(AM$21 & \"\",PivotTableB!$A$3,\"SchoolName\",$B55,\"SubsidiaryName\",$C55,\"YearStart\",AI$13))),\"\")","v":0},{"$f":"IFERROR(IF(AM55=\".\",\".\",IF(AM55=\"n/a\",\"n/a\",\nGETPIVOTDATA(AN$21 & \"\",PivotTableB!$A$3,\"SchoolName\",$B55,\"SubsidiaryName\",$C55,\"YearStart\",AI$13))),\"\")","v":230},{"$f":"IFERROR(IF($B55=\"\",\"\",\nIF(OR($L55=\"Nursery School\",$L55=\"All-through PRU\",$M55=\"True\"),\"n/a\",\nIF(GETPIVOTDATA(AO$21 & \"\",PivotTableB!$A$3,\"SchoolName\",$B55,\"SubsidiaryName\",$C55,\"YearStart\",AO$13)=\"\",\".\",\nGETPIVOTDATA(AO$21 & \"\",PivotTableB!$A$3,\"SchoolName\",$B55,\"SubsidiaryName\",$C55,\"YearStart\",AO$13)))),\"\")","v":44},{"$f":"IFERROR(IF(AO55=\".\",\".\",IF(AO55=\"n/a\",\"n/a\",\nGETPIVOTDATA(AP$21 & \"\",PivotTableB!$A$3,\"SchoolName\",$B55,\"SubsidiaryName\",$C55,\"YearStart\",AO$13))),\"\")","v":0},{"$f":"IFERROR(IF(AP55=\".\",\".\",IF(AP55=\"n/a\",\"n/a\",\nGETPIVOTDATA(AQ$21 & \"\",PivotTableB!$A$3,\"SchoolName\",$B55,\"SubsidiaryName\",$C55,\"YearStart\",AO$13))),\"\")","v":18},44,{"$f":"IFERROR(IF(AR55=\".\",\".\",IF(AR55=\"n/a\",\"n/a\",\nGETPIVOTDATA(AS$21 & \"\",PivotTableB!$A$3,\"SchoolName\",$B55,\"SubsidiaryName\",$C55,\"YearStart\",AO$13))),\"\")","v":0},{"$f":"IFERROR(IF(AS55=\".\",\".\",IF(AS55=\"n/a\",\"n/a\",\nGETPIVOTDATA(AT$21 & \"\",PivotTableB!$A$3,\"SchoolName\",$B55,\"SubsidiaryName\",$C55,\"YearStart\",AO$13))),\"\")","v":230},{"$f":"IFERROR(IF($B55=\"\",\"\",\nIF(OR($L55=\"Nursery School\",$L55=\"All-through PRU\",$M55=\"True\"),\"n/a\",\nIF(GETPIVOTDATA(AU$21 & \"\",PivotTableB!$A$3,\"SchoolName\",$B55,\"SubsidiaryName\",$C55,\"YearStart\",AU$13)=\"\",\".\",\nGETPIVOTDATA(AU$21 & \"\",PivotTableB!$A$3,\"SchoolName\",$B55,\"SubsidiaryName\",$C55,\"YearStart\",AU$13)))),\"\")","v":44},{"$f":"IFERROR(IF(AU55=\".\",\".\",IF(AU55=\"n/a\",\"n/a\",\nGETPIVOTDATA(AV$21 & \"\",PivotTableB!$A$3,\"SchoolName\",$B55,\"SubsidiaryName\",$C55,\"YearStart\",AU$13))),\"\")","v":0},{"$f":"IFERROR(IF(AV55=\".\",\".\",IF(AV55=\"n/a\",\"n/a\",\nGETPIVOTDATA(AW$21 & \"\",PivotTableB!$A$3,\"SchoolName\",$B55,\"SubsidiaryName\",$C55,\"YearStart\",AU$13))),\"\")","v":18},44,{"$f":"IFERROR(IF(AX55=\".\",\".\",IF(AX55=\"n/a\",\"n/a\",\nGETPIVOTDATA(AY$21 & \"\",PivotTableB!$A$3,\"SchoolName\",$B55,\"SubsidiaryName\",$C55,\"YearStart\",AU$13))),\"\")","v":0},{"$f":"IFERROR(IF(AY55=\".\",\".\",IF(AY55=\"n/a\",\"n/a\",\nGETPIVOTDATA(AZ$21 & \"\",PivotTableB!$A$3,\"SchoolName\",$B55,\"SubsidiaryName\",$C55,\"YearStart\",AU$13))),\"\")","v":230},{"$f":"IFERROR(IF($B55=\"\",\"\",\nIF(OR($L55=\"Nursery School\",$L55=\"All-through PRU\",$M55=\"True\"),\"n/a\",\nIF(GETPIVOTDATA(BA$21 & \"\",PivotTableB!$A$3,\"SchoolName\",$B55,\"SubsidiaryName\",$C55,\"YearStart\",BA$13)=\"\",\".\",\nGETPIVOTDATA(BA$21 & \"\",PivotTableB!$A$3,\"SchoolName\",$B55,\"SubsidiaryName\",$C55,\"YearStart\",BA$13)))),\"\")","v":44},{"$f":"IFERROR(IF(BA55=\".\",\".\",IF(BA55=\"n/a\",\"n/a\",\nGETPIVOTDATA(BB$21 & \"\",PivotTableB!$A$3,\"SchoolName\",$B55,\"SubsidiaryName\",$C55,\"YearStart\",BA$13))),\"\")","v":0},{"$f":"IFERROR(IF(BB55=\".\",\".\",IF(BB55=\"n/a\",\"n/a\",\nGETPIVOTDATA(BC$21 & \"\",PivotTableB!$A$3,\"SchoolName\",$B55,\"SubsidiaryName\",$C55,\"YearStart\",BA$13))),\"\")","v":0},{"$f":"IFERROR(IF(BC55=\".\",\".\",IF(BC55=\"n/a\",\"n/a\",\nGETPIVOTDATA(BD$21 & \"\",PivotTableB!$A$3,\"SchoolName\",$B55,\"SubsidiaryName\",$C55,\"YearStart\",BB$13))),\"\")","v":""},44,{"$f":"IFERROR(IF(BE55=\".\",\".\",IF(BE55=\"n/a\",\"n/a\",\nGETPIVOTDATA(BF$21 & \"\",PivotTableB!$A$3,\"SchoolName\",$B55,\"SubsidiaryName\",$C55,\"YearStart\",BA$13))),\"\")","v":0},{"$f":"IFERROR(IF(BF55=\".\",\".\",IF(BF55=\"n/a\",\"n/a\",\nGETPIVOTDATA(BG$21 & \"\",PivotTableB!$A$3,\"SchoolName\",$B55,\"SubsidiaryName\",$C55,\"YearStart\",BA$13))),\"\")","v":230},{"$f":"IFERROR(IF($B55=\"\",\"\",\nIF(OR($L55=\"Nursery School\",$L55=\"All-through PRU\",$M55=\"True\"),\"n/a\",\nIF(GETPIVOTDATA(BH$21 & \"\",PivotTableB!$A$3,\"SchoolName\",$B55,\"SubsidiaryName\",$C55,\"YearStart\",BH$13)=\"\",\".\",\nGETPIVOTDATA(BH$21 & \"\",PivotTableB!$A$3,\"SchoolName\",$B55,\"SubsidiaryName\",$C55,\"YearStart\",BH$13)))),\"\")","v":44},{"$f":"IFERROR(IF(BH55=\".\",\".\",IF(BH55=\"n/a\",\"n/a\",\nGETPIVOTDATA(BI$21 & \"\",PivotTableB!$A$3,\"SchoolName\",$B55,\"SubsidiaryName\",$C55,\"YearStart\",BH$13))),\"\")","v":0},{"$f":"IFERROR(IF(BI55=\".\",\".\",IF(BI55=\"n/a\",\"n/a\",\nGETPIVOTDATA(BJ$21 & \"\",PivotTableB!$A$3,\"SchoolName\",$B55,\"SubsidiaryName\",$C55,\"YearStart\",BH$13))),\"\")","v":0},{"$f":"IFERROR(IF(BJ55=\".\",\".\",IF(BJ55=\"n/a\",\"n/a\",\nGETPIVOTDATA(BK$21 & \"\",PivotTableB!$A$3,\"SchoolName\",$B55,\"SubsidiaryName\",$C55,\"YearStart\",BH$13))),\"\")","v":18},44,{"$f":"IFERROR(IF(BL55=\".\",\".\",IF(BL55=\"n/a\",\"n/a\",\nGETPIVOTDATA(BM$21 & \"\",PivotTableB!$A$3,\"SchoolName\",$B55,\"SubsidiaryName\",$C55,\"YearStart\",BH$13))),\"\")","v":0},{"$f":"IFERROR(IF(BM55=\".\",\".\",IF(BM55=\"n/a\",\"n/a\",\nGETPIVOTDATA(BN$21 & \"\",PivotTableB!$A$3,\"SchoolName\",$B55,\"SubsidiaryName\",$C55,\"YearStart\",BH$13))),\"\")","v":230},{"$f":"IFERROR(IF($B55=\"\",\"\",\nIF(OR($L55=\"Nursery School\",$L55=\"All-through PRU\",$M55=\"True\"),\"n/a\",\nIF(GETPIVOTDATA(BO$21 & \"\",PivotTableB!$A$3,\"SchoolName\",$B55,\"SubsidiaryName\",$C55,\"YearStart\",BO$13)=\"\",\".\",\nGETPIVOTDATA(BO$21 & \"\",PivotTableB!$A$3,\"SchoolName\",$B55,\"SubsidiaryName\",$C55,\"YearStart\",BO$13)))),\"\")","v":44},{"$f":"IFERROR(IF(BO55=\".\",\".\",IF(BO55=\"n/a\",\"n/a\",\nGETPIVOTDATA(BP$21 & \"\",PivotTableB!$A$3,\"SchoolName\",$B55,\"SubsidiaryName\",$C55,\"YearStart\",BO$13))),\"\")","v":0},{"$f":"IFERROR(IF(BP55=\".\",\".\",IF(BP55=\"n/a\",\"n/a\",\nGETPIVOTDATA(BQ$21 & \"\",PivotTableB!$A$3,\"SchoolName\",$B55,\"SubsidiaryName\",$C55,\"YearStart\",BO$13))),\"\")","v":0},{"$f":"IFERROR(IF(BQ55=\".\",\".\",IF(BQ55=\"n/a\",\"n/a\",\nGETPIVOTDATA(BR$21 & \"\",PivotTableB!$A$3,\"SchoolName\",$B55,\"SubsidiaryName\",$C55,\"YearStart\",BP$13))),\"\")","v":""},44,{"$f":"IFERROR(IF(BS55=\".\",\".\",IF(BS55=\"n/a\",\"n/a\",\nGETPIVOTDATA(BT$21 & \"\",PivotTableB!$A$3,\"SchoolName\",$B55,\"SubsidiaryName\",$C55,\"YearStart\",BO$13))),\"\")","v":0},{"$f":"IFERROR(IF(BT55=\".\",\".\",IF(BT55=\"n/a\",\"n/a\",\nGETPIVOTDATA(BU$21 & \"\",PivotTableB!$A$3,\"SchoolName\",$B55,\"SubsidiaryName\",$C55,\"YearStart\",BO$13))),\"\")","v":230},{"$f":"IFERROR(IF($B55=\"\",\"\",\nIF(OR($L55=\"Nursery School\",$L55=\"All-through PRU\",$M55=\"True\"),\"n/a\",\nIF(GETPIVOTDATA(BV$21 & \"\",PivotTableB!$A$3,\"SchoolName\",$B55,\"SubsidiaryName\",$C55,\"YearStart\",BV$13)=\"\",\".\",\nGETPIVOTDATA(BV$21 & \"\",PivotTableB!$A$3,\"SchoolName\",$B55,\"SubsidiaryName\",$C55,\"YearStart\",BV$13)))),\"\")","v":44},{"$f":"IFERROR(IF(BV55=\".\",\".\",IF(BV55=\"n/a\",\"n/a\",\nGETPIVOTDATA(BW$21 & \"\",PivotTableB!$A$3,\"SchoolName\",$B55,\"SubsidiaryName\",$C55,\"YearStart\",BV$13))),\"\")","v":0},{"$f":"IFERROR(IF(BW55=\".\",\".\",IF(BW55=\"n/a\",\"n/a\",\nGETPIVOTDATA(BX$21 & \"\",PivotTableB!$A$3,\"SchoolName\",$B55,\"SubsidiaryName\",$C55,\"YearStart\",BV$13))),\"\")","v":0},{"$f":"IFERROR(IF(BX55=\".\",\".\",IF(BX55=\"n/a\",\"n/a\",\nGETPIVOTDATA(BY$21 & \"\",PivotTableB!$A$3,\"SchoolName\",$B55,\"SubsidiaryName\",$C55,\"YearStart\",BV$13))),\"\")","v":18},44,{"$f":"IFERROR(IF(BZ55=\".\",\".\",IF(BZ55=\"n/a\",\"n/a\",\nGETPIVOTDATA(CA$21 & \"\",PivotTableB!$A$3,\"SchoolName\",$B55,\"SubsidiaryName\",$C55,\"YearStart\",BV$13))),\"\")","v":0},{"$f":"IFERROR(IF(CA55=\".\",\".\",IF(CA55=\"n/a\",\"n/a\",\nGETPIVOTDATA(CB$21 & \"\",PivotTableB!$A$3,\"SchoolName\",$B55,\"SubsidiaryName\",$C55,\"YearStart\",BV$13))),\"\")","v":230}]
[null,{"$f":"IF(PivotTableA!A43=\"\",\"n/a\",PivotTableA!A43)","v":"Homer First School and Nursery"},{"$f":"IF(B56=\"n/a\",\"\",PivotTableA!B43)","v":"Homer First School and Nursery"},{"$f":"IF($B56=\"n/a\",\"\",PivotTableA!C43)","v":"R"},{"$f":"IF($B56=\"n/a\",\"\",PivotTableA!D43)","v":"Windsor"},{"$f":"IF($B56=\"n/a\",\"\",PivotTableA!E43)","v":"Windsor North"},{"$f":"IF($B56=\"n/a\",\"\",PivotTableA!F43)","v":"Homer"},{"$f":"IF($B56=\"n/a\",\"\",PivotTableA!G43)","v":"Clewer North"},{"$f":"IF($B56=\"n/a\",\"\",PivotTableA!H43)","v":"None"},{"$f":"IF($B56=\"n/a\",\"\",PivotTableA!I43)","v":"Primary"},{"$f":"IF($B56=\"n/a\",\"\",PivotTableA!J43)","v":"Three Tier"},{"$f":"IF($B56=\"n/a\",\"\",PivotTableA!K43)","v":"First"},{"$f":"IF($B56=\"n/a\",\"\",PivotTableA!O43)","v":"FALSE"},{"$f":"IF($B56=\"n/a\",\"\",PivotTableA!L43)","v":"Community"},{"$f":"IF($B56=\"n/a\",\"\",PivotTableA!M43)","v":" "},{"$f":"IF($B56=\"n/a\",\"\",PivotTableA!N43)","v":"None"},{"$f":"IFERROR(IF($B56=\"\",\"\",\nIF(OR($L56=\"Nursery School\",$L56=\"All-through PRU\",$M56=\"True\"),\"n/a\",\nIF(GETPIVOTDATA(Q$21 & \"\",PivotTableB!$A$3,\"SchoolName\",$B56,\"SubsidiaryName\",$C56,\"YearStart\",Q$13)=\"\",\".\",\nGETPIVOTDATA(Q$21 & \"\",PivotTableB!$A$3,\"SchoolName\",$B56,\"SubsidiaryName\",$C56,\"YearStart\",Q$13)))),\"\")","v":45},{"$f":"IFERROR(IF(Q56=\".\",\".\",IF(Q56=\"n/a\",\"n/a\",\nGETPIVOTDATA(R$21 & \"\",PivotTableB!$A$3,\"SchoolName\",$B56,\"SubsidiaryName\",$C56,\"YearStart\",Q$13))),\"\")","v":0},{"$f":"IFERROR(IF(R56=\".\",\".\",IF(R56=\"n/a\",\"n/a\",\nGETPIVOTDATA(S$21 & \"\",PivotTableB!$A$3,\"SchoolName\",$B56,\"SubsidiaryName\",$C56,\"YearStart\",Q$13))),\"\")","v":0},45,{"$f":"IFERROR(IF(T56=\".\",\".\",IF(T56=\"n/a\",\"n/a\",\nGETPIVOTDATA(U$21 & \"\",PivotTableB!$A$3,\"SchoolName\",$B56,\"SubsidiaryName\",$C56,\"YearStart\",Q$13))),\"\")","v":0},{"$f":"IFERROR(IF(U56=\".\",\".\",IF(U56=\"n/a\",\"n/a\",\nGETPIVOTDATA(V$21 & \"\",PivotTableB!$A$3,\"SchoolName\",$B56,\"SubsidiaryName\",$C56,\"YearStart\",Q$13))),\"\")","v":225},{"$f":"IFERROR(IF($B56=\"\",\"\",\nIF(OR($L56=\"Nursery School\",$L56=\"All-through PRU\",$M56=\"True\"),\"n/a\",\nIF(GETPIVOTDATA(W$21 & \"\",PivotTableB!$A$3,\"SchoolName\",$B56,\"SubsidiaryName\",$C56,\"YearStart\",W$13)=\"\",\".\",\nGETPIVOTDATA(W$21 & \"\",PivotTableB!$A$3,\"SchoolName\",$B56,\"SubsidiaryName\",$C56,\"YearStart\",W$13)))),\"\")","v":45},{"$f":"IFERROR(IF(W56=\".\",\".\",IF(W56=\"n/a\",\"n/a\",\nGETPIVOTDATA(X$21 & \"\",PivotTableB!$A$3,\"SchoolName\",$B56,\"SubsidiaryName\",$C56,\"YearStart\",W$13))),\"\")","v":30},{"$f":"IFERROR(IF(X56=\".\",\".\",IF(X56=\"n/a\",\"n/a\",\nGETPIVOTDATA(Y$21 & \"\",PivotTableB!$A$3,\"SchoolName\",$B56,\"SubsidiaryName\",$C56,\"YearStart\",W$13))),\"\")","v":0},75,{"$f":"IFERROR(IF(Z56=\".\",\".\",IF(Z56=\"n/a\",\"n/a\",\nGETPIVOTDATA(AA$21 & \"\",PivotTableB!$A$3,\"SchoolName\",$B56,\"SubsidiaryName\",$C56,\"YearStart\",W$13))),\"\")","v":0},{"$f":"IFERROR(IF(AA56=\".\",\".\",IF(AA56=\"n/a\",\"n/a\",\nGETPIVOTDATA(AB$21 & \"\",PivotTableB!$A$3,\"SchoolName\",$B56,\"SubsidiaryName\",$C56,\"YearStart\",W$13))),\"\")","v":255},{"$f":"IFERROR(IF($B56=\"\",\"\",\nIF(OR($L56=\"Nursery School\",$L56=\"All-through PRU\",$M56=\"True\"),\"n/a\",\nIF(GETPIVOTDATA(AC$21 & \"\",PivotTableB!$A$3,\"SchoolName\",$B56,\"SubsidiaryName\",$C56,\"YearStart\",AC$13)=\"\",\".\",\nGETPIVOTDATA(AC$21 & \"\",PivotTableB!$A$3,\"SchoolName\",$B56,\"SubsidiaryName\",$C56,\"YearStart\",AC$13)))),\"\")","v":45},{"$f":"IFERROR(IF(AC56=\".\",\".\",IF(AC56=\"n/a\",\"n/a\",\nGETPIVOTDATA(AD$21 & \"\",PivotTableB!$A$3,\"SchoolName\",$B56,\"SubsidiaryName\",$C56,\"YearStart\",AC$13))),\"\")","v":0},{"$f":"IFERROR(IF(AD56=\".\",\".\",IF(AD56=\"n/a\",\"n/a\",\nGETPIVOTDATA(AE$21 & \"\",PivotTableB!$A$3,\"SchoolName\",$B56,\"SubsidiaryName\",$C56,\"YearStart\",AC$13))),\"\")","v":0},45,{"$f":"IFERROR(IF(AF56=\".\",\".\",IF(AF56=\"n/a\",\"n/a\",\nGETPIVOTDATA(AG$21 & \"\",PivotTableB!$A$3,\"SchoolName\",$B56,\"SubsidiaryName\",$C56,\"YearStart\",AC$13))),\"\")","v":0},{"$f":"IFERROR(IF(AG56=\".\",\".\",IF(AG56=\"n/a\",\"n/a\",\nGETPIVOTDATA(AH$21 & \"\",PivotTableB!$A$3,\"SchoolName\",$B56,\"SubsidiaryName\",$C56,\"YearStart\",AC$13))),\"\")","v":255},{"$f":"IFERROR(IF($B56=\"\",\"\",\nIF(OR($L56=\"Nursery School\",$L56=\"All-through PRU\",$M56=\"True\"),\"n/a\",\nIF(GETPIVOTDATA(AI$21 & \"\",PivotTableB!$A$3,\"SchoolName\",$B56,\"SubsidiaryName\",$C56,\"YearStart\",AI$13)=\"\",\".\",\nGETPIVOTDATA(AI$21 & \"\",PivotTableB!$A$3,\"SchoolName\",$B56,\"SubsidiaryName\",$C56,\"YearStart\",AI$13)))),\"\")","v":45},{"$f":"IFERROR(IF(AI56=\".\",\".\",IF(AI56=\"n/a\",\"n/a\",\nGETPIVOTDATA(AJ$21 & \"\",PivotTableB!$A$3,\"SchoolName\",$B56,\"SubsidiaryName\",$C56,\"YearStart\",AI$13))),\"\")","v":30},{"$f":"IFERROR(IF(AJ56=\".\",\".\",IF(AJ56=\"n/a\",\"n/a\",\nGETPIVOTDATA(AK$21 & \"\",PivotTableB!$A$3,\"SchoolName\",$B56,\"SubsidiaryName\",$C56,\"YearStart\",AI$13))),\"\")","v":0},75,{"$f":"IFERROR(IF(AL56=\".\",\".\",IF(AL56=\"n/a\",\"n/a\",\nGETPIVOTDATA(AM$21 & \"\",PivotTableB!$A$3,\"SchoolName\",$B56,\"SubsidiaryName\",$C56,\"YearStart\",AI$13))),\"\")","v":0},{"$f":"IFERROR(IF(AM56=\".\",\".\",IF(AM56=\"n/a\",\"n/a\",\nGETPIVOTDATA(AN$21 & \"\",PivotTableB!$A$3,\"SchoolName\",$B56,\"SubsidiaryName\",$C56,\"YearStart\",AI$13))),\"\")","v":255},{"$f":"IFERROR(IF($B56=\"\",\"\",\nIF(OR($L56=\"Nursery School\",$L56=\"All-through PRU\",$M56=\"True\"),\"n/a\",\nIF(GETPIVOTDATA(AO$21 & \"\",PivotTableB!$A$3,\"SchoolName\",$B56,\"SubsidiaryName\",$C56,\"YearStart\",AO$13)=\"\",\".\",\nGETPIVOTDATA(AO$21 & \"\",PivotTableB!$A$3,\"SchoolName\",$B56,\"SubsidiaryName\",$C56,\"YearStart\",AO$13)))),\"\")","v":45},{"$f":"IFERROR(IF(AO56=\".\",\".\",IF(AO56=\"n/a\",\"n/a\",\nGETPIVOTDATA(AP$21 & \"\",PivotTableB!$A$3,\"SchoolName\",$B56,\"SubsidiaryName\",$C56,\"YearStart\",AO$13))),\"\")","v":0},{"$f":"IFERROR(IF(AP56=\".\",\".\",IF(AP56=\"n/a\",\"n/a\",\nGETPIVOTDATA(AQ$21 & \"\",PivotTableB!$A$3,\"SchoolName\",$B56,\"SubsidiaryName\",$C56,\"YearStart\",AO$13))),\"\")","v":0},45,{"$f":"IFERROR(IF(AR56=\".\",\".\",IF(AR56=\"n/a\",\"n/a\",\nGETPIVOTDATA(AS$21 & \"\",PivotTableB!$A$3,\"SchoolName\",$B56,\"SubsidiaryName\",$C56,\"YearStart\",AO$13))),\"\")","v":0},{"$f":"IFERROR(IF(AS56=\".\",\".\",IF(AS56=\"n/a\",\"n/a\",\nGETPIVOTDATA(AT$21 & \"\",PivotTableB!$A$3,\"SchoolName\",$B56,\"SubsidiaryName\",$C56,\"YearStart\",AO$13))),\"\")","v":255},{"$f":"IFERROR(IF($B56=\"\",\"\",\nIF(OR($L56=\"Nursery School\",$L56=\"All-through PRU\",$M56=\"True\"),\"n/a\",\nIF(GETPIVOTDATA(AU$21 & \"\",PivotTableB!$A$3,\"SchoolName\",$B56,\"SubsidiaryName\",$C56,\"YearStart\",AU$13)=\"\",\".\",\nGETPIVOTDATA(AU$21 & \"\",PivotTableB!$A$3,\"SchoolName\",$B56,\"SubsidiaryName\",$C56,\"YearStart\",AU$13)))),\"\")","v":45},{"$f":"IFERROR(IF(AU56=\".\",\".\",IF(AU56=\"n/a\",\"n/a\",\nGETPIVOTDATA(AV$21 & \"\",PivotTableB!$A$3,\"SchoolName\",$B56,\"SubsidiaryName\",$C56,\"YearStart\",AU$13))),\"\")","v":0},{"$f":"IFERROR(IF(AV56=\".\",\".\",IF(AV56=\"n/a\",\"n/a\",\nGETPIVOTDATA(AW$21 & \"\",PivotTableB!$A$3,\"SchoolName\",$B56,\"SubsidiaryName\",$C56,\"YearStart\",AU$13))),\"\")","v":0},45,{"$f":"IFERROR(IF(AX56=\".\",\".\",IF(AX56=\"n/a\",\"n/a\",\nGETPIVOTDATA(AY$21 & \"\",PivotTableB!$A$3,\"SchoolName\",$B56,\"SubsidiaryName\",$C56,\"YearStart\",AU$13))),\"\")","v":0},{"$f":"IFERROR(IF(AY56=\".\",\".\",IF(AY56=\"n/a\",\"n/a\",\nGETPIVOTDATA(AZ$21 & \"\",PivotTableB!$A$3,\"SchoolName\",$B56,\"SubsidiaryName\",$C56,\"YearStart\",AU$13))),\"\")","v":255},{"$f":"IFERROR(IF($B56=\"\",\"\",\nIF(OR($L56=\"Nursery School\",$L56=\"All-through PRU\",$M56=\"True\"),\"n/a\",\nIF(GETPIVOTDATA(BA$21 & \"\",PivotTableB!$A$3,\"SchoolName\",$B56,\"SubsidiaryName\",$C56,\"YearStart\",BA$13)=\"\",\".\",\nGETPIVOTDATA(BA$21 & \"\",PivotTableB!$A$3,\"SchoolName\",$B56,\"SubsidiaryName\",$C56,\"YearStart\",BA$13)))),\"\")","v":45},{"$f":"IFERROR(IF(BA56=\".\",\".\",IF(BA56=\"n/a\",\"n/a\",\nGETPIVOTDATA(BB$21 & \"\",PivotTableB!$A$3,\"SchoolName\",$B56,\"SubsidiaryName\",$C56,\"YearStart\",BA$13))),\"\")","v":0},{"$f":"IFERROR(IF(BB56=\".\",\".\",IF(BB56=\"n/a\",\"n/a\",\nGETPIVOTDATA(BC$21 & \"\",PivotTableB!$A$3,\"SchoolName\",$B56,\"SubsidiaryName\",$C56,\"YearStart\",BA$13))),\"\")","v":0},{"$f":"IFERROR(IF(BC56=\".\",\".\",IF(BC56=\"n/a\",\"n/a\",\nGETPIVOTDATA(BD$21 & \"\",PivotTableB!$A$3,\"SchoolName\",$B56,\"SubsidiaryName\",$C56,\"YearStart\",BB$13))),\"\")","v":""},45,{"$f":"IFERROR(IF(BE56=\".\",\".\",IF(BE56=\"n/a\",\"n/a\",\nGETPIVOTDATA(BF$21 & \"\",PivotTableB!$A$3,\"SchoolName\",$B56,\"SubsidiaryName\",$C56,\"YearStart\",BA$13))),\"\")","v":0},{"$f":"IFERROR(IF(BF56=\".\",\".\",IF(BF56=\"n/a\",\"n/a\",\nGETPIVOTDATA(BG$21 & \"\",PivotTableB!$A$3,\"SchoolName\",$B56,\"SubsidiaryName\",$C56,\"YearStart\",BA$13))),\"\")","v":225},{"$f":"IFERROR(IF($B56=\"\",\"\",\nIF(OR($L56=\"Nursery School\",$L56=\"All-through PRU\",$M56=\"True\"),\"n/a\",\nIF(GETPIVOTDATA(BH$21 & \"\",PivotTableB!$A$3,\"SchoolName\",$B56,\"SubsidiaryName\",$C56,\"YearStart\",BH$13)=\"\",\".\",\nGETPIVOTDATA(BH$21 & \"\",PivotTableB!$A$3,\"SchoolName\",$B56,\"SubsidiaryName\",$C56,\"YearStart\",BH$13)))),\"\")","v":45},{"$f":"IFERROR(IF(BH56=\".\",\".\",IF(BH56=\"n/a\",\"n/a\",\nGETPIVOTDATA(BI$21 & \"\",PivotTableB!$A$3,\"SchoolName\",$B56,\"SubsidiaryName\",$C56,\"YearStart\",BH$13))),\"\")","v":0},{"$f":"IFERROR(IF(BI56=\".\",\".\",IF(BI56=\"n/a\",\"n/a\",\nGETPIVOTDATA(BJ$21 & \"\",PivotTableB!$A$3,\"SchoolName\",$B56,\"SubsidiaryName\",$C56,\"YearStart\",BH$13))),\"\")","v":0},{"$f":"IFERROR(IF(BJ56=\".\",\".\",IF(BJ56=\"n/a\",\"n/a\",\nGETPIVOTDATA(BK$21 & \"\",PivotTableB!$A$3,\"SchoolName\",$B56,\"SubsidiaryName\",$C56,\"YearStart\",BH$13))),\"\")","v":0},45,{"$f":"IFERROR(IF(BL56=\".\",\".\",IF(BL56=\"n/a\",\"n/a\",\nGETPIVOTDATA(BM$21 & \"\",PivotTableB!$A$3,\"SchoolName\",$B56,\"SubsidiaryName\",$C56,\"YearStart\",BH$13))),\"\")","v":0},{"$f":"IFERROR(IF(BM56=\".\",\".\",IF(BM56=\"n/a\",\"n/a\",\nGETPIVOTDATA(BN$21 & \"\",PivotTableB!$A$3,\"SchoolName\",$B56,\"SubsidiaryName\",$C56,\"YearStart\",BH$13))),\"\")","v":225},{"$f":"IFERROR(IF($B56=\"\",\"\",\nIF(OR($L56=\"Nursery School\",$L56=\"All-through PRU\",$M56=\"True\"),\"n/a\",\nIF(GETPIVOTDATA(BO$21 & \"\",PivotTableB!$A$3,\"SchoolName\",$B56,\"SubsidiaryName\",$C56,\"YearStart\",BO$13)=\"\",\".\",\nGETPIVOTDATA(BO$21 & \"\",PivotTableB!$A$3,\"SchoolName\",$B56,\"SubsidiaryName\",$C56,\"YearStart\",BO$13)))),\"\")","v":45},{"$f":"IFERROR(IF(BO56=\".\",\".\",IF(BO56=\"n/a\",\"n/a\",\nGETPIVOTDATA(BP$21 & \"\",PivotTableB!$A$3,\"SchoolName\",$B56,\"SubsidiaryName\",$C56,\"YearStart\",BO$13))),\"\")","v":0},{"$f":"IFERROR(IF(BP56=\".\",\".\",IF(BP56=\"n/a\",\"n/a\",\nGETPIVOTDATA(BQ$21 & \"\",PivotTableB!$A$3,\"SchoolName\",$B56,\"SubsidiaryName\",$C56,\"YearStart\",BO$13))),\"\")","v":0},{"$f":"IFERROR(IF(BQ56=\".\",\".\",IF(BQ56=\"n/a\",\"n/a\",\nGETPIVOTDATA(BR$21 & \"\",PivotTableB!$A$3,\"SchoolName\",$B56,\"SubsidiaryName\",$C56,\"YearStart\",BP$13))),\"\")","v":""},45,{"$f":"IFERROR(IF(BS56=\".\",\".\",IF(BS56=\"n/a\",\"n/a\",\nGETPIVOTDATA(BT$21 & \"\",PivotTableB!$A$3,\"SchoolName\",$B56,\"SubsidiaryName\",$C56,\"YearStart\",BO$13))),\"\")","v":0},{"$f":"IFERROR(IF(BT56=\".\",\".\",IF(BT56=\"n/a\",\"n/a\",\nGETPIVOTDATA(BU$21 & \"\",PivotTableB!$A$3,\"SchoolName\",$B56,\"SubsidiaryName\",$C56,\"YearStart\",BO$13))),\"\")","v":225},{"$f":"IFERROR(IF($B56=\"\",\"\",\nIF(OR($L56=\"Nursery School\",$L56=\"All-through PRU\",$M56=\"True\"),\"n/a\",\nIF(GETPIVOTDATA(BV$21 & \"\",PivotTableB!$A$3,\"SchoolName\",$B56,\"SubsidiaryName\",$C56,\"YearStart\",BV$13)=\"\",\".\",\nGETPIVOTDATA(BV$21 & \"\",PivotTableB!$A$3,\"SchoolName\",$B56,\"SubsidiaryName\",$C56,\"YearStart\",BV$13)))),\"\")","v":45},{"$f":"IFERROR(IF(BV56=\".\",\".\",IF(BV56=\"n/a\",\"n/a\",\nGETPIVOTDATA(BW$21 & \"\",PivotTableB!$A$3,\"SchoolName\",$B56,\"SubsidiaryName\",$C56,\"YearStart\",BV$13))),\"\")","v":0},{"$f":"IFERROR(IF(BW56=\".\",\".\",IF(BW56=\"n/a\",\"n/a\",\nGETPIVOTDATA(BX$21 & \"\",PivotTableB!$A$3,\"SchoolName\",$B56,\"SubsidiaryName\",$C56,\"YearStart\",BV$13))),\"\")","v":0},{"$f":"IFERROR(IF(BX56=\".\",\".\",IF(BX56=\"n/a\",\"n/a\",\nGETPIVOTDATA(BY$21 & \"\",PivotTableB!$A$3,\"SchoolName\",$B56,\"SubsidiaryName\",$C56,\"YearStart\",BV$13))),\"\")","v":0},45,{"$f":"IFERROR(IF(BZ56=\".\",\".\",IF(BZ56=\"n/a\",\"n/a\",\nGETPIVOTDATA(CA$21 & \"\",PivotTableB!$A$3,\"SchoolName\",$B56,\"SubsidiaryName\",$C56,\"YearStart\",BV$13))),\"\")","v":0},{"$f":"IFERROR(IF(CA56=\".\",\".\",IF(CA56=\"n/a\",\"n/a\",\nGETPIVOTDATA(CB$21 & \"\",PivotTableB!$A$3,\"SchoolName\",$B56,\"SubsidiaryName\",$C56,\"YearStart\",BV$13))),\"\")","v":225}]
[null,{"$f":"IF(PivotTableA!A44=\"\",\"n/a\",PivotTableA!A44)","v":"Kings Court First School"},{"$f":"IF(B57=\"n/a\",\"\",PivotTableA!B44)","v":"Kings Court First School"},{"$f":"IF($B57=\"n/a\",\"\",PivotTableA!C44)","v":"R"},{"$f":"IF($B57=\"n/a\",\"\",PivotTableA!D44)","v":"Windsor"},{"$f":"IF($B57=\"n/a\",\"\",PivotTableA!E44)","v":"Windsor Villages"},{"$f":"IF($B57=\"n/a\",\"\",PivotTableA!F44)","v":"Old Windsor"},{"$f":"IF($B57=\"n/a\",\"\",PivotTableA!G44)","v":"Old Windsor"},{"$f":"IF($B57=\"n/a\",\"\",PivotTableA!H44)","v":"Old Windsor"},{"$f":"IF($B57=\"n/a\",\"\",PivotTableA!I44)","v":"Primary"},{"$f":"IF($B57=\"n/a\",\"\",PivotTableA!J44)","v":"Three Tier"},{"$f":"IF($B57=\"n/a\",\"\",PivotTableA!K44)","v":"First"},{"$f":"IF($B57=\"n/a\",\"\",PivotTableA!O44)","v":"FALSE"},{"$f":"IF($B57=\"n/a\",\"\",PivotTableA!L44)","v":"Community"},{"$f":"IF($B57=\"n/a\",\"\",PivotTableA!M44)","v":" "},{"$f":"IF($B57=\"n/a\",\"\",PivotTableA!N44)","v":"None"},{"$f":"IFERROR(IF($B57=\"\",\"\",\nIF(OR($L57=\"Nursery School\",$L57=\"All-through PRU\",$M57=\"True\"),\"n/a\",\nIF(GETPIVOTDATA(Q$21 & \"\",PivotTableB!$A$3,\"SchoolName\",$B57,\"SubsidiaryName\",$C57,\"YearStart\",Q$13)=\"\",\".\",\nGETPIVOTDATA(Q$21 & \"\",PivotTableB!$A$3,\"SchoolName\",$B57,\"SubsidiaryName\",$C57,\"YearStart\",Q$13)))),\"\")","v":45},{"$f":"IFERROR(IF(Q57=\".\",\".\",IF(Q57=\"n/a\",\"n/a\",\nGETPIVOTDATA(R$21 & \"\",PivotTableB!$A$3,\"SchoolName\",$B57,\"SubsidiaryName\",$C57,\"YearStart\",Q$13))),\"\")","v":0},{"$f":"IFERROR(IF(R57=\".\",\".\",IF(R57=\"n/a\",\"n/a\",\nGETPIVOTDATA(S$21 & \"\",PivotTableB!$A$3,\"SchoolName\",$B57,\"SubsidiaryName\",$C57,\"YearStart\",Q$13))),\"\")","v":0},45,{"$f":"IFERROR(IF(T57=\".\",\".\",IF(T57=\"n/a\",\"n/a\",\nGETPIVOTDATA(U$21 & \"\",PivotTableB!$A$3,\"SchoolName\",$B57,\"SubsidiaryName\",$C57,\"YearStart\",Q$13))),\"\")","v":0},{"$f":"IFERROR(IF(U57=\".\",\".\",IF(U57=\"n/a\",\"n/a\",\nGETPIVOTDATA(V$21 & \"\",PivotTableB!$A$3,\"SchoolName\",$B57,\"SubsidiaryName\",$C57,\"YearStart\",Q$13))),\"\")","v":225},{"$f":"IFERROR(IF($B57=\"\",\"\",\nIF(OR($L57=\"Nursery School\",$L57=\"All-through PRU\",$M57=\"True\"),\"n/a\",\nIF(GETPIVOTDATA(W$21 & \"\",PivotTableB!$A$3,\"SchoolName\",$B57,\"SubsidiaryName\",$C57,\"YearStart\",W$13)=\"\",\".\",\nGETPIVOTDATA(W$21 & \"\",PivotTableB!$A$3,\"SchoolName\",$B57,\"SubsidiaryName\",$C57,\"YearStart\",W$13)))),\"\")","v":45},{"$f":"IFERROR(IF(W57=\".\",\".\",IF(W57=\"n/a\",\"n/a\",\nGETPIVOTDATA(X$21 & \"\",PivotTableB!$A$3,\"SchoolName\",$B57,\"SubsidiaryName\",$C57,\"YearStart\",W$13))),\"\")","v":0},{"$f":"IFERROR(IF(X57=\".\",\".\",IF(X57=\"n/a\",\"n/a\",\nGETPIVOTDATA(Y$21 & \"\",PivotTableB!$A$3,\"SchoolName\",$B57,\"SubsidiaryName\",$C57,\"YearStart\",W$13))),\"\")","v":0},45,{"$f":"IFERROR(IF(Z57=\".\",\".\",IF(Z57=\"n/a\",\"n/a\",\nGETPIVOTDATA(AA$21 & \"\",PivotTableB!$A$3,\"SchoolName\",$B57,\"SubsidiaryName\",$C57,\"YearStart\",W$13))),\"\")","v":0},{"$f":"IFERROR(IF(AA57=\".\",\".\",IF(AA57=\"n/a\",\"n/a\",\nGETPIVOTDATA(AB$21 & \"\",PivotTableB!$A$3,\"SchoolName\",$B57,\"SubsidiaryName\",$C57,\"YearStart\",W$13))),\"\")","v":225},{"$f":"IFERROR(IF($B57=\"\",\"\",\nIF(OR($L57=\"Nursery School\",$L57=\"All-through PRU\",$M57=\"True\"),\"n/a\",\nIF(GETPIVOTDATA(AC$21 & \"\",PivotTableB!$A$3,\"SchoolName\",$B57,\"SubsidiaryName\",$C57,\"YearStart\",AC$13)=\"\",\".\",\nGETPIVOTDATA(AC$21 & \"\",PivotTableB!$A$3,\"SchoolName\",$B57,\"SubsidiaryName\",$C57,\"YearStart\",AC$13)))),\"\")","v":45},{"$f":"IFERROR(IF(AC57=\".\",\".\",IF(AC57=\"n/a\",\"n/a\",\nGETPIVOTDATA(AD$21 & \"\",PivotTableB!$A$3,\"SchoolName\",$B57,\"SubsidiaryName\",$C57,\"YearStart\",AC$13))),\"\")","v":0},{"$f":"IFERROR(IF(AD57=\".\",\".\",IF(AD57=\"n/a\",\"n/a\",\nGETPIVOTDATA(AE$21 & \"\",PivotTableB!$A$3,\"SchoolName\",$B57,\"SubsidiaryName\",$C57,\"YearStart\",AC$13))),\"\")","v":0},45,{"$f":"IFERROR(IF(AF57=\".\",\".\",IF(AF57=\"n/a\",\"n/a\",\nGETPIVOTDATA(AG$21 & \"\",PivotTableB!$A$3,\"SchoolName\",$B57,\"SubsidiaryName\",$C57,\"YearStart\",AC$13))),\"\")","v":0},{"$f":"IFERROR(IF(AG57=\".\",\".\",IF(AG57=\"n/a\",\"n/a\",\nGETPIVOTDATA(AH$21 & \"\",PivotTableB!$A$3,\"SchoolName\",$B57,\"SubsidiaryName\",$C57,\"YearStart\",AC$13))),\"\")","v":225},{"$f":"IFERROR(IF($B57=\"\",\"\",\nIF(OR($L57=\"Nursery School\",$L57=\"All-through PRU\",$M57=\"True\"),\"n/a\",\nIF(GETPIVOTDATA(AI$21 & \"\",PivotTableB!$A$3,\"SchoolName\",$B57,\"SubsidiaryName\",$C57,\"YearStart\",AI$13)=\"\",\".\",\nGETPIVOTDATA(AI$21 & \"\",PivotTableB!$A$3,\"SchoolName\",$B57,\"SubsidiaryName\",$C57,\"YearStart\",AI$13)))),\"\")","v":45},{"$f":"IFERROR(IF(AI57=\".\",\".\",IF(AI57=\"n/a\",\"n/a\",\nGETPIVOTDATA(AJ$21 & \"\",PivotTableB!$A$3,\"SchoolName\",$B57,\"SubsidiaryName\",$C57,\"YearStart\",AI$13))),\"\")","v":0},{"$f":"IFERROR(IF(AJ57=\".\",\".\",IF(AJ57=\"n/a\",\"n/a\",\nGETPIVOTDATA(AK$21 & \"\",PivotTableB!$A$3,\"SchoolName\",$B57,\"SubsidiaryName\",$C57,\"YearStart\",AI$13))),\"\")","v":0},45,{"$f":"IFERROR(IF(AL57=\".\",\".\",IF(AL57=\"n/a\",\"n/a\",\nGETPIVOTDATA(AM$21 & \"\",PivotTableB!$A$3,\"SchoolName\",$B57,\"SubsidiaryName\",$C57,\"YearStart\",AI$13))),\"\")","v":0},{"$f":"IFERROR(IF(AM57=\".\",\".\",IF(AM57=\"n/a\",\"n/a\",\nGETPIVOTDATA(AN$21 & \"\",PivotTableB!$A$3,\"SchoolName\",$B57,\"SubsidiaryName\",$C57,\"YearStart\",AI$13))),\"\")","v":225},{"$f":"IFERROR(IF($B57=\"\",\"\",\nIF(OR($L57=\"Nursery School\",$L57=\"All-through PRU\",$M57=\"True\"),\"n/a\",\nIF(GETPIVOTDATA(AO$21 & \"\",PivotTableB!$A$3,\"SchoolName\",$B57,\"SubsidiaryName\",$C57,\"YearStart\",AO$13)=\"\",\".\",\nGETPIVOTDATA(AO$21 & \"\",PivotTableB!$A$3,\"SchoolName\",$B57,\"SubsidiaryName\",$C57,\"YearStart\",AO$13)))),\"\")","v":45},{"$f":"IFERROR(IF(AO57=\".\",\".\",IF(AO57=\"n/a\",\"n/a\",\nGETPIVOTDATA(AP$21 & \"\",PivotTableB!$A$3,\"SchoolName\",$B57,\"SubsidiaryName\",$C57,\"YearStart\",AO$13))),\"\")","v":0},{"$f":"IFERROR(IF(AP57=\".\",\".\",IF(AP57=\"n/a\",\"n/a\",\nGETPIVOTDATA(AQ$21 & \"\",PivotTableB!$A$3,\"SchoolName\",$B57,\"SubsidiaryName\",$C57,\"YearStart\",AO$13))),\"\")","v":0},45,{"$f":"IFERROR(IF(AR57=\".\",\".\",IF(AR57=\"n/a\",\"n/a\",\nGETPIVOTDATA(AS$21 & \"\",PivotTableB!$A$3,\"SchoolName\",$B57,\"SubsidiaryName\",$C57,\"YearStart\",AO$13))),\"\")","v":0},{"$f":"IFERROR(IF(AS57=\".\",\".\",IF(AS57=\"n/a\",\"n/a\",\nGETPIVOTDATA(AT$21 & \"\",PivotTableB!$A$3,\"SchoolName\",$B57,\"SubsidiaryName\",$C57,\"YearStart\",AO$13))),\"\")","v":225},{"$f":"IFERROR(IF($B57=\"\",\"\",\nIF(OR($L57=\"Nursery School\",$L57=\"All-through PRU\",$M57=\"True\"),\"n/a\",\nIF(GETPIVOTDATA(AU$21 & \"\",PivotTableB!$A$3,\"SchoolName\",$B57,\"SubsidiaryName\",$C57,\"YearStart\",AU$13)=\"\",\".\",\nGETPIVOTDATA(AU$21 & \"\",PivotTableB!$A$3,\"SchoolName\",$B57,\"SubsidiaryName\",$C57,\"YearStart\",AU$13)))),\"\")","v":45},{"$f":"IFERROR(IF(AU57=\".\",\".\",IF(AU57=\"n/a\",\"n/a\",\nGETPIVOTDATA(AV$21 & \"\",PivotTableB!$A$3,\"SchoolName\",$B57,\"SubsidiaryName\",$C57,\"YearStart\",AU$13))),\"\")","v":0},{"$f":"IFERROR(IF(AV57=\".\",\".\",IF(AV57=\"n/a\",\"n/a\",\nGETPIVOTDATA(AW$21 & \"\",PivotTableB!$A$3,\"SchoolName\",$B57,\"SubsidiaryName\",$C57,\"YearStart\",AU$13))),\"\")","v":0},45,{"$f":"IFERROR(IF(AX57=\".\",\".\",IF(AX57=\"n/a\",\"n/a\",\nGETPIVOTDATA(AY$21 & \"\",PivotTableB!$A$3,\"SchoolName\",$B57,\"SubsidiaryName\",$C57,\"YearStart\",AU$13))),\"\")","v":0},{"$f":"IFERROR(IF(AY57=\".\",\".\",IF(AY57=\"n/a\",\"n/a\",\nGETPIVOTDATA(AZ$21 & \"\",PivotTableB!$A$3,\"SchoolName\",$B57,\"SubsidiaryName\",$C57,\"YearStart\",AU$13))),\"\")","v":225},{"$f":"IFERROR(IF($B57=\"\",\"\",\nIF(OR($L57=\"Nursery School\",$L57=\"All-through PRU\",$M57=\"True\"),\"n/a\",\nIF(GETPIVOTDATA(BA$21 & \"\",PivotTableB!$A$3,\"SchoolName\",$B57,\"SubsidiaryName\",$C57,\"YearStart\",BA$13)=\"\",\".\",\nGETPIVOTDATA(BA$21 & \"\",PivotTableB!$A$3,\"SchoolName\",$B57,\"SubsidiaryName\",$C57,\"YearStart\",BA$13)))),\"\")","v":45},{"$f":"IFERROR(IF(BA57=\".\",\".\",IF(BA57=\"n/a\",\"n/a\",\nGETPIVOTDATA(BB$21 & \"\",PivotTableB!$A$3,\"SchoolName\",$B57,\"SubsidiaryName\",$C57,\"YearStart\",BA$13))),\"\")","v":0},{"$f":"IFERROR(IF(BB57=\".\",\".\",IF(BB57=\"n/a\",\"n/a\",\nGETPIVOTDATA(BC$21 & \"\",PivotTableB!$A$3,\"SchoolName\",$B57,\"SubsidiaryName\",$C57,\"YearStart\",BA$13))),\"\")","v":0},{"$f":"IFERROR(IF(BC57=\".\",\".\",IF(BC57=\"n/a\",\"n/a\",\nGETPIVOTDATA(BD$21 & \"\",PivotTableB!$A$3,\"SchoolName\",$B57,\"SubsidiaryName\",$C57,\"YearStart\",BB$13))),\"\")","v":""},45,{"$f":"IFERROR(IF(BE57=\".\",\".\",IF(BE57=\"n/a\",\"n/a\",\nGETPIVOTDATA(BF$21 & \"\",PivotTableB!$A$3,\"SchoolName\",$B57,\"SubsidiaryName\",$C57,\"YearStart\",BA$13))),\"\")","v":0},{"$f":"IFERROR(IF(BF57=\".\",\".\",IF(BF57=\"n/a\",\"n/a\",\nGETPIVOTDATA(BG$21 & \"\",PivotTableB!$A$3,\"SchoolName\",$B57,\"SubsidiaryName\",$C57,\"YearStart\",BA$13))),\"\")","v":225},{"$f":"IFERROR(IF($B57=\"\",\"\",\nIF(OR($L57=\"Nursery School\",$L57=\"All-through PRU\",$M57=\"True\"),\"n/a\",\nIF(GETPIVOTDATA(BH$21 & \"\",PivotTableB!$A$3,\"SchoolName\",$B57,\"SubsidiaryName\",$C57,\"YearStart\",BH$13)=\"\",\".\",\nGETPIVOTDATA(BH$21 & \"\",PivotTableB!$A$3,\"SchoolName\",$B57,\"SubsidiaryName\",$C57,\"YearStart\",BH$13)))),\"\")","v":45},{"$f":"IFERROR(IF(BH57=\".\",\".\",IF(BH57=\"n/a\",\"n/a\",\nGETPIVOTDATA(BI$21 & \"\",PivotTableB!$A$3,\"SchoolName\",$B57,\"SubsidiaryName\",$C57,\"YearStart\",BH$13))),\"\")","v":0},{"$f":"IFERROR(IF(BI57=\".\",\".\",IF(BI57=\"n/a\",\"n/a\",\nGETPIVOTDATA(BJ$21 & \"\",PivotTableB!$A$3,\"SchoolName\",$B57,\"SubsidiaryName\",$C57,\"YearStart\",BH$13))),\"\")","v":0},{"$f":"IFERROR(IF(BJ57=\".\",\".\",IF(BJ57=\"n/a\",\"n/a\",\nGETPIVOTDATA(BK$21 & \"\",PivotTableB!$A$3,\"SchoolName\",$B57,\"SubsidiaryName\",$C57,\"YearStart\",BH$13))),\"\")","v":0},45,{"$f":"IFERROR(IF(BL57=\".\",\".\",IF(BL57=\"n/a\",\"n/a\",\nGETPIVOTDATA(BM$21 & \"\",PivotTableB!$A$3,\"SchoolName\",$B57,\"SubsidiaryName\",$C57,\"YearStart\",BH$13))),\"\")","v":0},{"$f":"IFERROR(IF(BM57=\".\",\".\",IF(BM57=\"n/a\",\"n/a\",\nGETPIVOTDATA(BN$21 & \"\",PivotTableB!$A$3,\"SchoolName\",$B57,\"SubsidiaryName\",$C57,\"YearStart\",BH$13))),\"\")","v":225},{"$f":"IFERROR(IF($B57=\"\",\"\",\nIF(OR($L57=\"Nursery School\",$L57=\"All-through PRU\",$M57=\"True\"),\"n/a\",\nIF(GETPIVOTDATA(BO$21 & \"\",PivotTableB!$A$3,\"SchoolName\",$B57,\"SubsidiaryName\",$C57,\"YearStart\",BO$13)=\"\",\".\",\nGETPIVOTDATA(BO$21 & \"\",PivotTableB!$A$3,\"SchoolName\",$B57,\"SubsidiaryName\",$C57,\"YearStart\",BO$13)))),\"\")","v":45},{"$f":"IFERROR(IF(BO57=\".\",\".\",IF(BO57=\"n/a\",\"n/a\",\nGETPIVOTDATA(BP$21 & \"\",PivotTableB!$A$3,\"SchoolName\",$B57,\"SubsidiaryName\",$C57,\"YearStart\",BO$13))),\"\")","v":0},{"$f":"IFERROR(IF(BP57=\".\",\".\",IF(BP57=\"n/a\",\"n/a\",\nGETPIVOTDATA(BQ$21 & \"\",PivotTableB!$A$3,\"SchoolName\",$B57,\"SubsidiaryName\",$C57,\"YearStart\",BO$13))),\"\")","v":0},{"$f":"IFERROR(IF(BQ57=\".\",\".\",IF(BQ57=\"n/a\",\"n/a\",\nGETPIVOTDATA(BR$21 & \"\",PivotTableB!$A$3,\"SchoolName\",$B57,\"SubsidiaryName\",$C57,\"YearStart\",BP$13))),\"\")","v":""},45,{"$f":"IFERROR(IF(BS57=\".\",\".\",IF(BS57=\"n/a\",\"n/a\",\nGETPIVOTDATA(BT$21 & \"\",PivotTableB!$A$3,\"SchoolName\",$B57,\"SubsidiaryName\",$C57,\"YearStart\",BO$13))),\"\")","v":0},{"$f":"IFERROR(IF(BT57=\".\",\".\",IF(BT57=\"n/a\",\"n/a\",\nGETPIVOTDATA(BU$21 & \"\",PivotTableB!$A$3,\"SchoolName\",$B57,\"SubsidiaryName\",$C57,\"YearStart\",BO$13))),\"\")","v":225},{"$f":"IFERROR(IF($B57=\"\",\"\",\nIF(OR($L57=\"Nursery School\",$L57=\"All-through PRU\",$M57=\"True\"),\"n/a\",\nIF(GETPIVOTDATA(BV$21 & \"\",PivotTableB!$A$3,\"SchoolName\",$B57,\"SubsidiaryName\",$C57,\"YearStart\",BV$13)=\"\",\".\",\nGETPIVOTDATA(BV$21 & \"\",PivotTableB!$A$3,\"SchoolName\",$B57,\"SubsidiaryName\",$C57,\"YearStart\",BV$13)))),\"\")","v":45},{"$f":"IFERROR(IF(BV57=\".\",\".\",IF(BV57=\"n/a\",\"n/a\",\nGETPIVOTDATA(BW$21 & \"\",PivotTableB!$A$3,\"SchoolName\",$B57,\"SubsidiaryName\",$C57,\"YearStart\",BV$13))),\"\")","v":0},{"$f":"IFERROR(IF(BW57=\".\",\".\",IF(BW57=\"n/a\",\"n/a\",\nGETPIVOTDATA(BX$21 & \"\",PivotTableB!$A$3,\"SchoolName\",$B57,\"SubsidiaryName\",$C57,\"YearStart\",BV$13))),\"\")","v":0},{"$f":"IFERROR(IF(BX57=\".\",\".\",IF(BX57=\"n/a\",\"n/a\",\nGETPIVOTDATA(BY$21 & \"\",PivotTableB!$A$3,\"SchoolName\",$B57,\"SubsidiaryName\",$C57,\"YearStart\",BV$13))),\"\")","v":0},45,{"$f":"IFERROR(IF(BZ57=\".\",\".\",IF(BZ57=\"n/a\",\"n/a\",\nGETPIVOTDATA(CA$21 & \"\",PivotTableB!$A$3,\"SchoolName\",$B57,\"SubsidiaryName\",$C57,\"YearStart\",BV$13))),\"\")","v":0},{"$f":"IFERROR(IF(CA57=\".\",\".\",IF(CA57=\"n/a\",\"n/a\",\nGETPIVOTDATA(CB$21 & \"\",PivotTableB!$A$3,\"SchoolName\",$B57,\"SubsidiaryName\",$C57,\"YearStart\",BV$13))),\"\")","v":225}]
[null,{"$f":"IF(PivotTableA!A45=\"\",\"n/a\",PivotTableA!A45)","v":"Knowl Hill C of E Academy"},{"$f":"IF(B58=\"n/a\",\"\",PivotTableA!B45)","v":"Knowl Hill C of E Academy"},{"$f":"IF($B58=\"n/a\",\"\",PivotTableA!C45)","v":"R"},{"$f":"IF($B58=\"n/a\",\"\",PivotTableA!D45)","v":"Maidenhead"},{"$f":"IF($B58=\"n/a\",\"\",PivotTableA!E45)","v":"Maidenhead Villages"},{"$f":"IF($B58=\"n/a\",\"\",PivotTableA!F45)","v":"Knowl Hill"},{"$f":"IF($B58=\"n/a\",\"\",PivotTableA!G45)","v":"Hurley and Walthams"},{"$f":"IF($B58=\"n/a\",\"\",PivotTableA!H45)","v":"Hurley"},{"$f":"IF($B58=\"n/a\",\"\",PivotTableA!I45)","v":"Primary"},{"$f":"IF($B58=\"n/a\",\"\",PivotTableA!J45)","v":"Two Tier"},{"$f":"IF($B58=\"n/a\",\"\",PivotTableA!K45)","v":"JMI"},{"$f":"IF($B58=\"n/a\",\"\",PivotTableA!O45)","v":"FALSE"},{"$f":"IF($B58=\"n/a\",\"\",PivotTableA!L45)","v":"Academy"},{"$f":"IF($B58=\"n/a\",\"\",PivotTableA!M45)","v":"2014-09-01"},{"$f":"IF($B58=\"n/a\",\"\",PivotTableA!N45)","v":"Church of England"},{"$f":"IFERROR(IF($B58=\"\",\"\",\nIF(OR($L58=\"Nursery School\",$L58=\"All-through PRU\",$M58=\"True\"),\"n/a\",\nIF(GETPIVOTDATA(Q$21 & \"\",PivotTableB!$A$3,\"SchoolName\",$B58,\"SubsidiaryName\",$C58,\"YearStart\",Q$13)=\"\",\".\",\nGETPIVOTDATA(Q$21 & \"\",PivotTableB!$A$3,\"SchoolName\",$B58,\"SubsidiaryName\",$C58,\"YearStart\",Q$13)))),\"\")","v":13},{"$f":"IFERROR(IF(Q58=\".\",\".\",IF(Q58=\"n/a\",\"n/a\",\nGETPIVOTDATA(R$21 & \"\",PivotTableB!$A$3,\"SchoolName\",$B58,\"SubsidiaryName\",$C58,\"YearStart\",Q$13))),\"\")","v":2},{"$f":"IFERROR(IF(R58=\".\",\".\",IF(R58=\"n/a\",\"n/a\",\nGETPIVOTDATA(S$21 & \"\",PivotTableB!$A$3,\"SchoolName\",$B58,\"SubsidiaryName\",$C58,\"YearStart\",Q$13))),\"\")","v":0},15,{"$f":"IFERROR(IF(T58=\".\",\".\",IF(T58=\"n/a\",\"n/a\",\nGETPIVOTDATA(U$21 & \"\",PivotTableB!$A$3,\"SchoolName\",$B58,\"SubsidiaryName\",$C58,\"YearStart\",Q$13))),\"\")","v":0},{"$f":"IFERROR(IF(U58=\".\",\".\",IF(U58=\"n/a\",\"n/a\",\nGETPIVOTDATA(V$21 & \"\",PivotTableB!$A$3,\"SchoolName\",$B58,\"SubsidiaryName\",$C58,\"YearStart\",Q$13))),\"\")","v":90},{"$f":"IFERROR(IF($B58=\"\",\"\",\nIF(OR($L58=\"Nursery School\",$L58=\"All-through PRU\",$M58=\"True\"),\"n/a\",\nIF(GETPIVOTDATA(W$21 & \"\",PivotTableB!$A$3,\"SchoolName\",$B58,\"SubsidiaryName\",$C58,\"YearStart\",W$13)=\"\",\".\",\nGETPIVOTDATA(W$21 & \"\",PivotTableB!$A$3,\"SchoolName\",$B58,\"SubsidiaryName\",$C58,\"YearStart\",W$13)))),\"\")","v":13},{"$f":"IFERROR(IF(W58=\".\",\".\",IF(W58=\"n/a\",\"n/a\",\nGETPIVOTDATA(X$21 & \"\",PivotTableB!$A$3,\"SchoolName\",$B58,\"SubsidiaryName\",$C58,\"YearStart\",W$13))),\"\")","v":0},{"$f":"IFERROR(IF(X58=\".\",\".\",IF(X58=\"n/a\",\"n/a\",\nGETPIVOTDATA(Y$21 & \"\",PivotTableB!$A$3,\"SchoolName\",$B58,\"SubsidiaryName\",$C58,\"YearStart\",W$13))),\"\")","v":0},13,{"$f":"IFERROR(IF(Z58=\".\",\".\",IF(Z58=\"n/a\",\"n/a\",\nGETPIVOTDATA(AA$21 & \"\",PivotTableB!$A$3,\"SchoolName\",$B58,\"SubsidiaryName\",$C58,\"YearStart\",W$13))),\"\")","v":0},{"$f":"IFERROR(IF(AA58=\".\",\".\",IF(AA58=\"n/a\",\"n/a\",\nGETPIVOTDATA(AB$21 & \"\",PivotTableB!$A$3,\"SchoolName\",$B58,\"SubsidiaryName\",$C58,\"YearStart\",W$13))),\"\")","v":90},{"$f":"IFERROR(IF($B58=\"\",\"\",\nIF(OR($L58=\"Nursery School\",$L58=\"All-through PRU\",$M58=\"True\"),\"n/a\",\nIF(GETPIVOTDATA(AC$21 & \"\",PivotTableB!$A$3,\"SchoolName\",$B58,\"SubsidiaryName\",$C58,\"YearStart\",AC$13)=\"\",\".\",\nGETPIVOTDATA(AC$21 & \"\",PivotTableB!$A$3,\"SchoolName\",$B58,\"SubsidiaryName\",$C58,\"YearStart\",AC$13)))),\"\")","v":13},{"$f":"IFERROR(IF(AC58=\".\",\".\",IF(AC58=\"n/a\",\"n/a\",\nGETPIVOTDATA(AD$21 & \"\",PivotTableB!$A$3,\"SchoolName\",$B58,\"SubsidiaryName\",$C58,\"YearStart\",AC$13))),\"\")","v":17},{"$f":"IFERROR(IF(AD58=\".\",\".\",IF(AD58=\"n/a\",\"n/a\",\nGETPIVOTDATA(AE$21 & \"\",PivotTableB!$A$3,\"SchoolName\",$B58,\"SubsidiaryName\",$C58,\"YearStart\",AC$13))),\"\")","v":0},30,{"$f":"IFERROR(IF(AF58=\".\",\".\",IF(AF58=\"n/a\",\"n/a\",\nGETPIVOTDATA(AG$21 & \"\",PivotTableB!$A$3,\"SchoolName\",$B58,\"SubsidiaryName\",$C58,\"YearStart\",AC$13))),\"\")","v":0},{"$f":"IFERROR(IF(AG58=\".\",\".\",IF(AG58=\"n/a\",\"n/a\",\nGETPIVOTDATA(AH$21 & \"\",PivotTableB!$A$3,\"SchoolName\",$B58,\"SubsidiaryName\",$C58,\"YearStart\",AC$13))),\"\")","v":90},{"$f":"IFERROR(IF($B58=\"\",\"\",\nIF(OR($L58=\"Nursery School\",$L58=\"All-through PRU\",$M58=\"True\"),\"n/a\",\nIF(GETPIVOTDATA(AI$21 & \"\",PivotTableB!$A$3,\"SchoolName\",$B58,\"SubsidiaryName\",$C58,\"YearStart\",AI$13)=\"\",\".\",\nGETPIVOTDATA(AI$21 & \"\",PivotTableB!$A$3,\"SchoolName\",$B58,\"SubsidiaryName\",$C58,\"YearStart\",AI$13)))),\"\")","v":30},{"$f":"IFERROR(IF(AI58=\".\",\".\",IF(AI58=\"n/a\",\"n/a\",\nGETPIVOTDATA(AJ$21 & \"\",PivotTableB!$A$3,\"SchoolName\",$B58,\"SubsidiaryName\",$C58,\"YearStart\",AI$13))),\"\")","v":0},{"$f":"IFERROR(IF(AJ58=\".\",\".\",IF(AJ58=\"n/a\",\"n/a\",\nGETPIVOTDATA(AK$21 & \"\",PivotTableB!$A$3,\"SchoolName\",$B58,\"SubsidiaryName\",$C58,\"YearStart\",AI$13))),\"\")","v":0},30,{"$f":"IFERROR(IF(AL58=\".\",\".\",IF(AL58=\"n/a\",\"n/a\",\nGETPIVOTDATA(AM$21 & \"\",PivotTableB!$A$3,\"SchoolName\",$B58,\"SubsidiaryName\",$C58,\"YearStart\",AI$13))),\"\")","v":0},{"$f":"IFERROR(IF(AM58=\".\",\".\",IF(AM58=\"n/a\",\"n/a\",\nGETPIVOTDATA(AN$21 & \"\",PivotTableB!$A$3,\"SchoolName\",$B58,\"SubsidiaryName\",$C58,\"YearStart\",AI$13))),\"\")","v":135},{"$f":"IFERROR(IF($B58=\"\",\"\",\nIF(OR($L58=\"Nursery School\",$L58=\"All-through PRU\",$M58=\"True\"),\"n/a\",\nIF(GETPIVOTDATA(AO$21 & \"\",PivotTableB!$A$3,\"SchoolName\",$B58,\"SubsidiaryName\",$C58,\"YearStart\",AO$13)=\"\",\".\",\nGETPIVOTDATA(AO$21 & \"\",PivotTableB!$A$3,\"SchoolName\",$B58,\"SubsidiaryName\",$C58,\"YearStart\",AO$13)))),\"\")","v":30},{"$f":"IFERROR(IF(AO58=\".\",\".\",IF(AO58=\"n/a\",\"n/a\",\nGETPIVOTDATA(AP$21 & \"\",PivotTableB!$A$3,\"SchoolName\",$B58,\"SubsidiaryName\",$C58,\"YearStart\",AO$13))),\"\")","v":0},{"$f":"IFERROR(IF(AP58=\".\",\".\",IF(AP58=\"n/a\",\"n/a\",\nGETPIVOTDATA(AQ$21 & \"\",PivotTableB!$A$3,\"SchoolName\",$B58,\"SubsidiaryName\",$C58,\"YearStart\",AO$13))),\"\")","v":0},30,{"$f":"IFERROR(IF(AR58=\".\",\".\",IF(AR58=\"n/a\",\"n/a\",\nGETPIVOTDATA(AS$21 & \"\",PivotTableB!$A$3,\"SchoolName\",$B58,\"SubsidiaryName\",$C58,\"YearStart\",AO$13))),\"\")","v":0},{"$f":"IFERROR(IF(AS58=\".\",\".\",IF(AS58=\"n/a\",\"n/a\",\nGETPIVOTDATA(AT$21 & \"\",PivotTableB!$A$3,\"SchoolName\",$B58,\"SubsidiaryName\",$C58,\"YearStart\",AO$13))),\"\")","v":153},{"$f":"IFERROR(IF($B58=\"\",\"\",\nIF(OR($L58=\"Nursery School\",$L58=\"All-through PRU\",$M58=\"True\"),\"n/a\",\nIF(GETPIVOTDATA(AU$21 & \"\",PivotTableB!$A$3,\"SchoolName\",$B58,\"SubsidiaryName\",$C58,\"YearStart\",AU$13)=\"\",\".\",\nGETPIVOTDATA(AU$21 & \"\",PivotTableB!$A$3,\"SchoolName\",$B58,\"SubsidiaryName\",$C58,\"YearStart\",AU$13)))),\"\")","v":30},{"$f":"IFERROR(IF(AU58=\".\",\".\",IF(AU58=\"n/a\",\"n/a\",\nGETPIVOTDATA(AV$21 & \"\",PivotTableB!$A$3,\"SchoolName\",$B58,\"SubsidiaryName\",$C58,\"YearStart\",AU$13))),\"\")","v":0},{"$f":"IFERROR(IF(AV58=\".\",\".\",IF(AV58=\"n/a\",\"n/a\",\nGETPIVOTDATA(AW$21 & \"\",PivotTableB!$A$3,\"SchoolName\",$B58,\"SubsidiaryName\",$C58,\"YearStart\",AU$13))),\"\")","v":0},30,{"$f":"IFERROR(IF(AX58=\".\",\".\",IF(AX58=\"n/a\",\"n/a\",\nGETPIVOTDATA(AY$21 & \"\",PivotTableB!$A$3,\"SchoolName\",$B58,\"SubsidiaryName\",$C58,\"YearStart\",AU$13))),\"\")","v":0},{"$f":"IFERROR(IF(AY58=\".\",\".\",IF(AY58=\"n/a\",\"n/a\",\nGETPIVOTDATA(AZ$21 & \"\",PivotTableB!$A$3,\"SchoolName\",$B58,\"SubsidiaryName\",$C58,\"YearStart\",AU$13))),\"\")","v":153},{"$f":"IFERROR(IF($B58=\"\",\"\",\nIF(OR($L58=\"Nursery School\",$L58=\"All-through PRU\",$M58=\"True\"),\"n/a\",\nIF(GETPIVOTDATA(BA$21 & \"\",PivotTableB!$A$3,\"SchoolName\",$B58,\"SubsidiaryName\",$C58,\"YearStart\",BA$13)=\"\",\".\",\nGETPIVOTDATA(BA$21 & \"\",PivotTableB!$A$3,\"SchoolName\",$B58,\"SubsidiaryName\",$C58,\"YearStart\",BA$13)))),\"\")","v":30},{"$f":"IFERROR(IF(BA58=\".\",\".\",IF(BA58=\"n/a\",\"n/a\",\nGETPIVOTDATA(BB$21 & \"\",PivotTableB!$A$3,\"SchoolName\",$B58,\"SubsidiaryName\",$C58,\"YearStart\",BA$13))),\"\")","v":0},{"$f":"IFERROR(IF(BB58=\".\",\".\",IF(BB58=\"n/a\",\"n/a\",\nGETPIVOTDATA(BC$21 & \"\",PivotTableB!$A$3,\"SchoolName\",$B58,\"SubsidiaryName\",$C58,\"YearStart\",BA$13))),\"\")","v":0},{"$f":"IFERROR(IF(BC58=\".\",\".\",IF(BC58=\"n/a\",\"n/a\",\nGETPIVOTDATA(BD$21 & \"\",PivotTableB!$A$3,\"SchoolName\",$B58,\"SubsidiaryName\",$C58,\"YearStart\",BB$13))),\"\")","v":""},30,{"$f":"IFERROR(IF(BE58=\".\",\".\",IF(BE58=\"n/a\",\"n/a\",\nGETPIVOTDATA(BF$21 & \"\",PivotTableB!$A$3,\"SchoolName\",$B58,\"SubsidiaryName\",$C58,\"YearStart\",BA$13))),\"\")","v":0},{"$f":"IFERROR(IF(BF58=\".\",\".\",IF(BF58=\"n/a\",\"n/a\",\nGETPIVOTDATA(BG$21 & \"\",PivotTableB!$A$3,\"SchoolName\",$B58,\"SubsidiaryName\",$C58,\"YearStart\",BA$13))),\"\")","v":153},{"$f":"IFERROR(IF($B58=\"\",\"\",\nIF(OR($L58=\"Nursery School\",$L58=\"All-through PRU\",$M58=\"True\"),\"n/a\",\nIF(GETPIVOTDATA(BH$21 & \"\",PivotTableB!$A$3,\"SchoolName\",$B58,\"SubsidiaryName\",$C58,\"YearStart\",BH$13)=\"\",\".\",\nGETPIVOTDATA(BH$21 & \"\",PivotTableB!$A$3,\"SchoolName\",$B58,\"SubsidiaryName\",$C58,\"YearStart\",BH$13)))),\"\")","v":13},{"$f":"IFERROR(IF(BH58=\".\",\".\",IF(BH58=\"n/a\",\"n/a\",\nGETPIVOTDATA(BI$21 & \"\",PivotTableB!$A$3,\"SchoolName\",$B58,\"SubsidiaryName\",$C58,\"YearStart\",BH$13))),\"\")","v":0},{"$f":"IFERROR(IF(BI58=\".\",\".\",IF(BI58=\"n/a\",\"n/a\",\nGETPIVOTDATA(BJ$21 & \"\",PivotTableB!$A$3,\"SchoolName\",$B58,\"SubsidiaryName\",$C58,\"YearStart\",BH$13))),\"\")","v":0},{"$f":"IFERROR(IF(BJ58=\".\",\".\",IF(BJ58=\"n/a\",\"n/a\",\nGETPIVOTDATA(BK$21 & \"\",PivotTableB!$A$3,\"SchoolName\",$B58,\"SubsidiaryName\",$C58,\"YearStart\",BH$13))),\"\")","v":0},13,{"$f":"IFERROR(IF(BL58=\".\",\".\",IF(BL58=\"n/a\",\"n/a\",\nGETPIVOTDATA(BM$21 & \"\",PivotTableB!$A$3,\"SchoolName\",$B58,\"SubsidiaryName\",$C58,\"YearStart\",BH$13))),\"\")","v":0},{"$f":"IFERROR(IF(BM58=\".\",\".\",IF(BM58=\"n/a\",\"n/a\",\nGETPIVOTDATA(BN$21 & \"\",PivotTableB!$A$3,\"SchoolName\",$B58,\"SubsidiaryName\",$C58,\"YearStart\",BH$13))),\"\")","v":153},{"$f":"IFERROR(IF($B58=\"\",\"\",\nIF(OR($L58=\"Nursery School\",$L58=\"All-through PRU\",$M58=\"True\"),\"n/a\",\nIF(GETPIVOTDATA(BO$21 & \"\",PivotTableB!$A$3,\"SchoolName\",$B58,\"SubsidiaryName\",$C58,\"YearStart\",BO$13)=\"\",\".\",\nGETPIVOTDATA(BO$21 & \"\",PivotTableB!$A$3,\"SchoolName\",$B58,\"SubsidiaryName\",$C58,\"YearStart\",BO$13)))),\"\")","v":13},{"$f":"IFERROR(IF(BO58=\".\",\".\",IF(BO58=\"n/a\",\"n/a\",\nGETPIVOTDATA(BP$21 & \"\",PivotTableB!$A$3,\"SchoolName\",$B58,\"SubsidiaryName\",$C58,\"YearStart\",BO$13))),\"\")","v":0},{"$f":"IFERROR(IF(BP58=\".\",\".\",IF(BP58=\"n/a\",\"n/a\",\nGETPIVOTDATA(BQ$21 & \"\",PivotTableB!$A$3,\"SchoolName\",$B58,\"SubsidiaryName\",$C58,\"YearStart\",BO$13))),\"\")","v":0},{"$f":"IFERROR(IF(BQ58=\".\",\".\",IF(BQ58=\"n/a\",\"n/a\",\nGETPIVOTDATA(BR$21 & \"\",PivotTableB!$A$3,\"SchoolName\",$B58,\"SubsidiaryName\",$C58,\"YearStart\",BP$13))),\"\")","v":""},13,{"$f":"IFERROR(IF(BS58=\".\",\".\",IF(BS58=\"n/a\",\"n/a\",\nGETPIVOTDATA(BT$21 & \"\",PivotTableB!$A$3,\"SchoolName\",$B58,\"SubsidiaryName\",$C58,\"YearStart\",BO$13))),\"\")","v":0},{"$f":"IFERROR(IF(BT58=\".\",\".\",IF(BT58=\"n/a\",\"n/a\",\nGETPIVOTDATA(BU$21 & \"\",PivotTableB!$A$3,\"SchoolName\",$B58,\"SubsidiaryName\",$C58,\"YearStart\",BO$13))),\"\")","v":153},{"$f":"IFERROR(IF($B58=\"\",\"\",\nIF(OR($L58=\"Nursery School\",$L58=\"All-through PRU\",$M58=\"True\"),\"n/a\",\nIF(GETPIVOTDATA(BV$21 & \"\",PivotTableB!$A$3,\"SchoolName\",$B58,\"SubsidiaryName\",$C58,\"YearStart\",BV$13)=\"\",\".\",\nGETPIVOTDATA(BV$21 & \"\",PivotTableB!$A$3,\"SchoolName\",$B58,\"SubsidiaryName\",$C58,\"YearStart\",BV$13)))),\"\")","v":13},{"$f":"IFERROR(IF(BV58=\".\",\".\",IF(BV58=\"n/a\",\"n/a\",\nGETPIVOTDATA(BW$21 & \"\",PivotTableB!$A$3,\"SchoolName\",$B58,\"SubsidiaryName\",$C58,\"YearStart\",BV$13))),\"\")","v":0},{"$f":"IFERROR(IF(BW58=\".\",\".\",IF(BW58=\"n/a\",\"n/a\",\nGETPIVOTDATA(BX$21 & \"\",PivotTableB!$A$3,\"SchoolName\",$B58,\"SubsidiaryName\",$C58,\"YearStart\",BV$13))),\"\")","v":0},{"$f":"IFERROR(IF(BX58=\".\",\".\",IF(BX58=\"n/a\",\"n/a\",\nGETPIVOTDATA(BY$21 & \"\",PivotTableB!$A$3,\"SchoolName\",$B58,\"SubsidiaryName\",$C58,\"YearStart\",BV$13))),\"\")","v":0},13,{"$f":"IFERROR(IF(BZ58=\".\",\".\",IF(BZ58=\"n/a\",\"n/a\",\nGETPIVOTDATA(CA$21 & \"\",PivotTableB!$A$3,\"SchoolName\",$B58,\"SubsidiaryName\",$C58,\"YearStart\",BV$13))),\"\")","v":0},{"$f":"IFERROR(IF(CA58=\".\",\".\",IF(CA58=\"n/a\",\"n/a\",\nGETPIVOTDATA(CB$21 & \"\",PivotTableB!$A$3,\"SchoolName\",$B58,\"SubsidiaryName\",$C58,\"YearStart\",BV$13))),\"\")","v":153}]
[null,{"$f":"IF(PivotTableA!A46=\"\",\"n/a\",PivotTableA!A46)","v":"Larchfield Primary and Nursery School"},{"$f":"IF(B59=\"n/a\",\"\",PivotTableA!B46)","v":"Larchfield Primary and Nursery School"},{"$f":"IF($B59=\"n/a\",\"\",PivotTableA!C46)","v":"R"},{"$f":"IF($B59=\"n/a\",\"\",PivotTableA!D46)","v":"Maidenhead"},{"$f":"IF($B59=\"n/a\",\"\",PivotTableA!E46)","v":"Central Maidenhead"},{"$f":"IF($B59=\"n/a\",\"\",PivotTableA!F46)","v":"Larchfield West"},{"$f":"IF($B59=\"n/a\",\"\",PivotTableA!G46)","v":"Oldfield"},{"$f":"IF($B59=\"n/a\",\"\",PivotTableA!H46)","v":"None"},{"$f":"IF($B59=\"n/a\",\"\",PivotTableA!I46)","v":"Primary"},{"$f":"IF($B59=\"n/a\",\"\",PivotTableA!J46)","v":"Two Tier"},{"$f":"IF($B59=\"n/a\",\"\",PivotTableA!K46)","v":"JMI"},{"$f":"IF($B59=\"n/a\",\"\",PivotTableA!O46)","v":"FALSE"},{"$f":"IF($B59=\"n/a\",\"\",PivotTableA!L46)","v":"Community"},{"$f":"IF($B59=\"n/a\",\"\",PivotTableA!M46)","v":" "},{"$f":"IF($B59=\"n/a\",\"\",PivotTableA!N46)","v":"None"},{"$f":"IFERROR(IF($B59=\"\",\"\",\nIF(OR($L59=\"Nursery School\",$L59=\"All-through PRU\",$M59=\"True\"),\"n/a\",\nIF(GETPIVOTDATA(Q$21 & \"\",PivotTableB!$A$3,\"SchoolName\",$B59,\"SubsidiaryName\",$C59,\"YearStart\",Q$13)=\"\",\".\",\nGETPIVOTDATA(Q$21 & \"\",PivotTableB!$A$3,\"SchoolName\",$B59,\"SubsidiaryName\",$C59,\"YearStart\",Q$13)))),\"\")","v":30},{"$f":"IFERROR(IF(Q59=\".\",\".\",IF(Q59=\"n/a\",\"n/a\",\nGETPIVOTDATA(R$21 & \"\",PivotTableB!$A$3,\"SchoolName\",$B59,\"SubsidiaryName\",$C59,\"YearStart\",Q$13))),\"\")","v":0},{"$f":"IFERROR(IF(R59=\".\",\".\",IF(R59=\"n/a\",\"n/a\",\nGETPIVOTDATA(S$21 & \"\",PivotTableB!$A$3,\"SchoolName\",$B59,\"SubsidiaryName\",$C59,\"YearStart\",Q$13))),\"\")","v":0},30,{"$f":"IFERROR(IF(T59=\".\",\".\",IF(T59=\"n/a\",\"n/a\",\nGETPIVOTDATA(U$21 & \"\",PivotTableB!$A$3,\"SchoolName\",$B59,\"SubsidiaryName\",$C59,\"YearStart\",Q$13))),\"\")","v":0},{"$f":"IFERROR(IF(U59=\".\",\".\",IF(U59=\"n/a\",\"n/a\",\nGETPIVOTDATA(V$21 & \"\",PivotTableB!$A$3,\"SchoolName\",$B59,\"SubsidiaryName\",$C59,\"YearStart\",Q$13))),\"\")","v":208},{"$f":"IFERROR(IF($B59=\"\",\"\",\nIF(OR($L59=\"Nursery School\",$L59=\"All-through PRU\",$M59=\"True\"),\"n/a\",\nIF(GETPIVOTDATA(W$21 & \"\",PivotTableB!$A$3,\"SchoolName\",$B59,\"SubsidiaryName\",$C59,\"YearStart\",W$13)=\"\",\".\",\nGETPIVOTDATA(W$21 & \"\",PivotTableB!$A$3,\"SchoolName\",$B59,\"SubsidiaryName\",$C59,\"YearStart\",W$13)))),\"\")","v":30},{"$f":"IFERROR(IF(W59=\".\",\".\",IF(W59=\"n/a\",\"n/a\",\nGETPIVOTDATA(X$21 & \"\",PivotTableB!$A$3,\"SchoolName\",$B59,\"SubsidiaryName\",$C59,\"YearStart\",W$13))),\"\")","v":0},{"$f":"IFERROR(IF(X59=\".\",\".\",IF(X59=\"n/a\",\"n/a\",\nGETPIVOTDATA(Y$21 & \"\",PivotTableB!$A$3,\"SchoolName\",$B59,\"SubsidiaryName\",$C59,\"YearStart\",W$13))),\"\")","v":0},30,{"$f":"IFERROR(IF(Z59=\".\",\".\",IF(Z59=\"n/a\",\"n/a\",\nGETPIVOTDATA(AA$21 & \"\",PivotTableB!$A$3,\"SchoolName\",$B59,\"SubsidiaryName\",$C59,\"YearStart\",W$13))),\"\")","v":0},{"$f":"IFERROR(IF(AA59=\".\",\".\",IF(AA59=\"n/a\",\"n/a\",\nGETPIVOTDATA(AB$21 & \"\",PivotTableB!$A$3,\"SchoolName\",$B59,\"SubsidiaryName\",$C59,\"YearStart\",W$13))),\"\")","v":208},{"$f":"IFERROR(IF($B59=\"\",\"\",\nIF(OR($L59=\"Nursery School\",$L59=\"All-through PRU\",$M59=\"True\"),\"n/a\",\nIF(GETPIVOTDATA(AC$21 & \"\",PivotTableB!$A$3,\"SchoolName\",$B59,\"SubsidiaryName\",$C59,\"YearStart\",AC$13)=\"\",\".\",\nGETPIVOTDATA(AC$21 & \"\",PivotTableB!$A$3,\"SchoolName\",$B59,\"SubsidiaryName\",$C59,\"YearStart\",AC$13)))),\"\")","v":30},{"$f":"IFERROR(IF(AC59=\".\",\".\",IF(AC59=\"n/a\",\"n/a\",\nGETPIVOTDATA(AD$21 & \"\",PivotTableB!$A$3,\"SchoolName\",$B59,\"SubsidiaryName\",$C59,\"YearStart\",AC$13))),\"\")","v":0},{"$f":"IFERROR(IF(AD59=\".\",\".\",IF(AD59=\"n/a\",\"n/a\",\nGETPIVOTDATA(AE$21 & \"\",PivotTableB!$A$3,\"SchoolName\",$B59,\"SubsidiaryName\",$C59,\"YearStart\",AC$13))),\"\")","v":0},30,{"$f":"IFERROR(IF(AF59=\".\",\".\",IF(AF59=\"n/a\",\"n/a\",\nGETPIVOTDATA(AG$21 & \"\",PivotTableB!$A$3,\"SchoolName\",$B59,\"SubsidiaryName\",$C59,\"YearStart\",AC$13))),\"\")","v":0},{"$f":"IFERROR(IF(AG59=\".\",\".\",IF(AG59=\"n/a\",\"n/a\",\nGETPIVOTDATA(AH$21 & \"\",PivotTableB!$A$3,\"SchoolName\",$B59,\"SubsidiaryName\",$C59,\"YearStart\",AC$13))),\"\")","v":208},{"$f":"IFERROR(IF($B59=\"\",\"\",\nIF(OR($L59=\"Nursery School\",$L59=\"All-through PRU\",$M59=\"True\"),\"n/a\",\nIF(GETPIVOTDATA(AI$21 & \"\",PivotTableB!$A$3,\"SchoolName\",$B59,\"SubsidiaryName\",$C59,\"YearStart\",AI$13)=\"\",\".\",\nGETPIVOTDATA(AI$21 & \"\",PivotTableB!$A$3,\"SchoolName\",$B59,\"SubsidiaryName\",$C59,\"YearStart\",AI$13)))),\"\")","v":30},{"$f":"IFERROR(IF(AI59=\".\",\".\",IF(AI59=\"n/a\",\"n/a\",\nGETPIVOTDATA(AJ$21 & \"\",PivotTableB!$A$3,\"SchoolName\",$B59,\"SubsidiaryName\",$C59,\"YearStart\",AI$13))),\"\")","v":0},{"$f":"IFERROR(IF(AJ59=\".\",\".\",IF(AJ59=\"n/a\",\"n/a\",\nGETPIVOTDATA(AK$21 & \"\",PivotTableB!$A$3,\"SchoolName\",$B59,\"SubsidiaryName\",$C59,\"YearStart\",AI$13))),\"\")","v":0},30,{"$f":"IFERROR(IF(AL59=\".\",\".\",IF(AL59=\"n/a\",\"n/a\",\nGETPIVOTDATA(AM$21 & \"\",PivotTableB!$A$3,\"SchoolName\",$B59,\"SubsidiaryName\",$C59,\"YearStart\",AI$13))),\"\")","v":0},{"$f":"IFERROR(IF(AM59=\".\",\".\",IF(AM59=\"n/a\",\"n/a\",\nGETPIVOTDATA(AN$21 & \"\",PivotTableB!$A$3,\"SchoolName\",$B59,\"SubsidiaryName\",$C59,\"YearStart\",AI$13))),\"\")","v":208},{"$f":"IFERROR(IF($B59=\"\",\"\",\nIF(OR($L59=\"Nursery School\",$L59=\"All-through PRU\",$M59=\"True\"),\"n/a\",\nIF(GETPIVOTDATA(AO$21 & \"\",PivotTableB!$A$3,\"SchoolName\",$B59,\"SubsidiaryName\",$C59,\"YearStart\",AO$13)=\"\",\".\",\nGETPIVOTDATA(AO$21 & \"\",PivotTableB!$A$3,\"SchoolName\",$B59,\"SubsidiaryName\",$C59,\"YearStart\",AO$13)))),\"\")","v":30},{"$f":"IFERROR(IF(AO59=\".\",\".\",IF(AO59=\"n/a\",\"n/a\",\nGETPIVOTDATA(AP$21 & \"\",PivotTableB!$A$3,\"SchoolName\",$B59,\"SubsidiaryName\",$C59,\"YearStart\",AO$13))),\"\")","v":0},{"$f":"IFERROR(IF(AP59=\".\",\".\",IF(AP59=\"n/a\",\"n/a\",\nGETPIVOTDATA(AQ$21 & \"\",PivotTableB!$A$3,\"SchoolName\",$B59,\"SubsidiaryName\",$C59,\"YearStart\",AO$13))),\"\")","v":0},30,{"$f":"IFERROR(IF(AR59=\".\",\".\",IF(AR59=\"n/a\",\"n/a\",\nGETPIVOTDATA(AS$21 & \"\",PivotTableB!$A$3,\"SchoolName\",$B59,\"SubsidiaryName\",$C59,\"YearStart\",AO$13))),\"\")","v":0},{"$f":"IFERROR(IF(AS59=\".\",\".\",IF(AS59=\"n/a\",\"n/a\",\nGETPIVOTDATA(AT$21 & \"\",PivotTableB!$A$3,\"SchoolName\",$B59,\"SubsidiaryName\",$C59,\"YearStart\",AO$13))),\"\")","v":209},{"$f":"IFERROR(IF($B59=\"\",\"\",\nIF(OR($L59=\"Nursery School\",$L59=\"All-through PRU\",$M59=\"True\"),\"n/a\",\nIF(GETPIVOTDATA(AU$21 & \"\",PivotTableB!$A$3,\"SchoolName\",$B59,\"SubsidiaryName\",$C59,\"YearStart\",AU$13)=\"\",\".\",\nGETPIVOTDATA(AU$21 & \"\",PivotTableB!$A$3,\"SchoolName\",$B59,\"SubsidiaryName\",$C59,\"YearStart\",AU$13)))),\"\")","v":30},{"$f":"IFERROR(IF(AU59=\".\",\".\",IF(AU59=\"n/a\",\"n/a\",\nGETPIVOTDATA(AV$21 & \"\",PivotTableB!$A$3,\"SchoolName\",$B59,\"SubsidiaryName\",$C59,\"YearStart\",AU$13))),\"\")","v":0},{"$f":"IFERROR(IF(AV59=\".\",\".\",IF(AV59=\"n/a\",\"n/a\",\nGETPIVOTDATA(AW$21 & \"\",PivotTableB!$A$3,\"SchoolName\",$B59,\"SubsidiaryName\",$C59,\"YearStart\",AU$13))),\"\")","v":0},30,{"$f":"IFERROR(IF(AX59=\".\",\".\",IF(AX59=\"n/a\",\"n/a\",\nGETPIVOTDATA(AY$21 & \"\",PivotTableB!$A$3,\"SchoolName\",$B59,\"SubsidiaryName\",$C59,\"YearStart\",AU$13))),\"\")","v":0},{"$f":"IFERROR(IF(AY59=\".\",\".\",IF(AY59=\"n/a\",\"n/a\",\nGETPIVOTDATA(AZ$21 & \"\",PivotTableB!$A$3,\"SchoolName\",$B59,\"SubsidiaryName\",$C59,\"YearStart\",AU$13))),\"\")","v":209},{"$f":"IFERROR(IF($B59=\"\",\"\",\nIF(OR($L59=\"Nursery School\",$L59=\"All-through PRU\",$M59=\"True\"),\"n/a\",\nIF(GETPIVOTDATA(BA$21 & \"\",PivotTableB!$A$3,\"SchoolName\",$B59,\"SubsidiaryName\",$C59,\"YearStart\",BA$13)=\"\",\".\",\nGETPIVOTDATA(BA$21 & \"\",PivotTableB!$A$3,\"SchoolName\",$B59,\"SubsidiaryName\",$C59,\"YearStart\",BA$13)))),\"\")","v":30},{"$f":"IFERROR(IF(BA59=\".\",\".\",IF(BA59=\"n/a\",\"n/a\",\nGETPIVOTDATA(BB$21 & \"\",PivotTableB!$A$3,\"SchoolName\",$B59,\"SubsidiaryName\",$C59,\"YearStart\",BA$13))),\"\")","v":0},{"$f":"IFERROR(IF(BB59=\".\",\".\",IF(BB59=\"n/a\",\"n/a\",\nGETPIVOTDATA(BC$21 & \"\",PivotTableB!$A$3,\"SchoolName\",$B59,\"SubsidiaryName\",$C59,\"YearStart\",BA$13))),\"\")","v":0},{"$f":"IFERROR(IF(BC59=\".\",\".\",IF(BC59=\"n/a\",\"n/a\",\nGETPIVOTDATA(BD$21 & \"\",PivotTableB!$A$3,\"SchoolName\",$B59,\"SubsidiaryName\",$C59,\"YearStart\",BB$13))),\"\")","v":""},30,{"$f":"IFERROR(IF(BE59=\".\",\".\",IF(BE59=\"n/a\",\"n/a\",\nGETPIVOTDATA(BF$21 & \"\",PivotTableB!$A$3,\"SchoolName\",$B59,\"SubsidiaryName\",$C59,\"YearStart\",BA$13))),\"\")","v":0},{"$f":"IFERROR(IF(BF59=\".\",\".\",IF(BF59=\"n/a\",\"n/a\",\nGETPIVOTDATA(BG$21 & \"\",PivotTableB!$A$3,\"SchoolName\",$B59,\"SubsidiaryName\",$C59,\"YearStart\",BA$13))),\"\")","v":209},{"$f":"IFERROR(IF($B59=\"\",\"\",\nIF(OR($L59=\"Nursery School\",$L59=\"All-through PRU\",$M59=\"True\"),\"n/a\",\nIF(GETPIVOTDATA(BH$21 & \"\",PivotTableB!$A$3,\"SchoolName\",$B59,\"SubsidiaryName\",$C59,\"YearStart\",BH$13)=\"\",\".\",\nGETPIVOTDATA(BH$21 & \"\",PivotTableB!$A$3,\"SchoolName\",$B59,\"SubsidiaryName\",$C59,\"YearStart\",BH$13)))),\"\")","v":30},{"$f":"IFERROR(IF(BH59=\".\",\".\",IF(BH59=\"n/a\",\"n/a\",\nGETPIVOTDATA(BI$21 & \"\",PivotTableB!$A$3,\"SchoolName\",$B59,\"SubsidiaryName\",$C59,\"YearStart\",BH$13))),\"\")","v":0},{"$f":"IFERROR(IF(BI59=\".\",\".\",IF(BI59=\"n/a\",\"n/a\",\nGETPIVOTDATA(BJ$21 & \"\",PivotTableB!$A$3,\"SchoolName\",$B59,\"SubsidiaryName\",$C59,\"YearStart\",BH$13))),\"\")","v":0},{"$f":"IFERROR(IF(BJ59=\".\",\".\",IF(BJ59=\"n/a\",\"n/a\",\nGETPIVOTDATA(BK$21 & \"\",PivotTableB!$A$3,\"SchoolName\",$B59,\"SubsidiaryName\",$C59,\"YearStart\",BH$13))),\"\")","v":0},30,{"$f":"IFERROR(IF(BL59=\".\",\".\",IF(BL59=\"n/a\",\"n/a\",\nGETPIVOTDATA(BM$21 & \"\",PivotTableB!$A$3,\"SchoolName\",$B59,\"SubsidiaryName\",$C59,\"YearStart\",BH$13))),\"\")","v":0},{"$f":"IFERROR(IF(BM59=\".\",\".\",IF(BM59=\"n/a\",\"n/a\",\nGETPIVOTDATA(BN$21 & \"\",PivotTableB!$A$3,\"SchoolName\",$B59,\"SubsidiaryName\",$C59,\"YearStart\",BH$13))),\"\")","v":209},{"$f":"IFERROR(IF($B59=\"\",\"\",\nIF(OR($L59=\"Nursery School\",$L59=\"All-through PRU\",$M59=\"True\"),\"n/a\",\nIF(GETPIVOTDATA(BO$21 & \"\",PivotTableB!$A$3,\"SchoolName\",$B59,\"SubsidiaryName\",$C59,\"YearStart\",BO$13)=\"\",\".\",\nGETPIVOTDATA(BO$21 & \"\",PivotTableB!$A$3,\"SchoolName\",$B59,\"SubsidiaryName\",$C59,\"YearStart\",BO$13)))),\"\")","v":30},{"$f":"IFERROR(IF(BO59=\".\",\".\",IF(BO59=\"n/a\",\"n/a\",\nGETPIVOTDATA(BP$21 & \"\",PivotTableB!$A$3,\"SchoolName\",$B59,\"SubsidiaryName\",$C59,\"YearStart\",BO$13))),\"\")","v":0},{"$f":"IFERROR(IF(BP59=\".\",\".\",IF(BP59=\"n/a\",\"n/a\",\nGETPIVOTDATA(BQ$21 & \"\",PivotTableB!$A$3,\"SchoolName\",$B59,\"SubsidiaryName\",$C59,\"YearStart\",BO$13))),\"\")","v":0},{"$f":"IFERROR(IF(BQ59=\".\",\".\",IF(BQ59=\"n/a\",\"n/a\",\nGETPIVOTDATA(BR$21 & \"\",PivotTableB!$A$3,\"SchoolName\",$B59,\"SubsidiaryName\",$C59,\"YearStart\",BP$13))),\"\")","v":""},30,{"$f":"IFERROR(IF(BS59=\".\",\".\",IF(BS59=\"n/a\",\"n/a\",\nGETPIVOTDATA(BT$21 & \"\",PivotTableB!$A$3,\"SchoolName\",$B59,\"SubsidiaryName\",$C59,\"YearStart\",BO$13))),\"\")","v":0},{"$f":"IFERROR(IF(BT59=\".\",\".\",IF(BT59=\"n/a\",\"n/a\",\nGETPIVOTDATA(BU$21 & \"\",PivotTableB!$A$3,\"SchoolName\",$B59,\"SubsidiaryName\",$C59,\"YearStart\",BO$13))),\"\")","v":209},{"$f":"IFERROR(IF($B59=\"\",\"\",\nIF(OR($L59=\"Nursery School\",$L59=\"All-through PRU\",$M59=\"True\"),\"n/a\",\nIF(GETPIVOTDATA(BV$21 & \"\",PivotTableB!$A$3,\"SchoolName\",$B59,\"SubsidiaryName\",$C59,\"YearStart\",BV$13)=\"\",\".\",\nGETPIVOTDATA(BV$21 & \"\",PivotTableB!$A$3,\"SchoolName\",$B59,\"SubsidiaryName\",$C59,\"YearStart\",BV$13)))),\"\")","v":30},{"$f":"IFERROR(IF(BV59=\".\",\".\",IF(BV59=\"n/a\",\"n/a\",\nGETPIVOTDATA(BW$21 & \"\",PivotTableB!$A$3,\"SchoolName\",$B59,\"SubsidiaryName\",$C59,\"YearStart\",BV$13))),\"\")","v":0},{"$f":"IFERROR(IF(BW59=\".\",\".\",IF(BW59=\"n/a\",\"n/a\",\nGETPIVOTDATA(BX$21 & \"\",PivotTableB!$A$3,\"SchoolName\",$B59,\"SubsidiaryName\",$C59,\"YearStart\",BV$13))),\"\")","v":0},{"$f":"IFERROR(IF(BX59=\".\",\".\",IF(BX59=\"n/a\",\"n/a\",\nGETPIVOTDATA(BY$21 & \"\",PivotTableB!$A$3,\"SchoolName\",$B59,\"SubsidiaryName\",$C59,\"YearStart\",BV$13))),\"\")","v":0},30,{"$f":"IFERROR(IF(BZ59=\".\",\".\",IF(BZ59=\"n/a\",\"n/a\",\nGETPIVOTDATA(CA$21 & \"\",PivotTableB!$A$3,\"SchoolName\",$B59,\"SubsidiaryName\",$C59,\"YearStart\",BV$13))),\"\")","v":0},{"$f":"IFERROR(IF(CA59=\".\",\".\",IF(CA59=\"n/a\",\"n/a\",\nGETPIVOTDATA(CB$21 & \"\",PivotTableB!$A$3,\"SchoolName\",$B59,\"SubsidiaryName\",$C59,\"YearStart\",BV$13))),\"\")","v":209}]
[null,{"$f":"IF(PivotTableA!A47=\"\",\"n/a\",PivotTableA!A47)","v":"Lowbrook Academy"},{"$f":"IF(B60=\"n/a\",\"\",PivotTableA!B47)","v":"Lowbrook Academy"},{"$f":"IF($B60=\"n/a\",\"\",PivotTableA!C47)","v":"R"},{"$f":"IF($B60=\"n/a\",\"\",PivotTableA!D47)","v":"Maidenhead"},{"$f":"IF($B60=\"n/a\",\"\",PivotTableA!E47)","v":"South West Maidenhead"},{"$f":"IF($B60=\"n/a\",\"\",PivotTableA!F47)","v":"Lowbrook"},{"$f":"IF($B60=\"n/a\",\"\",PivotTableA!G47)","v":"Cox Green"},{"$f":"IF($B60=\"n/a\",\"\",PivotTableA!H47)","v":"Cox Green"},{"$f":"IF($B60=\"n/a\",\"\",PivotTableA!I47)","v":"Primary"},{"$f":"IF($B60=\"n/a\",\"\",PivotTableA!J47)","v":"Two Tier"},{"$f":"IF($B60=\"n/a\",\"\",PivotTableA!K47)","v":"JMI"},{"$f":"IF($B60=\"n/a\",\"\",PivotTableA!O47)","v":"FALSE"},{"$f":"IF($B60=\"n/a\",\"\",PivotTableA!L47)","v":"Academy"},{"$f":"IF($B60=\"n/a\",\"\",PivotTableA!M47)","v":"2011-04-01"},{"$f":"IF($B60=\"n/a\",\"\",PivotTableA!N47)","v":"None"},{"$f":"IFERROR(IF($B60=\"\",\"\",\nIF(OR($L60=\"Nursery School\",$L60=\"All-through PRU\",$M60=\"True\"),\"n/a\",\nIF(GETPIVOTDATA(Q$21 & \"\",PivotTableB!$A$3,\"SchoolName\",$B60,\"SubsidiaryName\",$C60,\"YearStart\",Q$13)=\"\",\".\",\nGETPIVOTDATA(Q$21 & \"\",PivotTableB!$A$3,\"SchoolName\",$B60,\"SubsidiaryName\",$C60,\"YearStart\",Q$13)))),\"\")","v":30},{"$f":"IFERROR(IF(Q60=\".\",\".\",IF(Q60=\"n/a\",\"n/a\",\nGETPIVOTDATA(R$21 & \"\",PivotTableB!$A$3,\"SchoolName\",$B60,\"SubsidiaryName\",$C60,\"YearStart\",Q$13))),\"\")","v":30},{"$f":"IFERROR(IF(R60=\".\",\".\",IF(R60=\"n/a\",\"n/a\",\nGETPIVOTDATA(S$21 & \"\",PivotTableB!$A$3,\"SchoolName\",$B60,\"SubsidiaryName\",$C60,\"YearStart\",Q$13))),\"\")","v":0},60,{"$f":"IFERROR(IF(T60=\".\",\".\",IF(T60=\"n/a\",\"n/a\",\nGETPIVOTDATA(U$21 & \"\",PivotTableB!$A$3,\"SchoolName\",$B60,\"SubsidiaryName\",$C60,\"YearStart\",Q$13))),\"\")","v":0},{"$f":"IFERROR(IF(U60=\".\",\".\",IF(U60=\"n/a\",\"n/a\",\nGETPIVOTDATA(V$21 & \"\",PivotTableB!$A$3,\"SchoolName\",$B60,\"SubsidiaryName\",$C60,\"YearStart\",Q$13))),\"\")","v":270},{"$f":"IFERROR(IF($B60=\"\",\"\",\nIF(OR($L60=\"Nursery School\",$L60=\"All-through PRU\",$M60=\"True\"),\"n/a\",\nIF(GETPIVOTDATA(W$21 & \"\",PivotTableB!$A$3,\"SchoolName\",$B60,\"SubsidiaryName\",$C60,\"YearStart\",W$13)=\"\",\".\",\nGETPIVOTDATA(W$21 & \"\",PivotTableB!$A$3,\"SchoolName\",$B60,\"SubsidiaryName\",$C60,\"YearStart\",W$13)))),\"\")","v":30},{"$f":"IFERROR(IF(W60=\".\",\".\",IF(W60=\"n/a\",\"n/a\",\nGETPIVOTDATA(X$21 & \"\",PivotTableB!$A$3,\"SchoolName\",$B60,\"SubsidiaryName\",$C60,\"YearStart\",W$13))),\"\")","v":30},{"$f":"IFERROR(IF(X60=\".\",\".\",IF(X60=\"n/a\",\"n/a\",\nGETPIVOTDATA(Y$21 & \"\",PivotTableB!$A$3,\"SchoolName\",$B60,\"SubsidiaryName\",$C60,\"YearStart\",W$13))),\"\")","v":0},60,{"$f":"IFERROR(IF(Z60=\".\",\".\",IF(Z60=\"n/a\",\"n/a\",\nGETPIVOTDATA(AA$21 & \"\",PivotTableB!$A$3,\"SchoolName\",$B60,\"SubsidiaryName\",$C60,\"YearStart\",W$13))),\"\")","v":0},{"$f":"IFERROR(IF(AA60=\".\",\".\",IF(AA60=\"n/a\",\"n/a\",\nGETPIVOTDATA(AB$21 & \"\",PivotTableB!$A$3,\"SchoolName\",$B60,\"SubsidiaryName\",$C60,\"YearStart\",W$13))),\"\")","v":270},{"$f":"IFERROR(IF($B60=\"\",\"\",\nIF(OR($L60=\"Nursery School\",$L60=\"All-through PRU\",$M60=\"True\"),\"n/a\",\nIF(GETPIVOTDATA(AC$21 & \"\",PivotTableB!$A$3,\"SchoolName\",$B60,\"SubsidiaryName\",$C60,\"YearStart\",AC$13)=\"\",\".\",\nGETPIVOTDATA(AC$21 & \"\",PivotTableB!$A$3,\"SchoolName\",$B60,\"SubsidiaryName\",$C60,\"YearStart\",AC$13)))),\"\")","v":30},{"$f":"IFERROR(IF(AC60=\".\",\".\",IF(AC60=\"n/a\",\"n/a\",\nGETPIVOTDATA(AD$21 & \"\",PivotTableB!$A$3,\"SchoolName\",$B60,\"SubsidiaryName\",$C60,\"YearStart\",AC$13))),\"\")","v":30},{"$f":"IFERROR(IF(AD60=\".\",\".\",IF(AD60=\"n/a\",\"n/a\",\nGETPIVOTDATA(AE$21 & \"\",PivotTableB!$A$3,\"SchoolName\",$B60,\"SubsidiaryName\",$C60,\"YearStart\",AC$13))),\"\")","v":0},60,{"$f":"IFERROR(IF(AF60=\".\",\".\",IF(AF60=\"n/a\",\"n/a\",\nGETPIVOTDATA(AG$21 & \"\",PivotTableB!$A$3,\"SchoolName\",$B60,\"SubsidiaryName\",$C60,\"YearStart\",AC$13))),\"\")","v":0},{"$f":"IFERROR(IF(AG60=\".\",\".\",IF(AG60=\"n/a\",\"n/a\",\nGETPIVOTDATA(AH$21 & \"\",PivotTableB!$A$3,\"SchoolName\",$B60,\"SubsidiaryName\",$C60,\"YearStart\",AC$13))),\"\")","v":300},{"$f":"IFERROR(IF($B60=\"\",\"\",\nIF(OR($L60=\"Nursery School\",$L60=\"All-through PRU\",$M60=\"True\"),\"n/a\",\nIF(GETPIVOTDATA(AI$21 & \"\",PivotTableB!$A$3,\"SchoolName\",$B60,\"SubsidiaryName\",$C60,\"YearStart\",AI$13)=\"\",\".\",\nGETPIVOTDATA(AI$21 & \"\",PivotTableB!$A$3,\"SchoolName\",$B60,\"SubsidiaryName\",$C60,\"YearStart\",AI$13)))),\"\")","v":30},{"$f":"IFERROR(IF(AI60=\".\",\".\",IF(AI60=\"n/a\",\"n/a\",\nGETPIVOTDATA(AJ$21 & \"\",PivotTableB!$A$3,\"SchoolName\",$B60,\"SubsidiaryName\",$C60,\"YearStart\",AI$13))),\"\")","v":30},{"$f":"IFERROR(IF(AJ60=\".\",\".\",IF(AJ60=\"n/a\",\"n/a\",\nGETPIVOTDATA(AK$21 & \"\",PivotTableB!$A$3,\"SchoolName\",$B60,\"SubsidiaryName\",$C60,\"YearStart\",AI$13))),\"\")","v":0},60,{"$f":"IFERROR(IF(AL60=\".\",\".\",IF(AL60=\"n/a\",\"n/a\",\nGETPIVOTDATA(AM$21 & \"\",PivotTableB!$A$3,\"SchoolName\",$B60,\"SubsidiaryName\",$C60,\"YearStart\",AI$13))),\"\")","v":0},{"$f":"IFERROR(IF(AM60=\".\",\".\",IF(AM60=\"n/a\",\"n/a\",\nGETPIVOTDATA(AN$21 & \"\",PivotTableB!$A$3,\"SchoolName\",$B60,\"SubsidiaryName\",$C60,\"YearStart\",AI$13))),\"\")","v":330},{"$f":"IFERROR(IF($B60=\"\",\"\",\nIF(OR($L60=\"Nursery School\",$L60=\"All-through PRU\",$M60=\"True\"),\"n/a\",\nIF(GETPIVOTDATA(AO$21 & \"\",PivotTableB!$A$3,\"SchoolName\",$B60,\"SubsidiaryName\",$C60,\"YearStart\",AO$13)=\"\",\".\",\nGETPIVOTDATA(AO$21 & \"\",PivotTableB!$A$3,\"SchoolName\",$B60,\"SubsidiaryName\",$C60,\"YearStart\",AO$13)))),\"\")","v":30},{"$f":"IFERROR(IF(AO60=\".\",\".\",IF(AO60=\"n/a\",\"n/a\",\nGETPIVOTDATA(AP$21 & \"\",PivotTableB!$A$3,\"SchoolName\",$B60,\"SubsidiaryName\",$C60,\"YearStart\",AO$13))),\"\")","v":0},{"$f":"IFERROR(IF(AP60=\".\",\".\",IF(AP60=\"n/a\",\"n/a\",\nGETPIVOTDATA(AQ$21 & \"\",PivotTableB!$A$3,\"SchoolName\",$B60,\"SubsidiaryName\",$C60,\"YearStart\",AO$13))),\"\")","v":0},30,{"$f":"IFERROR(IF(AR60=\".\",\".\",IF(AR60=\"n/a\",\"n/a\",\nGETPIVOTDATA(AS$21 & \"\",PivotTableB!$A$3,\"SchoolName\",$B60,\"SubsidiaryName\",$C60,\"YearStart\",AO$13))),\"\")","v":0},{"$f":"IFERROR(IF(AS60=\".\",\".\",IF(AS60=\"n/a\",\"n/a\",\nGETPIVOTDATA(AT$21 & \"\",PivotTableB!$A$3,\"SchoolName\",$B60,\"SubsidiaryName\",$C60,\"YearStart\",AO$13))),\"\")","v":330},{"$f":"IFERROR(IF($B60=\"\",\"\",\nIF(OR($L60=\"Nursery School\",$L60=\"All-through PRU\",$M60=\"True\"),\"n/a\",\nIF(GETPIVOTDATA(AU$21 & \"\",PivotTableB!$A$3,\"SchoolName\",$B60,\"SubsidiaryName\",$C60,\"YearStart\",AU$13)=\"\",\".\",\nGETPIVOTDATA(AU$21 & \"\",PivotTableB!$A$3,\"SchoolName\",$B60,\"SubsidiaryName\",$C60,\"YearStart\",AU$13)))),\"\")","v":30},{"$f":"IFERROR(IF(AU60=\".\",\".\",IF(AU60=\"n/a\",\"n/a\",\nGETPIVOTDATA(AV$21 & \"\",PivotTableB!$A$3,\"SchoolName\",$B60,\"SubsidiaryName\",$C60,\"YearStart\",AU$13))),\"\")","v":0},{"$f":"IFERROR(IF(AV60=\".\",\".\",IF(AV60=\"n/a\",\"n/a\",\nGETPIVOTDATA(AW$21 & \"\",PivotTableB!$A$3,\"SchoolName\",$B60,\"SubsidiaryName\",$C60,\"YearStart\",AU$13))),\"\")","v":0},30,{"$f":"IFERROR(IF(AX60=\".\",\".\",IF(AX60=\"n/a\",\"n/a\",\nGETPIVOTDATA(AY$21 & \"\",PivotTableB!$A$3,\"SchoolName\",$B60,\"SubsidiaryName\",$C60,\"YearStart\",AU$13))),\"\")","v":0},{"$f":"IFERROR(IF(AY60=\".\",\".\",IF(AY60=\"n/a\",\"n/a\",\nGETPIVOTDATA(AZ$21 & \"\",PivotTableB!$A$3,\"SchoolName\",$B60,\"SubsidiaryName\",$C60,\"YearStart\",AU$13))),\"\")","v":330},{"$f":"IFERROR(IF($B60=\"\",\"\",\nIF(OR($L60=\"Nursery School\",$L60=\"All-through PRU\",$M60=\"True\"),\"n/a\",\nIF(GETPIVOTDATA(BA$21 & \"\",PivotTableB!$A$3,\"SchoolName\",$B60,\"SubsidiaryName\",$C60,\"YearStart\",BA$13)=\"\",\".\",\nGETPIVOTDATA(BA$21 & \"\",PivotTableB!$A$3,\"SchoolName\",$B60,\"SubsidiaryName\",$C60,\"YearStart\",BA$13)))),\"\")","v":30},{"$f":"IFERROR(IF(BA60=\".\",\".\",IF(BA60=\"n/a\",\"n/a\",\nGETPIVOTDATA(BB$21 & \"\",PivotTableB!$A$3,\"SchoolName\",$B60,\"SubsidiaryName\",$C60,\"YearStart\",BA$13))),\"\")","v":0},{"$f":"IFERROR(IF(BB60=\".\",\".\",IF(BB60=\"n/a\",\"n/a\",\nGETPIVOTDATA(BC$21 & \"\",PivotTableB!$A$3,\"SchoolName\",$B60,\"SubsidiaryName\",$C60,\"YearStart\",BA$13))),\"\")","v":0},{"$f":"IFERROR(IF(BC60=\".\",\".\",IF(BC60=\"n/a\",\"n/a\",\nGETPIVOTDATA(BD$21 & \"\",PivotTableB!$A$3,\"SchoolName\",$B60,\"SubsidiaryName\",$C60,\"YearStart\",BB$13))),\"\")","v":""},30,{"$f":"IFERROR(IF(BE60=\".\",\".\",IF(BE60=\"n/a\",\"n/a\",\nGETPIVOTDATA(BF$21 & \"\",PivotTableB!$A$3,\"SchoolName\",$B60,\"SubsidiaryName\",$C60,\"YearStart\",BA$13))),\"\")","v":0},{"$f":"IFERROR(IF(BF60=\".\",\".\",IF(BF60=\"n/a\",\"n/a\",\nGETPIVOTDATA(BG$21 & \"\",PivotTableB!$A$3,\"SchoolName\",$B60,\"SubsidiaryName\",$C60,\"YearStart\",BA$13))),\"\")","v":330},{"$f":"IFERROR(IF($B60=\"\",\"\",\nIF(OR($L60=\"Nursery School\",$L60=\"All-through PRU\",$M60=\"True\"),\"n/a\",\nIF(GETPIVOTDATA(BH$21 & \"\",PivotTableB!$A$3,\"SchoolName\",$B60,\"SubsidiaryName\",$C60,\"YearStart\",BH$13)=\"\",\".\",\nGETPIVOTDATA(BH$21 & \"\",PivotTableB!$A$3,\"SchoolName\",$B60,\"SubsidiaryName\",$C60,\"YearStart\",BH$13)))),\"\")","v":30},{"$f":"IFERROR(IF(BH60=\".\",\".\",IF(BH60=\"n/a\",\"n/a\",\nGETPIVOTDATA(BI$21 & \"\",PivotTableB!$A$3,\"SchoolName\",$B60,\"SubsidiaryName\",$C60,\"YearStart\",BH$13))),\"\")","v":0},{"$f":"IFERROR(IF(BI60=\".\",\".\",IF(BI60=\"n/a\",\"n/a\",\nGETPIVOTDATA(BJ$21 & \"\",PivotTableB!$A$3,\"SchoolName\",$B60,\"SubsidiaryName\",$C60,\"YearStart\",BH$13))),\"\")","v":0},{"$f":"IFERROR(IF(BJ60=\".\",\".\",IF(BJ60=\"n/a\",\"n/a\",\nGETPIVOTDATA(BK$21 & \"\",PivotTableB!$A$3,\"SchoolName\",$B60,\"SubsidiaryName\",$C60,\"YearStart\",BH$13))),\"\")","v":0},30,{"$f":"IFERROR(IF(BL60=\".\",\".\",IF(BL60=\"n/a\",\"n/a\",\nGETPIVOTDATA(BM$21 & \"\",PivotTableB!$A$3,\"SchoolName\",$B60,\"SubsidiaryName\",$C60,\"YearStart\",BH$13))),\"\")","v":0},{"$f":"IFERROR(IF(BM60=\".\",\".\",IF(BM60=\"n/a\",\"n/a\",\nGETPIVOTDATA(BN$21 & \"\",PivotTableB!$A$3,\"SchoolName\",$B60,\"SubsidiaryName\",$C60,\"YearStart\",BH$13))),\"\")","v":330},{"$f":"IFERROR(IF($B60=\"\",\"\",\nIF(OR($L60=\"Nursery School\",$L60=\"All-through PRU\",$M60=\"True\"),\"n/a\",\nIF(GETPIVOTDATA(BO$21 & \"\",PivotTableB!$A$3,\"SchoolName\",$B60,\"SubsidiaryName\",$C60,\"YearStart\",BO$13)=\"\",\".\",\nGETPIVOTDATA(BO$21 & \"\",PivotTableB!$A$3,\"SchoolName\",$B60,\"SubsidiaryName\",$C60,\"YearStart\",BO$13)))),\"\")","v":30},{"$f":"IFERROR(IF(BO60=\".\",\".\",IF(BO60=\"n/a\",\"n/a\",\nGETPIVOTDATA(BP$21 & \"\",PivotTableB!$A$3,\"SchoolName\",$B60,\"SubsidiaryName\",$C60,\"YearStart\",BO$13))),\"\")","v":0},{"$f":"IFERROR(IF(BP60=\".\",\".\",IF(BP60=\"n/a\",\"n/a\",\nGETPIVOTDATA(BQ$21 & \"\",PivotTableB!$A$3,\"SchoolName\",$B60,\"SubsidiaryName\",$C60,\"YearStart\",BO$13))),\"\")","v":0},{"$f":"IFERROR(IF(BQ60=\".\",\".\",IF(BQ60=\"n/a\",\"n/a\",\nGETPIVOTDATA(BR$21 & \"\",PivotTableB!$A$3,\"SchoolName\",$B60,\"SubsidiaryName\",$C60,\"YearStart\",BP$13))),\"\")","v":""},30,{"$f":"IFERROR(IF(BS60=\".\",\".\",IF(BS60=\"n/a\",\"n/a\",\nGETPIVOTDATA(BT$21 & \"\",PivotTableB!$A$3,\"SchoolName\",$B60,\"SubsidiaryName\",$C60,\"YearStart\",BO$13))),\"\")","v":0},{"$f":"IFERROR(IF(BT60=\".\",\".\",IF(BT60=\"n/a\",\"n/a\",\nGETPIVOTDATA(BU$21 & \"\",PivotTableB!$A$3,\"SchoolName\",$B60,\"SubsidiaryName\",$C60,\"YearStart\",BO$13))),\"\")","v":300},{"$f":"IFERROR(IF($B60=\"\",\"\",\nIF(OR($L60=\"Nursery School\",$L60=\"All-through PRU\",$M60=\"True\"),\"n/a\",\nIF(GETPIVOTDATA(BV$21 & \"\",PivotTableB!$A$3,\"SchoolName\",$B60,\"SubsidiaryName\",$C60,\"YearStart\",BV$13)=\"\",\".\",\nGETPIVOTDATA(BV$21 & \"\",PivotTableB!$A$3,\"SchoolName\",$B60,\"SubsidiaryName\",$C60,\"YearStart\",BV$13)))),\"\")","v":30},{"$f":"IFERROR(IF(BV60=\".\",\".\",IF(BV60=\"n/a\",\"n/a\",\nGETPIVOTDATA(BW$21 & \"\",PivotTableB!$A$3,\"SchoolName\",$B60,\"SubsidiaryName\",$C60,\"YearStart\",BV$13))),\"\")","v":0},{"$f":"IFERROR(IF(BW60=\".\",\".\",IF(BW60=\"n/a\",\"n/a\",\nGETPIVOTDATA(BX$21 & \"\",PivotTableB!$A$3,\"SchoolName\",$B60,\"SubsidiaryName\",$C60,\"YearStart\",BV$13))),\"\")","v":0},{"$f":"IFERROR(IF(BX60=\".\",\".\",IF(BX60=\"n/a\",\"n/a\",\nGETPIVOTDATA(BY$21 & \"\",PivotTableB!$A$3,\"SchoolName\",$B60,\"SubsidiaryName\",$C60,\"YearStart\",BV$13))),\"\")","v":0},30,{"$f":"IFERROR(IF(BZ60=\".\",\".\",IF(BZ60=\"n/a\",\"n/a\",\nGETPIVOTDATA(CA$21 & \"\",PivotTableB!$A$3,\"SchoolName\",$B60,\"SubsidiaryName\",$C60,\"YearStart\",BV$13))),\"\")","v":0},{"$f":"IFERROR(IF(CA60=\".\",\".\",IF(CA60=\"n/a\",\"n/a\",\nGETPIVOTDATA(CB$21 & \"\",PivotTableB!$A$3,\"SchoolName\",$B60,\"SubsidiaryName\",$C60,\"YearStart\",BV$13))),\"\")","v":300}]
[null,{"$f":"IF(PivotTableA!A48=\"\",\"n/a\",PivotTableA!A48)","v":"Maidenhead Nursery School"},{"$f":"IF(B61=\"n/a\",\"\",PivotTableA!B48)","v":"Maidenhead Nursery School"},{"$f":"IF($B61=\"n/a\",\"\",PivotTableA!C48)","v":"E1"},{"$f":"IF($B61=\"n/a\",\"\",PivotTableA!D48)","v":"Maidenhead"},{"$f":"IF($B61=\"n/a\",\"\",PivotTableA!E48)","v":"North East Maidenhead"},{"$f":"IF($B61=\"n/a\",\"\",PivotTableA!F48)","v":"North Town"},{"$f":"IF($B61=\"n/a\",\"\",PivotTableA!G48)","v":"Furze Platt"},{"$f":"IF($B61=\"n/a\",\"\",PivotTableA!H48)","v":"None"},{"$f":"IF($B61=\"n/a\",\"\",PivotTableA!I48)","v":"Early Years"},{"$f":"IF($B61=\"n/a\",\"\",PivotTableA!J48)","v":"NA"},{"$f":"IF($B61=\"n/a\",\"\",PivotTableA!K48)","v":"Nursery School"},{"$f":"IF($B61=\"n/a\",\"\",PivotTableA!O48)","v":"FALSE"},{"$f":"IF($B61=\"n/a\",\"\",PivotTableA!L48)","v":"Community"},{"$f":"IF($B61=\"n/a\",\"\",PivotTableA!M48)","v":" "},{"$f":"IF($B61=\"n/a\",\"\",PivotTableA!N48)","v":"None"},{"$f":"IFERROR(IF($B61=\"\",\"\",\nIF(OR($L61=\"Nursery School\",$L61=\"All-through PRU\",$M61=\"True\"),\"n/a\",\nIF(GETPIVOTDATA(Q$21 & \"\",PivotTableB!$A$3,\"SchoolName\",$B61,\"SubsidiaryName\",$C61,\"YearStart\",Q$13)=\"\",\".\",\nGETPIVOTDATA(Q$21 & \"\",PivotTableB!$A$3,\"SchoolName\",$B61,\"SubsidiaryName\",$C61,\"YearStart\",Q$13)))),\"\")","v":"n/a"},{"$f":"IFERROR(IF(Q61=\".\",\".\",IF(Q61=\"n/a\",\"n/a\",\nGETPIVOTDATA(R$21 & \"\",PivotTableB!$A$3,\"SchoolName\",$B61,\"SubsidiaryName\",$C61,\"YearStart\",Q$13))),\"\")","v":"n/a"},{"$f":"IFERROR(IF(R61=\".\",\".\",IF(R61=\"n/a\",\"n/a\",\nGETPIVOTDATA(S$21 & \"\",PivotTableB!$A$3,\"SchoolName\",$B61,\"SubsidiaryName\",$C61,\"YearStart\",Q$13))),\"\")","v":"n/a"},"n/a",{"$f":"IFERROR(IF(T61=\".\",\".\",IF(T61=\"n/a\",\"n/a\",\nGETPIVOTDATA(U$21 & \"\",PivotTableB!$A$3,\"SchoolName\",$B61,\"SubsidiaryName\",$C61,\"YearStart\",Q$13))),\"\")","v":"n/a"},{"$f":"IFERROR(IF(U61=\".\",\".\",IF(U61=\"n/a\",\"n/a\",\nGETPIVOTDATA(V$21 & \"\",PivotTableB!$A$3,\"SchoolName\",$B61,\"SubsidiaryName\",$C61,\"YearStart\",Q$13))),\"\")","v":"n/a"},{"$f":"IFERROR(IF($B61=\"\",\"\",\nIF(OR($L61=\"Nursery School\",$L61=\"All-through PRU\",$M61=\"True\"),\"n/a\",\nIF(GETPIVOTDATA(W$21 & \"\",PivotTableB!$A$3,\"SchoolName\",$B61,\"SubsidiaryName\",$C61,\"YearStart\",W$13)=\"\",\".\",\nGETPIVOTDATA(W$21 & \"\",PivotTableB!$A$3,\"SchoolName\",$B61,\"SubsidiaryName\",$C61,\"YearStart\",W$13)))),\"\")","v":"n/a"},{"$f":"IFERROR(IF(W61=\".\",\".\",IF(W61=\"n/a\",\"n/a\",\nGETPIVOTDATA(X$21 & \"\",PivotTableB!$A$3,\"SchoolName\",$B61,\"SubsidiaryName\",$C61,\"YearStart\",W$13))),\"\")","v":"n/a"},{"$f":"IFERROR(IF(X61=\".\",\".\",IF(X61=\"n/a\",\"n/a\",\nGETPIVOTDATA(Y$21 & \"\",PivotTableB!$A$3,\"SchoolName\",$B61,\"SubsidiaryName\",$C61,\"YearStart\",W$13))),\"\")","v":"n/a"},"n/a",{"$f":"IFERROR(IF(Z61=\".\",\".\",IF(Z61=\"n/a\",\"n/a\",\nGETPIVOTDATA(AA$21 & \"\",PivotTableB!$A$3,\"SchoolName\",$B61,\"SubsidiaryName\",$C61,\"YearStart\",W$13))),\"\")","v":"n/a"},{"$f":"IFERROR(IF(AA61=\".\",\".\",IF(AA61=\"n/a\",\"n/a\",\nGETPIVOTDATA(AB$21 & \"\",PivotTableB!$A$3,\"SchoolName\",$B61,\"SubsidiaryName\",$C61,\"YearStart\",W$13))),\"\")","v":"n/a"},{"$f":"IFERROR(IF($B61=\"\",\"\",\nIF(OR($L61=\"Nursery School\",$L61=\"All-through PRU\",$M61=\"True\"),\"n/a\",\nIF(GETPIVOTDATA(AC$21 & \"\",PivotTableB!$A$3,\"SchoolName\",$B61,\"SubsidiaryName\",$C61,\"YearStart\",AC$13)=\"\",\".\",\nGETPIVOTDATA(AC$21 & \"\",PivotTableB!$A$3,\"SchoolName\",$B61,\"SubsidiaryName\",$C61,\"YearStart\",AC$13)))),\"\")","v":"n/a"},{"$f":"IFERROR(IF(AC61=\".\",\".\",IF(AC61=\"n/a\",\"n/a\",\nGETPIVOTDATA(AD$21 & \"\",PivotTableB!$A$3,\"SchoolName\",$B61,\"SubsidiaryName\",$C61,\"YearStart\",AC$13))),\"\")","v":"n/a"},{"$f":"IFERROR(IF(AD61=\".\",\".\",IF(AD61=\"n/a\",\"n/a\",\nGETPIVOTDATA(AE$21 & \"\",PivotTableB!$A$3,\"SchoolName\",$B61,\"SubsidiaryName\",$C61,\"YearStart\",AC$13))),\"\")","v":"n/a"},"n/a",{"$f":"IFERROR(IF(AF61=\".\",\".\",IF(AF61=\"n/a\",\"n/a\",\nGETPIVOTDATA(AG$21 & \"\",PivotTableB!$A$3,\"SchoolName\",$B61,\"SubsidiaryName\",$C61,\"YearStart\",AC$13))),\"\")","v":"n/a"},{"$f":"IFERROR(IF(AG61=\".\",\".\",IF(AG61=\"n/a\",\"n/a\",\nGETPIVOTDATA(AH$21 & \"\",PivotTableB!$A$3,\"SchoolName\",$B61,\"SubsidiaryName\",$C61,\"YearStart\",AC$13))),\"\")","v":"n/a"},{"$f":"IFERROR(IF($B61=\"\",\"\",\nIF(OR($L61=\"Nursery School\",$L61=\"All-through PRU\",$M61=\"True\"),\"n/a\",\nIF(GETPIVOTDATA(AI$21 & \"\",PivotTableB!$A$3,\"SchoolName\",$B61,\"SubsidiaryName\",$C61,\"YearStart\",AI$13)=\"\",\".\",\nGETPIVOTDATA(AI$21 & \"\",PivotTableB!$A$3,\"SchoolName\",$B61,\"SubsidiaryName\",$C61,\"YearStart\",AI$13)))),\"\")","v":"n/a"},{"$f":"IFERROR(IF(AI61=\".\",\".\",IF(AI61=\"n/a\",\"n/a\",\nGETPIVOTDATA(AJ$21 & \"\",PivotTableB!$A$3,\"SchoolName\",$B61,\"SubsidiaryName\",$C61,\"YearStart\",AI$13))),\"\")","v":"n/a"},{"$f":"IFERROR(IF(AJ61=\".\",\".\",IF(AJ61=\"n/a\",\"n/a\",\nGETPIVOTDATA(AK$21 & \"\",PivotTableB!$A$3,\"SchoolName\",$B61,\"SubsidiaryName\",$C61,\"YearStart\",AI$13))),\"\")","v":"n/a"},"n/a",{"$f":"IFERROR(IF(AL61=\".\",\".\",IF(AL61=\"n/a\",\"n/a\",\nGETPIVOTDATA(AM$21 & \"\",PivotTableB!$A$3,\"SchoolName\",$B61,\"SubsidiaryName\",$C61,\"YearStart\",AI$13))),\"\")","v":"n/a"},{"$f":"IFERROR(IF(AM61=\".\",\".\",IF(AM61=\"n/a\",\"n/a\",\nGETPIVOTDATA(AN$21 & \"\",PivotTableB!$A$3,\"SchoolName\",$B61,\"SubsidiaryName\",$C61,\"YearStart\",AI$13))),\"\")","v":"n/a"},{"$f":"IFERROR(IF($B61=\"\",\"\",\nIF(OR($L61=\"Nursery School\",$L61=\"All-through PRU\",$M61=\"True\"),\"n/a\",\nIF(GETPIVOTDATA(AO$21 & \"\",PivotTableB!$A$3,\"SchoolName\",$B61,\"SubsidiaryName\",$C61,\"YearStart\",AO$13)=\"\",\".\",\nGETPIVOTDATA(AO$21 & \"\",PivotTableB!$A$3,\"SchoolName\",$B61,\"SubsidiaryName\",$C61,\"YearStart\",AO$13)))),\"\")","v":"n/a"},{"$f":"IFERROR(IF(AO61=\".\",\".\",IF(AO61=\"n/a\",\"n/a\",\nGETPIVOTDATA(AP$21 & \"\",PivotTableB!$A$3,\"SchoolName\",$B61,\"SubsidiaryName\",$C61,\"YearStart\",AO$13))),\"\")","v":"n/a"},{"$f":"IFERROR(IF(AP61=\".\",\".\",IF(AP61=\"n/a\",\"n/a\",\nGETPIVOTDATA(AQ$21 & \"\",PivotTableB!$A$3,\"SchoolName\",$B61,\"SubsidiaryName\",$C61,\"YearStart\",AO$13))),\"\")","v":"n/a"},"n/a",{"$f":"IFERROR(IF(AR61=\".\",\".\",IF(AR61=\"n/a\",\"n/a\",\nGETPIVOTDATA(AS$21 & \"\",PivotTableB!$A$3,\"SchoolName\",$B61,\"SubsidiaryName\",$C61,\"YearStart\",AO$13))),\"\")","v":"n/a"},{"$f":"IFERROR(IF(AS61=\".\",\".\",IF(AS61=\"n/a\",\"n/a\",\nGETPIVOTDATA(AT$21 & \"\",PivotTableB!$A$3,\"SchoolName\",$B61,\"SubsidiaryName\",$C61,\"YearStart\",AO$13))),\"\")","v":"n/a"},{"$f":"IFERROR(IF($B61=\"\",\"\",\nIF(OR($L61=\"Nursery School\",$L61=\"All-through PRU\",$M61=\"True\"),\"n/a\",\nIF(GETPIVOTDATA(AU$21 & \"\",PivotTableB!$A$3,\"SchoolName\",$B61,\"SubsidiaryName\",$C61,\"YearStart\",AU$13)=\"\",\".\",\nGETPIVOTDATA(AU$21 & \"\",PivotTableB!$A$3,\"SchoolName\",$B61,\"SubsidiaryName\",$C61,\"YearStart\",AU$13)))),\"\")","v":"n/a"},{"$f":"IFERROR(IF(AU61=\".\",\".\",IF(AU61=\"n/a\",\"n/a\",\nGETPIVOTDATA(AV$21 & \"\",PivotTableB!$A$3,\"SchoolName\",$B61,\"SubsidiaryName\",$C61,\"YearStart\",AU$13))),\"\")","v":"n/a"},{"$f":"IFERROR(IF(AV61=\".\",\".\",IF(AV61=\"n/a\",\"n/a\",\nGETPIVOTDATA(AW$21 & \"\",PivotTableB!$A$3,\"SchoolName\",$B61,\"SubsidiaryName\",$C61,\"YearStart\",AU$13))),\"\")","v":"n/a"},"n/a",{"$f":"IFERROR(IF(AX61=\".\",\".\",IF(AX61=\"n/a\",\"n/a\",\nGETPIVOTDATA(AY$21 & \"\",PivotTableB!$A$3,\"SchoolName\",$B61,\"SubsidiaryName\",$C61,\"YearStart\",AU$13))),\"\")","v":"n/a"},{"$f":"IFERROR(IF(AY61=\".\",\".\",IF(AY61=\"n/a\",\"n/a\",\nGETPIVOTDATA(AZ$21 & \"\",PivotTableB!$A$3,\"SchoolName\",$B61,\"SubsidiaryName\",$C61,\"YearStart\",AU$13))),\"\")","v":"n/a"},{"$f":"IFERROR(IF($B61=\"\",\"\",\nIF(OR($L61=\"Nursery School\",$L61=\"All-through PRU\",$M61=\"True\"),\"n/a\",\nIF(GETPIVOTDATA(BA$21 & \"\",PivotTableB!$A$3,\"SchoolName\",$B61,\"SubsidiaryName\",$C61,\"YearStart\",BA$13)=\"\",\".\",\nGETPIVOTDATA(BA$21 & \"\",PivotTableB!$A$3,\"SchoolName\",$B61,\"SubsidiaryName\",$C61,\"YearStart\",BA$13)))),\"\")","v":"n/a"},{"$f":"IFERROR(IF(BA61=\".\",\".\",IF(BA61=\"n/a\",\"n/a\",\nGETPIVOTDATA(BB$21 & \"\",PivotTableB!$A$3,\"SchoolName\",$B61,\"SubsidiaryName\",$C61,\"YearStart\",BA$13))),\"\")","v":"n/a"},{"$f":"IFERROR(IF(BB61=\".\",\".\",IF(BB61=\"n/a\",\"n/a\",\nGETPIVOTDATA(BC$21 & \"\",PivotTableB!$A$3,\"SchoolName\",$B61,\"SubsidiaryName\",$C61,\"YearStart\",BA$13))),\"\")","v":"n/a"},{"$f":"IFERROR(IF(BC61=\".\",\".\",IF(BC61=\"n/a\",\"n/a\",\nGETPIVOTDATA(BD$21 & \"\",PivotTableB!$A$3,\"SchoolName\",$B61,\"SubsidiaryName\",$C61,\"YearStart\",BB$13))),\"\")","v":"n/a"},"n/a",{"$f":"IFERROR(IF(BE61=\".\",\".\",IF(BE61=\"n/a\",\"n/a\",\nGETPIVOTDATA(BF$21 & \"\",PivotTableB!$A$3,\"SchoolName\",$B61,\"SubsidiaryName\",$C61,\"YearStart\",BA$13))),\"\")","v":"n/a"},{"$f":"IFERROR(IF(BF61=\".\",\".\",IF(BF61=\"n/a\",\"n/a\",\nGETPIVOTDATA(BG$21 & \"\",PivotTableB!$A$3,\"SchoolName\",$B61,\"SubsidiaryName\",$C61,\"YearStart\",BA$13))),\"\")","v":"n/a"},{"$f":"IFERROR(IF($B61=\"\",\"\",\nIF(OR($L61=\"Nursery School\",$L61=\"All-through PRU\",$M61=\"True\"),\"n/a\",\nIF(GETPIVOTDATA(BH$21 & \"\",PivotTableB!$A$3,\"SchoolName\",$B61,\"SubsidiaryName\",$C61,\"YearStart\",BH$13)=\"\",\".\",\nGETPIVOTDATA(BH$21 & \"\",PivotTableB!$A$3,\"SchoolName\",$B61,\"SubsidiaryName\",$C61,\"YearStart\",BH$13)))),\"\")","v":"n/a"},{"$f":"IFERROR(IF(BH61=\".\",\".\",IF(BH61=\"n/a\",\"n/a\",\nGETPIVOTDATA(BI$21 & \"\",PivotTableB!$A$3,\"SchoolName\",$B61,\"SubsidiaryName\",$C61,\"YearStart\",BH$13))),\"\")","v":"n/a"},{"$f":"IFERROR(IF(BI61=\".\",\".\",IF(BI61=\"n/a\",\"n/a\",\nGETPIVOTDATA(BJ$21 & \"\",PivotTableB!$A$3,\"SchoolName\",$B61,\"SubsidiaryName\",$C61,\"YearStart\",BH$13))),\"\")","v":"n/a"},{"$f":"IFERROR(IF(BJ61=\".\",\".\",IF(BJ61=\"n/a\",\"n/a\",\nGETPIVOTDATA(BK$21 & \"\",PivotTableB!$A$3,\"SchoolName\",$B61,\"SubsidiaryName\",$C61,\"YearStart\",BH$13))),\"\")","v":"n/a"},"n/a",{"$f":"IFERROR(IF(BL61=\".\",\".\",IF(BL61=\"n/a\",\"n/a\",\nGETPIVOTDATA(BM$21 & \"\",PivotTableB!$A$3,\"SchoolName\",$B61,\"SubsidiaryName\",$C61,\"YearStart\",BH$13))),\"\")","v":"n/a"},{"$f":"IFERROR(IF(BM61=\".\",\".\",IF(BM61=\"n/a\",\"n/a\",\nGETPIVOTDATA(BN$21 & \"\",PivotTableB!$A$3,\"SchoolName\",$B61,\"SubsidiaryName\",$C61,\"YearStart\",BH$13))),\"\")","v":"n/a"},{"$f":"IFERROR(IF($B61=\"\",\"\",\nIF(OR($L61=\"Nursery School\",$L61=\"All-through PRU\",$M61=\"True\"),\"n/a\",\nIF(GETPIVOTDATA(BO$21 & \"\",PivotTableB!$A$3,\"SchoolName\",$B61,\"SubsidiaryName\",$C61,\"YearStart\",BO$13)=\"\",\".\",\nGETPIVOTDATA(BO$21 & \"\",PivotTableB!$A$3,\"SchoolName\",$B61,\"SubsidiaryName\",$C61,\"YearStart\",BO$13)))),\"\")","v":"n/a"},{"$f":"IFERROR(IF(BO61=\".\",\".\",IF(BO61=\"n/a\",\"n/a\",\nGETPIVOTDATA(BP$21 & \"\",PivotTableB!$A$3,\"SchoolName\",$B61,\"SubsidiaryName\",$C61,\"YearStart\",BO$13))),\"\")","v":"n/a"},{"$f":"IFERROR(IF(BP61=\".\",\".\",IF(BP61=\"n/a\",\"n/a\",\nGETPIVOTDATA(BQ$21 & \"\",PivotTableB!$A$3,\"SchoolName\",$B61,\"SubsidiaryName\",$C61,\"YearStart\",BO$13))),\"\")","v":"n/a"},{"$f":"IFERROR(IF(BQ61=\".\",\".\",IF(BQ61=\"n/a\",\"n/a\",\nGETPIVOTDATA(BR$21 & \"\",PivotTableB!$A$3,\"SchoolName\",$B61,\"SubsidiaryName\",$C61,\"YearStart\",BP$13))),\"\")","v":"n/a"},"n/a",{"$f":"IFERROR(IF(BS61=\".\",\".\",IF(BS61=\"n/a\",\"n/a\",\nGETPIVOTDATA(BT$21 & \"\",PivotTableB!$A$3,\"SchoolName\",$B61,\"SubsidiaryName\",$C61,\"YearStart\",BO$13))),\"\")","v":"n/a"},{"$f":"IFERROR(IF(BT61=\".\",\".\",IF(BT61=\"n/a\",\"n/a\",\nGETPIVOTDATA(BU$21 & \"\",PivotTableB!$A$3,\"SchoolName\",$B61,\"SubsidiaryName\",$C61,\"YearStart\",BO$13))),\"\")","v":"n/a"},{"$f":"IFERROR(IF($B61=\"\",\"\",\nIF(OR($L61=\"Nursery School\",$L61=\"All-through PRU\",$M61=\"True\"),\"n/a\",\nIF(GETPIVOTDATA(BV$21 & \"\",PivotTableB!$A$3,\"SchoolName\",$B61,\"SubsidiaryName\",$C61,\"YearStart\",BV$13)=\"\",\".\",\nGETPIVOTDATA(BV$21 & \"\",PivotTableB!$A$3,\"SchoolName\",$B61,\"SubsidiaryName\",$C61,\"YearStart\",BV$13)))),\"\")","v":"n/a"},{"$f":"IFERROR(IF(BV61=\".\",\".\",IF(BV61=\"n/a\",\"n/a\",\nGETPIVOTDATA(BW$21 & \"\",PivotTableB!$A$3,\"SchoolName\",$B61,\"SubsidiaryName\",$C61,\"YearStart\",BV$13))),\"\")","v":"n/a"},{"$f":"IFERROR(IF(BW61=\".\",\".\",IF(BW61=\"n/a\",\"n/a\",\nGETPIVOTDATA(BX$21 & \"\",PivotTableB!$A$3,\"SchoolName\",$B61,\"SubsidiaryName\",$C61,\"YearStart\",BV$13))),\"\")","v":"n/a"},{"$f":"IFERROR(IF(BX61=\".\",\".\",IF(BX61=\"n/a\",\"n/a\",\nGETPIVOTDATA(BY$21 & \"\",PivotTableB!$A$3,\"SchoolName\",$B61,\"SubsidiaryName\",$C61,\"YearStart\",BV$13))),\"\")","v":"n/a"},"n/a",{"$f":"IFERROR(IF(BZ61=\".\",\".\",IF(BZ61=\"n/a\",\"n/a\",\nGETPIVOTDATA(CA$21 & \"\",PivotTableB!$A$3,\"SchoolName\",$B61,\"SubsidiaryName\",$C61,\"YearStart\",BV$13))),\"\")","v":"n/a"},{"$f":"IFERROR(IF(CA61=\".\",\".\",IF(CA61=\"n/a\",\"n/a\",\nGETPIVOTDATA(CB$21 & \"\",PivotTableB!$A$3,\"SchoolName\",$B61,\"SubsidiaryName\",$C61,\"YearStart\",BV$13))),\"\")","v":"n/a"}]
[null,{"$f":"IF(PivotTableA!A49=\"\",\"n/a\",PivotTableA!A49)","v":"Manor Green School"},{"$f":"IF(B62=\"n/a\",\"\",PivotTableA!B49)","v":"Manor Green School"},{"$f":"IF($B62=\"n/a\",\"\",PivotTableA!C49)","v":"R"},{"$f":"IF($B62=\"n/a\",\"\",PivotTableA!D49)","v":"Maidenhead"},{"$f":"IF($B62=\"n/a\",\"\",PivotTableA!E49)","v":"South West Maidenhead"},{"$f":"IF($B62=\"n/a\",\"\",PivotTableA!F49)","v":"Lowbrook"},{"$f":"IF($B62=\"n/a\",\"\",PivotTableA!G49)","v":"Cox Green"},{"$f":"IF($B62=\"n/a\",\"\",PivotTableA!H49)","v":"Cox Green"},{"$f":"IF($B62=\"n/a\",\"\",PivotTableA!I49)","v":"All-through"},{"$f":"IF($B62=\"n/a\",\"\",PivotTableA!J49)","v":"NA"},{"$f":"IF($B62=\"n/a\",\"\",PivotTableA!K49)","v":"All Years"},{"$f":"IF($B62=\"n/a\",\"\",PivotTableA!O49)","v":"TRUE"},{"$f":"IF($B62=\"n/a\",\"\",PivotTableA!L49)","v":"Community"},{"$f":"IF($B62=\"n/a\",\"\",PivotTableA!M49)","v":" "},{"$f":"IF($B62=\"n/a\",\"\",PivotTableA!N49)","v":"None"},{"$f":"IFERROR(IF($B62=\"\",\"\",\nIF(OR($L62=\"Nursery School\",$L62=\"All-through PRU\",$M62=\"True\"),\"n/a\",\nIF(GETPIVOTDATA(Q$21 & \"\",PivotTableB!$A$3,\"SchoolName\",$B62,\"SubsidiaryName\",$C62,\"YearStart\",Q$13)=\"\",\".\",\nGETPIVOTDATA(Q$21 & \"\",PivotTableB!$A$3,\"SchoolName\",$B62,\"SubsidiaryName\",$C62,\"YearStart\",Q$13)))),\"\")","v":"n/a"},{"$f":"IFERROR(IF(Q62=\".\",\".\",IF(Q62=\"n/a\",\"n/a\",\nGETPIVOTDATA(R$21 & \"\",PivotTableB!$A$3,\"SchoolName\",$B62,\"SubsidiaryName\",$C62,\"YearStart\",Q$13))),\"\")","v":"n/a"},{"$f":"IFERROR(IF(R62=\".\",\".\",IF(R62=\"n/a\",\"n/a\",\nGETPIVOTDATA(S$21 & \"\",PivotTableB!$A$3,\"SchoolName\",$B62,\"SubsidiaryName\",$C62,\"YearStart\",Q$13))),\"\")","v":"n/a"},"n/a",{"$f":"IFERROR(IF(T62=\".\",\".\",IF(T62=\"n/a\",\"n/a\",\nGETPIVOTDATA(U$21 & \"\",PivotTableB!$A$3,\"SchoolName\",$B62,\"SubsidiaryName\",$C62,\"YearStart\",Q$13))),\"\")","v":"n/a"},{"$f":"IFERROR(IF(U62=\".\",\".\",IF(U62=\"n/a\",\"n/a\",\nGETPIVOTDATA(V$21 & \"\",PivotTableB!$A$3,\"SchoolName\",$B62,\"SubsidiaryName\",$C62,\"YearStart\",Q$13))),\"\")","v":"n/a"},{"$f":"IFERROR(IF($B62=\"\",\"\",\nIF(OR($L62=\"Nursery School\",$L62=\"All-through PRU\",$M62=\"True\"),\"n/a\",\nIF(GETPIVOTDATA(W$21 & \"\",PivotTableB!$A$3,\"SchoolName\",$B62,\"SubsidiaryName\",$C62,\"YearStart\",W$13)=\"\",\".\",\nGETPIVOTDATA(W$21 & \"\",PivotTableB!$A$3,\"SchoolName\",$B62,\"SubsidiaryName\",$C62,\"YearStart\",W$13)))),\"\")","v":"n/a"},{"$f":"IFERROR(IF(W62=\".\",\".\",IF(W62=\"n/a\",\"n/a\",\nGETPIVOTDATA(X$21 & \"\",PivotTableB!$A$3,\"SchoolName\",$B62,\"SubsidiaryName\",$C62,\"YearStart\",W$13))),\"\")","v":"n/a"},{"$f":"IFERROR(IF(X62=\".\",\".\",IF(X62=\"n/a\",\"n/a\",\nGETPIVOTDATA(Y$21 & \"\",PivotTableB!$A$3,\"SchoolName\",$B62,\"SubsidiaryName\",$C62,\"YearStart\",W$13))),\"\")","v":"n/a"},"n/a",{"$f":"IFERROR(IF(Z62=\".\",\".\",IF(Z62=\"n/a\",\"n/a\",\nGETPIVOTDATA(AA$21 & \"\",PivotTableB!$A$3,\"SchoolName\",$B62,\"SubsidiaryName\",$C62,\"YearStart\",W$13))),\"\")","v":"n/a"},{"$f":"IFERROR(IF(AA62=\".\",\".\",IF(AA62=\"n/a\",\"n/a\",\nGETPIVOTDATA(AB$21 & \"\",PivotTableB!$A$3,\"SchoolName\",$B62,\"SubsidiaryName\",$C62,\"YearStart\",W$13))),\"\")","v":"n/a"},{"$f":"IFERROR(IF($B62=\"\",\"\",\nIF(OR($L62=\"Nursery School\",$L62=\"All-through PRU\",$M62=\"True\"),\"n/a\",\nIF(GETPIVOTDATA(AC$21 & \"\",PivotTableB!$A$3,\"SchoolName\",$B62,\"SubsidiaryName\",$C62,\"YearStart\",AC$13)=\"\",\".\",\nGETPIVOTDATA(AC$21 & \"\",PivotTableB!$A$3,\"SchoolName\",$B62,\"SubsidiaryName\",$C62,\"YearStart\",AC$13)))),\"\")","v":"n/a"},{"$f":"IFERROR(IF(AC62=\".\",\".\",IF(AC62=\"n/a\",\"n/a\",\nGETPIVOTDATA(AD$21 & \"\",PivotTableB!$A$3,\"SchoolName\",$B62,\"SubsidiaryName\",$C62,\"YearStart\",AC$13))),\"\")","v":"n/a"},{"$f":"IFERROR(IF(AD62=\".\",\".\",IF(AD62=\"n/a\",\"n/a\",\nGETPIVOTDATA(AE$21 & \"\",PivotTableB!$A$3,\"SchoolName\",$B62,\"SubsidiaryName\",$C62,\"YearStart\",AC$13))),\"\")","v":"n/a"},"n/a",{"$f":"IFERROR(IF(AF62=\".\",\".\",IF(AF62=\"n/a\",\"n/a\",\nGETPIVOTDATA(AG$21 & \"\",PivotTableB!$A$3,\"SchoolName\",$B62,\"SubsidiaryName\",$C62,\"YearStart\",AC$13))),\"\")","v":"n/a"},{"$f":"IFERROR(IF(AG62=\".\",\".\",IF(AG62=\"n/a\",\"n/a\",\nGETPIVOTDATA(AH$21 & \"\",PivotTableB!$A$3,\"SchoolName\",$B62,\"SubsidiaryName\",$C62,\"YearStart\",AC$13))),\"\")","v":"n/a"},{"$f":"IFERROR(IF($B62=\"\",\"\",\nIF(OR($L62=\"Nursery School\",$L62=\"All-through PRU\",$M62=\"True\"),\"n/a\",\nIF(GETPIVOTDATA(AI$21 & \"\",PivotTableB!$A$3,\"SchoolName\",$B62,\"SubsidiaryName\",$C62,\"YearStart\",AI$13)=\"\",\".\",\nGETPIVOTDATA(AI$21 & \"\",PivotTableB!$A$3,\"SchoolName\",$B62,\"SubsidiaryName\",$C62,\"YearStart\",AI$13)))),\"\")","v":"n/a"},{"$f":"IFERROR(IF(AI62=\".\",\".\",IF(AI62=\"n/a\",\"n/a\",\nGETPIVOTDATA(AJ$21 & \"\",PivotTableB!$A$3,\"SchoolName\",$B62,\"SubsidiaryName\",$C62,\"YearStart\",AI$13))),\"\")","v":"n/a"},{"$f":"IFERROR(IF(AJ62=\".\",\".\",IF(AJ62=\"n/a\",\"n/a\",\nGETPIVOTDATA(AK$21 & \"\",PivotTableB!$A$3,\"SchoolName\",$B62,\"SubsidiaryName\",$C62,\"YearStart\",AI$13))),\"\")","v":"n/a"},"n/a",{"$f":"IFERROR(IF(AL62=\".\",\".\",IF(AL62=\"n/a\",\"n/a\",\nGETPIVOTDATA(AM$21 & \"\",PivotTableB!$A$3,\"SchoolName\",$B62,\"SubsidiaryName\",$C62,\"YearStart\",AI$13))),\"\")","v":"n/a"},{"$f":"IFERROR(IF(AM62=\".\",\".\",IF(AM62=\"n/a\",\"n/a\",\nGETPIVOTDATA(AN$21 & \"\",PivotTableB!$A$3,\"SchoolName\",$B62,\"SubsidiaryName\",$C62,\"YearStart\",AI$13))),\"\")","v":"n/a"},{"$f":"IFERROR(IF($B62=\"\",\"\",\nIF(OR($L62=\"Nursery School\",$L62=\"All-through PRU\",$M62=\"True\"),\"n/a\",\nIF(GETPIVOTDATA(AO$21 & \"\",PivotTableB!$A$3,\"SchoolName\",$B62,\"SubsidiaryName\",$C62,\"YearStart\",AO$13)=\"\",\".\",\nGETPIVOTDATA(AO$21 & \"\",PivotTableB!$A$3,\"SchoolName\",$B62,\"SubsidiaryName\",$C62,\"YearStart\",AO$13)))),\"\")","v":"n/a"},{"$f":"IFERROR(IF(AO62=\".\",\".\",IF(AO62=\"n/a\",\"n/a\",\nGETPIVOTDATA(AP$21 & \"\",PivotTableB!$A$3,\"SchoolName\",$B62,\"SubsidiaryName\",$C62,\"YearStart\",AO$13))),\"\")","v":"n/a"},{"$f":"IFERROR(IF(AP62=\".\",\".\",IF(AP62=\"n/a\",\"n/a\",\nGETPIVOTDATA(AQ$21 & \"\",PivotTableB!$A$3,\"SchoolName\",$B62,\"SubsidiaryName\",$C62,\"YearStart\",AO$13))),\"\")","v":"n/a"},"n/a",{"$f":"IFERROR(IF(AR62=\".\",\".\",IF(AR62=\"n/a\",\"n/a\",\nGETPIVOTDATA(AS$21 & \"\",PivotTableB!$A$3,\"SchoolName\",$B62,\"SubsidiaryName\",$C62,\"YearStart\",AO$13))),\"\")","v":"n/a"},{"$f":"IFERROR(IF(AS62=\".\",\".\",IF(AS62=\"n/a\",\"n/a\",\nGETPIVOTDATA(AT$21 & \"\",PivotTableB!$A$3,\"SchoolName\",$B62,\"SubsidiaryName\",$C62,\"YearStart\",AO$13))),\"\")","v":"n/a"},{"$f":"IFERROR(IF($B62=\"\",\"\",\nIF(OR($L62=\"Nursery School\",$L62=\"All-through PRU\",$M62=\"True\"),\"n/a\",\nIF(GETPIVOTDATA(AU$21 & \"\",PivotTableB!$A$3,\"SchoolName\",$B62,\"SubsidiaryName\",$C62,\"YearStart\",AU$13)=\"\",\".\",\nGETPIVOTDATA(AU$21 & \"\",PivotTableB!$A$3,\"SchoolName\",$B62,\"SubsidiaryName\",$C62,\"YearStart\",AU$13)))),\"\")","v":"n/a"},{"$f":"IFERROR(IF(AU62=\".\",\".\",IF(AU62=\"n/a\",\"n/a\",\nGETPIVOTDATA(AV$21 & \"\",PivotTableB!$A$3,\"SchoolName\",$B62,\"SubsidiaryName\",$C62,\"YearStart\",AU$13))),\"\")","v":"n/a"},{"$f":"IFERROR(IF(AV62=\".\",\".\",IF(AV62=\"n/a\",\"n/a\",\nGETPIVOTDATA(AW$21 & \"\",PivotTableB!$A$3,\"SchoolName\",$B62,\"SubsidiaryName\",$C62,\"YearStart\",AU$13))),\"\")","v":"n/a"},"n/a",{"$f":"IFERROR(IF(AX62=\".\",\".\",IF(AX62=\"n/a\",\"n/a\",\nGETPIVOTDATA(AY$21 & \"\",PivotTableB!$A$3,\"SchoolName\",$B62,\"SubsidiaryName\",$C62,\"YearStart\",AU$13))),\"\")","v":"n/a"},{"$f":"IFERROR(IF(AY62=\".\",\".\",IF(AY62=\"n/a\",\"n/a\",\nGETPIVOTDATA(AZ$21 & \"\",PivotTableB!$A$3,\"SchoolName\",$B62,\"SubsidiaryName\",$C62,\"YearStart\",AU$13))),\"\")","v":"n/a"},{"$f":"IFERROR(IF($B62=\"\",\"\",\nIF(OR($L62=\"Nursery School\",$L62=\"All-through PRU\",$M62=\"True\"),\"n/a\",\nIF(GETPIVOTDATA(BA$21 & \"\",PivotTableB!$A$3,\"SchoolName\",$B62,\"SubsidiaryName\",$C62,\"YearStart\",BA$13)=\"\",\".\",\nGETPIVOTDATA(BA$21 & \"\",PivotTableB!$A$3,\"SchoolName\",$B62,\"SubsidiaryName\",$C62,\"YearStart\",BA$13)))),\"\")","v":"n/a"},{"$f":"IFERROR(IF(BA62=\".\",\".\",IF(BA62=\"n/a\",\"n/a\",\nGETPIVOTDATA(BB$21 & \"\",PivotTableB!$A$3,\"SchoolName\",$B62,\"SubsidiaryName\",$C62,\"YearStart\",BA$13))),\"\")","v":"n/a"},{"$f":"IFERROR(IF(BB62=\".\",\".\",IF(BB62=\"n/a\",\"n/a\",\nGETPIVOTDATA(BC$21 & \"\",PivotTableB!$A$3,\"SchoolName\",$B62,\"SubsidiaryName\",$C62,\"YearStart\",BA$13))),\"\")","v":"n/a"},{"$f":"IFERROR(IF(BC62=\".\",\".\",IF(BC62=\"n/a\",\"n/a\",\nGETPIVOTDATA(BD$21 & \"\",PivotTableB!$A$3,\"SchoolName\",$B62,\"SubsidiaryName\",$C62,\"YearStart\",BB$13))),\"\")","v":"n/a"},"n/a",{"$f":"IFERROR(IF(BE62=\".\",\".\",IF(BE62=\"n/a\",\"n/a\",\nGETPIVOTDATA(BF$21 & \"\",PivotTableB!$A$3,\"SchoolName\",$B62,\"SubsidiaryName\",$C62,\"YearStart\",BA$13))),\"\")","v":"n/a"},{"$f":"IFERROR(IF(BF62=\".\",\".\",IF(BF62=\"n/a\",\"n/a\",\nGETPIVOTDATA(BG$21 & \"\",PivotTableB!$A$3,\"SchoolName\",$B62,\"SubsidiaryName\",$C62,\"YearStart\",BA$13))),\"\")","v":"n/a"},{"$f":"IFERROR(IF($B62=\"\",\"\",\nIF(OR($L62=\"Nursery School\",$L62=\"All-through PRU\",$M62=\"True\"),\"n/a\",\nIF(GETPIVOTDATA(BH$21 & \"\",PivotTableB!$A$3,\"SchoolName\",$B62,\"SubsidiaryName\",$C62,\"YearStart\",BH$13)=\"\",\".\",\nGETPIVOTDATA(BH$21 & \"\",PivotTableB!$A$3,\"SchoolName\",$B62,\"SubsidiaryName\",$C62,\"YearStart\",BH$13)))),\"\")","v":"n/a"},{"$f":"IFERROR(IF(BH62=\".\",\".\",IF(BH62=\"n/a\",\"n/a\",\nGETPIVOTDATA(BI$21 & \"\",PivotTableB!$A$3,\"SchoolName\",$B62,\"SubsidiaryName\",$C62,\"YearStart\",BH$13))),\"\")","v":"n/a"},{"$f":"IFERROR(IF(BI62=\".\",\".\",IF(BI62=\"n/a\",\"n/a\",\nGETPIVOTDATA(BJ$21 & \"\",PivotTableB!$A$3,\"SchoolName\",$B62,\"SubsidiaryName\",$C62,\"YearStart\",BH$13))),\"\")","v":"n/a"},{"$f":"IFERROR(IF(BJ62=\".\",\".\",IF(BJ62=\"n/a\",\"n/a\",\nGETPIVOTDATA(BK$21 & \"\",PivotTableB!$A$3,\"SchoolName\",$B62,\"SubsidiaryName\",$C62,\"YearStart\",BH$13))),\"\")","v":"n/a"},"n/a",{"$f":"IFERROR(IF(BL62=\".\",\".\",IF(BL62=\"n/a\",\"n/a\",\nGETPIVOTDATA(BM$21 & \"\",PivotTableB!$A$3,\"SchoolName\",$B62,\"SubsidiaryName\",$C62,\"YearStart\",BH$13))),\"\")","v":"n/a"},{"$f":"IFERROR(IF(BM62=\".\",\".\",IF(BM62=\"n/a\",\"n/a\",\nGETPIVOTDATA(BN$21 & \"\",PivotTableB!$A$3,\"SchoolName\",$B62,\"SubsidiaryName\",$C62,\"YearStart\",BH$13))),\"\")","v":"n/a"},{"$f":"IFERROR(IF($B62=\"\",\"\",\nIF(OR($L62=\"Nursery School\",$L62=\"All-through PRU\",$M62=\"True\"),\"n/a\",\nIF(GETPIVOTDATA(BO$21 & \"\",PivotTableB!$A$3,\"SchoolName\",$B62,\"SubsidiaryName\",$C62,\"YearStart\",BO$13)=\"\",\".\",\nGETPIVOTDATA(BO$21 & \"\",PivotTableB!$A$3,\"SchoolName\",$B62,\"SubsidiaryName\",$C62,\"YearStart\",BO$13)))),\"\")","v":"n/a"},{"$f":"IFERROR(IF(BO62=\".\",\".\",IF(BO62=\"n/a\",\"n/a\",\nGETPIVOTDATA(BP$21 & \"\",PivotTableB!$A$3,\"SchoolName\",$B62,\"SubsidiaryName\",$C62,\"YearStart\",BO$13))),\"\")","v":"n/a"},{"$f":"IFERROR(IF(BP62=\".\",\".\",IF(BP62=\"n/a\",\"n/a\",\nGETPIVOTDATA(BQ$21 & \"\",PivotTableB!$A$3,\"SchoolName\",$B62,\"SubsidiaryName\",$C62,\"YearStart\",BO$13))),\"\")","v":"n/a"},{"$f":"IFERROR(IF(BQ62=\".\",\".\",IF(BQ62=\"n/a\",\"n/a\",\nGETPIVOTDATA(BR$21 & \"\",PivotTableB!$A$3,\"SchoolName\",$B62,\"SubsidiaryName\",$C62,\"YearStart\",BP$13))),\"\")","v":"n/a"},"n/a",{"$f":"IFERROR(IF(BS62=\".\",\".\",IF(BS62=\"n/a\",\"n/a\",\nGETPIVOTDATA(BT$21 & \"\",PivotTableB!$A$3,\"SchoolName\",$B62,\"SubsidiaryName\",$C62,\"YearStart\",BO$13))),\"\")","v":"n/a"},{"$f":"IFERROR(IF(BT62=\".\",\".\",IF(BT62=\"n/a\",\"n/a\",\nGETPIVOTDATA(BU$21 & \"\",PivotTableB!$A$3,\"SchoolName\",$B62,\"SubsidiaryName\",$C62,\"YearStart\",BO$13))),\"\")","v":"n/a"},{"$f":"IFERROR(IF($B62=\"\",\"\",\nIF(OR($L62=\"Nursery School\",$L62=\"All-through PRU\",$M62=\"True\"),\"n/a\",\nIF(GETPIVOTDATA(BV$21 & \"\",PivotTableB!$A$3,\"SchoolName\",$B62,\"SubsidiaryName\",$C62,\"YearStart\",BV$13)=\"\",\".\",\nGETPIVOTDATA(BV$21 & \"\",PivotTableB!$A$3,\"SchoolName\",$B62,\"SubsidiaryName\",$C62,\"YearStart\",BV$13)))),\"\")","v":"n/a"},{"$f":"IFERROR(IF(BV62=\".\",\".\",IF(BV62=\"n/a\",\"n/a\",\nGETPIVOTDATA(BW$21 & \"\",PivotTableB!$A$3,\"SchoolName\",$B62,\"SubsidiaryName\",$C62,\"YearStart\",BV$13))),\"\")","v":"n/a"},{"$f":"IFERROR(IF(BW62=\".\",\".\",IF(BW62=\"n/a\",\"n/a\",\nGETPIVOTDATA(BX$21 & \"\",PivotTableB!$A$3,\"SchoolName\",$B62,\"SubsidiaryName\",$C62,\"YearStart\",BV$13))),\"\")","v":"n/a"},{"$f":"IFERROR(IF(BX62=\".\",\".\",IF(BX62=\"n/a\",\"n/a\",\nGETPIVOTDATA(BY$21 & \"\",PivotTableB!$A$3,\"SchoolName\",$B62,\"SubsidiaryName\",$C62,\"YearStart\",BV$13))),\"\")","v":"n/a"},"n/a",{"$f":"IFERROR(IF(BZ62=\".\",\".\",IF(BZ62=\"n/a\",\"n/a\",\nGETPIVOTDATA(CA$21 & \"\",PivotTableB!$A$3,\"SchoolName\",$B62,\"SubsidiaryName\",$C62,\"YearStart\",BV$13))),\"\")","v":"n/a"},{"$f":"IFERROR(IF(CA62=\".\",\".\",IF(CA62=\"n/a\",\"n/a\",\nGETPIVOTDATA(CB$21 & \"\",PivotTableB!$A$3,\"SchoolName\",$B62,\"SubsidiaryName\",$C62,\"YearStart\",BV$13))),\"\")","v":"n/a"}]
[null,{"$f":"IF(PivotTableA!A50=\"\",\"n/a\",PivotTableA!A50)","v":"Newlands Girls' School"},{"$f":"IF(B63=\"n/a\",\"\",PivotTableA!B50)","v":"Newlands Girls' School"},{"$f":"IF($B63=\"n/a\",\"\",PivotTableA!C50)","v":"7"},{"$f":"IF($B63=\"n/a\",\"\",PivotTableA!D50)","v":"Maidenhead"},{"$f":"IF($B63=\"n/a\",\"\",PivotTableA!E50)","v":"North West Maidenhead"},{"$f":"IF($B63=\"n/a\",\"\",PivotTableA!F50)","v":"Highway"},{"$f":"IF($B63=\"n/a\",\"\",PivotTableA!G50)","v":"Pinkneys Green"},{"$f":"IF($B63=\"n/a\",\"\",PivotTableA!H50)","v":"None"},{"$f":"IF($B63=\"n/a\",\"\",PivotTableA!I50)","v":"Secondary"},{"$f":"IF($B63=\"n/a\",\"\",PivotTableA!J50)","v":"Two Tier"},{"$f":"IF($B63=\"n/a\",\"\",PivotTableA!K50)","v":"Secondary"},{"$f":"IF($B63=\"n/a\",\"\",PivotTableA!O50)","v":"FALSE"},{"$f":"IF($B63=\"n/a\",\"\",PivotTableA!L50)","v":"Academy"},{"$f":"IF($B63=\"n/a\",\"\",PivotTableA!M50)","v":"2015-10-01"},{"$f":"IF($B63=\"n/a\",\"\",PivotTableA!N50)","v":"None"},{"$f":"IFERROR(IF($B63=\"\",\"\",\nIF(OR($L63=\"Nursery School\",$L63=\"All-through PRU\",$M63=\"True\"),\"n/a\",\nIF(GETPIVOTDATA(Q$21 & \"\",PivotTableB!$A$3,\"SchoolName\",$B63,\"SubsidiaryName\",$C63,\"YearStart\",Q$13)=\"\",\".\",\nGETPIVOTDATA(Q$21 & \"\",PivotTableB!$A$3,\"SchoolName\",$B63,\"SubsidiaryName\",$C63,\"YearStart\",Q$13)))),\"\")","v":186},{"$f":"IFERROR(IF(Q63=\".\",\".\",IF(Q63=\"n/a\",\"n/a\",\nGETPIVOTDATA(R$21 & \"\",PivotTableB!$A$3,\"SchoolName\",$B63,\"SubsidiaryName\",$C63,\"YearStart\",Q$13))),\"\")","v":0},{"$f":"IFERROR(IF(R63=\".\",\".\",IF(R63=\"n/a\",\"n/a\",\nGETPIVOTDATA(S$21 & \"\",PivotTableB!$A$3,\"SchoolName\",$B63,\"SubsidiaryName\",$C63,\"YearStart\",Q$13))),\"\")","v":0},186,{"$f":"IFERROR(IF(T63=\".\",\".\",IF(T63=\"n/a\",\"n/a\",\nGETPIVOTDATA(U$21 & \"\",PivotTableB!$A$3,\"SchoolName\",$B63,\"SubsidiaryName\",$C63,\"YearStart\",Q$13))),\"\")","v":0},{"$f":"IFERROR(IF(U63=\".\",\".\",IF(U63=\"n/a\",\"n/a\",\nGETPIVOTDATA(V$21 & \"\",PivotTableB!$A$3,\"SchoolName\",$B63,\"SubsidiaryName\",$C63,\"YearStart\",Q$13))),\"\")","v":1159},{"$f":"IFERROR(IF($B63=\"\",\"\",\nIF(OR($L63=\"Nursery School\",$L63=\"All-through PRU\",$M63=\"True\"),\"n/a\",\nIF(GETPIVOTDATA(W$21 & \"\",PivotTableB!$A$3,\"SchoolName\",$B63,\"SubsidiaryName\",$C63,\"YearStart\",W$13)=\"\",\".\",\nGETPIVOTDATA(W$21 & \"\",PivotTableB!$A$3,\"SchoolName\",$B63,\"SubsidiaryName\",$C63,\"YearStart\",W$13)))),\"\")","v":186},{"$f":"IFERROR(IF(W63=\".\",\".\",IF(W63=\"n/a\",\"n/a\",\nGETPIVOTDATA(X$21 & \"\",PivotTableB!$A$3,\"SchoolName\",$B63,\"SubsidiaryName\",$C63,\"YearStart\",W$13))),\"\")","v":0},{"$f":"IFERROR(IF(X63=\".\",\".\",IF(X63=\"n/a\",\"n/a\",\nGETPIVOTDATA(Y$21 & \"\",PivotTableB!$A$3,\"SchoolName\",$B63,\"SubsidiaryName\",$C63,\"YearStart\",W$13))),\"\")","v":0},186,{"$f":"IFERROR(IF(Z63=\".\",\".\",IF(Z63=\"n/a\",\"n/a\",\nGETPIVOTDATA(AA$21 & \"\",PivotTableB!$A$3,\"SchoolName\",$B63,\"SubsidiaryName\",$C63,\"YearStart\",W$13))),\"\")","v":0},{"$f":"IFERROR(IF(AA63=\".\",\".\",IF(AA63=\"n/a\",\"n/a\",\nGETPIVOTDATA(AB$21 & \"\",PivotTableB!$A$3,\"SchoolName\",$B63,\"SubsidiaryName\",$C63,\"YearStart\",W$13))),\"\")","v":1159},{"$f":"IFERROR(IF($B63=\"\",\"\",\nIF(OR($L63=\"Nursery School\",$L63=\"All-through PRU\",$M63=\"True\"),\"n/a\",\nIF(GETPIVOTDATA(AC$21 & \"\",PivotTableB!$A$3,\"SchoolName\",$B63,\"SubsidiaryName\",$C63,\"YearStart\",AC$13)=\"\",\".\",\nGETPIVOTDATA(AC$21 & \"\",PivotTableB!$A$3,\"SchoolName\",$B63,\"SubsidiaryName\",$C63,\"YearStart\",AC$13)))),\"\")","v":186},{"$f":"IFERROR(IF(AC63=\".\",\".\",IF(AC63=\"n/a\",\"n/a\",\nGETPIVOTDATA(AD$21 & \"\",PivotTableB!$A$3,\"SchoolName\",$B63,\"SubsidiaryName\",$C63,\"YearStart\",AC$13))),\"\")","v":0},{"$f":"IFERROR(IF(AD63=\".\",\".\",IF(AD63=\"n/a\",\"n/a\",\nGETPIVOTDATA(AE$21 & \"\",PivotTableB!$A$3,\"SchoolName\",$B63,\"SubsidiaryName\",$C63,\"YearStart\",AC$13))),\"\")","v":0},186,{"$f":"IFERROR(IF(AF63=\".\",\".\",IF(AF63=\"n/a\",\"n/a\",\nGETPIVOTDATA(AG$21 & \"\",PivotTableB!$A$3,\"SchoolName\",$B63,\"SubsidiaryName\",$C63,\"YearStart\",AC$13))),\"\")","v":0},{"$f":"IFERROR(IF(AG63=\".\",\".\",IF(AG63=\"n/a\",\"n/a\",\nGETPIVOTDATA(AH$21 & \"\",PivotTableB!$A$3,\"SchoolName\",$B63,\"SubsidiaryName\",$C63,\"YearStart\",AC$13))),\"\")","v":1148},{"$f":"IFERROR(IF($B63=\"\",\"\",\nIF(OR($L63=\"Nursery School\",$L63=\"All-through PRU\",$M63=\"True\"),\"n/a\",\nIF(GETPIVOTDATA(AI$21 & \"\",PivotTableB!$A$3,\"SchoolName\",$B63,\"SubsidiaryName\",$C63,\"YearStart\",AI$13)=\"\",\".\",\nGETPIVOTDATA(AI$21 & \"\",PivotTableB!$A$3,\"SchoolName\",$B63,\"SubsidiaryName\",$C63,\"YearStart\",AI$13)))),\"\")","v":186},{"$f":"IFERROR(IF(AI63=\".\",\".\",IF(AI63=\"n/a\",\"n/a\",\nGETPIVOTDATA(AJ$21 & \"\",PivotTableB!$A$3,\"SchoolName\",$B63,\"SubsidiaryName\",$C63,\"YearStart\",AI$13))),\"\")","v":6},{"$f":"IFERROR(IF(AJ63=\".\",\".\",IF(AJ63=\"n/a\",\"n/a\",\nGETPIVOTDATA(AK$21 & \"\",PivotTableB!$A$3,\"SchoolName\",$B63,\"SubsidiaryName\",$C63,\"YearStart\",AI$13))),\"\")","v":0},192,{"$f":"IFERROR(IF(AL63=\".\",\".\",IF(AL63=\"n/a\",\"n/a\",\nGETPIVOTDATA(AM$21 & \"\",PivotTableB!$A$3,\"SchoolName\",$B63,\"SubsidiaryName\",$C63,\"YearStart\",AI$13))),\"\")","v":0},{"$f":"IFERROR(IF(AM63=\".\",\".\",IF(AM63=\"n/a\",\"n/a\",\nGETPIVOTDATA(AN$21 & \"\",PivotTableB!$A$3,\"SchoolName\",$B63,\"SubsidiaryName\",$C63,\"YearStart\",AI$13))),\"\")","v":1185},{"$f":"IFERROR(IF($B63=\"\",\"\",\nIF(OR($L63=\"Nursery School\",$L63=\"All-through PRU\",$M63=\"True\"),\"n/a\",\nIF(GETPIVOTDATA(AO$21 & \"\",PivotTableB!$A$3,\"SchoolName\",$B63,\"SubsidiaryName\",$C63,\"YearStart\",AO$13)=\"\",\".\",\nGETPIVOTDATA(AO$21 & \"\",PivotTableB!$A$3,\"SchoolName\",$B63,\"SubsidiaryName\",$C63,\"YearStart\",AO$13)))),\"\")","v":192},{"$f":"IFERROR(IF(AO63=\".\",\".\",IF(AO63=\"n/a\",\"n/a\",\nGETPIVOTDATA(AP$21 & \"\",PivotTableB!$A$3,\"SchoolName\",$B63,\"SubsidiaryName\",$C63,\"YearStart\",AO$13))),\"\")","v":0},{"$f":"IFERROR(IF(AP63=\".\",\".\",IF(AP63=\"n/a\",\"n/a\",\nGETPIVOTDATA(AQ$21 & \"\",PivotTableB!$A$3,\"SchoolName\",$B63,\"SubsidiaryName\",$C63,\"YearStart\",AO$13))),\"\")","v":0},192,{"$f":"IFERROR(IF(AR63=\".\",\".\",IF(AR63=\"n/a\",\"n/a\",\nGETPIVOTDATA(AS$21 & \"\",PivotTableB!$A$3,\"SchoolName\",$B63,\"SubsidiaryName\",$C63,\"YearStart\",AO$13))),\"\")","v":0},{"$f":"IFERROR(IF(AS63=\".\",\".\",IF(AS63=\"n/a\",\"n/a\",\nGETPIVOTDATA(AT$21 & \"\",PivotTableB!$A$3,\"SchoolName\",$B63,\"SubsidiaryName\",$C63,\"YearStart\",AO$13))),\"\")","v":1188},{"$f":"IFERROR(IF($B63=\"\",\"\",\nIF(OR($L63=\"Nursery School\",$L63=\"All-through PRU\",$M63=\"True\"),\"n/a\",\nIF(GETPIVOTDATA(AU$21 & \"\",PivotTableB!$A$3,\"SchoolName\",$B63,\"SubsidiaryName\",$C63,\"YearStart\",AU$13)=\"\",\".\",\nGETPIVOTDATA(AU$21 & \"\",PivotTableB!$A$3,\"SchoolName\",$B63,\"SubsidiaryName\",$C63,\"YearStart\",AU$13)))),\"\")","v":192},{"$f":"IFERROR(IF(AU63=\".\",\".\",IF(AU63=\"n/a\",\"n/a\",\nGETPIVOTDATA(AV$21 & \"\",PivotTableB!$A$3,\"SchoolName\",$B63,\"SubsidiaryName\",$C63,\"YearStart\",AU$13))),\"\")","v":0},{"$f":"IFERROR(IF(AV63=\".\",\".\",IF(AV63=\"n/a\",\"n/a\",\nGETPIVOTDATA(AW$21 & \"\",PivotTableB!$A$3,\"SchoolName\",$B63,\"SubsidiaryName\",$C63,\"YearStart\",AU$13))),\"\")","v":0},192,{"$f":"IFERROR(IF(AX63=\".\",\".\",IF(AX63=\"n/a\",\"n/a\",\nGETPIVOTDATA(AY$21 & \"\",PivotTableB!$A$3,\"SchoolName\",$B63,\"SubsidiaryName\",$C63,\"YearStart\",AU$13))),\"\")","v":0},{"$f":"IFERROR(IF(AY63=\".\",\".\",IF(AY63=\"n/a\",\"n/a\",\nGETPIVOTDATA(AZ$21 & \"\",PivotTableB!$A$3,\"SchoolName\",$B63,\"SubsidiaryName\",$C63,\"YearStart\",AU$13))),\"\")","v":1188},{"$f":"IFERROR(IF($B63=\"\",\"\",\nIF(OR($L63=\"Nursery School\",$L63=\"All-through PRU\",$M63=\"True\"),\"n/a\",\nIF(GETPIVOTDATA(BA$21 & \"\",PivotTableB!$A$3,\"SchoolName\",$B63,\"SubsidiaryName\",$C63,\"YearStart\",BA$13)=\"\",\".\",\nGETPIVOTDATA(BA$21 & \"\",PivotTableB!$A$3,\"SchoolName\",$B63,\"SubsidiaryName\",$C63,\"YearStart\",BA$13)))),\"\")","v":192},{"$f":"IFERROR(IF(BA63=\".\",\".\",IF(BA63=\"n/a\",\"n/a\",\nGETPIVOTDATA(BB$21 & \"\",PivotTableB!$A$3,\"SchoolName\",$B63,\"SubsidiaryName\",$C63,\"YearStart\",BA$13))),\"\")","v":0},{"$f":"IFERROR(IF(BB63=\".\",\".\",IF(BB63=\"n/a\",\"n/a\",\nGETPIVOTDATA(BC$21 & \"\",PivotTableB!$A$3,\"SchoolName\",$B63,\"SubsidiaryName\",$C63,\"YearStart\",BA$13))),\"\")","v":0},{"$f":"IFERROR(IF(BC63=\".\",\".\",IF(BC63=\"n/a\",\"n/a\",\nGETPIVOTDATA(BD$21 & \"\",PivotTableB!$A$3,\"SchoolName\",$B63,\"SubsidiaryName\",$C63,\"YearStart\",BB$13))),\"\")","v":""},192,{"$f":"IFERROR(IF(BE63=\".\",\".\",IF(BE63=\"n/a\",\"n/a\",\nGETPIVOTDATA(BF$21 & \"\",PivotTableB!$A$3,\"SchoolName\",$B63,\"SubsidiaryName\",$C63,\"YearStart\",BA$13))),\"\")","v":0},{"$f":"IFERROR(IF(BF63=\".\",\".\",IF(BF63=\"n/a\",\"n/a\",\nGETPIVOTDATA(BG$21 & \"\",PivotTableB!$A$3,\"SchoolName\",$B63,\"SubsidiaryName\",$C63,\"YearStart\",BA$13))),\"\")","v":1188},{"$f":"IFERROR(IF($B63=\"\",\"\",\nIF(OR($L63=\"Nursery School\",$L63=\"All-through PRU\",$M63=\"True\"),\"n/a\",\nIF(GETPIVOTDATA(BH$21 & \"\",PivotTableB!$A$3,\"SchoolName\",$B63,\"SubsidiaryName\",$C63,\"YearStart\",BH$13)=\"\",\".\",\nGETPIVOTDATA(BH$21 & \"\",PivotTableB!$A$3,\"SchoolName\",$B63,\"SubsidiaryName\",$C63,\"YearStart\",BH$13)))),\"\")","v":192},{"$f":"IFERROR(IF(BH63=\".\",\".\",IF(BH63=\"n/a\",\"n/a\",\nGETPIVOTDATA(BI$21 & \"\",PivotTableB!$A$3,\"SchoolName\",$B63,\"SubsidiaryName\",$C63,\"YearStart\",BH$13))),\"\")","v":0},{"$f":"IFERROR(IF(BI63=\".\",\".\",IF(BI63=\"n/a\",\"n/a\",\nGETPIVOTDATA(BJ$21 & \"\",PivotTableB!$A$3,\"SchoolName\",$B63,\"SubsidiaryName\",$C63,\"YearStart\",BH$13))),\"\")","v":0},{"$f":"IFERROR(IF(BJ63=\".\",\".\",IF(BJ63=\"n/a\",\"n/a\",\nGETPIVOTDATA(BK$21 & \"\",PivotTableB!$A$3,\"SchoolName\",$B63,\"SubsidiaryName\",$C63,\"YearStart\",BH$13))),\"\")","v":0},192,{"$f":"IFERROR(IF(BL63=\".\",\".\",IF(BL63=\"n/a\",\"n/a\",\nGETPIVOTDATA(BM$21 & \"\",PivotTableB!$A$3,\"SchoolName\",$B63,\"SubsidiaryName\",$C63,\"YearStart\",BH$13))),\"\")","v":0},{"$f":"IFERROR(IF(BM63=\".\",\".\",IF(BM63=\"n/a\",\"n/a\",\nGETPIVOTDATA(BN$21 & \"\",PivotTableB!$A$3,\"SchoolName\",$B63,\"SubsidiaryName\",$C63,\"YearStart\",BH$13))),\"\")","v":1188},{"$f":"IFERROR(IF($B63=\"\",\"\",\nIF(OR($L63=\"Nursery School\",$L63=\"All-through PRU\",$M63=\"True\"),\"n/a\",\nIF(GETPIVOTDATA(BO$21 & \"\",PivotTableB!$A$3,\"SchoolName\",$B63,\"SubsidiaryName\",$C63,\"YearStart\",BO$13)=\"\",\".\",\nGETPIVOTDATA(BO$21 & \"\",PivotTableB!$A$3,\"SchoolName\",$B63,\"SubsidiaryName\",$C63,\"YearStart\",BO$13)))),\"\")","v":192},{"$f":"IFERROR(IF(BO63=\".\",\".\",IF(BO63=\"n/a\",\"n/a\",\nGETPIVOTDATA(BP$21 & \"\",PivotTableB!$A$3,\"SchoolName\",$B63,\"SubsidiaryName\",$C63,\"YearStart\",BO$13))),\"\")","v":0},{"$f":"IFERROR(IF(BP63=\".\",\".\",IF(BP63=\"n/a\",\"n/a\",\nGETPIVOTDATA(BQ$21 & \"\",PivotTableB!$A$3,\"SchoolName\",$B63,\"SubsidiaryName\",$C63,\"YearStart\",BO$13))),\"\")","v":0},{"$f":"IFERROR(IF(BQ63=\".\",\".\",IF(BQ63=\"n/a\",\"n/a\",\nGETPIVOTDATA(BR$21 & \"\",PivotTableB!$A$3,\"SchoolName\",$B63,\"SubsidiaryName\",$C63,\"YearStart\",BP$13))),\"\")","v":""},192,{"$f":"IFERROR(IF(BS63=\".\",\".\",IF(BS63=\"n/a\",\"n/a\",\nGETPIVOTDATA(BT$21 & \"\",PivotTableB!$A$3,\"SchoolName\",$B63,\"SubsidiaryName\",$C63,\"YearStart\",BO$13))),\"\")","v":0},{"$f":"IFERROR(IF(BT63=\".\",\".\",IF(BT63=\"n/a\",\"n/a\",\nGETPIVOTDATA(BU$21 & \"\",PivotTableB!$A$3,\"SchoolName\",$B63,\"SubsidiaryName\",$C63,\"YearStart\",BO$13))),\"\")","v":1188},{"$f":"IFERROR(IF($B63=\"\",\"\",\nIF(OR($L63=\"Nursery School\",$L63=\"All-through PRU\",$M63=\"True\"),\"n/a\",\nIF(GETPIVOTDATA(BV$21 & \"\",PivotTableB!$A$3,\"SchoolName\",$B63,\"SubsidiaryName\",$C63,\"YearStart\",BV$13)=\"\",\".\",\nGETPIVOTDATA(BV$21 & \"\",PivotTableB!$A$3,\"SchoolName\",$B63,\"SubsidiaryName\",$C63,\"YearStart\",BV$13)))),\"\")","v":192},{"$f":"IFERROR(IF(BV63=\".\",\".\",IF(BV63=\"n/a\",\"n/a\",\nGETPIVOTDATA(BW$21 & \"\",PivotTableB!$A$3,\"SchoolName\",$B63,\"SubsidiaryName\",$C63,\"YearStart\",BV$13))),\"\")","v":0},{"$f":"IFERROR(IF(BW63=\".\",\".\",IF(BW63=\"n/a\",\"n/a\",\nGETPIVOTDATA(BX$21 & \"\",PivotTableB!$A$3,\"SchoolName\",$B63,\"SubsidiaryName\",$C63,\"YearStart\",BV$13))),\"\")","v":0},{"$f":"IFERROR(IF(BX63=\".\",\".\",IF(BX63=\"n/a\",\"n/a\",\nGETPIVOTDATA(BY$21 & \"\",PivotTableB!$A$3,\"SchoolName\",$B63,\"SubsidiaryName\",$C63,\"YearStart\",BV$13))),\"\")","v":0},192,{"$f":"IFERROR(IF(BZ63=\".\",\".\",IF(BZ63=\"n/a\",\"n/a\",\nGETPIVOTDATA(CA$21 & \"\",PivotTableB!$A$3,\"SchoolName\",$B63,\"SubsidiaryName\",$C63,\"YearStart\",BV$13))),\"\")","v":0},{"$f":"IFERROR(IF(CA63=\".\",\".\",IF(CA63=\"n/a\",\"n/a\",\nGETPIVOTDATA(CB$21 & \"\",PivotTableB!$A$3,\"SchoolName\",$B63,\"SubsidiaryName\",$C63,\"YearStart\",BV$13))),\"\")","v":1188}]
[null,{"$f":"IF(PivotTableA!A51=\"\",\"n/a\",PivotTableA!A51)","v":"Oakfield First School"},{"$f":"IF(B64=\"n/a\",\"\",PivotTableA!B51)","v":"Oakfield First School"},{"$f":"IF($B64=\"n/a\",\"\",PivotTableA!C51)","v":"R"},{"$f":"IF($B64=\"n/a\",\"\",PivotTableA!D51)","v":"Windsor"},{"$f":"IF($B64=\"n/a\",\"\",PivotTableA!E51)","v":"East Windsor"},{"$f":"IF($B64=\"n/a\",\"\",PivotTableA!F51)","v":"Oakfield"},{"$f":"IF($B64=\"n/a\",\"\",PivotTableA!G51)","v":"Clewer East"},{"$f":"IF($B64=\"n/a\",\"\",PivotTableA!H51)","v":"None"},{"$f":"IF($B64=\"n/a\",\"\",PivotTableA!I51)","v":"Primary"},{"$f":"IF($B64=\"n/a\",\"\",PivotTableA!J51)","v":"Three Tier"},{"$f":"IF($B64=\"n/a\",\"\",PivotTableA!K51)","v":"First"},{"$f":"IF($B64=\"n/a\",\"\",PivotTableA!O51)","v":"FALSE"},{"$f":"IF($B64=\"n/a\",\"\",PivotTableA!L51)","v":"Community"},{"$f":"IF($B64=\"n/a\",\"\",PivotTableA!M51)","v":" "},{"$f":"IF($B64=\"n/a\",\"\",PivotTableA!N51)","v":"None"},{"$f":"IFERROR(IF($B64=\"\",\"\",\nIF(OR($L64=\"Nursery School\",$L64=\"All-through PRU\",$M64=\"True\"),\"n/a\",\nIF(GETPIVOTDATA(Q$21 & \"\",PivotTableB!$A$3,\"SchoolName\",$B64,\"SubsidiaryName\",$C64,\"YearStart\",Q$13)=\"\",\".\",\nGETPIVOTDATA(Q$21 & \"\",PivotTableB!$A$3,\"SchoolName\",$B64,\"SubsidiaryName\",$C64,\"YearStart\",Q$13)))),\"\")","v":60},{"$f":"IFERROR(IF(Q64=\".\",\".\",IF(Q64=\"n/a\",\"n/a\",\nGETPIVOTDATA(R$21 & \"\",PivotTableB!$A$3,\"SchoolName\",$B64,\"SubsidiaryName\",$C64,\"YearStart\",Q$13))),\"\")","v":0},{"$f":"IFERROR(IF(R64=\".\",\".\",IF(R64=\"n/a\",\"n/a\",\nGETPIVOTDATA(S$21 & \"\",PivotTableB!$A$3,\"SchoolName\",$B64,\"SubsidiaryName\",$C64,\"YearStart\",Q$13))),\"\")","v":0},60,{"$f":"IFERROR(IF(T64=\".\",\".\",IF(T64=\"n/a\",\"n/a\",\nGETPIVOTDATA(U$21 & \"\",PivotTableB!$A$3,\"SchoolName\",$B64,\"SubsidiaryName\",$C64,\"YearStart\",Q$13))),\"\")","v":0},{"$f":"IFERROR(IF(U64=\".\",\".\",IF(U64=\"n/a\",\"n/a\",\nGETPIVOTDATA(V$21 & \"\",PivotTableB!$A$3,\"SchoolName\",$B64,\"SubsidiaryName\",$C64,\"YearStart\",Q$13))),\"\")","v":300},{"$f":"IFERROR(IF($B64=\"\",\"\",\nIF(OR($L64=\"Nursery School\",$L64=\"All-through PRU\",$M64=\"True\"),\"n/a\",\nIF(GETPIVOTDATA(W$21 & \"\",PivotTableB!$A$3,\"SchoolName\",$B64,\"SubsidiaryName\",$C64,\"YearStart\",W$13)=\"\",\".\",\nGETPIVOTDATA(W$21 & \"\",PivotTableB!$A$3,\"SchoolName\",$B64,\"SubsidiaryName\",$C64,\"YearStart\",W$13)))),\"\")","v":60},{"$f":"IFERROR(IF(W64=\".\",\".\",IF(W64=\"n/a\",\"n/a\",\nGETPIVOTDATA(X$21 & \"\",PivotTableB!$A$3,\"SchoolName\",$B64,\"SubsidiaryName\",$C64,\"YearStart\",W$13))),\"\")","v":0},{"$f":"IFERROR(IF(X64=\".\",\".\",IF(X64=\"n/a\",\"n/a\",\nGETPIVOTDATA(Y$21 & \"\",PivotTableB!$A$3,\"SchoolName\",$B64,\"SubsidiaryName\",$C64,\"YearStart\",W$13))),\"\")","v":0},60,{"$f":"IFERROR(IF(Z64=\".\",\".\",IF(Z64=\"n/a\",\"n/a\",\nGETPIVOTDATA(AA$21 & \"\",PivotTableB!$A$3,\"SchoolName\",$B64,\"SubsidiaryName\",$C64,\"YearStart\",W$13))),\"\")","v":0},{"$f":"IFERROR(IF(AA64=\".\",\".\",IF(AA64=\"n/a\",\"n/a\",\nGETPIVOTDATA(AB$21 & \"\",PivotTableB!$A$3,\"SchoolName\",$B64,\"SubsidiaryName\",$C64,\"YearStart\",W$13))),\"\")","v":300},{"$f":"IFERROR(IF($B64=\"\",\"\",\nIF(OR($L64=\"Nursery School\",$L64=\"All-through PRU\",$M64=\"True\"),\"n/a\",\nIF(GETPIVOTDATA(AC$21 & \"\",PivotTableB!$A$3,\"SchoolName\",$B64,\"SubsidiaryName\",$C64,\"YearStart\",AC$13)=\"\",\".\",\nGETPIVOTDATA(AC$21 & \"\",PivotTableB!$A$3,\"SchoolName\",$B64,\"SubsidiaryName\",$C64,\"YearStart\",AC$13)))),\"\")","v":60},{"$f":"IFERROR(IF(AC64=\".\",\".\",IF(AC64=\"n/a\",\"n/a\",\nGETPIVOTDATA(AD$21 & \"\",PivotTableB!$A$3,\"SchoolName\",$B64,\"SubsidiaryName\",$C64,\"YearStart\",AC$13))),\"\")","v":0},{"$f":"IFERROR(IF(AD64=\".\",\".\",IF(AD64=\"n/a\",\"n/a\",\nGETPIVOTDATA(AE$21 & \"\",PivotTableB!$A$3,\"SchoolName\",$B64,\"SubsidiaryName\",$C64,\"YearStart\",AC$13))),\"\")","v":0},60,{"$f":"IFERROR(IF(AF64=\".\",\".\",IF(AF64=\"n/a\",\"n/a\",\nGETPIVOTDATA(AG$21 & \"\",PivotTableB!$A$3,\"SchoolName\",$B64,\"SubsidiaryName\",$C64,\"YearStart\",AC$13))),\"\")","v":0},{"$f":"IFERROR(IF(AG64=\".\",\".\",IF(AG64=\"n/a\",\"n/a\",\nGETPIVOTDATA(AH$21 & \"\",PivotTableB!$A$3,\"SchoolName\",$B64,\"SubsidiaryName\",$C64,\"YearStart\",AC$13))),\"\")","v":300},{"$f":"IFERROR(IF($B64=\"\",\"\",\nIF(OR($L64=\"Nursery School\",$L64=\"All-through PRU\",$M64=\"True\"),\"n/a\",\nIF(GETPIVOTDATA(AI$21 & \"\",PivotTableB!$A$3,\"SchoolName\",$B64,\"SubsidiaryName\",$C64,\"YearStart\",AI$13)=\"\",\".\",\nGETPIVOTDATA(AI$21 & \"\",PivotTableB!$A$3,\"SchoolName\",$B64,\"SubsidiaryName\",$C64,\"YearStart\",AI$13)))),\"\")","v":60},{"$f":"IFERROR(IF(AI64=\".\",\".\",IF(AI64=\"n/a\",\"n/a\",\nGETPIVOTDATA(AJ$21 & \"\",PivotTableB!$A$3,\"SchoolName\",$B64,\"SubsidiaryName\",$C64,\"YearStart\",AI$13))),\"\")","v":0},{"$f":"IFERROR(IF(AJ64=\".\",\".\",IF(AJ64=\"n/a\",\"n/a\",\nGETPIVOTDATA(AK$21 & \"\",PivotTableB!$A$3,\"SchoolName\",$B64,\"SubsidiaryName\",$C64,\"YearStart\",AI$13))),\"\")","v":0},60,{"$f":"IFERROR(IF(AL64=\".\",\".\",IF(AL64=\"n/a\",\"n/a\",\nGETPIVOTDATA(AM$21 & \"\",PivotTableB!$A$3,\"SchoolName\",$B64,\"SubsidiaryName\",$C64,\"YearStart\",AI$13))),\"\")","v":0},{"$f":"IFERROR(IF(AM64=\".\",\".\",IF(AM64=\"n/a\",\"n/a\",\nGETPIVOTDATA(AN$21 & \"\",PivotTableB!$A$3,\"SchoolName\",$B64,\"SubsidiaryName\",$C64,\"YearStart\",AI$13))),\"\")","v":300},{"$f":"IFERROR(IF($B64=\"\",\"\",\nIF(OR($L64=\"Nursery School\",$L64=\"All-through PRU\",$M64=\"True\"),\"n/a\",\nIF(GETPIVOTDATA(AO$21 & \"\",PivotTableB!$A$3,\"SchoolName\",$B64,\"SubsidiaryName\",$C64,\"YearStart\",AO$13)=\"\",\".\",\nGETPIVOTDATA(AO$21 & \"\",PivotTableB!$A$3,\"SchoolName\",$B64,\"SubsidiaryName\",$C64,\"YearStart\",AO$13)))),\"\")","v":60},{"$f":"IFERROR(IF(AO64=\".\",\".\",IF(AO64=\"n/a\",\"n/a\",\nGETPIVOTDATA(AP$21 & \"\",PivotTableB!$A$3,\"SchoolName\",$B64,\"SubsidiaryName\",$C64,\"YearStart\",AO$13))),\"\")","v":0},{"$f":"IFERROR(IF(AP64=\".\",\".\",IF(AP64=\"n/a\",\"n/a\",\nGETPIVOTDATA(AQ$21 & \"\",PivotTableB!$A$3,\"SchoolName\",$B64,\"SubsidiaryName\",$C64,\"YearStart\",AO$13))),\"\")","v":0},60,{"$f":"IFERROR(IF(AR64=\".\",\".\",IF(AR64=\"n/a\",\"n/a\",\nGETPIVOTDATA(AS$21 & \"\",PivotTableB!$A$3,\"SchoolName\",$B64,\"SubsidiaryName\",$C64,\"YearStart\",AO$13))),\"\")","v":0},{"$f":"IFERROR(IF(AS64=\".\",\".\",IF(AS64=\"n/a\",\"n/a\",\nGETPIVOTDATA(AT$21 & \"\",PivotTableB!$A$3,\"SchoolName\",$B64,\"SubsidiaryName\",$C64,\"YearStart\",AO$13))),\"\")","v":300},{"$f":"IFERROR(IF($B64=\"\",\"\",\nIF(OR($L64=\"Nursery School\",$L64=\"All-through PRU\",$M64=\"True\"),\"n/a\",\nIF(GETPIVOTDATA(AU$21 & \"\",PivotTableB!$A$3,\"SchoolName\",$B64,\"SubsidiaryName\",$C64,\"YearStart\",AU$13)=\"\",\".\",\nGETPIVOTDATA(AU$21 & \"\",PivotTableB!$A$3,\"SchoolName\",$B64,\"SubsidiaryName\",$C64,\"YearStart\",AU$13)))),\"\")","v":60},{"$f":"IFERROR(IF(AU64=\".\",\".\",IF(AU64=\"n/a\",\"n/a\",\nGETPIVOTDATA(AV$21 & \"\",PivotTableB!$A$3,\"SchoolName\",$B64,\"SubsidiaryName\",$C64,\"YearStart\",AU$13))),\"\")","v":0},{"$f":"IFERROR(IF(AV64=\".\",\".\",IF(AV64=\"n/a\",\"n/a\",\nGETPIVOTDATA(AW$21 & \"\",PivotTableB!$A$3,\"SchoolName\",$B64,\"SubsidiaryName\",$C64,\"YearStart\",AU$13))),\"\")","v":0},60,{"$f":"IFERROR(IF(AX64=\".\",\".\",IF(AX64=\"n/a\",\"n/a\",\nGETPIVOTDATA(AY$21 & \"\",PivotTableB!$A$3,\"SchoolName\",$B64,\"SubsidiaryName\",$C64,\"YearStart\",AU$13))),\"\")","v":0},{"$f":"IFERROR(IF(AY64=\".\",\".\",IF(AY64=\"n/a\",\"n/a\",\nGETPIVOTDATA(AZ$21 & \"\",PivotTableB!$A$3,\"SchoolName\",$B64,\"SubsidiaryName\",$C64,\"YearStart\",AU$13))),\"\")","v":300},{"$f":"IFERROR(IF($B64=\"\",\"\",\nIF(OR($L64=\"Nursery School\",$L64=\"All-through PRU\",$M64=\"True\"),\"n/a\",\nIF(GETPIVOTDATA(BA$21 & \"\",PivotTableB!$A$3,\"SchoolName\",$B64,\"SubsidiaryName\",$C64,\"YearStart\",BA$13)=\"\",\".\",\nGETPIVOTDATA(BA$21 & \"\",PivotTableB!$A$3,\"SchoolName\",$B64,\"SubsidiaryName\",$C64,\"YearStart\",BA$13)))),\"\")","v":60},{"$f":"IFERROR(IF(BA64=\".\",\".\",IF(BA64=\"n/a\",\"n/a\",\nGETPIVOTDATA(BB$21 & \"\",PivotTableB!$A$3,\"SchoolName\",$B64,\"SubsidiaryName\",$C64,\"YearStart\",BA$13))),\"\")","v":0},{"$f":"IFERROR(IF(BB64=\".\",\".\",IF(BB64=\"n/a\",\"n/a\",\nGETPIVOTDATA(BC$21 & \"\",PivotTableB!$A$3,\"SchoolName\",$B64,\"SubsidiaryName\",$C64,\"YearStart\",BA$13))),\"\")","v":0},{"$f":"IFERROR(IF(BC64=\".\",\".\",IF(BC64=\"n/a\",\"n/a\",\nGETPIVOTDATA(BD$21 & \"\",PivotTableB!$A$3,\"SchoolName\",$B64,\"SubsidiaryName\",$C64,\"YearStart\",BB$13))),\"\")","v":""},60,{"$f":"IFERROR(IF(BE64=\".\",\".\",IF(BE64=\"n/a\",\"n/a\",\nGETPIVOTDATA(BF$21 & \"\",PivotTableB!$A$3,\"SchoolName\",$B64,\"SubsidiaryName\",$C64,\"YearStart\",BA$13))),\"\")","v":0},{"$f":"IFERROR(IF(BF64=\".\",\".\",IF(BF64=\"n/a\",\"n/a\",\nGETPIVOTDATA(BG$21 & \"\",PivotTableB!$A$3,\"SchoolName\",$B64,\"SubsidiaryName\",$C64,\"YearStart\",BA$13))),\"\")","v":300},{"$f":"IFERROR(IF($B64=\"\",\"\",\nIF(OR($L64=\"Nursery School\",$L64=\"All-through PRU\",$M64=\"True\"),\"n/a\",\nIF(GETPIVOTDATA(BH$21 & \"\",PivotTableB!$A$3,\"SchoolName\",$B64,\"SubsidiaryName\",$C64,\"YearStart\",BH$13)=\"\",\".\",\nGETPIVOTDATA(BH$21 & \"\",PivotTableB!$A$3,\"SchoolName\",$B64,\"SubsidiaryName\",$C64,\"YearStart\",BH$13)))),\"\")","v":60},{"$f":"IFERROR(IF(BH64=\".\",\".\",IF(BH64=\"n/a\",\"n/a\",\nGETPIVOTDATA(BI$21 & \"\",PivotTableB!$A$3,\"SchoolName\",$B64,\"SubsidiaryName\",$C64,\"YearStart\",BH$13))),\"\")","v":0},{"$f":"IFERROR(IF(BI64=\".\",\".\",IF(BI64=\"n/a\",\"n/a\",\nGETPIVOTDATA(BJ$21 & \"\",PivotTableB!$A$3,\"SchoolName\",$B64,\"SubsidiaryName\",$C64,\"YearStart\",BH$13))),\"\")","v":0},{"$f":"IFERROR(IF(BJ64=\".\",\".\",IF(BJ64=\"n/a\",\"n/a\",\nGETPIVOTDATA(BK$21 & \"\",PivotTableB!$A$3,\"SchoolName\",$B64,\"SubsidiaryName\",$C64,\"YearStart\",BH$13))),\"\")","v":0},60,{"$f":"IFERROR(IF(BL64=\".\",\".\",IF(BL64=\"n/a\",\"n/a\",\nGETPIVOTDATA(BM$21 & \"\",PivotTableB!$A$3,\"SchoolName\",$B64,\"SubsidiaryName\",$C64,\"YearStart\",BH$13))),\"\")","v":0},{"$f":"IFERROR(IF(BM64=\".\",\".\",IF(BM64=\"n/a\",\"n/a\",\nGETPIVOTDATA(BN$21 & \"\",PivotTableB!$A$3,\"SchoolName\",$B64,\"SubsidiaryName\",$C64,\"YearStart\",BH$13))),\"\")","v":300},{"$f":"IFERROR(IF($B64=\"\",\"\",\nIF(OR($L64=\"Nursery School\",$L64=\"All-through PRU\",$M64=\"True\"),\"n/a\",\nIF(GETPIVOTDATA(BO$21 & \"\",PivotTableB!$A$3,\"SchoolName\",$B64,\"SubsidiaryName\",$C64,\"YearStart\",BO$13)=\"\",\".\",\nGETPIVOTDATA(BO$21 & \"\",PivotTableB!$A$3,\"SchoolName\",$B64,\"SubsidiaryName\",$C64,\"YearStart\",BO$13)))),\"\")","v":60},{"$f":"IFERROR(IF(BO64=\".\",\".\",IF(BO64=\"n/a\",\"n/a\",\nGETPIVOTDATA(BP$21 & \"\",PivotTableB!$A$3,\"SchoolName\",$B64,\"SubsidiaryName\",$C64,\"YearStart\",BO$13))),\"\")","v":0},{"$f":"IFERROR(IF(BP64=\".\",\".\",IF(BP64=\"n/a\",\"n/a\",\nGETPIVOTDATA(BQ$21 & \"\",PivotTableB!$A$3,\"SchoolName\",$B64,\"SubsidiaryName\",$C64,\"YearStart\",BO$13))),\"\")","v":0},{"$f":"IFERROR(IF(BQ64=\".\",\".\",IF(BQ64=\"n/a\",\"n/a\",\nGETPIVOTDATA(BR$21 & \"\",PivotTableB!$A$3,\"SchoolName\",$B64,\"SubsidiaryName\",$C64,\"YearStart\",BP$13))),\"\")","v":""},60,{"$f":"IFERROR(IF(BS64=\".\",\".\",IF(BS64=\"n/a\",\"n/a\",\nGETPIVOTDATA(BT$21 & \"\",PivotTableB!$A$3,\"SchoolName\",$B64,\"SubsidiaryName\",$C64,\"YearStart\",BO$13))),\"\")","v":0},{"$f":"IFERROR(IF(BT64=\".\",\".\",IF(BT64=\"n/a\",\"n/a\",\nGETPIVOTDATA(BU$21 & \"\",PivotTableB!$A$3,\"SchoolName\",$B64,\"SubsidiaryName\",$C64,\"YearStart\",BO$13))),\"\")","v":300},{"$f":"IFERROR(IF($B64=\"\",\"\",\nIF(OR($L64=\"Nursery School\",$L64=\"All-through PRU\",$M64=\"True\"),\"n/a\",\nIF(GETPIVOTDATA(BV$21 & \"\",PivotTableB!$A$3,\"SchoolName\",$B64,\"SubsidiaryName\",$C64,\"YearStart\",BV$13)=\"\",\".\",\nGETPIVOTDATA(BV$21 & \"\",PivotTableB!$A$3,\"SchoolName\",$B64,\"SubsidiaryName\",$C64,\"YearStart\",BV$13)))),\"\")","v":60},{"$f":"IFERROR(IF(BV64=\".\",\".\",IF(BV64=\"n/a\",\"n/a\",\nGETPIVOTDATA(BW$21 & \"\",PivotTableB!$A$3,\"SchoolName\",$B64,\"SubsidiaryName\",$C64,\"YearStart\",BV$13))),\"\")","v":0},{"$f":"IFERROR(IF(BW64=\".\",\".\",IF(BW64=\"n/a\",\"n/a\",\nGETPIVOTDATA(BX$21 & \"\",PivotTableB!$A$3,\"SchoolName\",$B64,\"SubsidiaryName\",$C64,\"YearStart\",BV$13))),\"\")","v":0},{"$f":"IFERROR(IF(BX64=\".\",\".\",IF(BX64=\"n/a\",\"n/a\",\nGETPIVOTDATA(BY$21 & \"\",PivotTableB!$A$3,\"SchoolName\",$B64,\"SubsidiaryName\",$C64,\"YearStart\",BV$13))),\"\")","v":0},60,{"$f":"IFERROR(IF(BZ64=\".\",\".\",IF(BZ64=\"n/a\",\"n/a\",\nGETPIVOTDATA(CA$21 & \"\",PivotTableB!$A$3,\"SchoolName\",$B64,\"SubsidiaryName\",$C64,\"YearStart\",BV$13))),\"\")","v":0},{"$f":"IFERROR(IF(CA64=\".\",\".\",IF(CA64=\"n/a\",\"n/a\",\nGETPIVOTDATA(CB$21 & \"\",PivotTableB!$A$3,\"SchoolName\",$B64,\"SubsidiaryName\",$C64,\"YearStart\",BV$13))),\"\")","v":300}]
[null,{"$f":"IF(PivotTableA!A52=\"\",\"n/a\",PivotTableA!A52)","v":"Oldfield Primary School"},{"$f":"IF(B65=\"n/a\",\"\",PivotTableA!B52)","v":"Oldfield Primary School"},{"$f":"IF($B65=\"n/a\",\"\",PivotTableA!C52)","v":"R"},{"$f":"IF($B65=\"n/a\",\"\",PivotTableA!D52)","v":"Maidenhead"},{"$f":"IF($B65=\"n/a\",\"\",PivotTableA!E52)","v":"South East Maidenhead"},{"$f":"IF($B65=\"n/a\",\"\",PivotTableA!F52)","v":"Fishery"},{"$f":"IF($B65=\"n/a\",\"\",PivotTableA!G52)","v":"Oldfield"},{"$f":"IF($B65=\"n/a\",\"\",PivotTableA!H52)","v":"None"},{"$f":"IF($B65=\"n/a\",\"\",PivotTableA!I52)","v":"Primary"},{"$f":"IF($B65=\"n/a\",\"\",PivotTableA!J52)","v":"Two Tier"},{"$f":"IF($B65=\"n/a\",\"\",PivotTableA!K52)","v":"JMI"},{"$f":"IF($B65=\"n/a\",\"\",PivotTableA!O52)","v":"FALSE"},{"$f":"IF($B65=\"n/a\",\"\",PivotTableA!L52)","v":"Community"},{"$f":"IF($B65=\"n/a\",\"\",PivotTableA!M52)","v":" "},{"$f":"IF($B65=\"n/a\",\"\",PivotTableA!N52)","v":"None"},{"$f":"IFERROR(IF($B65=\"\",\"\",\nIF(OR($L65=\"Nursery School\",$L65=\"All-through PRU\",$M65=\"True\"),\"n/a\",\nIF(GETPIVOTDATA(Q$21 & \"\",PivotTableB!$A$3,\"SchoolName\",$B65,\"SubsidiaryName\",$C65,\"YearStart\",Q$13)=\"\",\".\",\nGETPIVOTDATA(Q$21 & \"\",PivotTableB!$A$3,\"SchoolName\",$B65,\"SubsidiaryName\",$C65,\"YearStart\",Q$13)))),\"\")","v":30},{"$f":"IFERROR(IF(Q65=\".\",\".\",IF(Q65=\"n/a\",\"n/a\",\nGETPIVOTDATA(R$21 & \"\",PivotTableB!$A$3,\"SchoolName\",$B65,\"SubsidiaryName\",$C65,\"YearStart\",Q$13))),\"\")","v":30},{"$f":"IFERROR(IF(R65=\".\",\".\",IF(R65=\"n/a\",\"n/a\",\nGETPIVOTDATA(S$21 & \"\",PivotTableB!$A$3,\"SchoolName\",$B65,\"SubsidiaryName\",$C65,\"YearStart\",Q$13))),\"\")","v":0},60,{"$f":"IFERROR(IF(T65=\".\",\".\",IF(T65=\"n/a\",\"n/a\",\nGETPIVOTDATA(U$21 & \"\",PivotTableB!$A$3,\"SchoolName\",$B65,\"SubsidiaryName\",$C65,\"YearStart\",Q$13))),\"\")","v":0},{"$f":"IFERROR(IF(U65=\".\",\".\",IF(U65=\"n/a\",\"n/a\",\nGETPIVOTDATA(V$21 & \"\",PivotTableB!$A$3,\"SchoolName\",$B65,\"SubsidiaryName\",$C65,\"YearStart\",Q$13))),\"\")","v":268},{"$f":"IFERROR(IF($B65=\"\",\"\",\nIF(OR($L65=\"Nursery School\",$L65=\"All-through PRU\",$M65=\"True\"),\"n/a\",\nIF(GETPIVOTDATA(W$21 & \"\",PivotTableB!$A$3,\"SchoolName\",$B65,\"SubsidiaryName\",$C65,\"YearStart\",W$13)=\"\",\".\",\nGETPIVOTDATA(W$21 & \"\",PivotTableB!$A$3,\"SchoolName\",$B65,\"SubsidiaryName\",$C65,\"YearStart\",W$13)))),\"\")","v":60},{"$f":"IFERROR(IF(W65=\".\",\".\",IF(W65=\"n/a\",\"n/a\",\nGETPIVOTDATA(X$21 & \"\",PivotTableB!$A$3,\"SchoolName\",$B65,\"SubsidiaryName\",$C65,\"YearStart\",W$13))),\"\")","v":0},{"$f":"IFERROR(IF(X65=\".\",\".\",IF(X65=\"n/a\",\"n/a\",\nGETPIVOTDATA(Y$21 & \"\",PivotTableB!$A$3,\"SchoolName\",$B65,\"SubsidiaryName\",$C65,\"YearStart\",W$13))),\"\")","v":0},60,{"$f":"IFERROR(IF(Z65=\".\",\".\",IF(Z65=\"n/a\",\"n/a\",\nGETPIVOTDATA(AA$21 & \"\",PivotTableB!$A$3,\"SchoolName\",$B65,\"SubsidiaryName\",$C65,\"YearStart\",W$13))),\"\")","v":0},{"$f":"IFERROR(IF(AA65=\".\",\".\",IF(AA65=\"n/a\",\"n/a\",\nGETPIVOTDATA(AB$21 & \"\",PivotTableB!$A$3,\"SchoolName\",$B65,\"SubsidiaryName\",$C65,\"YearStart\",W$13))),\"\")","v":298},{"$f":"IFERROR(IF($B65=\"\",\"\",\nIF(OR($L65=\"Nursery School\",$L65=\"All-through PRU\",$M65=\"True\"),\"n/a\",\nIF(GETPIVOTDATA(AC$21 & \"\",PivotTableB!$A$3,\"SchoolName\",$B65,\"SubsidiaryName\",$C65,\"YearStart\",AC$13)=\"\",\".\",\nGETPIVOTDATA(AC$21 & \"\",PivotTableB!$A$3,\"SchoolName\",$B65,\"SubsidiaryName\",$C65,\"YearStart\",AC$13)))),\"\")","v":60},{"$f":"IFERROR(IF(AC65=\".\",\".\",IF(AC65=\"n/a\",\"n/a\",\nGETPIVOTDATA(AD$21 & \"\",PivotTableB!$A$3,\"SchoolName\",$B65,\"SubsidiaryName\",$C65,\"YearStart\",AC$13))),\"\")","v":0},{"$f":"IFERROR(IF(AD65=\".\",\".\",IF(AD65=\"n/a\",\"n/a\",\nGETPIVOTDATA(AE$21 & \"\",PivotTableB!$A$3,\"SchoolName\",$B65,\"SubsidiaryName\",$C65,\"YearStart\",AC$13))),\"\")","v":0},60,{"$f":"IFERROR(IF(AF65=\".\",\".\",IF(AF65=\"n/a\",\"n/a\",\nGETPIVOTDATA(AG$21 & \"\",PivotTableB!$A$3,\"SchoolName\",$B65,\"SubsidiaryName\",$C65,\"YearStart\",AC$13))),\"\")","v":0},{"$f":"IFERROR(IF(AG65=\".\",\".\",IF(AG65=\"n/a\",\"n/a\",\nGETPIVOTDATA(AH$21 & \"\",PivotTableB!$A$3,\"SchoolName\",$B65,\"SubsidiaryName\",$C65,\"YearStart\",AC$13))),\"\")","v":420},{"$f":"IFERROR(IF($B65=\"\",\"\",\nIF(OR($L65=\"Nursery School\",$L65=\"All-through PRU\",$M65=\"True\"),\"n/a\",\nIF(GETPIVOTDATA(AI$21 & \"\",PivotTableB!$A$3,\"SchoolName\",$B65,\"SubsidiaryName\",$C65,\"YearStart\",AI$13)=\"\",\".\",\nGETPIVOTDATA(AI$21 & \"\",PivotTableB!$A$3,\"SchoolName\",$B65,\"SubsidiaryName\",$C65,\"YearStart\",AI$13)))),\"\")","v":60},{"$f":"IFERROR(IF(AI65=\".\",\".\",IF(AI65=\"n/a\",\"n/a\",\nGETPIVOTDATA(AJ$21 & \"\",PivotTableB!$A$3,\"SchoolName\",$B65,\"SubsidiaryName\",$C65,\"YearStart\",AI$13))),\"\")","v":0},{"$f":"IFERROR(IF(AJ65=\".\",\".\",IF(AJ65=\"n/a\",\"n/a\",\nGETPIVOTDATA(AK$21 & \"\",PivotTableB!$A$3,\"SchoolName\",$B65,\"SubsidiaryName\",$C65,\"YearStart\",AI$13))),\"\")","v":0},60,{"$f":"IFERROR(IF(AL65=\".\",\".\",IF(AL65=\"n/a\",\"n/a\",\nGETPIVOTDATA(AM$21 & \"\",PivotTableB!$A$3,\"SchoolName\",$B65,\"SubsidiaryName\",$C65,\"YearStart\",AI$13))),\"\")","v":0},{"$f":"IFERROR(IF(AM65=\".\",\".\",IF(AM65=\"n/a\",\"n/a\",\nGETPIVOTDATA(AN$21 & \"\",PivotTableB!$A$3,\"SchoolName\",$B65,\"SubsidiaryName\",$C65,\"YearStart\",AI$13))),\"\")","v":420},{"$f":"IFERROR(IF($B65=\"\",\"\",\nIF(OR($L65=\"Nursery School\",$L65=\"All-through PRU\",$M65=\"True\"),\"n/a\",\nIF(GETPIVOTDATA(AO$21 & \"\",PivotTableB!$A$3,\"SchoolName\",$B65,\"SubsidiaryName\",$C65,\"YearStart\",AO$13)=\"\",\".\",\nGETPIVOTDATA(AO$21 & \"\",PivotTableB!$A$3,\"SchoolName\",$B65,\"SubsidiaryName\",$C65,\"YearStart\",AO$13)))),\"\")","v":60},{"$f":"IFERROR(IF(AO65=\".\",\".\",IF(AO65=\"n/a\",\"n/a\",\nGETPIVOTDATA(AP$21 & \"\",PivotTableB!$A$3,\"SchoolName\",$B65,\"SubsidiaryName\",$C65,\"YearStart\",AO$13))),\"\")","v":0},{"$f":"IFERROR(IF(AP65=\".\",\".\",IF(AP65=\"n/a\",\"n/a\",\nGETPIVOTDATA(AQ$21 & \"\",PivotTableB!$A$3,\"SchoolName\",$B65,\"SubsidiaryName\",$C65,\"YearStart\",AO$13))),\"\")","v":0},60,{"$f":"IFERROR(IF(AR65=\".\",\".\",IF(AR65=\"n/a\",\"n/a\",\nGETPIVOTDATA(AS$21 & \"\",PivotTableB!$A$3,\"SchoolName\",$B65,\"SubsidiaryName\",$C65,\"YearStart\",AO$13))),\"\")","v":0},{"$f":"IFERROR(IF(AS65=\".\",\".\",IF(AS65=\"n/a\",\"n/a\",\nGETPIVOTDATA(AT$21 & \"\",PivotTableB!$A$3,\"SchoolName\",$B65,\"SubsidiaryName\",$C65,\"YearStart\",AO$13))),\"\")","v":420},{"$f":"IFERROR(IF($B65=\"\",\"\",\nIF(OR($L65=\"Nursery School\",$L65=\"All-through PRU\",$M65=\"True\"),\"n/a\",\nIF(GETPIVOTDATA(AU$21 & \"\",PivotTableB!$A$3,\"SchoolName\",$B65,\"SubsidiaryName\",$C65,\"YearStart\",AU$13)=\"\",\".\",\nGETPIVOTDATA(AU$21 & \"\",PivotTableB!$A$3,\"SchoolName\",$B65,\"SubsidiaryName\",$C65,\"YearStart\",AU$13)))),\"\")","v":60},{"$f":"IFERROR(IF(AU65=\".\",\".\",IF(AU65=\"n/a\",\"n/a\",\nGETPIVOTDATA(AV$21 & \"\",PivotTableB!$A$3,\"SchoolName\",$B65,\"SubsidiaryName\",$C65,\"YearStart\",AU$13))),\"\")","v":0},{"$f":"IFERROR(IF(AV65=\".\",\".\",IF(AV65=\"n/a\",\"n/a\",\nGETPIVOTDATA(AW$21 & \"\",PivotTableB!$A$3,\"SchoolName\",$B65,\"SubsidiaryName\",$C65,\"YearStart\",AU$13))),\"\")","v":0},60,{"$f":"IFERROR(IF(AX65=\".\",\".\",IF(AX65=\"n/a\",\"n/a\",\nGETPIVOTDATA(AY$21 & \"\",PivotTableB!$A$3,\"SchoolName\",$B65,\"SubsidiaryName\",$C65,\"YearStart\",AU$13))),\"\")","v":0},{"$f":"IFERROR(IF(AY65=\".\",\".\",IF(AY65=\"n/a\",\"n/a\",\nGETPIVOTDATA(AZ$21 & \"\",PivotTableB!$A$3,\"SchoolName\",$B65,\"SubsidiaryName\",$C65,\"YearStart\",AU$13))),\"\")","v":420},{"$f":"IFERROR(IF($B65=\"\",\"\",\nIF(OR($L65=\"Nursery School\",$L65=\"All-through PRU\",$M65=\"True\"),\"n/a\",\nIF(GETPIVOTDATA(BA$21 & \"\",PivotTableB!$A$3,\"SchoolName\",$B65,\"SubsidiaryName\",$C65,\"YearStart\",BA$13)=\"\",\".\",\nGETPIVOTDATA(BA$21 & \"\",PivotTableB!$A$3,\"SchoolName\",$B65,\"SubsidiaryName\",$C65,\"YearStart\",BA$13)))),\"\")","v":60},{"$f":"IFERROR(IF(BA65=\".\",\".\",IF(BA65=\"n/a\",\"n/a\",\nGETPIVOTDATA(BB$21 & \"\",PivotTableB!$A$3,\"SchoolName\",$B65,\"SubsidiaryName\",$C65,\"YearStart\",BA$13))),\"\")","v":0},{"$f":"IFERROR(IF(BB65=\".\",\".\",IF(BB65=\"n/a\",\"n/a\",\nGETPIVOTDATA(BC$21 & \"\",PivotTableB!$A$3,\"SchoolName\",$B65,\"SubsidiaryName\",$C65,\"YearStart\",BA$13))),\"\")","v":0},{"$f":"IFERROR(IF(BC65=\".\",\".\",IF(BC65=\"n/a\",\"n/a\",\nGETPIVOTDATA(BD$21 & \"\",PivotTableB!$A$3,\"SchoolName\",$B65,\"SubsidiaryName\",$C65,\"YearStart\",BB$13))),\"\")","v":""},60,{"$f":"IFERROR(IF(BE65=\".\",\".\",IF(BE65=\"n/a\",\"n/a\",\nGETPIVOTDATA(BF$21 & \"\",PivotTableB!$A$3,\"SchoolName\",$B65,\"SubsidiaryName\",$C65,\"YearStart\",BA$13))),\"\")","v":0},{"$f":"IFERROR(IF(BF65=\".\",\".\",IF(BF65=\"n/a\",\"n/a\",\nGETPIVOTDATA(BG$21 & \"\",PivotTableB!$A$3,\"SchoolName\",$B65,\"SubsidiaryName\",$C65,\"YearStart\",BA$13))),\"\")","v":420},{"$f":"IFERROR(IF($B65=\"\",\"\",\nIF(OR($L65=\"Nursery School\",$L65=\"All-through PRU\",$M65=\"True\"),\"n/a\",\nIF(GETPIVOTDATA(BH$21 & \"\",PivotTableB!$A$3,\"SchoolName\",$B65,\"SubsidiaryName\",$C65,\"YearStart\",BH$13)=\"\",\".\",\nGETPIVOTDATA(BH$21 & \"\",PivotTableB!$A$3,\"SchoolName\",$B65,\"SubsidiaryName\",$C65,\"YearStart\",BH$13)))),\"\")","v":60},{"$f":"IFERROR(IF(BH65=\".\",\".\",IF(BH65=\"n/a\",\"n/a\",\nGETPIVOTDATA(BI$21 & \"\",PivotTableB!$A$3,\"SchoolName\",$B65,\"SubsidiaryName\",$C65,\"YearStart\",BH$13))),\"\")","v":0},{"$f":"IFERROR(IF(BI65=\".\",\".\",IF(BI65=\"n/a\",\"n/a\",\nGETPIVOTDATA(BJ$21 & \"\",PivotTableB!$A$3,\"SchoolName\",$B65,\"SubsidiaryName\",$C65,\"YearStart\",BH$13))),\"\")","v":0},{"$f":"IFERROR(IF(BJ65=\".\",\".\",IF(BJ65=\"n/a\",\"n/a\",\nGETPIVOTDATA(BK$21 & \"\",PivotTableB!$A$3,\"SchoolName\",$B65,\"SubsidiaryName\",$C65,\"YearStart\",BH$13))),\"\")","v":0},60,{"$f":"IFERROR(IF(BL65=\".\",\".\",IF(BL65=\"n/a\",\"n/a\",\nGETPIVOTDATA(BM$21 & \"\",PivotTableB!$A$3,\"SchoolName\",$B65,\"SubsidiaryName\",$C65,\"YearStart\",BH$13))),\"\")","v":0},{"$f":"IFERROR(IF(BM65=\".\",\".\",IF(BM65=\"n/a\",\"n/a\",\nGETPIVOTDATA(BN$21 & \"\",PivotTableB!$A$3,\"SchoolName\",$B65,\"SubsidiaryName\",$C65,\"YearStart\",BH$13))),\"\")","v":420},{"$f":"IFERROR(IF($B65=\"\",\"\",\nIF(OR($L65=\"Nursery School\",$L65=\"All-through PRU\",$M65=\"True\"),\"n/a\",\nIF(GETPIVOTDATA(BO$21 & \"\",PivotTableB!$A$3,\"SchoolName\",$B65,\"SubsidiaryName\",$C65,\"YearStart\",BO$13)=\"\",\".\",\nGETPIVOTDATA(BO$21 & \"\",PivotTableB!$A$3,\"SchoolName\",$B65,\"SubsidiaryName\",$C65,\"YearStart\",BO$13)))),\"\")","v":60},{"$f":"IFERROR(IF(BO65=\".\",\".\",IF(BO65=\"n/a\",\"n/a\",\nGETPIVOTDATA(BP$21 & \"\",PivotTableB!$A$3,\"SchoolName\",$B65,\"SubsidiaryName\",$C65,\"YearStart\",BO$13))),\"\")","v":0},{"$f":"IFERROR(IF(BP65=\".\",\".\",IF(BP65=\"n/a\",\"n/a\",\nGETPIVOTDATA(BQ$21 & \"\",PivotTableB!$A$3,\"SchoolName\",$B65,\"SubsidiaryName\",$C65,\"YearStart\",BO$13))),\"\")","v":0},{"$f":"IFERROR(IF(BQ65=\".\",\".\",IF(BQ65=\"n/a\",\"n/a\",\nGETPIVOTDATA(BR$21 & \"\",PivotTableB!$A$3,\"SchoolName\",$B65,\"SubsidiaryName\",$C65,\"YearStart\",BP$13))),\"\")","v":""},60,{"$f":"IFERROR(IF(BS65=\".\",\".\",IF(BS65=\"n/a\",\"n/a\",\nGETPIVOTDATA(BT$21 & \"\",PivotTableB!$A$3,\"SchoolName\",$B65,\"SubsidiaryName\",$C65,\"YearStart\",BO$13))),\"\")","v":0},{"$f":"IFERROR(IF(BT65=\".\",\".\",IF(BT65=\"n/a\",\"n/a\",\nGETPIVOTDATA(BU$21 & \"\",PivotTableB!$A$3,\"SchoolName\",$B65,\"SubsidiaryName\",$C65,\"YearStart\",BO$13))),\"\")","v":420},{"$f":"IFERROR(IF($B65=\"\",\"\",\nIF(OR($L65=\"Nursery School\",$L65=\"All-through PRU\",$M65=\"True\"),\"n/a\",\nIF(GETPIVOTDATA(BV$21 & \"\",PivotTableB!$A$3,\"SchoolName\",$B65,\"SubsidiaryName\",$C65,\"YearStart\",BV$13)=\"\",\".\",\nGETPIVOTDATA(BV$21 & \"\",PivotTableB!$A$3,\"SchoolName\",$B65,\"SubsidiaryName\",$C65,\"YearStart\",BV$13)))),\"\")","v":60},{"$f":"IFERROR(IF(BV65=\".\",\".\",IF(BV65=\"n/a\",\"n/a\",\nGETPIVOTDATA(BW$21 & \"\",PivotTableB!$A$3,\"SchoolName\",$B65,\"SubsidiaryName\",$C65,\"YearStart\",BV$13))),\"\")","v":0},{"$f":"IFERROR(IF(BW65=\".\",\".\",IF(BW65=\"n/a\",\"n/a\",\nGETPIVOTDATA(BX$21 & \"\",PivotTableB!$A$3,\"SchoolName\",$B65,\"SubsidiaryName\",$C65,\"YearStart\",BV$13))),\"\")","v":0},{"$f":"IFERROR(IF(BX65=\".\",\".\",IF(BX65=\"n/a\",\"n/a\",\nGETPIVOTDATA(BY$21 & \"\",PivotTableB!$A$3,\"SchoolName\",$B65,\"SubsidiaryName\",$C65,\"YearStart\",BV$13))),\"\")","v":0},60,{"$f":"IFERROR(IF(BZ65=\".\",\".\",IF(BZ65=\"n/a\",\"n/a\",\nGETPIVOTDATA(CA$21 & \"\",PivotTableB!$A$3,\"SchoolName\",$B65,\"SubsidiaryName\",$C65,\"YearStart\",BV$13))),\"\")","v":0},{"$f":"IFERROR(IF(CA65=\".\",\".\",IF(CA65=\"n/a\",\"n/a\",\nGETPIVOTDATA(CB$21 & \"\",PivotTableB!$A$3,\"SchoolName\",$B65,\"SubsidiaryName\",$C65,\"YearStart\",BV$13))),\"\")","v":420}]
[null,{"$f":"IF(PivotTableA!A53=\"\",\"n/a\",PivotTableA!A53)","v":"RISE Alternative Learning Provision"},{"$f":"IF(B66=\"n/a\",\"\",PivotTableA!B53)","v":"RISE Alternative Learning Provision"},{"$f":"IF($B66=\"n/a\",\"\",PivotTableA!C53)","v":"R"},{"$f":"IF($B66=\"n/a\",\"\",PivotTableA!D53)","v":"Maidenhead"},{"$f":"IF($B66=\"n/a\",\"\",PivotTableA!E53)","v":"South East Maidenhead"},{"$f":"IF($B66=\"n/a\",\"\",PivotTableA!F53)","v":"Central"},{"$f":"IF($B66=\"n/a\",\"\",PivotTableA!G53)","v":"Oldfield"},{"$f":"IF($B66=\"n/a\",\"\",PivotTableA!H53)","v":"None"},{"$f":"IF($B66=\"n/a\",\"\",PivotTableA!I53)","v":"All-through"},{"$f":"IF($B66=\"n/a\",\"\",PivotTableA!J53)","v":"NA"},{"$f":"IF($B66=\"n/a\",\"\",PivotTableA!K53)","v":"All-through PRU"},{"$f":"IF($B66=\"n/a\",\"\",PivotTableA!O53)","v":"FALSE"},{"$f":"IF($B66=\"n/a\",\"\",PivotTableA!L53)","v":"Community"},{"$f":"IF($B66=\"n/a\",\"\",PivotTableA!M53)","v":" "},{"$f":"IF($B66=\"n/a\",\"\",PivotTableA!N53)","v":"None"},{"$f":"IFERROR(IF($B66=\"\",\"\",\nIF(OR($L66=\"Nursery School\",$L66=\"All-through PRU\",$M66=\"True\"),\"n/a\",\nIF(GETPIVOTDATA(Q$21 & \"\",PivotTableB!$A$3,\"SchoolName\",$B66,\"SubsidiaryName\",$C66,\"YearStart\",Q$13)=\"\",\".\",\nGETPIVOTDATA(Q$21 & \"\",PivotTableB!$A$3,\"SchoolName\",$B66,\"SubsidiaryName\",$C66,\"YearStart\",Q$13)))),\"\")","v":"n/a"},{"$f":"IFERROR(IF(Q66=\".\",\".\",IF(Q66=\"n/a\",\"n/a\",\nGETPIVOTDATA(R$21 & \"\",PivotTableB!$A$3,\"SchoolName\",$B66,\"SubsidiaryName\",$C66,\"YearStart\",Q$13))),\"\")","v":"n/a"},{"$f":"IFERROR(IF(R66=\".\",\".\",IF(R66=\"n/a\",\"n/a\",\nGETPIVOTDATA(S$21 & \"\",PivotTableB!$A$3,\"SchoolName\",$B66,\"SubsidiaryName\",$C66,\"YearStart\",Q$13))),\"\")","v":"n/a"},"n/a",{"$f":"IFERROR(IF(T66=\".\",\".\",IF(T66=\"n/a\",\"n/a\",\nGETPIVOTDATA(U$21 & \"\",PivotTableB!$A$3,\"SchoolName\",$B66,\"SubsidiaryName\",$C66,\"YearStart\",Q$13))),\"\")","v":"n/a"},{"$f":"IFERROR(IF(U66=\".\",\".\",IF(U66=\"n/a\",\"n/a\",\nGETPIVOTDATA(V$21 & \"\",PivotTableB!$A$3,\"SchoolName\",$B66,\"SubsidiaryName\",$C66,\"YearStart\",Q$13))),\"\")","v":"n/a"},{"$f":"IFERROR(IF($B66=\"\",\"\",\nIF(OR($L66=\"Nursery School\",$L66=\"All-through PRU\",$M66=\"True\"),\"n/a\",\nIF(GETPIVOTDATA(W$21 & \"\",PivotTableB!$A$3,\"SchoolName\",$B66,\"SubsidiaryName\",$C66,\"YearStart\",W$13)=\"\",\".\",\nGETPIVOTDATA(W$21 & \"\",PivotTableB!$A$3,\"SchoolName\",$B66,\"SubsidiaryName\",$C66,\"YearStart\",W$13)))),\"\")","v":"n/a"},{"$f":"IFERROR(IF(W66=\".\",\".\",IF(W66=\"n/a\",\"n/a\",\nGETPIVOTDATA(X$21 & \"\",PivotTableB!$A$3,\"SchoolName\",$B66,\"SubsidiaryName\",$C66,\"YearStart\",W$13))),\"\")","v":"n/a"},{"$f":"IFERROR(IF(X66=\".\",\".\",IF(X66=\"n/a\",\"n/a\",\nGETPIVOTDATA(Y$21 & \"\",PivotTableB!$A$3,\"SchoolName\",$B66,\"SubsidiaryName\",$C66,\"YearStart\",W$13))),\"\")","v":"n/a"},"n/a",{"$f":"IFERROR(IF(Z66=\".\",\".\",IF(Z66=\"n/a\",\"n/a\",\nGETPIVOTDATA(AA$21 & \"\",PivotTableB!$A$3,\"SchoolName\",$B66,\"SubsidiaryName\",$C66,\"YearStart\",W$13))),\"\")","v":"n/a"},{"$f":"IFERROR(IF(AA66=\".\",\".\",IF(AA66=\"n/a\",\"n/a\",\nGETPIVOTDATA(AB$21 & \"\",PivotTableB!$A$3,\"SchoolName\",$B66,\"SubsidiaryName\",$C66,\"YearStart\",W$13))),\"\")","v":"n/a"},{"$f":"IFERROR(IF($B66=\"\",\"\",\nIF(OR($L66=\"Nursery School\",$L66=\"All-through PRU\",$M66=\"True\"),\"n/a\",\nIF(GETPIVOTDATA(AC$21 & \"\",PivotTableB!$A$3,\"SchoolName\",$B66,\"SubsidiaryName\",$C66,\"YearStart\",AC$13)=\"\",\".\",\nGETPIVOTDATA(AC$21 & \"\",PivotTableB!$A$3,\"SchoolName\",$B66,\"SubsidiaryName\",$C66,\"YearStart\",AC$13)))),\"\")","v":"n/a"},{"$f":"IFERROR(IF(AC66=\".\",\".\",IF(AC66=\"n/a\",\"n/a\",\nGETPIVOTDATA(AD$21 & \"\",PivotTableB!$A$3,\"SchoolName\",$B66,\"SubsidiaryName\",$C66,\"YearStart\",AC$13))),\"\")","v":"n/a"},{"$f":"IFERROR(IF(AD66=\".\",\".\",IF(AD66=\"n/a\",\"n/a\",\nGETPIVOTDATA(AE$21 & \"\",PivotTableB!$A$3,\"SchoolName\",$B66,\"SubsidiaryName\",$C66,\"YearStart\",AC$13))),\"\")","v":"n/a"},"n/a",{"$f":"IFERROR(IF(AF66=\".\",\".\",IF(AF66=\"n/a\",\"n/a\",\nGETPIVOTDATA(AG$21 & \"\",PivotTableB!$A$3,\"SchoolName\",$B66,\"SubsidiaryName\",$C66,\"YearStart\",AC$13))),\"\")","v":"n/a"},{"$f":"IFERROR(IF(AG66=\".\",\".\",IF(AG66=\"n/a\",\"n/a\",\nGETPIVOTDATA(AH$21 & \"\",PivotTableB!$A$3,\"SchoolName\",$B66,\"SubsidiaryName\",$C66,\"YearStart\",AC$13))),\"\")","v":"n/a"},{"$f":"IFERROR(IF($B66=\"\",\"\",\nIF(OR($L66=\"Nursery School\",$L66=\"All-through PRU\",$M66=\"True\"),\"n/a\",\nIF(GETPIVOTDATA(AI$21 & \"\",PivotTableB!$A$3,\"SchoolName\",$B66,\"SubsidiaryName\",$C66,\"YearStart\",AI$13)=\"\",\".\",\nGETPIVOTDATA(AI$21 & \"\",PivotTableB!$A$3,\"SchoolName\",$B66,\"SubsidiaryName\",$C66,\"YearStart\",AI$13)))),\"\")","v":"n/a"},{"$f":"IFERROR(IF(AI66=\".\",\".\",IF(AI66=\"n/a\",\"n/a\",\nGETPIVOTDATA(AJ$21 & \"\",PivotTableB!$A$3,\"SchoolName\",$B66,\"SubsidiaryName\",$C66,\"YearStart\",AI$13))),\"\")","v":"n/a"},{"$f":"IFERROR(IF(AJ66=\".\",\".\",IF(AJ66=\"n/a\",\"n/a\",\nGETPIVOTDATA(AK$21 & \"\",PivotTableB!$A$3,\"SchoolName\",$B66,\"SubsidiaryName\",$C66,\"YearStart\",AI$13))),\"\")","v":"n/a"},"n/a",{"$f":"IFERROR(IF(AL66=\".\",\".\",IF(AL66=\"n/a\",\"n/a\",\nGETPIVOTDATA(AM$21 & \"\",PivotTableB!$A$3,\"SchoolName\",$B66,\"SubsidiaryName\",$C66,\"YearStart\",AI$13))),\"\")","v":"n/a"},{"$f":"IFERROR(IF(AM66=\".\",\".\",IF(AM66=\"n/a\",\"n/a\",\nGETPIVOTDATA(AN$21 & \"\",PivotTableB!$A$3,\"SchoolName\",$B66,\"SubsidiaryName\",$C66,\"YearStart\",AI$13))),\"\")","v":"n/a"},{"$f":"IFERROR(IF($B66=\"\",\"\",\nIF(OR($L66=\"Nursery School\",$L66=\"All-through PRU\",$M66=\"True\"),\"n/a\",\nIF(GETPIVOTDATA(AO$21 & \"\",PivotTableB!$A$3,\"SchoolName\",$B66,\"SubsidiaryName\",$C66,\"YearStart\",AO$13)=\"\",\".\",\nGETPIVOTDATA(AO$21 & \"\",PivotTableB!$A$3,\"SchoolName\",$B66,\"SubsidiaryName\",$C66,\"YearStart\",AO$13)))),\"\")","v":"n/a"},{"$f":"IFERROR(IF(AO66=\".\",\".\",IF(AO66=\"n/a\",\"n/a\",\nGETPIVOTDATA(AP$21 & \"\",PivotTableB!$A$3,\"SchoolName\",$B66,\"SubsidiaryName\",$C66,\"YearStart\",AO$13))),\"\")","v":"n/a"},{"$f":"IFERROR(IF(AP66=\".\",\".\",IF(AP66=\"n/a\",\"n/a\",\nGETPIVOTDATA(AQ$21 & \"\",PivotTableB!$A$3,\"SchoolName\",$B66,\"SubsidiaryName\",$C66,\"YearStart\",AO$13))),\"\")","v":"n/a"},"n/a",{"$f":"IFERROR(IF(AR66=\".\",\".\",IF(AR66=\"n/a\",\"n/a\",\nGETPIVOTDATA(AS$21 & \"\",PivotTableB!$A$3,\"SchoolName\",$B66,\"SubsidiaryName\",$C66,\"YearStart\",AO$13))),\"\")","v":"n/a"},{"$f":"IFERROR(IF(AS66=\".\",\".\",IF(AS66=\"n/a\",\"n/a\",\nGETPIVOTDATA(AT$21 & \"\",PivotTableB!$A$3,\"SchoolName\",$B66,\"SubsidiaryName\",$C66,\"YearStart\",AO$13))),\"\")","v":"n/a"},{"$f":"IFERROR(IF($B66=\"\",\"\",\nIF(OR($L66=\"Nursery School\",$L66=\"All-through PRU\",$M66=\"True\"),\"n/a\",\nIF(GETPIVOTDATA(AU$21 & \"\",PivotTableB!$A$3,\"SchoolName\",$B66,\"SubsidiaryName\",$C66,\"YearStart\",AU$13)=\"\",\".\",\nGETPIVOTDATA(AU$21 & \"\",PivotTableB!$A$3,\"SchoolName\",$B66,\"SubsidiaryName\",$C66,\"YearStart\",AU$13)))),\"\")","v":"n/a"},{"$f":"IFERROR(IF(AU66=\".\",\".\",IF(AU66=\"n/a\",\"n/a\",\nGETPIVOTDATA(AV$21 & \"\",PivotTableB!$A$3,\"SchoolName\",$B66,\"SubsidiaryName\",$C66,\"YearStart\",AU$13))),\"\")","v":"n/a"},{"$f":"IFERROR(IF(AV66=\".\",\".\",IF(AV66=\"n/a\",\"n/a\",\nGETPIVOTDATA(AW$21 & \"\",PivotTableB!$A$3,\"SchoolName\",$B66,\"SubsidiaryName\",$C66,\"YearStart\",AU$13))),\"\")","v":"n/a"},"n/a",{"$f":"IFERROR(IF(AX66=\".\",\".\",IF(AX66=\"n/a\",\"n/a\",\nGETPIVOTDATA(AY$21 & \"\",PivotTableB!$A$3,\"SchoolName\",$B66,\"SubsidiaryName\",$C66,\"YearStart\",AU$13))),\"\")","v":"n/a"},{"$f":"IFERROR(IF(AY66=\".\",\".\",IF(AY66=\"n/a\",\"n/a\",\nGETPIVOTDATA(AZ$21 & \"\",PivotTableB!$A$3,\"SchoolName\",$B66,\"SubsidiaryName\",$C66,\"YearStart\",AU$13))),\"\")","v":"n/a"},{"$f":"IFERROR(IF($B66=\"\",\"\",\nIF(OR($L66=\"Nursery School\",$L66=\"All-through PRU\",$M66=\"True\"),\"n/a\",\nIF(GETPIVOTDATA(BA$21 & \"\",PivotTableB!$A$3,\"SchoolName\",$B66,\"SubsidiaryName\",$C66,\"YearStart\",BA$13)=\"\",\".\",\nGETPIVOTDATA(BA$21 & \"\",PivotTableB!$A$3,\"SchoolName\",$B66,\"SubsidiaryName\",$C66,\"YearStart\",BA$13)))),\"\")","v":"n/a"},{"$f":"IFERROR(IF(BA66=\".\",\".\",IF(BA66=\"n/a\",\"n/a\",\nGETPIVOTDATA(BB$21 & \"\",PivotTableB!$A$3,\"SchoolName\",$B66,\"SubsidiaryName\",$C66,\"YearStart\",BA$13))),\"\")","v":"n/a"},{"$f":"IFERROR(IF(BB66=\".\",\".\",IF(BB66=\"n/a\",\"n/a\",\nGETPIVOTDATA(BC$21 & \"\",PivotTableB!$A$3,\"SchoolName\",$B66,\"SubsidiaryName\",$C66,\"YearStart\",BA$13))),\"\")","v":"n/a"},{"$f":"IFERROR(IF(BC66=\".\",\".\",IF(BC66=\"n/a\",\"n/a\",\nGETPIVOTDATA(BD$21 & \"\",PivotTableB!$A$3,\"SchoolName\",$B66,\"SubsidiaryName\",$C66,\"YearStart\",BB$13))),\"\")","v":"n/a"},"n/a",{"$f":"IFERROR(IF(BE66=\".\",\".\",IF(BE66=\"n/a\",\"n/a\",\nGETPIVOTDATA(BF$21 & \"\",PivotTableB!$A$3,\"SchoolName\",$B66,\"SubsidiaryName\",$C66,\"YearStart\",BA$13))),\"\")","v":"n/a"},{"$f":"IFERROR(IF(BF66=\".\",\".\",IF(BF66=\"n/a\",\"n/a\",\nGETPIVOTDATA(BG$21 & \"\",PivotTableB!$A$3,\"SchoolName\",$B66,\"SubsidiaryName\",$C66,\"YearStart\",BA$13))),\"\")","v":"n/a"},{"$f":"IFERROR(IF($B66=\"\",\"\",\nIF(OR($L66=\"Nursery School\",$L66=\"All-through PRU\",$M66=\"True\"),\"n/a\",\nIF(GETPIVOTDATA(BH$21 & \"\",PivotTableB!$A$3,\"SchoolName\",$B66,\"SubsidiaryName\",$C66,\"YearStart\",BH$13)=\"\",\".\",\nGETPIVOTDATA(BH$21 & \"\",PivotTableB!$A$3,\"SchoolName\",$B66,\"SubsidiaryName\",$C66,\"YearStart\",BH$13)))),\"\")","v":"n/a"},{"$f":"IFERROR(IF(BH66=\".\",\".\",IF(BH66=\"n/a\",\"n/a\",\nGETPIVOTDATA(BI$21 & \"\",PivotTableB!$A$3,\"SchoolName\",$B66,\"SubsidiaryName\",$C66,\"YearStart\",BH$13))),\"\")","v":"n/a"},{"$f":"IFERROR(IF(BI66=\".\",\".\",IF(BI66=\"n/a\",\"n/a\",\nGETPIVOTDATA(BJ$21 & \"\",PivotTableB!$A$3,\"SchoolName\",$B66,\"SubsidiaryName\",$C66,\"YearStart\",BH$13))),\"\")","v":"n/a"},{"$f":"IFERROR(IF(BJ66=\".\",\".\",IF(BJ66=\"n/a\",\"n/a\",\nGETPIVOTDATA(BK$21 & \"\",PivotTableB!$A$3,\"SchoolName\",$B66,\"SubsidiaryName\",$C66,\"YearStart\",BH$13))),\"\")","v":"n/a"},"n/a",{"$f":"IFERROR(IF(BL66=\".\",\".\",IF(BL66=\"n/a\",\"n/a\",\nGETPIVOTDATA(BM$21 & \"\",PivotTableB!$A$3,\"SchoolName\",$B66,\"SubsidiaryName\",$C66,\"YearStart\",BH$13))),\"\")","v":"n/a"},{"$f":"IFERROR(IF(BM66=\".\",\".\",IF(BM66=\"n/a\",\"n/a\",\nGETPIVOTDATA(BN$21 & \"\",PivotTableB!$A$3,\"SchoolName\",$B66,\"SubsidiaryName\",$C66,\"YearStart\",BH$13))),\"\")","v":"n/a"},{"$f":"IFERROR(IF($B66=\"\",\"\",\nIF(OR($L66=\"Nursery School\",$L66=\"All-through PRU\",$M66=\"True\"),\"n/a\",\nIF(GETPIVOTDATA(BO$21 & \"\",PivotTableB!$A$3,\"SchoolName\",$B66,\"SubsidiaryName\",$C66,\"YearStart\",BO$13)=\"\",\".\",\nGETPIVOTDATA(BO$21 & \"\",PivotTableB!$A$3,\"SchoolName\",$B66,\"SubsidiaryName\",$C66,\"YearStart\",BO$13)))),\"\")","v":"n/a"},{"$f":"IFERROR(IF(BO66=\".\",\".\",IF(BO66=\"n/a\",\"n/a\",\nGETPIVOTDATA(BP$21 & \"\",PivotTableB!$A$3,\"SchoolName\",$B66,\"SubsidiaryName\",$C66,\"YearStart\",BO$13))),\"\")","v":"n/a"},{"$f":"IFERROR(IF(BP66=\".\",\".\",IF(BP66=\"n/a\",\"n/a\",\nGETPIVOTDATA(BQ$21 & \"\",PivotTableB!$A$3,\"SchoolName\",$B66,\"SubsidiaryName\",$C66,\"YearStart\",BO$13))),\"\")","v":"n/a"},{"$f":"IFERROR(IF(BQ66=\".\",\".\",IF(BQ66=\"n/a\",\"n/a\",\nGETPIVOTDATA(BR$21 & \"\",PivotTableB!$A$3,\"SchoolName\",$B66,\"SubsidiaryName\",$C66,\"YearStart\",BP$13))),\"\")","v":"n/a"},"n/a",{"$f":"IFERROR(IF(BS66=\".\",\".\",IF(BS66=\"n/a\",\"n/a\",\nGETPIVOTDATA(BT$21 & \"\",PivotTableB!$A$3,\"SchoolName\",$B66,\"SubsidiaryName\",$C66,\"YearStart\",BO$13))),\"\")","v":"n/a"},{"$f":"IFERROR(IF(BT66=\".\",\".\",IF(BT66=\"n/a\",\"n/a\",\nGETPIVOTDATA(BU$21 & \"\",PivotTableB!$A$3,\"SchoolName\",$B66,\"SubsidiaryName\",$C66,\"YearStart\",BO$13))),\"\")","v":"n/a"},{"$f":"IFERROR(IF($B66=\"\",\"\",\nIF(OR($L66=\"Nursery School\",$L66=\"All-through PRU\",$M66=\"True\"),\"n/a\",\nIF(GETPIVOTDATA(BV$21 & \"\",PivotTableB!$A$3,\"SchoolName\",$B66,\"SubsidiaryName\",$C66,\"YearStart\",BV$13)=\"\",\".\",\nGETPIVOTDATA(BV$21 & \"\",PivotTableB!$A$3,\"SchoolName\",$B66,\"SubsidiaryName\",$C66,\"YearStart\",BV$13)))),\"\")","v":"n/a"},{"$f":"IFERROR(IF(BV66=\".\",\".\",IF(BV66=\"n/a\",\"n/a\",\nGETPIVOTDATA(BW$21 & \"\",PivotTableB!$A$3,\"SchoolName\",$B66,\"SubsidiaryName\",$C66,\"YearStart\",BV$13))),\"\")","v":"n/a"},{"$f":"IFERROR(IF(BW66=\".\",\".\",IF(BW66=\"n/a\",\"n/a\",\nGETPIVOTDATA(BX$21 & \"\",PivotTableB!$A$3,\"SchoolName\",$B66,\"SubsidiaryName\",$C66,\"YearStart\",BV$13))),\"\")","v":"n/a"},{"$f":"IFERROR(IF(BX66=\".\",\".\",IF(BX66=\"n/a\",\"n/a\",\nGETPIVOTDATA(BY$21 & \"\",PivotTableB!$A$3,\"SchoolName\",$B66,\"SubsidiaryName\",$C66,\"YearStart\",BV$13))),\"\")","v":"n/a"},"n/a",{"$f":"IFERROR(IF(BZ66=\".\",\".\",IF(BZ66=\"n/a\",\"n/a\",\nGETPIVOTDATA(CA$21 & \"\",PivotTableB!$A$3,\"SchoolName\",$B66,\"SubsidiaryName\",$C66,\"YearStart\",BV$13))),\"\")","v":"n/a"},{"$f":"IFERROR(IF(CA66=\".\",\".\",IF(CA66=\"n/a\",\"n/a\",\nGETPIVOTDATA(CB$21 & \"\",PivotTableB!$A$3,\"SchoolName\",$B66,\"SubsidiaryName\",$C66,\"YearStart\",BV$13))),\"\")","v":"n/a"}]
[null,{"$f":"IF(PivotTableA!A54=\"\",\"n/a\",PivotTableA!A54)","v":"Riverside Primary School and Nursery"},{"$f":"IF(B67=\"n/a\",\"\",PivotTableA!B54)","v":"Riverside Primary School and Nursery"},{"$f":"IF($B67=\"n/a\",\"\",PivotTableA!C54)","v":"R"},{"$f":"IF($B67=\"n/a\",\"\",PivotTableA!D54)","v":"Maidenhead"},{"$f":"IF($B67=\"n/a\",\"\",PivotTableA!E54)","v":"North East Maidenhead"},{"$f":"IF($B67=\"n/a\",\"\",PivotTableA!F54)","v":"North Town"},{"$f":"IF($B67=\"n/a\",\"\",PivotTableA!G54)","v":"Maidenhead Riverside"},{"$f":"IF($B67=\"n/a\",\"\",PivotTableA!H54)","v":"None"},{"$f":"IF($B67=\"n/a\",\"\",PivotTableA!I54)","v":"Primary"},{"$f":"IF($B67=\"n/a\",\"\",PivotTableA!J54)","v":"Two Tier"},{"$f":"IF($B67=\"n/a\",\"\",PivotTableA!K54)","v":"JMI"},{"$f":"IF($B67=\"n/a\",\"\",PivotTableA!O54)","v":"FALSE"},{"$f":"IF($B67=\"n/a\",\"\",PivotTableA!L54)","v":"Community"},{"$f":"IF($B67=\"n/a\",\"\",PivotTableA!M54)","v":" "},{"$f":"IF($B67=\"n/a\",\"\",PivotTableA!N54)","v":"None"},{"$f":"IFERROR(IF($B67=\"\",\"\",\nIF(OR($L67=\"Nursery School\",$L67=\"All-through PRU\",$M67=\"True\"),\"n/a\",\nIF(GETPIVOTDATA(Q$21 & \"\",PivotTableB!$A$3,\"SchoolName\",$B67,\"SubsidiaryName\",$C67,\"YearStart\",Q$13)=\"\",\".\",\nGETPIVOTDATA(Q$21 & \"\",PivotTableB!$A$3,\"SchoolName\",$B67,\"SubsidiaryName\",$C67,\"YearStart\",Q$13)))),\"\")","v":30},{"$f":"IFERROR(IF(Q67=\".\",\".\",IF(Q67=\"n/a\",\"n/a\",\nGETPIVOTDATA(R$21 & \"\",PivotTableB!$A$3,\"SchoolName\",$B67,\"SubsidiaryName\",$C67,\"YearStart\",Q$13))),\"\")","v":0},{"$f":"IFERROR(IF(R67=\".\",\".\",IF(R67=\"n/a\",\"n/a\",\nGETPIVOTDATA(S$21 & \"\",PivotTableB!$A$3,\"SchoolName\",$B67,\"SubsidiaryName\",$C67,\"YearStart\",Q$13))),\"\")","v":0},30,{"$f":"IFERROR(IF(T67=\".\",\".\",IF(T67=\"n/a\",\"n/a\",\nGETPIVOTDATA(U$21 & \"\",PivotTableB!$A$3,\"SchoolName\",$B67,\"SubsidiaryName\",$C67,\"YearStart\",Q$13))),\"\")","v":0},{"$f":"IFERROR(IF(U67=\".\",\".\",IF(U67=\"n/a\",\"n/a\",\nGETPIVOTDATA(V$21 & \"\",PivotTableB!$A$3,\"SchoolName\",$B67,\"SubsidiaryName\",$C67,\"YearStart\",Q$13))),\"\")","v":239},{"$f":"IFERROR(IF($B67=\"\",\"\",\nIF(OR($L67=\"Nursery School\",$L67=\"All-through PRU\",$M67=\"True\"),\"n/a\",\nIF(GETPIVOTDATA(W$21 & \"\",PivotTableB!$A$3,\"SchoolName\",$B67,\"SubsidiaryName\",$C67,\"YearStart\",W$13)=\"\",\".\",\nGETPIVOTDATA(W$21 & \"\",PivotTableB!$A$3,\"SchoolName\",$B67,\"SubsidiaryName\",$C67,\"YearStart\",W$13)))),\"\")","v":60},{"$f":"IFERROR(IF(W67=\".\",\".\",IF(W67=\"n/a\",\"n/a\",\nGETPIVOTDATA(X$21 & \"\",PivotTableB!$A$3,\"SchoolName\",$B67,\"SubsidiaryName\",$C67,\"YearStart\",W$13))),\"\")","v":0},{"$f":"IFERROR(IF(X67=\".\",\".\",IF(X67=\"n/a\",\"n/a\",\nGETPIVOTDATA(Y$21 & \"\",PivotTableB!$A$3,\"SchoolName\",$B67,\"SubsidiaryName\",$C67,\"YearStart\",W$13))),\"\")","v":0},60,{"$f":"IFERROR(IF(Z67=\".\",\".\",IF(Z67=\"n/a\",\"n/a\",\nGETPIVOTDATA(AA$21 & \"\",PivotTableB!$A$3,\"SchoolName\",$B67,\"SubsidiaryName\",$C67,\"YearStart\",W$13))),\"\")","v":0},{"$f":"IFERROR(IF(AA67=\".\",\".\",IF(AA67=\"n/a\",\"n/a\",\nGETPIVOTDATA(AB$21 & \"\",PivotTableB!$A$3,\"SchoolName\",$B67,\"SubsidiaryName\",$C67,\"YearStart\",W$13))),\"\")","v":239},{"$f":"IFERROR(IF($B67=\"\",\"\",\nIF(OR($L67=\"Nursery School\",$L67=\"All-through PRU\",$M67=\"True\"),\"n/a\",\nIF(GETPIVOTDATA(AC$21 & \"\",PivotTableB!$A$3,\"SchoolName\",$B67,\"SubsidiaryName\",$C67,\"YearStart\",AC$13)=\"\",\".\",\nGETPIVOTDATA(AC$21 & \"\",PivotTableB!$A$3,\"SchoolName\",$B67,\"SubsidiaryName\",$C67,\"YearStart\",AC$13)))),\"\")","v":60},{"$f":"IFERROR(IF(AC67=\".\",\".\",IF(AC67=\"n/a\",\"n/a\",\nGETPIVOTDATA(AD$21 & \"\",PivotTableB!$A$3,\"SchoolName\",$B67,\"SubsidiaryName\",$C67,\"YearStart\",AC$13))),\"\")","v":0},{"$f":"IFERROR(IF(AD67=\".\",\".\",IF(AD67=\"n/a\",\"n/a\",\nGETPIVOTDATA(AE$21 & \"\",PivotTableB!$A$3,\"SchoolName\",$B67,\"SubsidiaryName\",$C67,\"YearStart\",AC$13))),\"\")","v":0},60,{"$f":"IFERROR(IF(AF67=\".\",\".\",IF(AF67=\"n/a\",\"n/a\",\nGETPIVOTDATA(AG$21 & \"\",PivotTableB!$A$3,\"SchoolName\",$B67,\"SubsidiaryName\",$C67,\"YearStart\",AC$13))),\"\")","v":0},{"$f":"IFERROR(IF(AG67=\".\",\".\",IF(AG67=\"n/a\",\"n/a\",\nGETPIVOTDATA(AH$21 & \"\",PivotTableB!$A$3,\"SchoolName\",$B67,\"SubsidiaryName\",$C67,\"YearStart\",AC$13))),\"\")","v":420},{"$f":"IFERROR(IF($B67=\"\",\"\",\nIF(OR($L67=\"Nursery School\",$L67=\"All-through PRU\",$M67=\"True\"),\"n/a\",\nIF(GETPIVOTDATA(AI$21 & \"\",PivotTableB!$A$3,\"SchoolName\",$B67,\"SubsidiaryName\",$C67,\"YearStart\",AI$13)=\"\",\".\",\nGETPIVOTDATA(AI$21 & \"\",PivotTableB!$A$3,\"SchoolName\",$B67,\"SubsidiaryName\",$C67,\"YearStart\",AI$13)))),\"\")","v":60},{"$f":"IFERROR(IF(AI67=\".\",\".\",IF(AI67=\"n/a\",\"n/a\",\nGETPIVOTDATA(AJ$21 & \"\",PivotTableB!$A$3,\"SchoolName\",$B67,\"SubsidiaryName\",$C67,\"YearStart\",AI$13))),\"\")","v":0},{"$f":"IFERROR(IF(AJ67=\".\",\".\",IF(AJ67=\"n/a\",\"n/a\",\nGETPIVOTDATA(AK$21 & \"\",PivotTableB!$A$3,\"SchoolName\",$B67,\"SubsidiaryName\",$C67,\"YearStart\",AI$13))),\"\")","v":0},60,{"$f":"IFERROR(IF(AL67=\".\",\".\",IF(AL67=\"n/a\",\"n/a\",\nGETPIVOTDATA(AM$21 & \"\",PivotTableB!$A$3,\"SchoolName\",$B67,\"SubsidiaryName\",$C67,\"YearStart\",AI$13))),\"\")","v":0},{"$f":"IFERROR(IF(AM67=\".\",\".\",IF(AM67=\"n/a\",\"n/a\",\nGETPIVOTDATA(AN$21 & \"\",PivotTableB!$A$3,\"SchoolName\",$B67,\"SubsidiaryName\",$C67,\"YearStart\",AI$13))),\"\")","v":300},{"$f":"IFERROR(IF($B67=\"\",\"\",\nIF(OR($L67=\"Nursery School\",$L67=\"All-through PRU\",$M67=\"True\"),\"n/a\",\nIF(GETPIVOTDATA(AO$21 & \"\",PivotTableB!$A$3,\"SchoolName\",$B67,\"SubsidiaryName\",$C67,\"YearStart\",AO$13)=\"\",\".\",\nGETPIVOTDATA(AO$21 & \"\",PivotTableB!$A$3,\"SchoolName\",$B67,\"SubsidiaryName\",$C67,\"YearStart\",AO$13)))),\"\")","v":60},{"$f":"IFERROR(IF(AO67=\".\",\".\",IF(AO67=\"n/a\",\"n/a\",\nGETPIVOTDATA(AP$21 & \"\",PivotTableB!$A$3,\"SchoolName\",$B67,\"SubsidiaryName\",$C67,\"YearStart\",AO$13))),\"\")","v":0},{"$f":"IFERROR(IF(AP67=\".\",\".\",IF(AP67=\"n/a\",\"n/a\",\nGETPIVOTDATA(AQ$21 & \"\",PivotTableB!$A$3,\"SchoolName\",$B67,\"SubsidiaryName\",$C67,\"YearStart\",AO$13))),\"\")","v":0},60,{"$f":"IFERROR(IF(AR67=\".\",\".\",IF(AR67=\"n/a\",\"n/a\",\nGETPIVOTDATA(AS$21 & \"\",PivotTableB!$A$3,\"SchoolName\",$B67,\"SubsidiaryName\",$C67,\"YearStart\",AO$13))),\"\")","v":0},{"$f":"IFERROR(IF(AS67=\".\",\".\",IF(AS67=\"n/a\",\"n/a\",\nGETPIVOTDATA(AT$21 & \"\",PivotTableB!$A$3,\"SchoolName\",$B67,\"SubsidiaryName\",$C67,\"YearStart\",AO$13))),\"\")","v":300},{"$f":"IFERROR(IF($B67=\"\",\"\",\nIF(OR($L67=\"Nursery School\",$L67=\"All-through PRU\",$M67=\"True\"),\"n/a\",\nIF(GETPIVOTDATA(AU$21 & \"\",PivotTableB!$A$3,\"SchoolName\",$B67,\"SubsidiaryName\",$C67,\"YearStart\",AU$13)=\"\",\".\",\nGETPIVOTDATA(AU$21 & \"\",PivotTableB!$A$3,\"SchoolName\",$B67,\"SubsidiaryName\",$C67,\"YearStart\",AU$13)))),\"\")","v":60},{"$f":"IFERROR(IF(AU67=\".\",\".\",IF(AU67=\"n/a\",\"n/a\",\nGETPIVOTDATA(AV$21 & \"\",PivotTableB!$A$3,\"SchoolName\",$B67,\"SubsidiaryName\",$C67,\"YearStart\",AU$13))),\"\")","v":0},{"$f":"IFERROR(IF(AV67=\".\",\".\",IF(AV67=\"n/a\",\"n/a\",\nGETPIVOTDATA(AW$21 & \"\",PivotTableB!$A$3,\"SchoolName\",$B67,\"SubsidiaryName\",$C67,\"YearStart\",AU$13))),\"\")","v":0},60,{"$f":"IFERROR(IF(AX67=\".\",\".\",IF(AX67=\"n/a\",\"n/a\",\nGETPIVOTDATA(AY$21 & \"\",PivotTableB!$A$3,\"SchoolName\",$B67,\"SubsidiaryName\",$C67,\"YearStart\",AU$13))),\"\")","v":0},{"$f":"IFERROR(IF(AY67=\".\",\".\",IF(AY67=\"n/a\",\"n/a\",\nGETPIVOTDATA(AZ$21 & \"\",PivotTableB!$A$3,\"SchoolName\",$B67,\"SubsidiaryName\",$C67,\"YearStart\",AU$13))),\"\")","v":420},{"$f":"IFERROR(IF($B67=\"\",\"\",\nIF(OR($L67=\"Nursery School\",$L67=\"All-through PRU\",$M67=\"True\"),\"n/a\",\nIF(GETPIVOTDATA(BA$21 & \"\",PivotTableB!$A$3,\"SchoolName\",$B67,\"SubsidiaryName\",$C67,\"YearStart\",BA$13)=\"\",\".\",\nGETPIVOTDATA(BA$21 & \"\",PivotTableB!$A$3,\"SchoolName\",$B67,\"SubsidiaryName\",$C67,\"YearStart\",BA$13)))),\"\")","v":60},{"$f":"IFERROR(IF(BA67=\".\",\".\",IF(BA67=\"n/a\",\"n/a\",\nGETPIVOTDATA(BB$21 & \"\",PivotTableB!$A$3,\"SchoolName\",$B67,\"SubsidiaryName\",$C67,\"YearStart\",BA$13))),\"\")","v":0},{"$f":"IFERROR(IF(BB67=\".\",\".\",IF(BB67=\"n/a\",\"n/a\",\nGETPIVOTDATA(BC$21 & \"\",PivotTableB!$A$3,\"SchoolName\",$B67,\"SubsidiaryName\",$C67,\"YearStart\",BA$13))),\"\")","v":0},{"$f":"IFERROR(IF(BC67=\".\",\".\",IF(BC67=\"n/a\",\"n/a\",\nGETPIVOTDATA(BD$21 & \"\",PivotTableB!$A$3,\"SchoolName\",$B67,\"SubsidiaryName\",$C67,\"YearStart\",BB$13))),\"\")","v":""},60,{"$f":"IFERROR(IF(BE67=\".\",\".\",IF(BE67=\"n/a\",\"n/a\",\nGETPIVOTDATA(BF$21 & \"\",PivotTableB!$A$3,\"SchoolName\",$B67,\"SubsidiaryName\",$C67,\"YearStart\",BA$13))),\"\")","v":0},{"$f":"IFERROR(IF(BF67=\".\",\".\",IF(BF67=\"n/a\",\"n/a\",\nGETPIVOTDATA(BG$21 & \"\",PivotTableB!$A$3,\"SchoolName\",$B67,\"SubsidiaryName\",$C67,\"YearStart\",BA$13))),\"\")","v":420},{"$f":"IFERROR(IF($B67=\"\",\"\",\nIF(OR($L67=\"Nursery School\",$L67=\"All-through PRU\",$M67=\"True\"),\"n/a\",\nIF(GETPIVOTDATA(BH$21 & \"\",PivotTableB!$A$3,\"SchoolName\",$B67,\"SubsidiaryName\",$C67,\"YearStart\",BH$13)=\"\",\".\",\nGETPIVOTDATA(BH$21 & \"\",PivotTableB!$A$3,\"SchoolName\",$B67,\"SubsidiaryName\",$C67,\"YearStart\",BH$13)))),\"\")","v":60},{"$f":"IFERROR(IF(BH67=\".\",\".\",IF(BH67=\"n/a\",\"n/a\",\nGETPIVOTDATA(BI$21 & \"\",PivotTableB!$A$3,\"SchoolName\",$B67,\"SubsidiaryName\",$C67,\"YearStart\",BH$13))),\"\")","v":0},{"$f":"IFERROR(IF(BI67=\".\",\".\",IF(BI67=\"n/a\",\"n/a\",\nGETPIVOTDATA(BJ$21 & \"\",PivotTableB!$A$3,\"SchoolName\",$B67,\"SubsidiaryName\",$C67,\"YearStart\",BH$13))),\"\")","v":0},{"$f":"IFERROR(IF(BJ67=\".\",\".\",IF(BJ67=\"n/a\",\"n/a\",\nGETPIVOTDATA(BK$21 & \"\",PivotTableB!$A$3,\"SchoolName\",$B67,\"SubsidiaryName\",$C67,\"YearStart\",BH$13))),\"\")","v":0},60,{"$f":"IFERROR(IF(BL67=\".\",\".\",IF(BL67=\"n/a\",\"n/a\",\nGETPIVOTDATA(BM$21 & \"\",PivotTableB!$A$3,\"SchoolName\",$B67,\"SubsidiaryName\",$C67,\"YearStart\",BH$13))),\"\")","v":0},{"$f":"IFERROR(IF(BM67=\".\",\".\",IF(BM67=\"n/a\",\"n/a\",\nGETPIVOTDATA(BN$21 & \"\",PivotTableB!$A$3,\"SchoolName\",$B67,\"SubsidiaryName\",$C67,\"YearStart\",BH$13))),\"\")","v":420},{"$f":"IFERROR(IF($B67=\"\",\"\",\nIF(OR($L67=\"Nursery School\",$L67=\"All-through PRU\",$M67=\"True\"),\"n/a\",\nIF(GETPIVOTDATA(BO$21 & \"\",PivotTableB!$A$3,\"SchoolName\",$B67,\"SubsidiaryName\",$C67,\"YearStart\",BO$13)=\"\",\".\",\nGETPIVOTDATA(BO$21 & \"\",PivotTableB!$A$3,\"SchoolName\",$B67,\"SubsidiaryName\",$C67,\"YearStart\",BO$13)))),\"\")","v":60},{"$f":"IFERROR(IF(BO67=\".\",\".\",IF(BO67=\"n/a\",\"n/a\",\nGETPIVOTDATA(BP$21 & \"\",PivotTableB!$A$3,\"SchoolName\",$B67,\"SubsidiaryName\",$C67,\"YearStart\",BO$13))),\"\")","v":0},{"$f":"IFERROR(IF(BP67=\".\",\".\",IF(BP67=\"n/a\",\"n/a\",\nGETPIVOTDATA(BQ$21 & \"\",PivotTableB!$A$3,\"SchoolName\",$B67,\"SubsidiaryName\",$C67,\"YearStart\",BO$13))),\"\")","v":0},{"$f":"IFERROR(IF(BQ67=\".\",\".\",IF(BQ67=\"n/a\",\"n/a\",\nGETPIVOTDATA(BR$21 & \"\",PivotTableB!$A$3,\"SchoolName\",$B67,\"SubsidiaryName\",$C67,\"YearStart\",BP$13))),\"\")","v":""},60,{"$f":"IFERROR(IF(BS67=\".\",\".\",IF(BS67=\"n/a\",\"n/a\",\nGETPIVOTDATA(BT$21 & \"\",PivotTableB!$A$3,\"SchoolName\",$B67,\"SubsidiaryName\",$C67,\"YearStart\",BO$13))),\"\")","v":0},{"$f":"IFERROR(IF(BT67=\".\",\".\",IF(BT67=\"n/a\",\"n/a\",\nGETPIVOTDATA(BU$21 & \"\",PivotTableB!$A$3,\"SchoolName\",$B67,\"SubsidiaryName\",$C67,\"YearStart\",BO$13))),\"\")","v":420},{"$f":"IFERROR(IF($B67=\"\",\"\",\nIF(OR($L67=\"Nursery School\",$L67=\"All-through PRU\",$M67=\"True\"),\"n/a\",\nIF(GETPIVOTDATA(BV$21 & \"\",PivotTableB!$A$3,\"SchoolName\",$B67,\"SubsidiaryName\",$C67,\"YearStart\",BV$13)=\"\",\".\",\nGETPIVOTDATA(BV$21 & \"\",PivotTableB!$A$3,\"SchoolName\",$B67,\"SubsidiaryName\",$C67,\"YearStart\",BV$13)))),\"\")","v":60},{"$f":"IFERROR(IF(BV67=\".\",\".\",IF(BV67=\"n/a\",\"n/a\",\nGETPIVOTDATA(BW$21 & \"\",PivotTableB!$A$3,\"SchoolName\",$B67,\"SubsidiaryName\",$C67,\"YearStart\",BV$13))),\"\")","v":0},{"$f":"IFERROR(IF(BW67=\".\",\".\",IF(BW67=\"n/a\",\"n/a\",\nGETPIVOTDATA(BX$21 & \"\",PivotTableB!$A$3,\"SchoolName\",$B67,\"SubsidiaryName\",$C67,\"YearStart\",BV$13))),\"\")","v":0},{"$f":"IFERROR(IF(BX67=\".\",\".\",IF(BX67=\"n/a\",\"n/a\",\nGETPIVOTDATA(BY$21 & \"\",PivotTableB!$A$3,\"SchoolName\",$B67,\"SubsidiaryName\",$C67,\"YearStart\",BV$13))),\"\")","v":0},60,{"$f":"IFERROR(IF(BZ67=\".\",\".\",IF(BZ67=\"n/a\",\"n/a\",\nGETPIVOTDATA(CA$21 & \"\",PivotTableB!$A$3,\"SchoolName\",$B67,\"SubsidiaryName\",$C67,\"YearStart\",BV$13))),\"\")","v":0},{"$f":"IFERROR(IF(CA67=\".\",\".\",IF(CA67=\"n/a\",\"n/a\",\nGETPIVOTDATA(CB$21 & \"\",PivotTableB!$A$3,\"SchoolName\",$B67,\"SubsidiaryName\",$C67,\"YearStart\",BV$13))),\"\")","v":420}]
[null,{"$f":"IF(PivotTableA!A55=\"\",\"n/a\",PivotTableA!A55)","v":"South Ascot Village Primary School"},{"$f":"IF(B68=\"n/a\",\"\",PivotTableA!B55)","v":"South Ascot Village Primary School"},{"$f":"IF($B68=\"n/a\",\"\",PivotTableA!C55)","v":"R"},{"$f":"IF($B68=\"n/a\",\"\",PivotTableA!D55)","v":"Ascot"},{"$f":"IF($B68=\"n/a\",\"\",PivotTableA!E55)","v":"Ascot"},{"$f":"IF($B68=\"n/a\",\"\",PivotTableA!F55)","v":"South Ascot"},{"$f":"IF($B68=\"n/a\",\"\",PivotTableA!G55)","v":"Sunninghill & South Ascot"},{"$f":"IF($B68=\"n/a\",\"\",PivotTableA!H55)","v":"Sunninghill & Ascot"},{"$f":"IF($B68=\"n/a\",\"\",PivotTableA!I55)","v":"Primary"},{"$f":"IF($B68=\"n/a\",\"\",PivotTableA!J55)","v":"Two Tier"},{"$f":"IF($B68=\"n/a\",\"\",PivotTableA!K55)","v":"JMI"},{"$f":"IF($B68=\"n/a\",\"\",PivotTableA!O55)","v":"FALSE"},{"$f":"IF($B68=\"n/a\",\"\",PivotTableA!L55)","v":"Community"},{"$f":"IF($B68=\"n/a\",\"\",PivotTableA!M55)","v":" "},{"$f":"IF($B68=\"n/a\",\"\",PivotTableA!N55)","v":"None"},{"$f":"IFERROR(IF($B68=\"\",\"\",\nIF(OR($L68=\"Nursery School\",$L68=\"All-through PRU\",$M68=\"True\"),\"n/a\",\nIF(GETPIVOTDATA(Q$21 & \"\",PivotTableB!$A$3,\"SchoolName\",$B68,\"SubsidiaryName\",$C68,\"YearStart\",Q$13)=\"\",\".\",\nGETPIVOTDATA(Q$21 & \"\",PivotTableB!$A$3,\"SchoolName\",$B68,\"SubsidiaryName\",$C68,\"YearStart\",Q$13)))),\"\")","v":30},{"$f":"IFERROR(IF(Q68=\".\",\".\",IF(Q68=\"n/a\",\"n/a\",\nGETPIVOTDATA(R$21 & \"\",PivotTableB!$A$3,\"SchoolName\",$B68,\"SubsidiaryName\",$C68,\"YearStart\",Q$13))),\"\")","v":0},{"$f":"IFERROR(IF(R68=\".\",\".\",IF(R68=\"n/a\",\"n/a\",\nGETPIVOTDATA(S$21 & \"\",PivotTableB!$A$3,\"SchoolName\",$B68,\"SubsidiaryName\",$C68,\"YearStart\",Q$13))),\"\")","v":0},30,{"$f":"IFERROR(IF(T68=\".\",\".\",IF(T68=\"n/a\",\"n/a\",\nGETPIVOTDATA(U$21 & \"\",PivotTableB!$A$3,\"SchoolName\",$B68,\"SubsidiaryName\",$C68,\"YearStart\",Q$13))),\"\")","v":0},{"$f":"IFERROR(IF(U68=\".\",\".\",IF(U68=\"n/a\",\"n/a\",\nGETPIVOTDATA(V$21 & \"\",PivotTableB!$A$3,\"SchoolName\",$B68,\"SubsidiaryName\",$C68,\"YearStart\",Q$13))),\"\")","v":240},{"$f":"IFERROR(IF($B68=\"\",\"\",\nIF(OR($L68=\"Nursery School\",$L68=\"All-through PRU\",$M68=\"True\"),\"n/a\",\nIF(GETPIVOTDATA(W$21 & \"\",PivotTableB!$A$3,\"SchoolName\",$B68,\"SubsidiaryName\",$C68,\"YearStart\",W$13)=\"\",\".\",\nGETPIVOTDATA(W$21 & \"\",PivotTableB!$A$3,\"SchoolName\",$B68,\"SubsidiaryName\",$C68,\"YearStart\",W$13)))),\"\")","v":30},{"$f":"IFERROR(IF(W68=\".\",\".\",IF(W68=\"n/a\",\"n/a\",\nGETPIVOTDATA(X$21 & \"\",PivotTableB!$A$3,\"SchoolName\",$B68,\"SubsidiaryName\",$C68,\"YearStart\",W$13))),\"\")","v":0},{"$f":"IFERROR(IF(X68=\".\",\".\",IF(X68=\"n/a\",\"n/a\",\nGETPIVOTDATA(Y$21 & \"\",PivotTableB!$A$3,\"SchoolName\",$B68,\"SubsidiaryName\",$C68,\"YearStart\",W$13))),\"\")","v":0},30,{"$f":"IFERROR(IF(Z68=\".\",\".\",IF(Z68=\"n/a\",\"n/a\",\nGETPIVOTDATA(AA$21 & \"\",PivotTableB!$A$3,\"SchoolName\",$B68,\"SubsidiaryName\",$C68,\"YearStart\",W$13))),\"\")","v":0},{"$f":"IFERROR(IF(AA68=\".\",\".\",IF(AA68=\"n/a\",\"n/a\",\nGETPIVOTDATA(AB$21 & \"\",PivotTableB!$A$3,\"SchoolName\",$B68,\"SubsidiaryName\",$C68,\"YearStart\",W$13))),\"\")","v":240},{"$f":"IFERROR(IF($B68=\"\",\"\",\nIF(OR($L68=\"Nursery School\",$L68=\"All-through PRU\",$M68=\"True\"),\"n/a\",\nIF(GETPIVOTDATA(AC$21 & \"\",PivotTableB!$A$3,\"SchoolName\",$B68,\"SubsidiaryName\",$C68,\"YearStart\",AC$13)=\"\",\".\",\nGETPIVOTDATA(AC$21 & \"\",PivotTableB!$A$3,\"SchoolName\",$B68,\"SubsidiaryName\",$C68,\"YearStart\",AC$13)))),\"\")","v":30},{"$f":"IFERROR(IF(AC68=\".\",\".\",IF(AC68=\"n/a\",\"n/a\",\nGETPIVOTDATA(AD$21 & \"\",PivotTableB!$A$3,\"SchoolName\",$B68,\"SubsidiaryName\",$C68,\"YearStart\",AC$13))),\"\")","v":0},{"$f":"IFERROR(IF(AD68=\".\",\".\",IF(AD68=\"n/a\",\"n/a\",\nGETPIVOTDATA(AE$21 & \"\",PivotTableB!$A$3,\"SchoolName\",$B68,\"SubsidiaryName\",$C68,\"YearStart\",AC$13))),\"\")","v":0},30,{"$f":"IFERROR(IF(AF68=\".\",\".\",IF(AF68=\"n/a\",\"n/a\",\nGETPIVOTDATA(AG$21 & \"\",PivotTableB!$A$3,\"SchoolName\",$B68,\"SubsidiaryName\",$C68,\"YearStart\",AC$13))),\"\")","v":0},{"$f":"IFERROR(IF(AG68=\".\",\".\",IF(AG68=\"n/a\",\"n/a\",\nGETPIVOTDATA(AH$21 & \"\",PivotTableB!$A$3,\"SchoolName\",$B68,\"SubsidiaryName\",$C68,\"YearStart\",AC$13))),\"\")","v":240},{"$f":"IFERROR(IF($B68=\"\",\"\",\nIF(OR($L68=\"Nursery School\",$L68=\"All-through PRU\",$M68=\"True\"),\"n/a\",\nIF(GETPIVOTDATA(AI$21 & \"\",PivotTableB!$A$3,\"SchoolName\",$B68,\"SubsidiaryName\",$C68,\"YearStart\",AI$13)=\"\",\".\",\nGETPIVOTDATA(AI$21 & \"\",PivotTableB!$A$3,\"SchoolName\",$B68,\"SubsidiaryName\",$C68,\"YearStart\",AI$13)))),\"\")","v":30},{"$f":"IFERROR(IF(AI68=\".\",\".\",IF(AI68=\"n/a\",\"n/a\",\nGETPIVOTDATA(AJ$21 & \"\",PivotTableB!$A$3,\"SchoolName\",$B68,\"SubsidiaryName\",$C68,\"YearStart\",AI$13))),\"\")","v":0},{"$f":"IFERROR(IF(AJ68=\".\",\".\",IF(AJ68=\"n/a\",\"n/a\",\nGETPIVOTDATA(AK$21 & \"\",PivotTableB!$A$3,\"SchoolName\",$B68,\"SubsidiaryName\",$C68,\"YearStart\",AI$13))),\"\")","v":0},30,{"$f":"IFERROR(IF(AL68=\".\",\".\",IF(AL68=\"n/a\",\"n/a\",\nGETPIVOTDATA(AM$21 & \"\",PivotTableB!$A$3,\"SchoolName\",$B68,\"SubsidiaryName\",$C68,\"YearStart\",AI$13))),\"\")","v":0},{"$f":"IFERROR(IF(AM68=\".\",\".\",IF(AM68=\"n/a\",\"n/a\",\nGETPIVOTDATA(AN$21 & \"\",PivotTableB!$A$3,\"SchoolName\",$B68,\"SubsidiaryName\",$C68,\"YearStart\",AI$13))),\"\")","v":240},{"$f":"IFERROR(IF($B68=\"\",\"\",\nIF(OR($L68=\"Nursery School\",$L68=\"All-through PRU\",$M68=\"True\"),\"n/a\",\nIF(GETPIVOTDATA(AO$21 & \"\",PivotTableB!$A$3,\"SchoolName\",$B68,\"SubsidiaryName\",$C68,\"YearStart\",AO$13)=\"\",\".\",\nGETPIVOTDATA(AO$21 & \"\",PivotTableB!$A$3,\"SchoolName\",$B68,\"SubsidiaryName\",$C68,\"YearStart\",AO$13)))),\"\")","v":30},{"$f":"IFERROR(IF(AO68=\".\",\".\",IF(AO68=\"n/a\",\"n/a\",\nGETPIVOTDATA(AP$21 & \"\",PivotTableB!$A$3,\"SchoolName\",$B68,\"SubsidiaryName\",$C68,\"YearStart\",AO$13))),\"\")","v":0},{"$f":"IFERROR(IF(AP68=\".\",\".\",IF(AP68=\"n/a\",\"n/a\",\nGETPIVOTDATA(AQ$21 & \"\",PivotTableB!$A$3,\"SchoolName\",$B68,\"SubsidiaryName\",$C68,\"YearStart\",AO$13))),\"\")","v":0},30,{"$f":"IFERROR(IF(AR68=\".\",\".\",IF(AR68=\"n/a\",\"n/a\",\nGETPIVOTDATA(AS$21 & \"\",PivotTableB!$A$3,\"SchoolName\",$B68,\"SubsidiaryName\",$C68,\"YearStart\",AO$13))),\"\")","v":0},{"$f":"IFERROR(IF(AS68=\".\",\".\",IF(AS68=\"n/a\",\"n/a\",\nGETPIVOTDATA(AT$21 & \"\",PivotTableB!$A$3,\"SchoolName\",$B68,\"SubsidiaryName\",$C68,\"YearStart\",AO$13))),\"\")","v":240},{"$f":"IFERROR(IF($B68=\"\",\"\",\nIF(OR($L68=\"Nursery School\",$L68=\"All-through PRU\",$M68=\"True\"),\"n/a\",\nIF(GETPIVOTDATA(AU$21 & \"\",PivotTableB!$A$3,\"SchoolName\",$B68,\"SubsidiaryName\",$C68,\"YearStart\",AU$13)=\"\",\".\",\nGETPIVOTDATA(AU$21 & \"\",PivotTableB!$A$3,\"SchoolName\",$B68,\"SubsidiaryName\",$C68,\"YearStart\",AU$13)))),\"\")","v":30},{"$f":"IFERROR(IF(AU68=\".\",\".\",IF(AU68=\"n/a\",\"n/a\",\nGETPIVOTDATA(AV$21 & \"\",PivotTableB!$A$3,\"SchoolName\",$B68,\"SubsidiaryName\",$C68,\"YearStart\",AU$13))),\"\")","v":0},{"$f":"IFERROR(IF(AV68=\".\",\".\",IF(AV68=\"n/a\",\"n/a\",\nGETPIVOTDATA(AW$21 & \"\",PivotTableB!$A$3,\"SchoolName\",$B68,\"SubsidiaryName\",$C68,\"YearStart\",AU$13))),\"\")","v":0},30,{"$f":"IFERROR(IF(AX68=\".\",\".\",IF(AX68=\"n/a\",\"n/a\",\nGETPIVOTDATA(AY$21 & \"\",PivotTableB!$A$3,\"SchoolName\",$B68,\"SubsidiaryName\",$C68,\"YearStart\",AU$13))),\"\")","v":0},{"$f":"IFERROR(IF(AY68=\".\",\".\",IF(AY68=\"n/a\",\"n/a\",\nGETPIVOTDATA(AZ$21 & \"\",PivotTableB!$A$3,\"SchoolName\",$B68,\"SubsidiaryName\",$C68,\"YearStart\",AU$13))),\"\")","v":240},{"$f":"IFERROR(IF($B68=\"\",\"\",\nIF(OR($L68=\"Nursery School\",$L68=\"All-through PRU\",$M68=\"True\"),\"n/a\",\nIF(GETPIVOTDATA(BA$21 & \"\",PivotTableB!$A$3,\"SchoolName\",$B68,\"SubsidiaryName\",$C68,\"YearStart\",BA$13)=\"\",\".\",\nGETPIVOTDATA(BA$21 & \"\",PivotTableB!$A$3,\"SchoolName\",$B68,\"SubsidiaryName\",$C68,\"YearStart\",BA$13)))),\"\")","v":30},{"$f":"IFERROR(IF(BA68=\".\",\".\",IF(BA68=\"n/a\",\"n/a\",\nGETPIVOTDATA(BB$21 & \"\",PivotTableB!$A$3,\"SchoolName\",$B68,\"SubsidiaryName\",$C68,\"YearStart\",BA$13))),\"\")","v":0},{"$f":"IFERROR(IF(BB68=\".\",\".\",IF(BB68=\"n/a\",\"n/a\",\nGETPIVOTDATA(BC$21 & \"\",PivotTableB!$A$3,\"SchoolName\",$B68,\"SubsidiaryName\",$C68,\"YearStart\",BA$13))),\"\")","v":0},{"$f":"IFERROR(IF(BC68=\".\",\".\",IF(BC68=\"n/a\",\"n/a\",\nGETPIVOTDATA(BD$21 & \"\",PivotTableB!$A$3,\"SchoolName\",$B68,\"SubsidiaryName\",$C68,\"YearStart\",BB$13))),\"\")","v":""},30,{"$f":"IFERROR(IF(BE68=\".\",\".\",IF(BE68=\"n/a\",\"n/a\",\nGETPIVOTDATA(BF$21 & \"\",PivotTableB!$A$3,\"SchoolName\",$B68,\"SubsidiaryName\",$C68,\"YearStart\",BA$13))),\"\")","v":0},{"$f":"IFERROR(IF(BF68=\".\",\".\",IF(BF68=\"n/a\",\"n/a\",\nGETPIVOTDATA(BG$21 & \"\",PivotTableB!$A$3,\"SchoolName\",$B68,\"SubsidiaryName\",$C68,\"YearStart\",BA$13))),\"\")","v":210},{"$f":"IFERROR(IF($B68=\"\",\"\",\nIF(OR($L68=\"Nursery School\",$L68=\"All-through PRU\",$M68=\"True\"),\"n/a\",\nIF(GETPIVOTDATA(BH$21 & \"\",PivotTableB!$A$3,\"SchoolName\",$B68,\"SubsidiaryName\",$C68,\"YearStart\",BH$13)=\"\",\".\",\nGETPIVOTDATA(BH$21 & \"\",PivotTableB!$A$3,\"SchoolName\",$B68,\"SubsidiaryName\",$C68,\"YearStart\",BH$13)))),\"\")","v":30},{"$f":"IFERROR(IF(BH68=\".\",\".\",IF(BH68=\"n/a\",\"n/a\",\nGETPIVOTDATA(BI$21 & \"\",PivotTableB!$A$3,\"SchoolName\",$B68,\"SubsidiaryName\",$C68,\"YearStart\",BH$13))),\"\")","v":0},{"$f":"IFERROR(IF(BI68=\".\",\".\",IF(BI68=\"n/a\",\"n/a\",\nGETPIVOTDATA(BJ$21 & \"\",PivotTableB!$A$3,\"SchoolName\",$B68,\"SubsidiaryName\",$C68,\"YearStart\",BH$13))),\"\")","v":0},{"$f":"IFERROR(IF(BJ68=\".\",\".\",IF(BJ68=\"n/a\",\"n/a\",\nGETPIVOTDATA(BK$21 & \"\",PivotTableB!$A$3,\"SchoolName\",$B68,\"SubsidiaryName\",$C68,\"YearStart\",BH$13))),\"\")","v":0},30,{"$f":"IFERROR(IF(BL68=\".\",\".\",IF(BL68=\"n/a\",\"n/a\",\nGETPIVOTDATA(BM$21 & \"\",PivotTableB!$A$3,\"SchoolName\",$B68,\"SubsidiaryName\",$C68,\"YearStart\",BH$13))),\"\")","v":0},{"$f":"IFERROR(IF(BM68=\".\",\".\",IF(BM68=\"n/a\",\"n/a\",\nGETPIVOTDATA(BN$21 & \"\",PivotTableB!$A$3,\"SchoolName\",$B68,\"SubsidiaryName\",$C68,\"YearStart\",BH$13))),\"\")","v":210},{"$f":"IFERROR(IF($B68=\"\",\"\",\nIF(OR($L68=\"Nursery School\",$L68=\"All-through PRU\",$M68=\"True\"),\"n/a\",\nIF(GETPIVOTDATA(BO$21 & \"\",PivotTableB!$A$3,\"SchoolName\",$B68,\"SubsidiaryName\",$C68,\"YearStart\",BO$13)=\"\",\".\",\nGETPIVOTDATA(BO$21 & \"\",PivotTableB!$A$3,\"SchoolName\",$B68,\"SubsidiaryName\",$C68,\"YearStart\",BO$13)))),\"\")","v":30},{"$f":"IFERROR(IF(BO68=\".\",\".\",IF(BO68=\"n/a\",\"n/a\",\nGETPIVOTDATA(BP$21 & \"\",PivotTableB!$A$3,\"SchoolName\",$B68,\"SubsidiaryName\",$C68,\"YearStart\",BO$13))),\"\")","v":0},{"$f":"IFERROR(IF(BP68=\".\",\".\",IF(BP68=\"n/a\",\"n/a\",\nGETPIVOTDATA(BQ$21 & \"\",PivotTableB!$A$3,\"SchoolName\",$B68,\"SubsidiaryName\",$C68,\"YearStart\",BO$13))),\"\")","v":0},{"$f":"IFERROR(IF(BQ68=\".\",\".\",IF(BQ68=\"n/a\",\"n/a\",\nGETPIVOTDATA(BR$21 & \"\",PivotTableB!$A$3,\"SchoolName\",$B68,\"SubsidiaryName\",$C68,\"YearStart\",BP$13))),\"\")","v":""},30,{"$f":"IFERROR(IF(BS68=\".\",\".\",IF(BS68=\"n/a\",\"n/a\",\nGETPIVOTDATA(BT$21 & \"\",PivotTableB!$A$3,\"SchoolName\",$B68,\"SubsidiaryName\",$C68,\"YearStart\",BO$13))),\"\")","v":0},{"$f":"IFERROR(IF(BT68=\".\",\".\",IF(BT68=\"n/a\",\"n/a\",\nGETPIVOTDATA(BU$21 & \"\",PivotTableB!$A$3,\"SchoolName\",$B68,\"SubsidiaryName\",$C68,\"YearStart\",BO$13))),\"\")","v":210},{"$f":"IFERROR(IF($B68=\"\",\"\",\nIF(OR($L68=\"Nursery School\",$L68=\"All-through PRU\",$M68=\"True\"),\"n/a\",\nIF(GETPIVOTDATA(BV$21 & \"\",PivotTableB!$A$3,\"SchoolName\",$B68,\"SubsidiaryName\",$C68,\"YearStart\",BV$13)=\"\",\".\",\nGETPIVOTDATA(BV$21 & \"\",PivotTableB!$A$3,\"SchoolName\",$B68,\"SubsidiaryName\",$C68,\"YearStart\",BV$13)))),\"\")","v":30},{"$f":"IFERROR(IF(BV68=\".\",\".\",IF(BV68=\"n/a\",\"n/a\",\nGETPIVOTDATA(BW$21 & \"\",PivotTableB!$A$3,\"SchoolName\",$B68,\"SubsidiaryName\",$C68,\"YearStart\",BV$13))),\"\")","v":0},{"$f":"IFERROR(IF(BW68=\".\",\".\",IF(BW68=\"n/a\",\"n/a\",\nGETPIVOTDATA(BX$21 & \"\",PivotTableB!$A$3,\"SchoolName\",$B68,\"SubsidiaryName\",$C68,\"YearStart\",BV$13))),\"\")","v":0},{"$f":"IFERROR(IF(BX68=\".\",\".\",IF(BX68=\"n/a\",\"n/a\",\nGETPIVOTDATA(BY$21 & \"\",PivotTableB!$A$3,\"SchoolName\",$B68,\"SubsidiaryName\",$C68,\"YearStart\",BV$13))),\"\")","v":0},30,{"$f":"IFERROR(IF(BZ68=\".\",\".\",IF(BZ68=\"n/a\",\"n/a\",\nGETPIVOTDATA(CA$21 & \"\",PivotTableB!$A$3,\"SchoolName\",$B68,\"SubsidiaryName\",$C68,\"YearStart\",BV$13))),\"\")","v":0},{"$f":"IFERROR(IF(CA68=\".\",\".\",IF(CA68=\"n/a\",\"n/a\",\nGETPIVOTDATA(CB$21 & \"\",PivotTableB!$A$3,\"SchoolName\",$B68,\"SubsidiaryName\",$C68,\"YearStart\",BV$13))),\"\")","v":210}]
[null,{"$f":"IF(PivotTableA!A56=\"\",\"n/a\",PivotTableA!A56)","v":"St Edmund Campion Catholic Primary School"},{"$f":"IF(B69=\"n/a\",\"\",PivotTableA!B56)","v":"St Edmund Campion Catholic Primary School"},{"$f":"IF($B69=\"n/a\",\"\",PivotTableA!C56)","v":"R"},{"$f":"IF($B69=\"n/a\",\"\",PivotTableA!D56)","v":"Maidenhead"},{"$f":"IF($B69=\"n/a\",\"\",PivotTableA!E56)","v":"Central Maidenhead"},{"$f":"IF($B69=\"n/a\",\"\",PivotTableA!F56)","v":"Tittle Row"},{"$f":"IF($B69=\"n/a\",\"\",PivotTableA!G56)","v":"Boyn Hill"},{"$f":"IF($B69=\"n/a\",\"\",PivotTableA!H56)","v":"None"},{"$f":"IF($B69=\"n/a\",\"\",PivotTableA!I56)","v":"Primary"},{"$f":"IF($B69=\"n/a\",\"\",PivotTableA!J56)","v":"Two Tier"},{"$f":"IF($B69=\"n/a\",\"\",PivotTableA!K56)","v":"JMI"},{"$f":"IF($B69=\"n/a\",\"\",PivotTableA!O56)","v":"FALSE"},{"$f":"IF($B69=\"n/a\",\"\",PivotTableA!L56)","v":"Academy"},{"$f":"IF($B69=\"n/a\",\"\",PivotTableA!M56)","v":"2017-07-01"},{"$f":"IF($B69=\"n/a\",\"\",PivotTableA!N56)","v":"Roman Catholic"},{"$f":"IFERROR(IF($B69=\"\",\"\",\nIF(OR($L69=\"Nursery School\",$L69=\"All-through PRU\",$M69=\"True\"),\"n/a\",\nIF(GETPIVOTDATA(Q$21 & \"\",PivotTableB!$A$3,\"SchoolName\",$B69,\"SubsidiaryName\",$C69,\"YearStart\",Q$13)=\"\",\".\",\nGETPIVOTDATA(Q$21 & \"\",PivotTableB!$A$3,\"SchoolName\",$B69,\"SubsidiaryName\",$C69,\"YearStart\",Q$13)))),\"\")","v":60},{"$f":"IFERROR(IF(Q69=\".\",\".\",IF(Q69=\"n/a\",\"n/a\",\nGETPIVOTDATA(R$21 & \"\",PivotTableB!$A$3,\"SchoolName\",$B69,\"SubsidiaryName\",$C69,\"YearStart\",Q$13))),\"\")","v":0},{"$f":"IFERROR(IF(R69=\".\",\".\",IF(R69=\"n/a\",\"n/a\",\nGETPIVOTDATA(S$21 & \"\",PivotTableB!$A$3,\"SchoolName\",$B69,\"SubsidiaryName\",$C69,\"YearStart\",Q$13))),\"\")","v":0},60,{"$f":"IFERROR(IF(T69=\".\",\".\",IF(T69=\"n/a\",\"n/a\",\nGETPIVOTDATA(U$21 & \"\",PivotTableB!$A$3,\"SchoolName\",$B69,\"SubsidiaryName\",$C69,\"YearStart\",Q$13))),\"\")","v":0},{"$f":"IFERROR(IF(U69=\".\",\".\",IF(U69=\"n/a\",\"n/a\",\nGETPIVOTDATA(V$21 & \"\",PivotTableB!$A$3,\"SchoolName\",$B69,\"SubsidiaryName\",$C69,\"YearStart\",Q$13))),\"\")","v":420},{"$f":"IFERROR(IF($B69=\"\",\"\",\nIF(OR($L69=\"Nursery School\",$L69=\"All-through PRU\",$M69=\"True\"),\"n/a\",\nIF(GETPIVOTDATA(W$21 & \"\",PivotTableB!$A$3,\"SchoolName\",$B69,\"SubsidiaryName\",$C69,\"YearStart\",W$13)=\"\",\".\",\nGETPIVOTDATA(W$21 & \"\",PivotTableB!$A$3,\"SchoolName\",$B69,\"SubsidiaryName\",$C69,\"YearStart\",W$13)))),\"\")","v":60},{"$f":"IFERROR(IF(W69=\".\",\".\",IF(W69=\"n/a\",\"n/a\",\nGETPIVOTDATA(X$21 & \"\",PivotTableB!$A$3,\"SchoolName\",$B69,\"SubsidiaryName\",$C69,\"YearStart\",W$13))),\"\")","v":0},{"$f":"IFERROR(IF(X69=\".\",\".\",IF(X69=\"n/a\",\"n/a\",\nGETPIVOTDATA(Y$21 & \"\",PivotTableB!$A$3,\"SchoolName\",$B69,\"SubsidiaryName\",$C69,\"YearStart\",W$13))),\"\")","v":0},60,{"$f":"IFERROR(IF(Z69=\".\",\".\",IF(Z69=\"n/a\",\"n/a\",\nGETPIVOTDATA(AA$21 & \"\",PivotTableB!$A$3,\"SchoolName\",$B69,\"SubsidiaryName\",$C69,\"YearStart\",W$13))),\"\")","v":0},{"$f":"IFERROR(IF(AA69=\".\",\".\",IF(AA69=\"n/a\",\"n/a\",\nGETPIVOTDATA(AB$21 & \"\",PivotTableB!$A$3,\"SchoolName\",$B69,\"SubsidiaryName\",$C69,\"YearStart\",W$13))),\"\")","v":420},{"$f":"IFERROR(IF($B69=\"\",\"\",\nIF(OR($L69=\"Nursery School\",$L69=\"All-through PRU\",$M69=\"True\"),\"n/a\",\nIF(GETPIVOTDATA(AC$21 & \"\",PivotTableB!$A$3,\"SchoolName\",$B69,\"SubsidiaryName\",$C69,\"YearStart\",AC$13)=\"\",\".\",\nGETPIVOTDATA(AC$21 & \"\",PivotTableB!$A$3,\"SchoolName\",$B69,\"SubsidiaryName\",$C69,\"YearStart\",AC$13)))),\"\")","v":60},{"$f":"IFERROR(IF(AC69=\".\",\".\",IF(AC69=\"n/a\",\"n/a\",\nGETPIVOTDATA(AD$21 & \"\",PivotTableB!$A$3,\"SchoolName\",$B69,\"SubsidiaryName\",$C69,\"YearStart\",AC$13))),\"\")","v":0},{"$f":"IFERROR(IF(AD69=\".\",\".\",IF(AD69=\"n/a\",\"n/a\",\nGETPIVOTDATA(AE$21 & \"\",PivotTableB!$A$3,\"SchoolName\",$B69,\"SubsidiaryName\",$C69,\"YearStart\",AC$13))),\"\")","v":0},60,{"$f":"IFERROR(IF(AF69=\".\",\".\",IF(AF69=\"n/a\",\"n/a\",\nGETPIVOTDATA(AG$21 & \"\",PivotTableB!$A$3,\"SchoolName\",$B69,\"SubsidiaryName\",$C69,\"YearStart\",AC$13))),\"\")","v":0},{"$f":"IFERROR(IF(AG69=\".\",\".\",IF(AG69=\"n/a\",\"n/a\",\nGETPIVOTDATA(AH$21 & \"\",PivotTableB!$A$3,\"SchoolName\",$B69,\"SubsidiaryName\",$C69,\"YearStart\",AC$13))),\"\")","v":420},{"$f":"IFERROR(IF($B69=\"\",\"\",\nIF(OR($L69=\"Nursery School\",$L69=\"All-through PRU\",$M69=\"True\"),\"n/a\",\nIF(GETPIVOTDATA(AI$21 & \"\",PivotTableB!$A$3,\"SchoolName\",$B69,\"SubsidiaryName\",$C69,\"YearStart\",AI$13)=\"\",\".\",\nGETPIVOTDATA(AI$21 & \"\",PivotTableB!$A$3,\"SchoolName\",$B69,\"SubsidiaryName\",$C69,\"YearStart\",AI$13)))),\"\")","v":60},{"$f":"IFERROR(IF(AI69=\".\",\".\",IF(AI69=\"n/a\",\"n/a\",\nGETPIVOTDATA(AJ$21 & \"\",PivotTableB!$A$3,\"SchoolName\",$B69,\"SubsidiaryName\",$C69,\"YearStart\",AI$13))),\"\")","v":0},{"$f":"IFERROR(IF(AJ69=\".\",\".\",IF(AJ69=\"n/a\",\"n/a\",\nGETPIVOTDATA(AK$21 & \"\",PivotTableB!$A$3,\"SchoolName\",$B69,\"SubsidiaryName\",$C69,\"YearStart\",AI$13))),\"\")","v":0},60,{"$f":"IFERROR(IF(AL69=\".\",\".\",IF(AL69=\"n/a\",\"n/a\",\nGETPIVOTDATA(AM$21 & \"\",PivotTableB!$A$3,\"SchoolName\",$B69,\"SubsidiaryName\",$C69,\"YearStart\",AI$13))),\"\")","v":0},{"$f":"IFERROR(IF(AM69=\".\",\".\",IF(AM69=\"n/a\",\"n/a\",\nGETPIVOTDATA(AN$21 & \"\",PivotTableB!$A$3,\"SchoolName\",$B69,\"SubsidiaryName\",$C69,\"YearStart\",AI$13))),\"\")","v":420},{"$f":"IFERROR(IF($B69=\"\",\"\",\nIF(OR($L69=\"Nursery School\",$L69=\"All-through PRU\",$M69=\"True\"),\"n/a\",\nIF(GETPIVOTDATA(AO$21 & \"\",PivotTableB!$A$3,\"SchoolName\",$B69,\"SubsidiaryName\",$C69,\"YearStart\",AO$13)=\"\",\".\",\nGETPIVOTDATA(AO$21 & \"\",PivotTableB!$A$3,\"SchoolName\",$B69,\"SubsidiaryName\",$C69,\"YearStart\",AO$13)))),\"\")","v":60},{"$f":"IFERROR(IF(AO69=\".\",\".\",IF(AO69=\"n/a\",\"n/a\",\nGETPIVOTDATA(AP$21 & \"\",PivotTableB!$A$3,\"SchoolName\",$B69,\"SubsidiaryName\",$C69,\"YearStart\",AO$13))),\"\")","v":0},{"$f":"IFERROR(IF(AP69=\".\",\".\",IF(AP69=\"n/a\",\"n/a\",\nGETPIVOTDATA(AQ$21 & \"\",PivotTableB!$A$3,\"SchoolName\",$B69,\"SubsidiaryName\",$C69,\"YearStart\",AO$13))),\"\")","v":0},60,{"$f":"IFERROR(IF(AR69=\".\",\".\",IF(AR69=\"n/a\",\"n/a\",\nGETPIVOTDATA(AS$21 & \"\",PivotTableB!$A$3,\"SchoolName\",$B69,\"SubsidiaryName\",$C69,\"YearStart\",AO$13))),\"\")","v":0},{"$f":"IFERROR(IF(AS69=\".\",\".\",IF(AS69=\"n/a\",\"n/a\",\nGETPIVOTDATA(AT$21 & \"\",PivotTableB!$A$3,\"SchoolName\",$B69,\"SubsidiaryName\",$C69,\"YearStart\",AO$13))),\"\")","v":420},{"$f":"IFERROR(IF($B69=\"\",\"\",\nIF(OR($L69=\"Nursery School\",$L69=\"All-through PRU\",$M69=\"True\"),\"n/a\",\nIF(GETPIVOTDATA(AU$21 & \"\",PivotTableB!$A$3,\"SchoolName\",$B69,\"SubsidiaryName\",$C69,\"YearStart\",AU$13)=\"\",\".\",\nGETPIVOTDATA(AU$21 & \"\",PivotTableB!$A$3,\"SchoolName\",$B69,\"SubsidiaryName\",$C69,\"YearStart\",AU$13)))),\"\")","v":60},{"$f":"IFERROR(IF(AU69=\".\",\".\",IF(AU69=\"n/a\",\"n/a\",\nGETPIVOTDATA(AV$21 & \"\",PivotTableB!$A$3,\"SchoolName\",$B69,\"SubsidiaryName\",$C69,\"YearStart\",AU$13))),\"\")","v":0},{"$f":"IFERROR(IF(AV69=\".\",\".\",IF(AV69=\"n/a\",\"n/a\",\nGETPIVOTDATA(AW$21 & \"\",PivotTableB!$A$3,\"SchoolName\",$B69,\"SubsidiaryName\",$C69,\"YearStart\",AU$13))),\"\")","v":0},60,{"$f":"IFERROR(IF(AX69=\".\",\".\",IF(AX69=\"n/a\",\"n/a\",\nGETPIVOTDATA(AY$21 & \"\",PivotTableB!$A$3,\"SchoolName\",$B69,\"SubsidiaryName\",$C69,\"YearStart\",AU$13))),\"\")","v":0},{"$f":"IFERROR(IF(AY69=\".\",\".\",IF(AY69=\"n/a\",\"n/a\",\nGETPIVOTDATA(AZ$21 & \"\",PivotTableB!$A$3,\"SchoolName\",$B69,\"SubsidiaryName\",$C69,\"YearStart\",AU$13))),\"\")","v":420},{"$f":"IFERROR(IF($B69=\"\",\"\",\nIF(OR($L69=\"Nursery School\",$L69=\"All-through PRU\",$M69=\"True\"),\"n/a\",\nIF(GETPIVOTDATA(BA$21 & \"\",PivotTableB!$A$3,\"SchoolName\",$B69,\"SubsidiaryName\",$C69,\"YearStart\",BA$13)=\"\",\".\",\nGETPIVOTDATA(BA$21 & \"\",PivotTableB!$A$3,\"SchoolName\",$B69,\"SubsidiaryName\",$C69,\"YearStart\",BA$13)))),\"\")","v":60},{"$f":"IFERROR(IF(BA69=\".\",\".\",IF(BA69=\"n/a\",\"n/a\",\nGETPIVOTDATA(BB$21 & \"\",PivotTableB!$A$3,\"SchoolName\",$B69,\"SubsidiaryName\",$C69,\"YearStart\",BA$13))),\"\")","v":0},{"$f":"IFERROR(IF(BB69=\".\",\".\",IF(BB69=\"n/a\",\"n/a\",\nGETPIVOTDATA(BC$21 & \"\",PivotTableB!$A$3,\"SchoolName\",$B69,\"SubsidiaryName\",$C69,\"YearStart\",BA$13))),\"\")","v":0},{"$f":"IFERROR(IF(BC69=\".\",\".\",IF(BC69=\"n/a\",\"n/a\",\nGETPIVOTDATA(BD$21 & \"\",PivotTableB!$A$3,\"SchoolName\",$B69,\"SubsidiaryName\",$C69,\"YearStart\",BB$13))),\"\")","v":""},60,{"$f":"IFERROR(IF(BE69=\".\",\".\",IF(BE69=\"n/a\",\"n/a\",\nGETPIVOTDATA(BF$21 & \"\",PivotTableB!$A$3,\"SchoolName\",$B69,\"SubsidiaryName\",$C69,\"YearStart\",BA$13))),\"\")","v":0},{"$f":"IFERROR(IF(BF69=\".\",\".\",IF(BF69=\"n/a\",\"n/a\",\nGETPIVOTDATA(BG$21 & \"\",PivotTableB!$A$3,\"SchoolName\",$B69,\"SubsidiaryName\",$C69,\"YearStart\",BA$13))),\"\")","v":420},{"$f":"IFERROR(IF($B69=\"\",\"\",\nIF(OR($L69=\"Nursery School\",$L69=\"All-through PRU\",$M69=\"True\"),\"n/a\",\nIF(GETPIVOTDATA(BH$21 & \"\",PivotTableB!$A$3,\"SchoolName\",$B69,\"SubsidiaryName\",$C69,\"YearStart\",BH$13)=\"\",\".\",\nGETPIVOTDATA(BH$21 & \"\",PivotTableB!$A$3,\"SchoolName\",$B69,\"SubsidiaryName\",$C69,\"YearStart\",BH$13)))),\"\")","v":60},{"$f":"IFERROR(IF(BH69=\".\",\".\",IF(BH69=\"n/a\",\"n/a\",\nGETPIVOTDATA(BI$21 & \"\",PivotTableB!$A$3,\"SchoolName\",$B69,\"SubsidiaryName\",$C69,\"YearStart\",BH$13))),\"\")","v":0},{"$f":"IFERROR(IF(BI69=\".\",\".\",IF(BI69=\"n/a\",\"n/a\",\nGETPIVOTDATA(BJ$21 & \"\",PivotTableB!$A$3,\"SchoolName\",$B69,\"SubsidiaryName\",$C69,\"YearStart\",BH$13))),\"\")","v":0},{"$f":"IFERROR(IF(BJ69=\".\",\".\",IF(BJ69=\"n/a\",\"n/a\",\nGETPIVOTDATA(BK$21 & \"\",PivotTableB!$A$3,\"SchoolName\",$B69,\"SubsidiaryName\",$C69,\"YearStart\",BH$13))),\"\")","v":0},60,{"$f":"IFERROR(IF(BL69=\".\",\".\",IF(BL69=\"n/a\",\"n/a\",\nGETPIVOTDATA(BM$21 & \"\",PivotTableB!$A$3,\"SchoolName\",$B69,\"SubsidiaryName\",$C69,\"YearStart\",BH$13))),\"\")","v":0},{"$f":"IFERROR(IF(BM69=\".\",\".\",IF(BM69=\"n/a\",\"n/a\",\nGETPIVOTDATA(BN$21 & \"\",PivotTableB!$A$3,\"SchoolName\",$B69,\"SubsidiaryName\",$C69,\"YearStart\",BH$13))),\"\")","v":420},{"$f":"IFERROR(IF($B69=\"\",\"\",\nIF(OR($L69=\"Nursery School\",$L69=\"All-through PRU\",$M69=\"True\"),\"n/a\",\nIF(GETPIVOTDATA(BO$21 & \"\",PivotTableB!$A$3,\"SchoolName\",$B69,\"SubsidiaryName\",$C69,\"YearStart\",BO$13)=\"\",\".\",\nGETPIVOTDATA(BO$21 & \"\",PivotTableB!$A$3,\"SchoolName\",$B69,\"SubsidiaryName\",$C69,\"YearStart\",BO$13)))),\"\")","v":60},{"$f":"IFERROR(IF(BO69=\".\",\".\",IF(BO69=\"n/a\",\"n/a\",\nGETPIVOTDATA(BP$21 & \"\",PivotTableB!$A$3,\"SchoolName\",$B69,\"SubsidiaryName\",$C69,\"YearStart\",BO$13))),\"\")","v":0},{"$f":"IFERROR(IF(BP69=\".\",\".\",IF(BP69=\"n/a\",\"n/a\",\nGETPIVOTDATA(BQ$21 & \"\",PivotTableB!$A$3,\"SchoolName\",$B69,\"SubsidiaryName\",$C69,\"YearStart\",BO$13))),\"\")","v":0},{"$f":"IFERROR(IF(BQ69=\".\",\".\",IF(BQ69=\"n/a\",\"n/a\",\nGETPIVOTDATA(BR$21 & \"\",PivotTableB!$A$3,\"SchoolName\",$B69,\"SubsidiaryName\",$C69,\"YearStart\",BP$13))),\"\")","v":""},60,{"$f":"IFERROR(IF(BS69=\".\",\".\",IF(BS69=\"n/a\",\"n/a\",\nGETPIVOTDATA(BT$21 & \"\",PivotTableB!$A$3,\"SchoolName\",$B69,\"SubsidiaryName\",$C69,\"YearStart\",BO$13))),\"\")","v":0},{"$f":"IFERROR(IF(BT69=\".\",\".\",IF(BT69=\"n/a\",\"n/a\",\nGETPIVOTDATA(BU$21 & \"\",PivotTableB!$A$3,\"SchoolName\",$B69,\"SubsidiaryName\",$C69,\"YearStart\",BO$13))),\"\")","v":420},{"$f":"IFERROR(IF($B69=\"\",\"\",\nIF(OR($L69=\"Nursery School\",$L69=\"All-through PRU\",$M69=\"True\"),\"n/a\",\nIF(GETPIVOTDATA(BV$21 & \"\",PivotTableB!$A$3,\"SchoolName\",$B69,\"SubsidiaryName\",$C69,\"YearStart\",BV$13)=\"\",\".\",\nGETPIVOTDATA(BV$21 & \"\",PivotTableB!$A$3,\"SchoolName\",$B69,\"SubsidiaryName\",$C69,\"YearStart\",BV$13)))),\"\")","v":60},{"$f":"IFERROR(IF(BV69=\".\",\".\",IF(BV69=\"n/a\",\"n/a\",\nGETPIVOTDATA(BW$21 & \"\",PivotTableB!$A$3,\"SchoolName\",$B69,\"SubsidiaryName\",$C69,\"YearStart\",BV$13))),\"\")","v":0},{"$f":"IFERROR(IF(BW69=\".\",\".\",IF(BW69=\"n/a\",\"n/a\",\nGETPIVOTDATA(BX$21 & \"\",PivotTableB!$A$3,\"SchoolName\",$B69,\"SubsidiaryName\",$C69,\"YearStart\",BV$13))),\"\")","v":0},{"$f":"IFERROR(IF(BX69=\".\",\".\",IF(BX69=\"n/a\",\"n/a\",\nGETPIVOTDATA(BY$21 & \"\",PivotTableB!$A$3,\"SchoolName\",$B69,\"SubsidiaryName\",$C69,\"YearStart\",BV$13))),\"\")","v":0},60,{"$f":"IFERROR(IF(BZ69=\".\",\".\",IF(BZ69=\"n/a\",\"n/a\",\nGETPIVOTDATA(CA$21 & \"\",PivotTableB!$A$3,\"SchoolName\",$B69,\"SubsidiaryName\",$C69,\"YearStart\",BV$13))),\"\")","v":0},{"$f":"IFERROR(IF(CA69=\".\",\".\",IF(CA69=\"n/a\",\"n/a\",\nGETPIVOTDATA(CB$21 & \"\",PivotTableB!$A$3,\"SchoolName\",$B69,\"SubsidiaryName\",$C69,\"YearStart\",BV$13))),\"\")","v":420}]
[null,{"$f":"IF(PivotTableA!A57=\"\",\"n/a\",PivotTableA!A57)","v":"St Edward's Catholic First School"},{"$f":"IF(B70=\"n/a\",\"\",PivotTableA!B57)","v":"St Edward's Catholic First School"},{"$f":"IF($B70=\"n/a\",\"\",PivotTableA!C57)","v":"R"},{"$f":"IF($B70=\"n/a\",\"\",PivotTableA!D57)","v":"Windsor"},{"$f":"IF($B70=\"n/a\",\"\",PivotTableA!E57)","v":"Windsor North"},{"$f":"IF($B70=\"n/a\",\"\",PivotTableA!F57)","v":"Clewer Village"},{"$f":"IF($B70=\"n/a\",\"\",PivotTableA!G57)","v":"Clewer North"},{"$f":"IF($B70=\"n/a\",\"\",PivotTableA!H57)","v":"None"},{"$f":"IF($B70=\"n/a\",\"\",PivotTableA!I57)","v":"Primary"},{"$f":"IF($B70=\"n/a\",\"\",PivotTableA!J57)","v":"Three Tier"},{"$f":"IF($B70=\"n/a\",\"\",PivotTableA!K57)","v":"First"},{"$f":"IF($B70=\"n/a\",\"\",PivotTableA!O57)","v":"FALSE"},{"$f":"IF($B70=\"n/a\",\"\",PivotTableA!L57)","v":"Voluntary Aided"},{"$f":"IF($B70=\"n/a\",\"\",PivotTableA!M57)","v":" "},{"$f":"IF($B70=\"n/a\",\"\",PivotTableA!N57)","v":"Roman Catholic"},{"$f":"IFERROR(IF($B70=\"\",\"\",\nIF(OR($L70=\"Nursery School\",$L70=\"All-through PRU\",$M70=\"True\"),\"n/a\",\nIF(GETPIVOTDATA(Q$21 & \"\",PivotTableB!$A$3,\"SchoolName\",$B70,\"SubsidiaryName\",$C70,\"YearStart\",Q$13)=\"\",\".\",\nGETPIVOTDATA(Q$21 & \"\",PivotTableB!$A$3,\"SchoolName\",$B70,\"SubsidiaryName\",$C70,\"YearStart\",Q$13)))),\"\")","v":60},{"$f":"IFERROR(IF(Q70=\".\",\".\",IF(Q70=\"n/a\",\"n/a\",\nGETPIVOTDATA(R$21 & \"\",PivotTableB!$A$3,\"SchoolName\",$B70,\"SubsidiaryName\",$C70,\"YearStart\",Q$13))),\"\")","v":0},{"$f":"IFERROR(IF(R70=\".\",\".\",IF(R70=\"n/a\",\"n/a\",\nGETPIVOTDATA(S$21 & \"\",PivotTableB!$A$3,\"SchoolName\",$B70,\"SubsidiaryName\",$C70,\"YearStart\",Q$13))),\"\")","v":0},60,{"$f":"IFERROR(IF(T70=\".\",\".\",IF(T70=\"n/a\",\"n/a\",\nGETPIVOTDATA(U$21 & \"\",PivotTableB!$A$3,\"SchoolName\",$B70,\"SubsidiaryName\",$C70,\"YearStart\",Q$13))),\"\")","v":0},{"$f":"IFERROR(IF(U70=\".\",\".\",IF(U70=\"n/a\",\"n/a\",\nGETPIVOTDATA(V$21 & \"\",PivotTableB!$A$3,\"SchoolName\",$B70,\"SubsidiaryName\",$C70,\"YearStart\",Q$13))),\"\")","v":255},{"$f":"IFERROR(IF($B70=\"\",\"\",\nIF(OR($L70=\"Nursery School\",$L70=\"All-through PRU\",$M70=\"True\"),\"n/a\",\nIF(GETPIVOTDATA(W$21 & \"\",PivotTableB!$A$3,\"SchoolName\",$B70,\"SubsidiaryName\",$C70,\"YearStart\",W$13)=\"\",\".\",\nGETPIVOTDATA(W$21 & \"\",PivotTableB!$A$3,\"SchoolName\",$B70,\"SubsidiaryName\",$C70,\"YearStart\",W$13)))),\"\")","v":60},{"$f":"IFERROR(IF(W70=\".\",\".\",IF(W70=\"n/a\",\"n/a\",\nGETPIVOTDATA(X$21 & \"\",PivotTableB!$A$3,\"SchoolName\",$B70,\"SubsidiaryName\",$C70,\"YearStart\",W$13))),\"\")","v":0},{"$f":"IFERROR(IF(X70=\".\",\".\",IF(X70=\"n/a\",\"n/a\",\nGETPIVOTDATA(Y$21 & \"\",PivotTableB!$A$3,\"SchoolName\",$B70,\"SubsidiaryName\",$C70,\"YearStart\",W$13))),\"\")","v":0},60,{"$f":"IFERROR(IF(Z70=\".\",\".\",IF(Z70=\"n/a\",\"n/a\",\nGETPIVOTDATA(AA$21 & \"\",PivotTableB!$A$3,\"SchoolName\",$B70,\"SubsidiaryName\",$C70,\"YearStart\",W$13))),\"\")","v":0},{"$f":"IFERROR(IF(AA70=\".\",\".\",IF(AA70=\"n/a\",\"n/a\",\nGETPIVOTDATA(AB$21 & \"\",PivotTableB!$A$3,\"SchoolName\",$B70,\"SubsidiaryName\",$C70,\"YearStart\",W$13))),\"\")","v":311},{"$f":"IFERROR(IF($B70=\"\",\"\",\nIF(OR($L70=\"Nursery School\",$L70=\"All-through PRU\",$M70=\"True\"),\"n/a\",\nIF(GETPIVOTDATA(AC$21 & \"\",PivotTableB!$A$3,\"SchoolName\",$B70,\"SubsidiaryName\",$C70,\"YearStart\",AC$13)=\"\",\".\",\nGETPIVOTDATA(AC$21 & \"\",PivotTableB!$A$3,\"SchoolName\",$B70,\"SubsidiaryName\",$C70,\"YearStart\",AC$13)))),\"\")","v":60},{"$f":"IFERROR(IF(AC70=\".\",\".\",IF(AC70=\"n/a\",\"n/a\",\nGETPIVOTDATA(AD$21 & \"\",PivotTableB!$A$3,\"SchoolName\",$B70,\"SubsidiaryName\",$C70,\"YearStart\",AC$13))),\"\")","v":0},{"$f":"IFERROR(IF(AD70=\".\",\".\",IF(AD70=\"n/a\",\"n/a\",\nGETPIVOTDATA(AE$21 & \"\",PivotTableB!$A$3,\"SchoolName\",$B70,\"SubsidiaryName\",$C70,\"YearStart\",AC$13))),\"\")","v":0},60,{"$f":"IFERROR(IF(AF70=\".\",\".\",IF(AF70=\"n/a\",\"n/a\",\nGETPIVOTDATA(AG$21 & \"\",PivotTableB!$A$3,\"SchoolName\",$B70,\"SubsidiaryName\",$C70,\"YearStart\",AC$13))),\"\")","v":0},{"$f":"IFERROR(IF(AG70=\".\",\".\",IF(AG70=\"n/a\",\"n/a\",\nGETPIVOTDATA(AH$21 & \"\",PivotTableB!$A$3,\"SchoolName\",$B70,\"SubsidiaryName\",$C70,\"YearStart\",AC$13))),\"\")","v":311},{"$f":"IFERROR(IF($B70=\"\",\"\",\nIF(OR($L70=\"Nursery School\",$L70=\"All-through PRU\",$M70=\"True\"),\"n/a\",\nIF(GETPIVOTDATA(AI$21 & \"\",PivotTableB!$A$3,\"SchoolName\",$B70,\"SubsidiaryName\",$C70,\"YearStart\",AI$13)=\"\",\".\",\nGETPIVOTDATA(AI$21 & \"\",PivotTableB!$A$3,\"SchoolName\",$B70,\"SubsidiaryName\",$C70,\"YearStart\",AI$13)))),\"\")","v":60},{"$f":"IFERROR(IF(AI70=\".\",\".\",IF(AI70=\"n/a\",\"n/a\",\nGETPIVOTDATA(AJ$21 & \"\",PivotTableB!$A$3,\"SchoolName\",$B70,\"SubsidiaryName\",$C70,\"YearStart\",AI$13))),\"\")","v":0},{"$f":"IFERROR(IF(AJ70=\".\",\".\",IF(AJ70=\"n/a\",\"n/a\",\nGETPIVOTDATA(AK$21 & \"\",PivotTableB!$A$3,\"SchoolName\",$B70,\"SubsidiaryName\",$C70,\"YearStart\",AI$13))),\"\")","v":0},60,{"$f":"IFERROR(IF(AL70=\".\",\".\",IF(AL70=\"n/a\",\"n/a\",\nGETPIVOTDATA(AM$21 & \"\",PivotTableB!$A$3,\"SchoolName\",$B70,\"SubsidiaryName\",$C70,\"YearStart\",AI$13))),\"\")","v":0},{"$f":"IFERROR(IF(AM70=\".\",\".\",IF(AM70=\"n/a\",\"n/a\",\nGETPIVOTDATA(AN$21 & \"\",PivotTableB!$A$3,\"SchoolName\",$B70,\"SubsidiaryName\",$C70,\"YearStart\",AI$13))),\"\")","v":311},{"$f":"IFERROR(IF($B70=\"\",\"\",\nIF(OR($L70=\"Nursery School\",$L70=\"All-through PRU\",$M70=\"True\"),\"n/a\",\nIF(GETPIVOTDATA(AO$21 & \"\",PivotTableB!$A$3,\"SchoolName\",$B70,\"SubsidiaryName\",$C70,\"YearStart\",AO$13)=\"\",\".\",\nGETPIVOTDATA(AO$21 & \"\",PivotTableB!$A$3,\"SchoolName\",$B70,\"SubsidiaryName\",$C70,\"YearStart\",AO$13)))),\"\")","v":60},{"$f":"IFERROR(IF(AO70=\".\",\".\",IF(AO70=\"n/a\",\"n/a\",\nGETPIVOTDATA(AP$21 & \"\",PivotTableB!$A$3,\"SchoolName\",$B70,\"SubsidiaryName\",$C70,\"YearStart\",AO$13))),\"\")","v":0},{"$f":"IFERROR(IF(AP70=\".\",\".\",IF(AP70=\"n/a\",\"n/a\",\nGETPIVOTDATA(AQ$21 & \"\",PivotTableB!$A$3,\"SchoolName\",$B70,\"SubsidiaryName\",$C70,\"YearStart\",AO$13))),\"\")","v":0},60,{"$f":"IFERROR(IF(AR70=\".\",\".\",IF(AR70=\"n/a\",\"n/a\",\nGETPIVOTDATA(AS$21 & \"\",PivotTableB!$A$3,\"SchoolName\",$B70,\"SubsidiaryName\",$C70,\"YearStart\",AO$13))),\"\")","v":0},{"$f":"IFERROR(IF(AS70=\".\",\".\",IF(AS70=\"n/a\",\"n/a\",\nGETPIVOTDATA(AT$21 & \"\",PivotTableB!$A$3,\"SchoolName\",$B70,\"SubsidiaryName\",$C70,\"YearStart\",AO$13))),\"\")","v":311},{"$f":"IFERROR(IF($B70=\"\",\"\",\nIF(OR($L70=\"Nursery School\",$L70=\"All-through PRU\",$M70=\"True\"),\"n/a\",\nIF(GETPIVOTDATA(AU$21 & \"\",PivotTableB!$A$3,\"SchoolName\",$B70,\"SubsidiaryName\",$C70,\"YearStart\",AU$13)=\"\",\".\",\nGETPIVOTDATA(AU$21 & \"\",PivotTableB!$A$3,\"SchoolName\",$B70,\"SubsidiaryName\",$C70,\"YearStart\",AU$13)))),\"\")","v":60},{"$f":"IFERROR(IF(AU70=\".\",\".\",IF(AU70=\"n/a\",\"n/a\",\nGETPIVOTDATA(AV$21 & \"\",PivotTableB!$A$3,\"SchoolName\",$B70,\"SubsidiaryName\",$C70,\"YearStart\",AU$13))),\"\")","v":0},{"$f":"IFERROR(IF(AV70=\".\",\".\",IF(AV70=\"n/a\",\"n/a\",\nGETPIVOTDATA(AW$21 & \"\",PivotTableB!$A$3,\"SchoolName\",$B70,\"SubsidiaryName\",$C70,\"YearStart\",AU$13))),\"\")","v":0},60,{"$f":"IFERROR(IF(AX70=\".\",\".\",IF(AX70=\"n/a\",\"n/a\",\nGETPIVOTDATA(AY$21 & \"\",PivotTableB!$A$3,\"SchoolName\",$B70,\"SubsidiaryName\",$C70,\"YearStart\",AU$13))),\"\")","v":0},{"$f":"IFERROR(IF(AY70=\".\",\".\",IF(AY70=\"n/a\",\"n/a\",\nGETPIVOTDATA(AZ$21 & \"\",PivotTableB!$A$3,\"SchoolName\",$B70,\"SubsidiaryName\",$C70,\"YearStart\",AU$13))),\"\")","v":311},{"$f":"IFERROR(IF($B70=\"\",\"\",\nIF(OR($L70=\"Nursery School\",$L70=\"All-through PRU\",$M70=\"True\"),\"n/a\",\nIF(GETPIVOTDATA(BA$21 & \"\",PivotTableB!$A$3,\"SchoolName\",$B70,\"SubsidiaryName\",$C70,\"YearStart\",BA$13)=\"\",\".\",\nGETPIVOTDATA(BA$21 & \"\",PivotTableB!$A$3,\"SchoolName\",$B70,\"SubsidiaryName\",$C70,\"YearStart\",BA$13)))),\"\")","v":60},{"$f":"IFERROR(IF(BA70=\".\",\".\",IF(BA70=\"n/a\",\"n/a\",\nGETPIVOTDATA(BB$21 & \"\",PivotTableB!$A$3,\"SchoolName\",$B70,\"SubsidiaryName\",$C70,\"YearStart\",BA$13))),\"\")","v":0},{"$f":"IFERROR(IF(BB70=\".\",\".\",IF(BB70=\"n/a\",\"n/a\",\nGETPIVOTDATA(BC$21 & \"\",PivotTableB!$A$3,\"SchoolName\",$B70,\"SubsidiaryName\",$C70,\"YearStart\",BA$13))),\"\")","v":0},{"$f":"IFERROR(IF(BC70=\".\",\".\",IF(BC70=\"n/a\",\"n/a\",\nGETPIVOTDATA(BD$21 & \"\",PivotTableB!$A$3,\"SchoolName\",$B70,\"SubsidiaryName\",$C70,\"YearStart\",BB$13))),\"\")","v":""},60,{"$f":"IFERROR(IF(BE70=\".\",\".\",IF(BE70=\"n/a\",\"n/a\",\nGETPIVOTDATA(BF$21 & \"\",PivotTableB!$A$3,\"SchoolName\",$B70,\"SubsidiaryName\",$C70,\"YearStart\",BA$13))),\"\")","v":0},{"$f":"IFERROR(IF(BF70=\".\",\".\",IF(BF70=\"n/a\",\"n/a\",\nGETPIVOTDATA(BG$21 & \"\",PivotTableB!$A$3,\"SchoolName\",$B70,\"SubsidiaryName\",$C70,\"YearStart\",BA$13))),\"\")","v":311},{"$f":"IFERROR(IF($B70=\"\",\"\",\nIF(OR($L70=\"Nursery School\",$L70=\"All-through PRU\",$M70=\"True\"),\"n/a\",\nIF(GETPIVOTDATA(BH$21 & \"\",PivotTableB!$A$3,\"SchoolName\",$B70,\"SubsidiaryName\",$C70,\"YearStart\",BH$13)=\"\",\".\",\nGETPIVOTDATA(BH$21 & \"\",PivotTableB!$A$3,\"SchoolName\",$B70,\"SubsidiaryName\",$C70,\"YearStart\",BH$13)))),\"\")","v":60},{"$f":"IFERROR(IF(BH70=\".\",\".\",IF(BH70=\"n/a\",\"n/a\",\nGETPIVOTDATA(BI$21 & \"\",PivotTableB!$A$3,\"SchoolName\",$B70,\"SubsidiaryName\",$C70,\"YearStart\",BH$13))),\"\")","v":0},{"$f":"IFERROR(IF(BI70=\".\",\".\",IF(BI70=\"n/a\",\"n/a\",\nGETPIVOTDATA(BJ$21 & \"\",PivotTableB!$A$3,\"SchoolName\",$B70,\"SubsidiaryName\",$C70,\"YearStart\",BH$13))),\"\")","v":0},{"$f":"IFERROR(IF(BJ70=\".\",\".\",IF(BJ70=\"n/a\",\"n/a\",\nGETPIVOTDATA(BK$21 & \"\",PivotTableB!$A$3,\"SchoolName\",$B70,\"SubsidiaryName\",$C70,\"YearStart\",BH$13))),\"\")","v":0},60,{"$f":"IFERROR(IF(BL70=\".\",\".\",IF(BL70=\"n/a\",\"n/a\",\nGETPIVOTDATA(BM$21 & \"\",PivotTableB!$A$3,\"SchoolName\",$B70,\"SubsidiaryName\",$C70,\"YearStart\",BH$13))),\"\")","v":0},{"$f":"IFERROR(IF(BM70=\".\",\".\",IF(BM70=\"n/a\",\"n/a\",\nGETPIVOTDATA(BN$21 & \"\",PivotTableB!$A$3,\"SchoolName\",$B70,\"SubsidiaryName\",$C70,\"YearStart\",BH$13))),\"\")","v":311},{"$f":"IFERROR(IF($B70=\"\",\"\",\nIF(OR($L70=\"Nursery School\",$L70=\"All-through PRU\",$M70=\"True\"),\"n/a\",\nIF(GETPIVOTDATA(BO$21 & \"\",PivotTableB!$A$3,\"SchoolName\",$B70,\"SubsidiaryName\",$C70,\"YearStart\",BO$13)=\"\",\".\",\nGETPIVOTDATA(BO$21 & \"\",PivotTableB!$A$3,\"SchoolName\",$B70,\"SubsidiaryName\",$C70,\"YearStart\",BO$13)))),\"\")","v":60},{"$f":"IFERROR(IF(BO70=\".\",\".\",IF(BO70=\"n/a\",\"n/a\",\nGETPIVOTDATA(BP$21 & \"\",PivotTableB!$A$3,\"SchoolName\",$B70,\"SubsidiaryName\",$C70,\"YearStart\",BO$13))),\"\")","v":0},{"$f":"IFERROR(IF(BP70=\".\",\".\",IF(BP70=\"n/a\",\"n/a\",\nGETPIVOTDATA(BQ$21 & \"\",PivotTableB!$A$3,\"SchoolName\",$B70,\"SubsidiaryName\",$C70,\"YearStart\",BO$13))),\"\")","v":0},{"$f":"IFERROR(IF(BQ70=\".\",\".\",IF(BQ70=\"n/a\",\"n/a\",\nGETPIVOTDATA(BR$21 & \"\",PivotTableB!$A$3,\"SchoolName\",$B70,\"SubsidiaryName\",$C70,\"YearStart\",BP$13))),\"\")","v":""},60,{"$f":"IFERROR(IF(BS70=\".\",\".\",IF(BS70=\"n/a\",\"n/a\",\nGETPIVOTDATA(BT$21 & \"\",PivotTableB!$A$3,\"SchoolName\",$B70,\"SubsidiaryName\",$C70,\"YearStart\",BO$13))),\"\")","v":0},{"$f":"IFERROR(IF(BT70=\".\",\".\",IF(BT70=\"n/a\",\"n/a\",\nGETPIVOTDATA(BU$21 & \"\",PivotTableB!$A$3,\"SchoolName\",$B70,\"SubsidiaryName\",$C70,\"YearStart\",BO$13))),\"\")","v":311},{"$f":"IFERROR(IF($B70=\"\",\"\",\nIF(OR($L70=\"Nursery School\",$L70=\"All-through PRU\",$M70=\"True\"),\"n/a\",\nIF(GETPIVOTDATA(BV$21 & \"\",PivotTableB!$A$3,\"SchoolName\",$B70,\"SubsidiaryName\",$C70,\"YearStart\",BV$13)=\"\",\".\",\nGETPIVOTDATA(BV$21 & \"\",PivotTableB!$A$3,\"SchoolName\",$B70,\"SubsidiaryName\",$C70,\"YearStart\",BV$13)))),\"\")","v":60},{"$f":"IFERROR(IF(BV70=\".\",\".\",IF(BV70=\"n/a\",\"n/a\",\nGETPIVOTDATA(BW$21 & \"\",PivotTableB!$A$3,\"SchoolName\",$B70,\"SubsidiaryName\",$C70,\"YearStart\",BV$13))),\"\")","v":0},{"$f":"IFERROR(IF(BW70=\".\",\".\",IF(BW70=\"n/a\",\"n/a\",\nGETPIVOTDATA(BX$21 & \"\",PivotTableB!$A$3,\"SchoolName\",$B70,\"SubsidiaryName\",$C70,\"YearStart\",BV$13))),\"\")","v":0},{"$f":"IFERROR(IF(BX70=\".\",\".\",IF(BX70=\"n/a\",\"n/a\",\nGETPIVOTDATA(BY$21 & \"\",PivotTableB!$A$3,\"SchoolName\",$B70,\"SubsidiaryName\",$C70,\"YearStart\",BV$13))),\"\")","v":0},60,{"$f":"IFERROR(IF(BZ70=\".\",\".\",IF(BZ70=\"n/a\",\"n/a\",\nGETPIVOTDATA(CA$21 & \"\",PivotTableB!$A$3,\"SchoolName\",$B70,\"SubsidiaryName\",$C70,\"YearStart\",BV$13))),\"\")","v":0},{"$f":"IFERROR(IF(CA70=\".\",\".\",IF(CA70=\"n/a\",\"n/a\",\nGETPIVOTDATA(CB$21 & \"\",PivotTableB!$A$3,\"SchoolName\",$B70,\"SubsidiaryName\",$C70,\"YearStart\",BV$13))),\"\")","v":311}]
[null,{"$f":"IF(PivotTableA!A58=\"\",\"n/a\",PivotTableA!A58)","v":"St Edward's Royal Free Ecumenical Middle School"},{"$f":"IF(B71=\"n/a\",\"\",PivotTableA!B58)","v":"St Edward's Royal Free Ecumenical Middle School"},{"$f":"IF($B71=\"n/a\",\"\",PivotTableA!C58)","v":"5"},{"$f":"IF($B71=\"n/a\",\"\",PivotTableA!D58)","v":"Windsor"},{"$f":"IF($B71=\"n/a\",\"\",PivotTableA!E58)","v":"Windsor North"},{"$f":"IF($B71=\"n/a\",\"\",PivotTableA!F58)","v":"Clewer Village"},{"$f":"IF($B71=\"n/a\",\"\",PivotTableA!G58)","v":"Clewer North"},{"$f":"IF($B71=\"n/a\",\"\",PivotTableA!H58)","v":"None"},{"$f":"IF($B71=\"n/a\",\"\",PivotTableA!I58)","v":"Secondary"},{"$f":"IF($B71=\"n/a\",\"\",PivotTableA!J58)","v":"Three Tier"},{"$f":"IF($B71=\"n/a\",\"\",PivotTableA!K58)","v":"Middle"},{"$f":"IF($B71=\"n/a\",\"\",PivotTableA!O58)","v":"FALSE"},{"$f":"IF($B71=\"n/a\",\"\",PivotTableA!L58)","v":"Voluntary Aided"},{"$f":"IF($B71=\"n/a\",\"\",PivotTableA!M58)","v":" "},{"$f":"IF($B71=\"n/a\",\"\",PivotTableA!N58)","v":"Ecumenical"},{"$f":"IFERROR(IF($B71=\"\",\"\",\nIF(OR($L71=\"Nursery School\",$L71=\"All-through PRU\",$M71=\"True\"),\"n/a\",\nIF(GETPIVOTDATA(Q$21 & \"\",PivotTableB!$A$3,\"SchoolName\",$B71,\"SubsidiaryName\",$C71,\"YearStart\",Q$13)=\"\",\".\",\nGETPIVOTDATA(Q$21 & \"\",PivotTableB!$A$3,\"SchoolName\",$B71,\"SubsidiaryName\",$C71,\"YearStart\",Q$13)))),\"\")","v":120},{"$f":"IFERROR(IF(Q71=\".\",\".\",IF(Q71=\"n/a\",\"n/a\",\nGETPIVOTDATA(R$21 & \"\",PivotTableB!$A$3,\"SchoolName\",$B71,\"SubsidiaryName\",$C71,\"YearStart\",Q$13))),\"\")","v":0},{"$f":"IFERROR(IF(R71=\".\",\".\",IF(R71=\"n/a\",\"n/a\",\nGETPIVOTDATA(S$21 & \"\",PivotTableB!$A$3,\"SchoolName\",$B71,\"SubsidiaryName\",$C71,\"YearStart\",Q$13))),\"\")","v":0},120,{"$f":"IFERROR(IF(T71=\".\",\".\",IF(T71=\"n/a\",\"n/a\",\nGETPIVOTDATA(U$21 & \"\",PivotTableB!$A$3,\"SchoolName\",$B71,\"SubsidiaryName\",$C71,\"YearStart\",Q$13))),\"\")","v":0},{"$f":"IFERROR(IF(U71=\".\",\".\",IF(U71=\"n/a\",\"n/a\",\nGETPIVOTDATA(V$21 & \"\",PivotTableB!$A$3,\"SchoolName\",$B71,\"SubsidiaryName\",$C71,\"YearStart\",Q$13))),\"\")","v":378},{"$f":"IFERROR(IF($B71=\"\",\"\",\nIF(OR($L71=\"Nursery School\",$L71=\"All-through PRU\",$M71=\"True\"),\"n/a\",\nIF(GETPIVOTDATA(W$21 & \"\",PivotTableB!$A$3,\"SchoolName\",$B71,\"SubsidiaryName\",$C71,\"YearStart\",W$13)=\"\",\".\",\nGETPIVOTDATA(W$21 & \"\",PivotTableB!$A$3,\"SchoolName\",$B71,\"SubsidiaryName\",$C71,\"YearStart\",W$13)))),\"\")","v":120},{"$f":"IFERROR(IF(W71=\".\",\".\",IF(W71=\"n/a\",\"n/a\",\nGETPIVOTDATA(X$21 & \"\",PivotTableB!$A$3,\"SchoolName\",$B71,\"SubsidiaryName\",$C71,\"YearStart\",W$13))),\"\")","v":0},{"$f":"IFERROR(IF(X71=\".\",\".\",IF(X71=\"n/a\",\"n/a\",\nGETPIVOTDATA(Y$21 & \"\",PivotTableB!$A$3,\"SchoolName\",$B71,\"SubsidiaryName\",$C71,\"YearStart\",W$13))),\"\")","v":0},120,{"$f":"IFERROR(IF(Z71=\".\",\".\",IF(Z71=\"n/a\",\"n/a\",\nGETPIVOTDATA(AA$21 & \"\",PivotTableB!$A$3,\"SchoolName\",$B71,\"SubsidiaryName\",$C71,\"YearStart\",W$13))),\"\")","v":0},{"$f":"IFERROR(IF(AA71=\".\",\".\",IF(AA71=\"n/a\",\"n/a\",\nGETPIVOTDATA(AB$21 & \"\",PivotTableB!$A$3,\"SchoolName\",$B71,\"SubsidiaryName\",$C71,\"YearStart\",W$13))),\"\")","v":480},{"$f":"IFERROR(IF($B71=\"\",\"\",\nIF(OR($L71=\"Nursery School\",$L71=\"All-through PRU\",$M71=\"True\"),\"n/a\",\nIF(GETPIVOTDATA(AC$21 & \"\",PivotTableB!$A$3,\"SchoolName\",$B71,\"SubsidiaryName\",$C71,\"YearStart\",AC$13)=\"\",\".\",\nGETPIVOTDATA(AC$21 & \"\",PivotTableB!$A$3,\"SchoolName\",$B71,\"SubsidiaryName\",$C71,\"YearStart\",AC$13)))),\"\")","v":120},{"$f":"IFERROR(IF(AC71=\".\",\".\",IF(AC71=\"n/a\",\"n/a\",\nGETPIVOTDATA(AD$21 & \"\",PivotTableB!$A$3,\"SchoolName\",$B71,\"SubsidiaryName\",$C71,\"YearStart\",AC$13))),\"\")","v":0},{"$f":"IFERROR(IF(AD71=\".\",\".\",IF(AD71=\"n/a\",\"n/a\",\nGETPIVOTDATA(AE$21 & \"\",PivotTableB!$A$3,\"SchoolName\",$B71,\"SubsidiaryName\",$C71,\"YearStart\",AC$13))),\"\")","v":0},120,{"$f":"IFERROR(IF(AF71=\".\",\".\",IF(AF71=\"n/a\",\"n/a\",\nGETPIVOTDATA(AG$21 & \"\",PivotTableB!$A$3,\"SchoolName\",$B71,\"SubsidiaryName\",$C71,\"YearStart\",AC$13))),\"\")","v":0},{"$f":"IFERROR(IF(AG71=\".\",\".\",IF(AG71=\"n/a\",\"n/a\",\nGETPIVOTDATA(AH$21 & \"\",PivotTableB!$A$3,\"SchoolName\",$B71,\"SubsidiaryName\",$C71,\"YearStart\",AC$13))),\"\")","v":480},{"$f":"IFERROR(IF($B71=\"\",\"\",\nIF(OR($L71=\"Nursery School\",$L71=\"All-through PRU\",$M71=\"True\"),\"n/a\",\nIF(GETPIVOTDATA(AI$21 & \"\",PivotTableB!$A$3,\"SchoolName\",$B71,\"SubsidiaryName\",$C71,\"YearStart\",AI$13)=\"\",\".\",\nGETPIVOTDATA(AI$21 & \"\",PivotTableB!$A$3,\"SchoolName\",$B71,\"SubsidiaryName\",$C71,\"YearStart\",AI$13)))),\"\")","v":120},{"$f":"IFERROR(IF(AI71=\".\",\".\",IF(AI71=\"n/a\",\"n/a\",\nGETPIVOTDATA(AJ$21 & \"\",PivotTableB!$A$3,\"SchoolName\",$B71,\"SubsidiaryName\",$C71,\"YearStart\",AI$13))),\"\")","v":0},{"$f":"IFERROR(IF(AJ71=\".\",\".\",IF(AJ71=\"n/a\",\"n/a\",\nGETPIVOTDATA(AK$21 & \"\",PivotTableB!$A$3,\"SchoolName\",$B71,\"SubsidiaryName\",$C71,\"YearStart\",AI$13))),\"\")","v":0},120,{"$f":"IFERROR(IF(AL71=\".\",\".\",IF(AL71=\"n/a\",\"n/a\",\nGETPIVOTDATA(AM$21 & \"\",PivotTableB!$A$3,\"SchoolName\",$B71,\"SubsidiaryName\",$C71,\"YearStart\",AI$13))),\"\")","v":0},{"$f":"IFERROR(IF(AM71=\".\",\".\",IF(AM71=\"n/a\",\"n/a\",\nGETPIVOTDATA(AN$21 & \"\",PivotTableB!$A$3,\"SchoolName\",$B71,\"SubsidiaryName\",$C71,\"YearStart\",AI$13))),\"\")","v":480},{"$f":"IFERROR(IF($B71=\"\",\"\",\nIF(OR($L71=\"Nursery School\",$L71=\"All-through PRU\",$M71=\"True\"),\"n/a\",\nIF(GETPIVOTDATA(AO$21 & \"\",PivotTableB!$A$3,\"SchoolName\",$B71,\"SubsidiaryName\",$C71,\"YearStart\",AO$13)=\"\",\".\",\nGETPIVOTDATA(AO$21 & \"\",PivotTableB!$A$3,\"SchoolName\",$B71,\"SubsidiaryName\",$C71,\"YearStart\",AO$13)))),\"\")","v":120},{"$f":"IFERROR(IF(AO71=\".\",\".\",IF(AO71=\"n/a\",\"n/a\",\nGETPIVOTDATA(AP$21 & \"\",PivotTableB!$A$3,\"SchoolName\",$B71,\"SubsidiaryName\",$C71,\"YearStart\",AO$13))),\"\")","v":0},{"$f":"IFERROR(IF(AP71=\".\",\".\",IF(AP71=\"n/a\",\"n/a\",\nGETPIVOTDATA(AQ$21 & \"\",PivotTableB!$A$3,\"SchoolName\",$B71,\"SubsidiaryName\",$C71,\"YearStart\",AO$13))),\"\")","v":0},120,{"$f":"IFERROR(IF(AR71=\".\",\".\",IF(AR71=\"n/a\",\"n/a\",\nGETPIVOTDATA(AS$21 & \"\",PivotTableB!$A$3,\"SchoolName\",$B71,\"SubsidiaryName\",$C71,\"YearStart\",AO$13))),\"\")","v":0},{"$f":"IFERROR(IF(AS71=\".\",\".\",IF(AS71=\"n/a\",\"n/a\",\nGETPIVOTDATA(AT$21 & \"\",PivotTableB!$A$3,\"SchoolName\",$B71,\"SubsidiaryName\",$C71,\"YearStart\",AO$13))),\"\")","v":480},{"$f":"IFERROR(IF($B71=\"\",\"\",\nIF(OR($L71=\"Nursery School\",$L71=\"All-through PRU\",$M71=\"True\"),\"n/a\",\nIF(GETPIVOTDATA(AU$21 & \"\",PivotTableB!$A$3,\"SchoolName\",$B71,\"SubsidiaryName\",$C71,\"YearStart\",AU$13)=\"\",\".\",\nGETPIVOTDATA(AU$21 & \"\",PivotTableB!$A$3,\"SchoolName\",$B71,\"SubsidiaryName\",$C71,\"YearStart\",AU$13)))),\"\")","v":120},{"$f":"IFERROR(IF(AU71=\".\",\".\",IF(AU71=\"n/a\",\"n/a\",\nGETPIVOTDATA(AV$21 & \"\",PivotTableB!$A$3,\"SchoolName\",$B71,\"SubsidiaryName\",$C71,\"YearStart\",AU$13))),\"\")","v":0},{"$f":"IFERROR(IF(AV71=\".\",\".\",IF(AV71=\"n/a\",\"n/a\",\nGETPIVOTDATA(AW$21 & \"\",PivotTableB!$A$3,\"SchoolName\",$B71,\"SubsidiaryName\",$C71,\"YearStart\",AU$13))),\"\")","v":0},120,{"$f":"IFERROR(IF(AX71=\".\",\".\",IF(AX71=\"n/a\",\"n/a\",\nGETPIVOTDATA(AY$21 & \"\",PivotTableB!$A$3,\"SchoolName\",$B71,\"SubsidiaryName\",$C71,\"YearStart\",AU$13))),\"\")","v":0},{"$f":"IFERROR(IF(AY71=\".\",\".\",IF(AY71=\"n/a\",\"n/a\",\nGETPIVOTDATA(AZ$21 & \"\",PivotTableB!$A$3,\"SchoolName\",$B71,\"SubsidiaryName\",$C71,\"YearStart\",AU$13))),\"\")","v":480},{"$f":"IFERROR(IF($B71=\"\",\"\",\nIF(OR($L71=\"Nursery School\",$L71=\"All-through PRU\",$M71=\"True\"),\"n/a\",\nIF(GETPIVOTDATA(BA$21 & \"\",PivotTableB!$A$3,\"SchoolName\",$B71,\"SubsidiaryName\",$C71,\"YearStart\",BA$13)=\"\",\".\",\nGETPIVOTDATA(BA$21 & \"\",PivotTableB!$A$3,\"SchoolName\",$B71,\"SubsidiaryName\",$C71,\"YearStart\",BA$13)))),\"\")","v":120},{"$f":"IFERROR(IF(BA71=\".\",\".\",IF(BA71=\"n/a\",\"n/a\",\nGETPIVOTDATA(BB$21 & \"\",PivotTableB!$A$3,\"SchoolName\",$B71,\"SubsidiaryName\",$C71,\"YearStart\",BA$13))),\"\")","v":0},{"$f":"IFERROR(IF(BB71=\".\",\".\",IF(BB71=\"n/a\",\"n/a\",\nGETPIVOTDATA(BC$21 & \"\",PivotTableB!$A$3,\"SchoolName\",$B71,\"SubsidiaryName\",$C71,\"YearStart\",BA$13))),\"\")","v":0},{"$f":"IFERROR(IF(BC71=\".\",\".\",IF(BC71=\"n/a\",\"n/a\",\nGETPIVOTDATA(BD$21 & \"\",PivotTableB!$A$3,\"SchoolName\",$B71,\"SubsidiaryName\",$C71,\"YearStart\",BB$13))),\"\")","v":""},120,{"$f":"IFERROR(IF(BE71=\".\",\".\",IF(BE71=\"n/a\",\"n/a\",\nGETPIVOTDATA(BF$21 & \"\",PivotTableB!$A$3,\"SchoolName\",$B71,\"SubsidiaryName\",$C71,\"YearStart\",BA$13))),\"\")","v":0},{"$f":"IFERROR(IF(BF71=\".\",\".\",IF(BF71=\"n/a\",\"n/a\",\nGETPIVOTDATA(BG$21 & \"\",PivotTableB!$A$3,\"SchoolName\",$B71,\"SubsidiaryName\",$C71,\"YearStart\",BA$13))),\"\")","v":480},{"$f":"IFERROR(IF($B71=\"\",\"\",\nIF(OR($L71=\"Nursery School\",$L71=\"All-through PRU\",$M71=\"True\"),\"n/a\",\nIF(GETPIVOTDATA(BH$21 & \"\",PivotTableB!$A$3,\"SchoolName\",$B71,\"SubsidiaryName\",$C71,\"YearStart\",BH$13)=\"\",\".\",\nGETPIVOTDATA(BH$21 & \"\",PivotTableB!$A$3,\"SchoolName\",$B71,\"SubsidiaryName\",$C71,\"YearStart\",BH$13)))),\"\")","v":120},{"$f":"IFERROR(IF(BH71=\".\",\".\",IF(BH71=\"n/a\",\"n/a\",\nGETPIVOTDATA(BI$21 & \"\",PivotTableB!$A$3,\"SchoolName\",$B71,\"SubsidiaryName\",$C71,\"YearStart\",BH$13))),\"\")","v":0},{"$f":"IFERROR(IF(BI71=\".\",\".\",IF(BI71=\"n/a\",\"n/a\",\nGETPIVOTDATA(BJ$21 & \"\",PivotTableB!$A$3,\"SchoolName\",$B71,\"SubsidiaryName\",$C71,\"YearStart\",BH$13))),\"\")","v":0},{"$f":"IFERROR(IF(BJ71=\".\",\".\",IF(BJ71=\"n/a\",\"n/a\",\nGETPIVOTDATA(BK$21 & \"\",PivotTableB!$A$3,\"SchoolName\",$B71,\"SubsidiaryName\",$C71,\"YearStart\",BH$13))),\"\")","v":0},120,{"$f":"IFERROR(IF(BL71=\".\",\".\",IF(BL71=\"n/a\",\"n/a\",\nGETPIVOTDATA(BM$21 & \"\",PivotTableB!$A$3,\"SchoolName\",$B71,\"SubsidiaryName\",$C71,\"YearStart\",BH$13))),\"\")","v":0},{"$f":"IFERROR(IF(BM71=\".\",\".\",IF(BM71=\"n/a\",\"n/a\",\nGETPIVOTDATA(BN$21 & \"\",PivotTableB!$A$3,\"SchoolName\",$B71,\"SubsidiaryName\",$C71,\"YearStart\",BH$13))),\"\")","v":480},{"$f":"IFERROR(IF($B71=\"\",\"\",\nIF(OR($L71=\"Nursery School\",$L71=\"All-through PRU\",$M71=\"True\"),\"n/a\",\nIF(GETPIVOTDATA(BO$21 & \"\",PivotTableB!$A$3,\"SchoolName\",$B71,\"SubsidiaryName\",$C71,\"YearStart\",BO$13)=\"\",\".\",\nGETPIVOTDATA(BO$21 & \"\",PivotTableB!$A$3,\"SchoolName\",$B71,\"SubsidiaryName\",$C71,\"YearStart\",BO$13)))),\"\")","v":120},{"$f":"IFERROR(IF(BO71=\".\",\".\",IF(BO71=\"n/a\",\"n/a\",\nGETPIVOTDATA(BP$21 & \"\",PivotTableB!$A$3,\"SchoolName\",$B71,\"SubsidiaryName\",$C71,\"YearStart\",BO$13))),\"\")","v":0},{"$f":"IFERROR(IF(BP71=\".\",\".\",IF(BP71=\"n/a\",\"n/a\",\nGETPIVOTDATA(BQ$21 & \"\",PivotTableB!$A$3,\"SchoolName\",$B71,\"SubsidiaryName\",$C71,\"YearStart\",BO$13))),\"\")","v":0},{"$f":"IFERROR(IF(BQ71=\".\",\".\",IF(BQ71=\"n/a\",\"n/a\",\nGETPIVOTDATA(BR$21 & \"\",PivotTableB!$A$3,\"SchoolName\",$B71,\"SubsidiaryName\",$C71,\"YearStart\",BP$13))),\"\")","v":""},120,{"$f":"IFERROR(IF(BS71=\".\",\".\",IF(BS71=\"n/a\",\"n/a\",\nGETPIVOTDATA(BT$21 & \"\",PivotTableB!$A$3,\"SchoolName\",$B71,\"SubsidiaryName\",$C71,\"YearStart\",BO$13))),\"\")","v":0},{"$f":"IFERROR(IF(BT71=\".\",\".\",IF(BT71=\"n/a\",\"n/a\",\nGETPIVOTDATA(BU$21 & \"\",PivotTableB!$A$3,\"SchoolName\",$B71,\"SubsidiaryName\",$C71,\"YearStart\",BO$13))),\"\")","v":480},{"$f":"IFERROR(IF($B71=\"\",\"\",\nIF(OR($L71=\"Nursery School\",$L71=\"All-through PRU\",$M71=\"True\"),\"n/a\",\nIF(GETPIVOTDATA(BV$21 & \"\",PivotTableB!$A$3,\"SchoolName\",$B71,\"SubsidiaryName\",$C71,\"YearStart\",BV$13)=\"\",\".\",\nGETPIVOTDATA(BV$21 & \"\",PivotTableB!$A$3,\"SchoolName\",$B71,\"SubsidiaryName\",$C71,\"YearStart\",BV$13)))),\"\")","v":120},{"$f":"IFERROR(IF(BV71=\".\",\".\",IF(BV71=\"n/a\",\"n/a\",\nGETPIVOTDATA(BW$21 & \"\",PivotTableB!$A$3,\"SchoolName\",$B71,\"SubsidiaryName\",$C71,\"YearStart\",BV$13))),\"\")","v":0},{"$f":"IFERROR(IF(BW71=\".\",\".\",IF(BW71=\"n/a\",\"n/a\",\nGETPIVOTDATA(BX$21 & \"\",PivotTableB!$A$3,\"SchoolName\",$B71,\"SubsidiaryName\",$C71,\"YearStart\",BV$13))),\"\")","v":0},{"$f":"IFERROR(IF(BX71=\".\",\".\",IF(BX71=\"n/a\",\"n/a\",\nGETPIVOTDATA(BY$21 & \"\",PivotTableB!$A$3,\"SchoolName\",$B71,\"SubsidiaryName\",$C71,\"YearStart\",BV$13))),\"\")","v":0},120,{"$f":"IFERROR(IF(BZ71=\".\",\".\",IF(BZ71=\"n/a\",\"n/a\",\nGETPIVOTDATA(CA$21 & \"\",PivotTableB!$A$3,\"SchoolName\",$B71,\"SubsidiaryName\",$C71,\"YearStart\",BV$13))),\"\")","v":0},{"$f":"IFERROR(IF(CA71=\".\",\".\",IF(CA71=\"n/a\",\"n/a\",\nGETPIVOTDATA(CB$21 & \"\",PivotTableB!$A$3,\"SchoolName\",$B71,\"SubsidiaryName\",$C71,\"YearStart\",BV$13))),\"\")","v":480}]
[null,{"$f":"IF(PivotTableA!A59=\"\",\"n/a\",PivotTableA!A59)","v":"St Francis Catholic Primary School"},{"$f":"IF(B72=\"n/a\",\"\",PivotTableA!B59)","v":"St Francis Catholic Primary School"},{"$f":"IF($B72=\"n/a\",\"\",PivotTableA!C59)","v":"R"},{"$f":"IF($B72=\"n/a\",\"\",PivotTableA!D59)","v":"Ascot"},{"$f":"IF($B72=\"n/a\",\"\",PivotTableA!E59)","v":"Ascot"},{"$f":"IF($B72=\"n/a\",\"\",PivotTableA!F59)","v":"South Ascot"},{"$f":"IF($B72=\"n/a\",\"\",PivotTableA!G59)","v":"Sunninghill & South Ascot"},{"$f":"IF($B72=\"n/a\",\"\",PivotTableA!H59)","v":"Sunninghill & Ascot"},{"$f":"IF($B72=\"n/a\",\"\",PivotTableA!I59)","v":"Primary"},{"$f":"IF($B72=\"n/a\",\"\",PivotTableA!J59)","v":"Two Tier"},{"$f":"IF($B72=\"n/a\",\"\",PivotTableA!K59)","v":"JMI"},{"$f":"IF($B72=\"n/a\",\"\",PivotTableA!O59)","v":"FALSE"},{"$f":"IF($B72=\"n/a\",\"\",PivotTableA!L59)","v":"Academy"},{"$f":"IF($B72=\"n/a\",\"\",PivotTableA!M59)","v":"2015-09-01"},{"$f":"IF($B72=\"n/a\",\"\",PivotTableA!N59)","v":"Roman Catholic"},{"$f":"IFERROR(IF($B72=\"\",\"\",\nIF(OR($L72=\"Nursery School\",$L72=\"All-through PRU\",$M72=\"True\"),\"n/a\",\nIF(GETPIVOTDATA(Q$21 & \"\",PivotTableB!$A$3,\"SchoolName\",$B72,\"SubsidiaryName\",$C72,\"YearStart\",Q$13)=\"\",\".\",\nGETPIVOTDATA(Q$21 & \"\",PivotTableB!$A$3,\"SchoolName\",$B72,\"SubsidiaryName\",$C72,\"YearStart\",Q$13)))),\"\")","v":30},{"$f":"IFERROR(IF(Q72=\".\",\".\",IF(Q72=\"n/a\",\"n/a\",\nGETPIVOTDATA(R$21 & \"\",PivotTableB!$A$3,\"SchoolName\",$B72,\"SubsidiaryName\",$C72,\"YearStart\",Q$13))),\"\")","v":0},{"$f":"IFERROR(IF(R72=\".\",\".\",IF(R72=\"n/a\",\"n/a\",\nGETPIVOTDATA(S$21 & \"\",PivotTableB!$A$3,\"SchoolName\",$B72,\"SubsidiaryName\",$C72,\"YearStart\",Q$13))),\"\")","v":0},30,{"$f":"IFERROR(IF(T72=\".\",\".\",IF(T72=\"n/a\",\"n/a\",\nGETPIVOTDATA(U$21 & \"\",PivotTableB!$A$3,\"SchoolName\",$B72,\"SubsidiaryName\",$C72,\"YearStart\",Q$13))),\"\")","v":0},{"$f":"IFERROR(IF(U72=\".\",\".\",IF(U72=\"n/a\",\"n/a\",\nGETPIVOTDATA(V$21 & \"\",PivotTableB!$A$3,\"SchoolName\",$B72,\"SubsidiaryName\",$C72,\"YearStart\",Q$13))),\"\")","v":210},{"$f":"IFERROR(IF($B72=\"\",\"\",\nIF(OR($L72=\"Nursery School\",$L72=\"All-through PRU\",$M72=\"True\"),\"n/a\",\nIF(GETPIVOTDATA(W$21 & \"\",PivotTableB!$A$3,\"SchoolName\",$B72,\"SubsidiaryName\",$C72,\"YearStart\",W$13)=\"\",\".\",\nGETPIVOTDATA(W$21 & \"\",PivotTableB!$A$3,\"SchoolName\",$B72,\"SubsidiaryName\",$C72,\"YearStart\",W$13)))),\"\")","v":30},{"$f":"IFERROR(IF(W72=\".\",\".\",IF(W72=\"n/a\",\"n/a\",\nGETPIVOTDATA(X$21 & \"\",PivotTableB!$A$3,\"SchoolName\",$B72,\"SubsidiaryName\",$C72,\"YearStart\",W$13))),\"\")","v":0},{"$f":"IFERROR(IF(X72=\".\",\".\",IF(X72=\"n/a\",\"n/a\",\nGETPIVOTDATA(Y$21 & \"\",PivotTableB!$A$3,\"SchoolName\",$B72,\"SubsidiaryName\",$C72,\"YearStart\",W$13))),\"\")","v":0},30,{"$f":"IFERROR(IF(Z72=\".\",\".\",IF(Z72=\"n/a\",\"n/a\",\nGETPIVOTDATA(AA$21 & \"\",PivotTableB!$A$3,\"SchoolName\",$B72,\"SubsidiaryName\",$C72,\"YearStart\",W$13))),\"\")","v":0},{"$f":"IFERROR(IF(AA72=\".\",\".\",IF(AA72=\"n/a\",\"n/a\",\nGETPIVOTDATA(AB$21 & \"\",PivotTableB!$A$3,\"SchoolName\",$B72,\"SubsidiaryName\",$C72,\"YearStart\",W$13))),\"\")","v":210},{"$f":"IFERROR(IF($B72=\"\",\"\",\nIF(OR($L72=\"Nursery School\",$L72=\"All-through PRU\",$M72=\"True\"),\"n/a\",\nIF(GETPIVOTDATA(AC$21 & \"\",PivotTableB!$A$3,\"SchoolName\",$B72,\"SubsidiaryName\",$C72,\"YearStart\",AC$13)=\"\",\".\",\nGETPIVOTDATA(AC$21 & \"\",PivotTableB!$A$3,\"SchoolName\",$B72,\"SubsidiaryName\",$C72,\"YearStart\",AC$13)))),\"\")","v":30},{"$f":"IFERROR(IF(AC72=\".\",\".\",IF(AC72=\"n/a\",\"n/a\",\nGETPIVOTDATA(AD$21 & \"\",PivotTableB!$A$3,\"SchoolName\",$B72,\"SubsidiaryName\",$C72,\"YearStart\",AC$13))),\"\")","v":0},{"$f":"IFERROR(IF(AD72=\".\",\".\",IF(AD72=\"n/a\",\"n/a\",\nGETPIVOTDATA(AE$21 & \"\",PivotTableB!$A$3,\"SchoolName\",$B72,\"SubsidiaryName\",$C72,\"YearStart\",AC$13))),\"\")","v":0},30,{"$f":"IFERROR(IF(AF72=\".\",\".\",IF(AF72=\"n/a\",\"n/a\",\nGETPIVOTDATA(AG$21 & \"\",PivotTableB!$A$3,\"SchoolName\",$B72,\"SubsidiaryName\",$C72,\"YearStart\",AC$13))),\"\")","v":0},{"$f":"IFERROR(IF(AG72=\".\",\".\",IF(AG72=\"n/a\",\"n/a\",\nGETPIVOTDATA(AH$21 & \"\",PivotTableB!$A$3,\"SchoolName\",$B72,\"SubsidiaryName\",$C72,\"YearStart\",AC$13))),\"\")","v":210},{"$f":"IFERROR(IF($B72=\"\",\"\",\nIF(OR($L72=\"Nursery School\",$L72=\"All-through PRU\",$M72=\"True\"),\"n/a\",\nIF(GETPIVOTDATA(AI$21 & \"\",PivotTableB!$A$3,\"SchoolName\",$B72,\"SubsidiaryName\",$C72,\"YearStart\",AI$13)=\"\",\".\",\nGETPIVOTDATA(AI$21 & \"\",PivotTableB!$A$3,\"SchoolName\",$B72,\"SubsidiaryName\",$C72,\"YearStart\",AI$13)))),\"\")","v":30},{"$f":"IFERROR(IF(AI72=\".\",\".\",IF(AI72=\"n/a\",\"n/a\",\nGETPIVOTDATA(AJ$21 & \"\",PivotTableB!$A$3,\"SchoolName\",$B72,\"SubsidiaryName\",$C72,\"YearStart\",AI$13))),\"\")","v":0},{"$f":"IFERROR(IF(AJ72=\".\",\".\",IF(AJ72=\"n/a\",\"n/a\",\nGETPIVOTDATA(AK$21 & \"\",PivotTableB!$A$3,\"SchoolName\",$B72,\"SubsidiaryName\",$C72,\"YearStart\",AI$13))),\"\")","v":0},30,{"$f":"IFERROR(IF(AL72=\".\",\".\",IF(AL72=\"n/a\",\"n/a\",\nGETPIVOTDATA(AM$21 & \"\",PivotTableB!$A$3,\"SchoolName\",$B72,\"SubsidiaryName\",$C72,\"YearStart\",AI$13))),\"\")","v":0},{"$f":"IFERROR(IF(AM72=\".\",\".\",IF(AM72=\"n/a\",\"n/a\",\nGETPIVOTDATA(AN$21 & \"\",PivotTableB!$A$3,\"SchoolName\",$B72,\"SubsidiaryName\",$C72,\"YearStart\",AI$13))),\"\")","v":210},{"$f":"IFERROR(IF($B72=\"\",\"\",\nIF(OR($L72=\"Nursery School\",$L72=\"All-through PRU\",$M72=\"True\"),\"n/a\",\nIF(GETPIVOTDATA(AO$21 & \"\",PivotTableB!$A$3,\"SchoolName\",$B72,\"SubsidiaryName\",$C72,\"YearStart\",AO$13)=\"\",\".\",\nGETPIVOTDATA(AO$21 & \"\",PivotTableB!$A$3,\"SchoolName\",$B72,\"SubsidiaryName\",$C72,\"YearStart\",AO$13)))),\"\")","v":30},{"$f":"IFERROR(IF(AO72=\".\",\".\",IF(AO72=\"n/a\",\"n/a\",\nGETPIVOTDATA(AP$21 & \"\",PivotTableB!$A$3,\"SchoolName\",$B72,\"SubsidiaryName\",$C72,\"YearStart\",AO$13))),\"\")","v":0},{"$f":"IFERROR(IF(AP72=\".\",\".\",IF(AP72=\"n/a\",\"n/a\",\nGETPIVOTDATA(AQ$21 & \"\",PivotTableB!$A$3,\"SchoolName\",$B72,\"SubsidiaryName\",$C72,\"YearStart\",AO$13))),\"\")","v":0},30,{"$f":"IFERROR(IF(AR72=\".\",\".\",IF(AR72=\"n/a\",\"n/a\",\nGETPIVOTDATA(AS$21 & \"\",PivotTableB!$A$3,\"SchoolName\",$B72,\"SubsidiaryName\",$C72,\"YearStart\",AO$13))),\"\")","v":0},{"$f":"IFERROR(IF(AS72=\".\",\".\",IF(AS72=\"n/a\",\"n/a\",\nGETPIVOTDATA(AT$21 & \"\",PivotTableB!$A$3,\"SchoolName\",$B72,\"SubsidiaryName\",$C72,\"YearStart\",AO$13))),\"\")","v":210},{"$f":"IFERROR(IF($B72=\"\",\"\",\nIF(OR($L72=\"Nursery School\",$L72=\"All-through PRU\",$M72=\"True\"),\"n/a\",\nIF(GETPIVOTDATA(AU$21 & \"\",PivotTableB!$A$3,\"SchoolName\",$B72,\"SubsidiaryName\",$C72,\"YearStart\",AU$13)=\"\",\".\",\nGETPIVOTDATA(AU$21 & \"\",PivotTableB!$A$3,\"SchoolName\",$B72,\"SubsidiaryName\",$C72,\"YearStart\",AU$13)))),\"\")","v":30},{"$f":"IFERROR(IF(AU72=\".\",\".\",IF(AU72=\"n/a\",\"n/a\",\nGETPIVOTDATA(AV$21 & \"\",PivotTableB!$A$3,\"SchoolName\",$B72,\"SubsidiaryName\",$C72,\"YearStart\",AU$13))),\"\")","v":0},{"$f":"IFERROR(IF(AV72=\".\",\".\",IF(AV72=\"n/a\",\"n/a\",\nGETPIVOTDATA(AW$21 & \"\",PivotTableB!$A$3,\"SchoolName\",$B72,\"SubsidiaryName\",$C72,\"YearStart\",AU$13))),\"\")","v":0},30,{"$f":"IFERROR(IF(AX72=\".\",\".\",IF(AX72=\"n/a\",\"n/a\",\nGETPIVOTDATA(AY$21 & \"\",PivotTableB!$A$3,\"SchoolName\",$B72,\"SubsidiaryName\",$C72,\"YearStart\",AU$13))),\"\")","v":0},{"$f":"IFERROR(IF(AY72=\".\",\".\",IF(AY72=\"n/a\",\"n/a\",\nGETPIVOTDATA(AZ$21 & \"\",PivotTableB!$A$3,\"SchoolName\",$B72,\"SubsidiaryName\",$C72,\"YearStart\",AU$13))),\"\")","v":210},{"$f":"IFERROR(IF($B72=\"\",\"\",\nIF(OR($L72=\"Nursery School\",$L72=\"All-through PRU\",$M72=\"True\"),\"n/a\",\nIF(GETPIVOTDATA(BA$21 & \"\",PivotTableB!$A$3,\"SchoolName\",$B72,\"SubsidiaryName\",$C72,\"YearStart\",BA$13)=\"\",\".\",\nGETPIVOTDATA(BA$21 & \"\",PivotTableB!$A$3,\"SchoolName\",$B72,\"SubsidiaryName\",$C72,\"YearStart\",BA$13)))),\"\")","v":30},{"$f":"IFERROR(IF(BA72=\".\",\".\",IF(BA72=\"n/a\",\"n/a\",\nGETPIVOTDATA(BB$21 & \"\",PivotTableB!$A$3,\"SchoolName\",$B72,\"SubsidiaryName\",$C72,\"YearStart\",BA$13))),\"\")","v":0},{"$f":"IFERROR(IF(BB72=\".\",\".\",IF(BB72=\"n/a\",\"n/a\",\nGETPIVOTDATA(BC$21 & \"\",PivotTableB!$A$3,\"SchoolName\",$B72,\"SubsidiaryName\",$C72,\"YearStart\",BA$13))),\"\")","v":0},{"$f":"IFERROR(IF(BC72=\".\",\".\",IF(BC72=\"n/a\",\"n/a\",\nGETPIVOTDATA(BD$21 & \"\",PivotTableB!$A$3,\"SchoolName\",$B72,\"SubsidiaryName\",$C72,\"YearStart\",BB$13))),\"\")","v":""},30,{"$f":"IFERROR(IF(BE72=\".\",\".\",IF(BE72=\"n/a\",\"n/a\",\nGETPIVOTDATA(BF$21 & \"\",PivotTableB!$A$3,\"SchoolName\",$B72,\"SubsidiaryName\",$C72,\"YearStart\",BA$13))),\"\")","v":0},{"$f":"IFERROR(IF(BF72=\".\",\".\",IF(BF72=\"n/a\",\"n/a\",\nGETPIVOTDATA(BG$21 & \"\",PivotTableB!$A$3,\"SchoolName\",$B72,\"SubsidiaryName\",$C72,\"YearStart\",BA$13))),\"\")","v":210},{"$f":"IFERROR(IF($B72=\"\",\"\",\nIF(OR($L72=\"Nursery School\",$L72=\"All-through PRU\",$M72=\"True\"),\"n/a\",\nIF(GETPIVOTDATA(BH$21 & \"\",PivotTableB!$A$3,\"SchoolName\",$B72,\"SubsidiaryName\",$C72,\"YearStart\",BH$13)=\"\",\".\",\nGETPIVOTDATA(BH$21 & \"\",PivotTableB!$A$3,\"SchoolName\",$B72,\"SubsidiaryName\",$C72,\"YearStart\",BH$13)))),\"\")","v":30},{"$f":"IFERROR(IF(BH72=\".\",\".\",IF(BH72=\"n/a\",\"n/a\",\nGETPIVOTDATA(BI$21 & \"\",PivotTableB!$A$3,\"SchoolName\",$B72,\"SubsidiaryName\",$C72,\"YearStart\",BH$13))),\"\")","v":0},{"$f":"IFERROR(IF(BI72=\".\",\".\",IF(BI72=\"n/a\",\"n/a\",\nGETPIVOTDATA(BJ$21 & \"\",PivotTableB!$A$3,\"SchoolName\",$B72,\"SubsidiaryName\",$C72,\"YearStart\",BH$13))),\"\")","v":0},{"$f":"IFERROR(IF(BJ72=\".\",\".\",IF(BJ72=\"n/a\",\"n/a\",\nGETPIVOTDATA(BK$21 & \"\",PivotTableB!$A$3,\"SchoolName\",$B72,\"SubsidiaryName\",$C72,\"YearStart\",BH$13))),\"\")","v":0},30,{"$f":"IFERROR(IF(BL72=\".\",\".\",IF(BL72=\"n/a\",\"n/a\",\nGETPIVOTDATA(BM$21 & \"\",PivotTableB!$A$3,\"SchoolName\",$B72,\"SubsidiaryName\",$C72,\"YearStart\",BH$13))),\"\")","v":0},{"$f":"IFERROR(IF(BM72=\".\",\".\",IF(BM72=\"n/a\",\"n/a\",\nGETPIVOTDATA(BN$21 & \"\",PivotTableB!$A$3,\"SchoolName\",$B72,\"SubsidiaryName\",$C72,\"YearStart\",BH$13))),\"\")","v":210},{"$f":"IFERROR(IF($B72=\"\",\"\",\nIF(OR($L72=\"Nursery School\",$L72=\"All-through PRU\",$M72=\"True\"),\"n/a\",\nIF(GETPIVOTDATA(BO$21 & \"\",PivotTableB!$A$3,\"SchoolName\",$B72,\"SubsidiaryName\",$C72,\"YearStart\",BO$13)=\"\",\".\",\nGETPIVOTDATA(BO$21 & \"\",PivotTableB!$A$3,\"SchoolName\",$B72,\"SubsidiaryName\",$C72,\"YearStart\",BO$13)))),\"\")","v":30},{"$f":"IFERROR(IF(BO72=\".\",\".\",IF(BO72=\"n/a\",\"n/a\",\nGETPIVOTDATA(BP$21 & \"\",PivotTableB!$A$3,\"SchoolName\",$B72,\"SubsidiaryName\",$C72,\"YearStart\",BO$13))),\"\")","v":0},{"$f":"IFERROR(IF(BP72=\".\",\".\",IF(BP72=\"n/a\",\"n/a\",\nGETPIVOTDATA(BQ$21 & \"\",PivotTableB!$A$3,\"SchoolName\",$B72,\"SubsidiaryName\",$C72,\"YearStart\",BO$13))),\"\")","v":0},{"$f":"IFERROR(IF(BQ72=\".\",\".\",IF(BQ72=\"n/a\",\"n/a\",\nGETPIVOTDATA(BR$21 & \"\",PivotTableB!$A$3,\"SchoolName\",$B72,\"SubsidiaryName\",$C72,\"YearStart\",BP$13))),\"\")","v":""},30,{"$f":"IFERROR(IF(BS72=\".\",\".\",IF(BS72=\"n/a\",\"n/a\",\nGETPIVOTDATA(BT$21 & \"\",PivotTableB!$A$3,\"SchoolName\",$B72,\"SubsidiaryName\",$C72,\"YearStart\",BO$13))),\"\")","v":0},{"$f":"IFERROR(IF(BT72=\".\",\".\",IF(BT72=\"n/a\",\"n/a\",\nGETPIVOTDATA(BU$21 & \"\",PivotTableB!$A$3,\"SchoolName\",$B72,\"SubsidiaryName\",$C72,\"YearStart\",BO$13))),\"\")","v":210},{"$f":"IFERROR(IF($B72=\"\",\"\",\nIF(OR($L72=\"Nursery School\",$L72=\"All-through PRU\",$M72=\"True\"),\"n/a\",\nIF(GETPIVOTDATA(BV$21 & \"\",PivotTableB!$A$3,\"SchoolName\",$B72,\"SubsidiaryName\",$C72,\"YearStart\",BV$13)=\"\",\".\",\nGETPIVOTDATA(BV$21 & \"\",PivotTableB!$A$3,\"SchoolName\",$B72,\"SubsidiaryName\",$C72,\"YearStart\",BV$13)))),\"\")","v":30},{"$f":"IFERROR(IF(BV72=\".\",\".\",IF(BV72=\"n/a\",\"n/a\",\nGETPIVOTDATA(BW$21 & \"\",PivotTableB!$A$3,\"SchoolName\",$B72,\"SubsidiaryName\",$C72,\"YearStart\",BV$13))),\"\")","v":0},{"$f":"IFERROR(IF(BW72=\".\",\".\",IF(BW72=\"n/a\",\"n/a\",\nGETPIVOTDATA(BX$21 & \"\",PivotTableB!$A$3,\"SchoolName\",$B72,\"SubsidiaryName\",$C72,\"YearStart\",BV$13))),\"\")","v":0},{"$f":"IFERROR(IF(BX72=\".\",\".\",IF(BX72=\"n/a\",\"n/a\",\nGETPIVOTDATA(BY$21 & \"\",PivotTableB!$A$3,\"SchoolName\",$B72,\"SubsidiaryName\",$C72,\"YearStart\",BV$13))),\"\")","v":0},30,{"$f":"IFERROR(IF(BZ72=\".\",\".\",IF(BZ72=\"n/a\",\"n/a\",\nGETPIVOTDATA(CA$21 & \"\",PivotTableB!$A$3,\"SchoolName\",$B72,\"SubsidiaryName\",$C72,\"YearStart\",BV$13))),\"\")","v":0},{"$f":"IFERROR(IF(CA72=\".\",\".\",IF(CA72=\"n/a\",\"n/a\",\nGETPIVOTDATA(CB$21 & \"\",PivotTableB!$A$3,\"SchoolName\",$B72,\"SubsidiaryName\",$C72,\"YearStart\",BV$13))),\"\")","v":210}]
[null,{"$f":"IF(PivotTableA!A60=\"\",\"n/a\",PivotTableA!A60)","v":"St Luke's Church of England Primary School"},{"$f":"IF(B73=\"n/a\",\"\",PivotTableA!B60)","v":"St Luke's Church of England Primary School"},{"$f":"IF($B73=\"n/a\",\"\",PivotTableA!C60)","v":"R"},{"$f":"IF($B73=\"n/a\",\"\",PivotTableA!D60)","v":"Maidenhead"},{"$f":"IF($B73=\"n/a\",\"\",PivotTableA!E60)","v":"North East Maidenhead"},{"$f":"IF($B73=\"n/a\",\"\",PivotTableA!F60)","v":"St Luke's"},{"$f":"IF($B73=\"n/a\",\"\",PivotTableA!G60)","v":"Maidenhead Riverside"},{"$f":"IF($B73=\"n/a\",\"\",PivotTableA!H60)","v":"None"},{"$f":"IF($B73=\"n/a\",\"\",PivotTableA!I60)","v":"Primary"},{"$f":"IF($B73=\"n/a\",\"\",PivotTableA!J60)","v":"Two Tier"},{"$f":"IF($B73=\"n/a\",\"\",PivotTableA!K60)","v":"JMI"},{"$f":"IF($B73=\"n/a\",\"\",PivotTableA!O60)","v":"FALSE"},{"$f":"IF($B73=\"n/a\",\"\",PivotTableA!L60)","v":"Academy"},{"$f":"IF($B73=\"n/a\",\"\",PivotTableA!M60)","v":"2014-12-01"},{"$f":"IF($B73=\"n/a\",\"\",PivotTableA!N60)","v":"Church of England"},{"$f":"IFERROR(IF($B73=\"\",\"\",\nIF(OR($L73=\"Nursery School\",$L73=\"All-through PRU\",$M73=\"True\"),\"n/a\",\nIF(GETPIVOTDATA(Q$21 & \"\",PivotTableB!$A$3,\"SchoolName\",$B73,\"SubsidiaryName\",$C73,\"YearStart\",Q$13)=\"\",\".\",\nGETPIVOTDATA(Q$21 & \"\",PivotTableB!$A$3,\"SchoolName\",$B73,\"SubsidiaryName\",$C73,\"YearStart\",Q$13)))),\"\")","v":45},{"$f":"IFERROR(IF(Q73=\".\",\".\",IF(Q73=\"n/a\",\"n/a\",\nGETPIVOTDATA(R$21 & \"\",PivotTableB!$A$3,\"SchoolName\",$B73,\"SubsidiaryName\",$C73,\"YearStart\",Q$13))),\"\")","v":0},{"$f":"IFERROR(IF(R73=\".\",\".\",IF(R73=\"n/a\",\"n/a\",\nGETPIVOTDATA(S$21 & \"\",PivotTableB!$A$3,\"SchoolName\",$B73,\"SubsidiaryName\",$C73,\"YearStart\",Q$13))),\"\")","v":0},45,{"$f":"IFERROR(IF(T73=\".\",\".\",IF(T73=\"n/a\",\"n/a\",\nGETPIVOTDATA(U$21 & \"\",PivotTableB!$A$3,\"SchoolName\",$B73,\"SubsidiaryName\",$C73,\"YearStart\",Q$13))),\"\")","v":0},{"$f":"IFERROR(IF(U73=\".\",\".\",IF(U73=\"n/a\",\"n/a\",\nGETPIVOTDATA(V$21 & \"\",PivotTableB!$A$3,\"SchoolName\",$B73,\"SubsidiaryName\",$C73,\"YearStart\",Q$13))),\"\")","v":315},{"$f":"IFERROR(IF($B73=\"\",\"\",\nIF(OR($L73=\"Nursery School\",$L73=\"All-through PRU\",$M73=\"True\"),\"n/a\",\nIF(GETPIVOTDATA(W$21 & \"\",PivotTableB!$A$3,\"SchoolName\",$B73,\"SubsidiaryName\",$C73,\"YearStart\",W$13)=\"\",\".\",\nGETPIVOTDATA(W$21 & \"\",PivotTableB!$A$3,\"SchoolName\",$B73,\"SubsidiaryName\",$C73,\"YearStart\",W$13)))),\"\")","v":45},{"$f":"IFERROR(IF(W73=\".\",\".\",IF(W73=\"n/a\",\"n/a\",\nGETPIVOTDATA(X$21 & \"\",PivotTableB!$A$3,\"SchoolName\",$B73,\"SubsidiaryName\",$C73,\"YearStart\",W$13))),\"\")","v":0},{"$f":"IFERROR(IF(X73=\".\",\".\",IF(X73=\"n/a\",\"n/a\",\nGETPIVOTDATA(Y$21 & \"\",PivotTableB!$A$3,\"SchoolName\",$B73,\"SubsidiaryName\",$C73,\"YearStart\",W$13))),\"\")","v":0},45,{"$f":"IFERROR(IF(Z73=\".\",\".\",IF(Z73=\"n/a\",\"n/a\",\nGETPIVOTDATA(AA$21 & \"\",PivotTableB!$A$3,\"SchoolName\",$B73,\"SubsidiaryName\",$C73,\"YearStart\",W$13))),\"\")","v":0},{"$f":"IFERROR(IF(AA73=\".\",\".\",IF(AA73=\"n/a\",\"n/a\",\nGETPIVOTDATA(AB$21 & \"\",PivotTableB!$A$3,\"SchoolName\",$B73,\"SubsidiaryName\",$C73,\"YearStart\",W$13))),\"\")","v":315},{"$f":"IFERROR(IF($B73=\"\",\"\",\nIF(OR($L73=\"Nursery School\",$L73=\"All-through PRU\",$M73=\"True\"),\"n/a\",\nIF(GETPIVOTDATA(AC$21 & \"\",PivotTableB!$A$3,\"SchoolName\",$B73,\"SubsidiaryName\",$C73,\"YearStart\",AC$13)=\"\",\".\",\nGETPIVOTDATA(AC$21 & \"\",PivotTableB!$A$3,\"SchoolName\",$B73,\"SubsidiaryName\",$C73,\"YearStart\",AC$13)))),\"\")","v":45},{"$f":"IFERROR(IF(AC73=\".\",\".\",IF(AC73=\"n/a\",\"n/a\",\nGETPIVOTDATA(AD$21 & \"\",PivotTableB!$A$3,\"SchoolName\",$B73,\"SubsidiaryName\",$C73,\"YearStart\",AC$13))),\"\")","v":0},{"$f":"IFERROR(IF(AD73=\".\",\".\",IF(AD73=\"n/a\",\"n/a\",\nGETPIVOTDATA(AE$21 & \"\",PivotTableB!$A$3,\"SchoolName\",$B73,\"SubsidiaryName\",$C73,\"YearStart\",AC$13))),\"\")","v":0},45,{"$f":"IFERROR(IF(AF73=\".\",\".\",IF(AF73=\"n/a\",\"n/a\",\nGETPIVOTDATA(AG$21 & \"\",PivotTableB!$A$3,\"SchoolName\",$B73,\"SubsidiaryName\",$C73,\"YearStart\",AC$13))),\"\")","v":0},{"$f":"IFERROR(IF(AG73=\".\",\".\",IF(AG73=\"n/a\",\"n/a\",\nGETPIVOTDATA(AH$21 & \"\",PivotTableB!$A$3,\"SchoolName\",$B73,\"SubsidiaryName\",$C73,\"YearStart\",AC$13))),\"\")","v":315},{"$f":"IFERROR(IF($B73=\"\",\"\",\nIF(OR($L73=\"Nursery School\",$L73=\"All-through PRU\",$M73=\"True\"),\"n/a\",\nIF(GETPIVOTDATA(AI$21 & \"\",PivotTableB!$A$3,\"SchoolName\",$B73,\"SubsidiaryName\",$C73,\"YearStart\",AI$13)=\"\",\".\",\nGETPIVOTDATA(AI$21 & \"\",PivotTableB!$A$3,\"SchoolName\",$B73,\"SubsidiaryName\",$C73,\"YearStart\",AI$13)))),\"\")","v":45},{"$f":"IFERROR(IF(AI73=\".\",\".\",IF(AI73=\"n/a\",\"n/a\",\nGETPIVOTDATA(AJ$21 & \"\",PivotTableB!$A$3,\"SchoolName\",$B73,\"SubsidiaryName\",$C73,\"YearStart\",AI$13))),\"\")","v":0},{"$f":"IFERROR(IF(AJ73=\".\",\".\",IF(AJ73=\"n/a\",\"n/a\",\nGETPIVOTDATA(AK$21 & \"\",PivotTableB!$A$3,\"SchoolName\",$B73,\"SubsidiaryName\",$C73,\"YearStart\",AI$13))),\"\")","v":0},45,{"$f":"IFERROR(IF(AL73=\".\",\".\",IF(AL73=\"n/a\",\"n/a\",\nGETPIVOTDATA(AM$21 & \"\",PivotTableB!$A$3,\"SchoolName\",$B73,\"SubsidiaryName\",$C73,\"YearStart\",AI$13))),\"\")","v":0},{"$f":"IFERROR(IF(AM73=\".\",\".\",IF(AM73=\"n/a\",\"n/a\",\nGETPIVOTDATA(AN$21 & \"\",PivotTableB!$A$3,\"SchoolName\",$B73,\"SubsidiaryName\",$C73,\"YearStart\",AI$13))),\"\")","v":315},{"$f":"IFERROR(IF($B73=\"\",\"\",\nIF(OR($L73=\"Nursery School\",$L73=\"All-through PRU\",$M73=\"True\"),\"n/a\",\nIF(GETPIVOTDATA(AO$21 & \"\",PivotTableB!$A$3,\"SchoolName\",$B73,\"SubsidiaryName\",$C73,\"YearStart\",AO$13)=\"\",\".\",\nGETPIVOTDATA(AO$21 & \"\",PivotTableB!$A$3,\"SchoolName\",$B73,\"SubsidiaryName\",$C73,\"YearStart\",AO$13)))),\"\")","v":45},{"$f":"IFERROR(IF(AO73=\".\",\".\",IF(AO73=\"n/a\",\"n/a\",\nGETPIVOTDATA(AP$21 & \"\",PivotTableB!$A$3,\"SchoolName\",$B73,\"SubsidiaryName\",$C73,\"YearStart\",AO$13))),\"\")","v":0},{"$f":"IFERROR(IF(AP73=\".\",\".\",IF(AP73=\"n/a\",\"n/a\",\nGETPIVOTDATA(AQ$21 & \"\",PivotTableB!$A$3,\"SchoolName\",$B73,\"SubsidiaryName\",$C73,\"YearStart\",AO$13))),\"\")","v":0},45,{"$f":"IFERROR(IF(AR73=\".\",\".\",IF(AR73=\"n/a\",\"n/a\",\nGETPIVOTDATA(AS$21 & \"\",PivotTableB!$A$3,\"SchoolName\",$B73,\"SubsidiaryName\",$C73,\"YearStart\",AO$13))),\"\")","v":0},{"$f":"IFERROR(IF(AS73=\".\",\".\",IF(AS73=\"n/a\",\"n/a\",\nGETPIVOTDATA(AT$21 & \"\",PivotTableB!$A$3,\"SchoolName\",$B73,\"SubsidiaryName\",$C73,\"YearStart\",AO$13))),\"\")","v":315},{"$f":"IFERROR(IF($B73=\"\",\"\",\nIF(OR($L73=\"Nursery School\",$L73=\"All-through PRU\",$M73=\"True\"),\"n/a\",\nIF(GETPIVOTDATA(AU$21 & \"\",PivotTableB!$A$3,\"SchoolName\",$B73,\"SubsidiaryName\",$C73,\"YearStart\",AU$13)=\"\",\".\",\nGETPIVOTDATA(AU$21 & \"\",PivotTableB!$A$3,\"SchoolName\",$B73,\"SubsidiaryName\",$C73,\"YearStart\",AU$13)))),\"\")","v":45},{"$f":"IFERROR(IF(AU73=\".\",\".\",IF(AU73=\"n/a\",\"n/a\",\nGETPIVOTDATA(AV$21 & \"\",PivotTableB!$A$3,\"SchoolName\",$B73,\"SubsidiaryName\",$C73,\"YearStart\",AU$13))),\"\")","v":0},{"$f":"IFERROR(IF(AV73=\".\",\".\",IF(AV73=\"n/a\",\"n/a\",\nGETPIVOTDATA(AW$21 & \"\",PivotTableB!$A$3,\"SchoolName\",$B73,\"SubsidiaryName\",$C73,\"YearStart\",AU$13))),\"\")","v":0},45,{"$f":"IFERROR(IF(AX73=\".\",\".\",IF(AX73=\"n/a\",\"n/a\",\nGETPIVOTDATA(AY$21 & \"\",PivotTableB!$A$3,\"SchoolName\",$B73,\"SubsidiaryName\",$C73,\"YearStart\",AU$13))),\"\")","v":0},{"$f":"IFERROR(IF(AY73=\".\",\".\",IF(AY73=\"n/a\",\"n/a\",\nGETPIVOTDATA(AZ$21 & \"\",PivotTableB!$A$3,\"SchoolName\",$B73,\"SubsidiaryName\",$C73,\"YearStart\",AU$13))),\"\")","v":315},{"$f":"IFERROR(IF($B73=\"\",\"\",\nIF(OR($L73=\"Nursery School\",$L73=\"All-through PRU\",$M73=\"True\"),\"n/a\",\nIF(GETPIVOTDATA(BA$21 & \"\",PivotTableB!$A$3,\"SchoolName\",$B73,\"SubsidiaryName\",$C73,\"YearStart\",BA$13)=\"\",\".\",\nGETPIVOTDATA(BA$21 & \"\",PivotTableB!$A$3,\"SchoolName\",$B73,\"SubsidiaryName\",$C73,\"YearStart\",BA$13)))),\"\")","v":45},{"$f":"IFERROR(IF(BA73=\".\",\".\",IF(BA73=\"n/a\",\"n/a\",\nGETPIVOTDATA(BB$21 & \"\",PivotTableB!$A$3,\"SchoolName\",$B73,\"SubsidiaryName\",$C73,\"YearStart\",BA$13))),\"\")","v":0},{"$f":"IFERROR(IF(BB73=\".\",\".\",IF(BB73=\"n/a\",\"n/a\",\nGETPIVOTDATA(BC$21 & \"\",PivotTableB!$A$3,\"SchoolName\",$B73,\"SubsidiaryName\",$C73,\"YearStart\",BA$13))),\"\")","v":0},{"$f":"IFERROR(IF(BC73=\".\",\".\",IF(BC73=\"n/a\",\"n/a\",\nGETPIVOTDATA(BD$21 & \"\",PivotTableB!$A$3,\"SchoolName\",$B73,\"SubsidiaryName\",$C73,\"YearStart\",BB$13))),\"\")","v":""},45,{"$f":"IFERROR(IF(BE73=\".\",\".\",IF(BE73=\"n/a\",\"n/a\",\nGETPIVOTDATA(BF$21 & \"\",PivotTableB!$A$3,\"SchoolName\",$B73,\"SubsidiaryName\",$C73,\"YearStart\",BA$13))),\"\")","v":0},{"$f":"IFERROR(IF(BF73=\".\",\".\",IF(BF73=\"n/a\",\"n/a\",\nGETPIVOTDATA(BG$21 & \"\",PivotTableB!$A$3,\"SchoolName\",$B73,\"SubsidiaryName\",$C73,\"YearStart\",BA$13))),\"\")","v":315},{"$f":"IFERROR(IF($B73=\"\",\"\",\nIF(OR($L73=\"Nursery School\",$L73=\"All-through PRU\",$M73=\"True\"),\"n/a\",\nIF(GETPIVOTDATA(BH$21 & \"\",PivotTableB!$A$3,\"SchoolName\",$B73,\"SubsidiaryName\",$C73,\"YearStart\",BH$13)=\"\",\".\",\nGETPIVOTDATA(BH$21 & \"\",PivotTableB!$A$3,\"SchoolName\",$B73,\"SubsidiaryName\",$C73,\"YearStart\",BH$13)))),\"\")","v":45},{"$f":"IFERROR(IF(BH73=\".\",\".\",IF(BH73=\"n/a\",\"n/a\",\nGETPIVOTDATA(BI$21 & \"\",PivotTableB!$A$3,\"SchoolName\",$B73,\"SubsidiaryName\",$C73,\"YearStart\",BH$13))),\"\")","v":0},{"$f":"IFERROR(IF(BI73=\".\",\".\",IF(BI73=\"n/a\",\"n/a\",\nGETPIVOTDATA(BJ$21 & \"\",PivotTableB!$A$3,\"SchoolName\",$B73,\"SubsidiaryName\",$C73,\"YearStart\",BH$13))),\"\")","v":0},{"$f":"IFERROR(IF(BJ73=\".\",\".\",IF(BJ73=\"n/a\",\"n/a\",\nGETPIVOTDATA(BK$21 & \"\",PivotTableB!$A$3,\"SchoolName\",$B73,\"SubsidiaryName\",$C73,\"YearStart\",BH$13))),\"\")","v":0},45,{"$f":"IFERROR(IF(BL73=\".\",\".\",IF(BL73=\"n/a\",\"n/a\",\nGETPIVOTDATA(BM$21 & \"\",PivotTableB!$A$3,\"SchoolName\",$B73,\"SubsidiaryName\",$C73,\"YearStart\",BH$13))),\"\")","v":0},{"$f":"IFERROR(IF(BM73=\".\",\".\",IF(BM73=\"n/a\",\"n/a\",\nGETPIVOTDATA(BN$21 & \"\",PivotTableB!$A$3,\"SchoolName\",$B73,\"SubsidiaryName\",$C73,\"YearStart\",BH$13))),\"\")","v":315},{"$f":"IFERROR(IF($B73=\"\",\"\",\nIF(OR($L73=\"Nursery School\",$L73=\"All-through PRU\",$M73=\"True\"),\"n/a\",\nIF(GETPIVOTDATA(BO$21 & \"\",PivotTableB!$A$3,\"SchoolName\",$B73,\"SubsidiaryName\",$C73,\"YearStart\",BO$13)=\"\",\".\",\nGETPIVOTDATA(BO$21 & \"\",PivotTableB!$A$3,\"SchoolName\",$B73,\"SubsidiaryName\",$C73,\"YearStart\",BO$13)))),\"\")","v":45},{"$f":"IFERROR(IF(BO73=\".\",\".\",IF(BO73=\"n/a\",\"n/a\",\nGETPIVOTDATA(BP$21 & \"\",PivotTableB!$A$3,\"SchoolName\",$B73,\"SubsidiaryName\",$C73,\"YearStart\",BO$13))),\"\")","v":0},{"$f":"IFERROR(IF(BP73=\".\",\".\",IF(BP73=\"n/a\",\"n/a\",\nGETPIVOTDATA(BQ$21 & \"\",PivotTableB!$A$3,\"SchoolName\",$B73,\"SubsidiaryName\",$C73,\"YearStart\",BO$13))),\"\")","v":0},{"$f":"IFERROR(IF(BQ73=\".\",\".\",IF(BQ73=\"n/a\",\"n/a\",\nGETPIVOTDATA(BR$21 & \"\",PivotTableB!$A$3,\"SchoolName\",$B73,\"SubsidiaryName\",$C73,\"YearStart\",BP$13))),\"\")","v":""},45,{"$f":"IFERROR(IF(BS73=\".\",\".\",IF(BS73=\"n/a\",\"n/a\",\nGETPIVOTDATA(BT$21 & \"\",PivotTableB!$A$3,\"SchoolName\",$B73,\"SubsidiaryName\",$C73,\"YearStart\",BO$13))),\"\")","v":0},{"$f":"IFERROR(IF(BT73=\".\",\".\",IF(BT73=\"n/a\",\"n/a\",\nGETPIVOTDATA(BU$21 & \"\",PivotTableB!$A$3,\"SchoolName\",$B73,\"SubsidiaryName\",$C73,\"YearStart\",BO$13))),\"\")","v":315},{"$f":"IFERROR(IF($B73=\"\",\"\",\nIF(OR($L73=\"Nursery School\",$L73=\"All-through PRU\",$M73=\"True\"),\"n/a\",\nIF(GETPIVOTDATA(BV$21 & \"\",PivotTableB!$A$3,\"SchoolName\",$B73,\"SubsidiaryName\",$C73,\"YearStart\",BV$13)=\"\",\".\",\nGETPIVOTDATA(BV$21 & \"\",PivotTableB!$A$3,\"SchoolName\",$B73,\"SubsidiaryName\",$C73,\"YearStart\",BV$13)))),\"\")","v":45},{"$f":"IFERROR(IF(BV73=\".\",\".\",IF(BV73=\"n/a\",\"n/a\",\nGETPIVOTDATA(BW$21 & \"\",PivotTableB!$A$3,\"SchoolName\",$B73,\"SubsidiaryName\",$C73,\"YearStart\",BV$13))),\"\")","v":0},{"$f":"IFERROR(IF(BW73=\".\",\".\",IF(BW73=\"n/a\",\"n/a\",\nGETPIVOTDATA(BX$21 & \"\",PivotTableB!$A$3,\"SchoolName\",$B73,\"SubsidiaryName\",$C73,\"YearStart\",BV$13))),\"\")","v":0},{"$f":"IFERROR(IF(BX73=\".\",\".\",IF(BX73=\"n/a\",\"n/a\",\nGETPIVOTDATA(BY$21 & \"\",PivotTableB!$A$3,\"SchoolName\",$B73,\"SubsidiaryName\",$C73,\"YearStart\",BV$13))),\"\")","v":0},45,{"$f":"IFERROR(IF(BZ73=\".\",\".\",IF(BZ73=\"n/a\",\"n/a\",\nGETPIVOTDATA(CA$21 & \"\",PivotTableB!$A$3,\"SchoolName\",$B73,\"SubsidiaryName\",$C73,\"YearStart\",BV$13))),\"\")","v":0},{"$f":"IFERROR(IF(CA73=\".\",\".\",IF(CA73=\"n/a\",\"n/a\",\nGETPIVOTDATA(CB$21 & \"\",PivotTableB!$A$3,\"SchoolName\",$B73,\"SubsidiaryName\",$C73,\"YearStart\",BV$13))),\"\")","v":315}]
[null,{"$f":"IF(PivotTableA!A61=\"\",\"n/a\",PivotTableA!A61)","v":"St Mary's Catholic Primary School"},{"$f":"IF(B74=\"n/a\",\"\",PivotTableA!B61)","v":"St Mary's Catholic Primary School"},{"$f":"IF($B74=\"n/a\",\"\",PivotTableA!C61)","v":"R"},{"$f":"IF($B74=\"n/a\",\"\",PivotTableA!D61)","v":"Maidenhead"},{"$f":"IF($B74=\"n/a\",\"\",PivotTableA!E61)","v":"North East Maidenhead"},{"$f":"IF($B74=\"n/a\",\"\",PivotTableA!F61)","v":"St Luke's"},{"$f":"IF($B74=\"n/a\",\"\",PivotTableA!G61)","v":"Maidenhead Riverside"},{"$f":"IF($B74=\"n/a\",\"\",PivotTableA!H61)","v":"None"},{"$f":"IF($B74=\"n/a\",\"\",PivotTableA!I61)","v":"Primary"},{"$f":"IF($B74=\"n/a\",\"\",PivotTableA!J61)","v":"Two Tier"},{"$f":"IF($B74=\"n/a\",\"\",PivotTableA!K61)","v":"JMI"},{"$f":"IF($B74=\"n/a\",\"\",PivotTableA!O61)","v":"FALSE"},{"$f":"IF($B74=\"n/a\",\"\",PivotTableA!L61)","v":"Academy"},{"$f":"IF($B74=\"n/a\",\"\",PivotTableA!M61)","v":"2013-07-01"},{"$f":"IF($B74=\"n/a\",\"\",PivotTableA!N61)","v":"Roman Catholic"},{"$f":"IFERROR(IF($B74=\"\",\"\",\nIF(OR($L74=\"Nursery School\",$L74=\"All-through PRU\",$M74=\"True\"),\"n/a\",\nIF(GETPIVOTDATA(Q$21 & \"\",PivotTableB!$A$3,\"SchoolName\",$B74,\"SubsidiaryName\",$C74,\"YearStart\",Q$13)=\"\",\".\",\nGETPIVOTDATA(Q$21 & \"\",PivotTableB!$A$3,\"SchoolName\",$B74,\"SubsidiaryName\",$C74,\"YearStart\",Q$13)))),\"\")","v":45},{"$f":"IFERROR(IF(Q74=\".\",\".\",IF(Q74=\"n/a\",\"n/a\",\nGETPIVOTDATA(R$21 & \"\",PivotTableB!$A$3,\"SchoolName\",$B74,\"SubsidiaryName\",$C74,\"YearStart\",Q$13))),\"\")","v":0},{"$f":"IFERROR(IF(R74=\".\",\".\",IF(R74=\"n/a\",\"n/a\",\nGETPIVOTDATA(S$21 & \"\",PivotTableB!$A$3,\"SchoolName\",$B74,\"SubsidiaryName\",$C74,\"YearStart\",Q$13))),\"\")","v":0},45,{"$f":"IFERROR(IF(T74=\".\",\".\",IF(T74=\"n/a\",\"n/a\",\nGETPIVOTDATA(U$21 & \"\",PivotTableB!$A$3,\"SchoolName\",$B74,\"SubsidiaryName\",$C74,\"YearStart\",Q$13))),\"\")","v":0},{"$f":"IFERROR(IF(U74=\".\",\".\",IF(U74=\"n/a\",\"n/a\",\nGETPIVOTDATA(V$21 & \"\",PivotTableB!$A$3,\"SchoolName\",$B74,\"SubsidiaryName\",$C74,\"YearStart\",Q$13))),\"\")","v":315},{"$f":"IFERROR(IF($B74=\"\",\"\",\nIF(OR($L74=\"Nursery School\",$L74=\"All-through PRU\",$M74=\"True\"),\"n/a\",\nIF(GETPIVOTDATA(W$21 & \"\",PivotTableB!$A$3,\"SchoolName\",$B74,\"SubsidiaryName\",$C74,\"YearStart\",W$13)=\"\",\".\",\nGETPIVOTDATA(W$21 & \"\",PivotTableB!$A$3,\"SchoolName\",$B74,\"SubsidiaryName\",$C74,\"YearStart\",W$13)))),\"\")","v":45},{"$f":"IFERROR(IF(W74=\".\",\".\",IF(W74=\"n/a\",\"n/a\",\nGETPIVOTDATA(X$21 & \"\",PivotTableB!$A$3,\"SchoolName\",$B74,\"SubsidiaryName\",$C74,\"YearStart\",W$13))),\"\")","v":0},{"$f":"IFERROR(IF(X74=\".\",\".\",IF(X74=\"n/a\",\"n/a\",\nGETPIVOTDATA(Y$21 & \"\",PivotTableB!$A$3,\"SchoolName\",$B74,\"SubsidiaryName\",$C74,\"YearStart\",W$13))),\"\")","v":0},45,{"$f":"IFERROR(IF(Z74=\".\",\".\",IF(Z74=\"n/a\",\"n/a\",\nGETPIVOTDATA(AA$21 & \"\",PivotTableB!$A$3,\"SchoolName\",$B74,\"SubsidiaryName\",$C74,\"YearStart\",W$13))),\"\")","v":0},{"$f":"IFERROR(IF(AA74=\".\",\".\",IF(AA74=\"n/a\",\"n/a\",\nGETPIVOTDATA(AB$21 & \"\",PivotTableB!$A$3,\"SchoolName\",$B74,\"SubsidiaryName\",$C74,\"YearStart\",W$13))),\"\")","v":315},{"$f":"IFERROR(IF($B74=\"\",\"\",\nIF(OR($L74=\"Nursery School\",$L74=\"All-through PRU\",$M74=\"True\"),\"n/a\",\nIF(GETPIVOTDATA(AC$21 & \"\",PivotTableB!$A$3,\"SchoolName\",$B74,\"SubsidiaryName\",$C74,\"YearStart\",AC$13)=\"\",\".\",\nGETPIVOTDATA(AC$21 & \"\",PivotTableB!$A$3,\"SchoolName\",$B74,\"SubsidiaryName\",$C74,\"YearStart\",AC$13)))),\"\")","v":45},{"$f":"IFERROR(IF(AC74=\".\",\".\",IF(AC74=\"n/a\",\"n/a\",\nGETPIVOTDATA(AD$21 & \"\",PivotTableB!$A$3,\"SchoolName\",$B74,\"SubsidiaryName\",$C74,\"YearStart\",AC$13))),\"\")","v":0},{"$f":"IFERROR(IF(AD74=\".\",\".\",IF(AD74=\"n/a\",\"n/a\",\nGETPIVOTDATA(AE$21 & \"\",PivotTableB!$A$3,\"SchoolName\",$B74,\"SubsidiaryName\",$C74,\"YearStart\",AC$13))),\"\")","v":0},45,{"$f":"IFERROR(IF(AF74=\".\",\".\",IF(AF74=\"n/a\",\"n/a\",\nGETPIVOTDATA(AG$21 & \"\",PivotTableB!$A$3,\"SchoolName\",$B74,\"SubsidiaryName\",$C74,\"YearStart\",AC$13))),\"\")","v":0},{"$f":"IFERROR(IF(AG74=\".\",\".\",IF(AG74=\"n/a\",\"n/a\",\nGETPIVOTDATA(AH$21 & \"\",PivotTableB!$A$3,\"SchoolName\",$B74,\"SubsidiaryName\",$C74,\"YearStart\",AC$13))),\"\")","v":315},{"$f":"IFERROR(IF($B74=\"\",\"\",\nIF(OR($L74=\"Nursery School\",$L74=\"All-through PRU\",$M74=\"True\"),\"n/a\",\nIF(GETPIVOTDATA(AI$21 & \"\",PivotTableB!$A$3,\"SchoolName\",$B74,\"SubsidiaryName\",$C74,\"YearStart\",AI$13)=\"\",\".\",\nGETPIVOTDATA(AI$21 & \"\",PivotTableB!$A$3,\"SchoolName\",$B74,\"SubsidiaryName\",$C74,\"YearStart\",AI$13)))),\"\")","v":45},{"$f":"IFERROR(IF(AI74=\".\",\".\",IF(AI74=\"n/a\",\"n/a\",\nGETPIVOTDATA(AJ$21 & \"\",PivotTableB!$A$3,\"SchoolName\",$B74,\"SubsidiaryName\",$C74,\"YearStart\",AI$13))),\"\")","v":0},{"$f":"IFERROR(IF(AJ74=\".\",\".\",IF(AJ74=\"n/a\",\"n/a\",\nGETPIVOTDATA(AK$21 & \"\",PivotTableB!$A$3,\"SchoolName\",$B74,\"SubsidiaryName\",$C74,\"YearStart\",AI$13))),\"\")","v":0},45,{"$f":"IFERROR(IF(AL74=\".\",\".\",IF(AL74=\"n/a\",\"n/a\",\nGETPIVOTDATA(AM$21 & \"\",PivotTableB!$A$3,\"SchoolName\",$B74,\"SubsidiaryName\",$C74,\"YearStart\",AI$13))),\"\")","v":0},{"$f":"IFERROR(IF(AM74=\".\",\".\",IF(AM74=\"n/a\",\"n/a\",\nGETPIVOTDATA(AN$21 & \"\",PivotTableB!$A$3,\"SchoolName\",$B74,\"SubsidiaryName\",$C74,\"YearStart\",AI$13))),\"\")","v":315},{"$f":"IFERROR(IF($B74=\"\",\"\",\nIF(OR($L74=\"Nursery School\",$L74=\"All-through PRU\",$M74=\"True\"),\"n/a\",\nIF(GETPIVOTDATA(AO$21 & \"\",PivotTableB!$A$3,\"SchoolName\",$B74,\"SubsidiaryName\",$C74,\"YearStart\",AO$13)=\"\",\".\",\nGETPIVOTDATA(AO$21 & \"\",PivotTableB!$A$3,\"SchoolName\",$B74,\"SubsidiaryName\",$C74,\"YearStart\",AO$13)))),\"\")","v":45},{"$f":"IFERROR(IF(AO74=\".\",\".\",IF(AO74=\"n/a\",\"n/a\",\nGETPIVOTDATA(AP$21 & \"\",PivotTableB!$A$3,\"SchoolName\",$B74,\"SubsidiaryName\",$C74,\"YearStart\",AO$13))),\"\")","v":0},{"$f":"IFERROR(IF(AP74=\".\",\".\",IF(AP74=\"n/a\",\"n/a\",\nGETPIVOTDATA(AQ$21 & \"\",PivotTableB!$A$3,\"SchoolName\",$B74,\"SubsidiaryName\",$C74,\"YearStart\",AO$13))),\"\")","v":0},45,{"$f":"IFERROR(IF(AR74=\".\",\".\",IF(AR74=\"n/a\",\"n/a\",\nGETPIVOTDATA(AS$21 & \"\",PivotTableB!$A$3,\"SchoolName\",$B74,\"SubsidiaryName\",$C74,\"YearStart\",AO$13))),\"\")","v":0},{"$f":"IFERROR(IF(AS74=\".\",\".\",IF(AS74=\"n/a\",\"n/a\",\nGETPIVOTDATA(AT$21 & \"\",PivotTableB!$A$3,\"SchoolName\",$B74,\"SubsidiaryName\",$C74,\"YearStart\",AO$13))),\"\")","v":315},{"$f":"IFERROR(IF($B74=\"\",\"\",\nIF(OR($L74=\"Nursery School\",$L74=\"All-through PRU\",$M74=\"True\"),\"n/a\",\nIF(GETPIVOTDATA(AU$21 & \"\",PivotTableB!$A$3,\"SchoolName\",$B74,\"SubsidiaryName\",$C74,\"YearStart\",AU$13)=\"\",\".\",\nGETPIVOTDATA(AU$21 & \"\",PivotTableB!$A$3,\"SchoolName\",$B74,\"SubsidiaryName\",$C74,\"YearStart\",AU$13)))),\"\")","v":45},{"$f":"IFERROR(IF(AU74=\".\",\".\",IF(AU74=\"n/a\",\"n/a\",\nGETPIVOTDATA(AV$21 & \"\",PivotTableB!$A$3,\"SchoolName\",$B74,\"SubsidiaryName\",$C74,\"YearStart\",AU$13))),\"\")","v":0},{"$f":"IFERROR(IF(AV74=\".\",\".\",IF(AV74=\"n/a\",\"n/a\",\nGETPIVOTDATA(AW$21 & \"\",PivotTableB!$A$3,\"SchoolName\",$B74,\"SubsidiaryName\",$C74,\"YearStart\",AU$13))),\"\")","v":0},45,{"$f":"IFERROR(IF(AX74=\".\",\".\",IF(AX74=\"n/a\",\"n/a\",\nGETPIVOTDATA(AY$21 & \"\",PivotTableB!$A$3,\"SchoolName\",$B74,\"SubsidiaryName\",$C74,\"YearStart\",AU$13))),\"\")","v":0},{"$f":"IFERROR(IF(AY74=\".\",\".\",IF(AY74=\"n/a\",\"n/a\",\nGETPIVOTDATA(AZ$21 & \"\",PivotTableB!$A$3,\"SchoolName\",$B74,\"SubsidiaryName\",$C74,\"YearStart\",AU$13))),\"\")","v":315},{"$f":"IFERROR(IF($B74=\"\",\"\",\nIF(OR($L74=\"Nursery School\",$L74=\"All-through PRU\",$M74=\"True\"),\"n/a\",\nIF(GETPIVOTDATA(BA$21 & \"\",PivotTableB!$A$3,\"SchoolName\",$B74,\"SubsidiaryName\",$C74,\"YearStart\",BA$13)=\"\",\".\",\nGETPIVOTDATA(BA$21 & \"\",PivotTableB!$A$3,\"SchoolName\",$B74,\"SubsidiaryName\",$C74,\"YearStart\",BA$13)))),\"\")","v":45},{"$f":"IFERROR(IF(BA74=\".\",\".\",IF(BA74=\"n/a\",\"n/a\",\nGETPIVOTDATA(BB$21 & \"\",PivotTableB!$A$3,\"SchoolName\",$B74,\"SubsidiaryName\",$C74,\"YearStart\",BA$13))),\"\")","v":0},{"$f":"IFERROR(IF(BB74=\".\",\".\",IF(BB74=\"n/a\",\"n/a\",\nGETPIVOTDATA(BC$21 & \"\",PivotTableB!$A$3,\"SchoolName\",$B74,\"SubsidiaryName\",$C74,\"YearStart\",BA$13))),\"\")","v":0},{"$f":"IFERROR(IF(BC74=\".\",\".\",IF(BC74=\"n/a\",\"n/a\",\nGETPIVOTDATA(BD$21 & \"\",PivotTableB!$A$3,\"SchoolName\",$B74,\"SubsidiaryName\",$C74,\"YearStart\",BB$13))),\"\")","v":""},45,{"$f":"IFERROR(IF(BE74=\".\",\".\",IF(BE74=\"n/a\",\"n/a\",\nGETPIVOTDATA(BF$21 & \"\",PivotTableB!$A$3,\"SchoolName\",$B74,\"SubsidiaryName\",$C74,\"YearStart\",BA$13))),\"\")","v":0},{"$f":"IFERROR(IF(BF74=\".\",\".\",IF(BF74=\"n/a\",\"n/a\",\nGETPIVOTDATA(BG$21 & \"\",PivotTableB!$A$3,\"SchoolName\",$B74,\"SubsidiaryName\",$C74,\"YearStart\",BA$13))),\"\")","v":315},{"$f":"IFERROR(IF($B74=\"\",\"\",\nIF(OR($L74=\"Nursery School\",$L74=\"All-through PRU\",$M74=\"True\"),\"n/a\",\nIF(GETPIVOTDATA(BH$21 & \"\",PivotTableB!$A$3,\"SchoolName\",$B74,\"SubsidiaryName\",$C74,\"YearStart\",BH$13)=\"\",\".\",\nGETPIVOTDATA(BH$21 & \"\",PivotTableB!$A$3,\"SchoolName\",$B74,\"SubsidiaryName\",$C74,\"YearStart\",BH$13)))),\"\")","v":45},{"$f":"IFERROR(IF(BH74=\".\",\".\",IF(BH74=\"n/a\",\"n/a\",\nGETPIVOTDATA(BI$21 & \"\",PivotTableB!$A$3,\"SchoolName\",$B74,\"SubsidiaryName\",$C74,\"YearStart\",BH$13))),\"\")","v":0},{"$f":"IFERROR(IF(BI74=\".\",\".\",IF(BI74=\"n/a\",\"n/a\",\nGETPIVOTDATA(BJ$21 & \"\",PivotTableB!$A$3,\"SchoolName\",$B74,\"SubsidiaryName\",$C74,\"YearStart\",BH$13))),\"\")","v":0},{"$f":"IFERROR(IF(BJ74=\".\",\".\",IF(BJ74=\"n/a\",\"n/a\",\nGETPIVOTDATA(BK$21 & \"\",PivotTableB!$A$3,\"SchoolName\",$B74,\"SubsidiaryName\",$C74,\"YearStart\",BH$13))),\"\")","v":0},45,{"$f":"IFERROR(IF(BL74=\".\",\".\",IF(BL74=\"n/a\",\"n/a\",\nGETPIVOTDATA(BM$21 & \"\",PivotTableB!$A$3,\"SchoolName\",$B74,\"SubsidiaryName\",$C74,\"YearStart\",BH$13))),\"\")","v":0},{"$f":"IFERROR(IF(BM74=\".\",\".\",IF(BM74=\"n/a\",\"n/a\",\nGETPIVOTDATA(BN$21 & \"\",PivotTableB!$A$3,\"SchoolName\",$B74,\"SubsidiaryName\",$C74,\"YearStart\",BH$13))),\"\")","v":315},{"$f":"IFERROR(IF($B74=\"\",\"\",\nIF(OR($L74=\"Nursery School\",$L74=\"All-through PRU\",$M74=\"True\"),\"n/a\",\nIF(GETPIVOTDATA(BO$21 & \"\",PivotTableB!$A$3,\"SchoolName\",$B74,\"SubsidiaryName\",$C74,\"YearStart\",BO$13)=\"\",\".\",\nGETPIVOTDATA(BO$21 & \"\",PivotTableB!$A$3,\"SchoolName\",$B74,\"SubsidiaryName\",$C74,\"YearStart\",BO$13)))),\"\")","v":45},{"$f":"IFERROR(IF(BO74=\".\",\".\",IF(BO74=\"n/a\",\"n/a\",\nGETPIVOTDATA(BP$21 & \"\",PivotTableB!$A$3,\"SchoolName\",$B74,\"SubsidiaryName\",$C74,\"YearStart\",BO$13))),\"\")","v":0},{"$f":"IFERROR(IF(BP74=\".\",\".\",IF(BP74=\"n/a\",\"n/a\",\nGETPIVOTDATA(BQ$21 & \"\",PivotTableB!$A$3,\"SchoolName\",$B74,\"SubsidiaryName\",$C74,\"YearStart\",BO$13))),\"\")","v":0},{"$f":"IFERROR(IF(BQ74=\".\",\".\",IF(BQ74=\"n/a\",\"n/a\",\nGETPIVOTDATA(BR$21 & \"\",PivotTableB!$A$3,\"SchoolName\",$B74,\"SubsidiaryName\",$C74,\"YearStart\",BP$13))),\"\")","v":""},45,{"$f":"IFERROR(IF(BS74=\".\",\".\",IF(BS74=\"n/a\",\"n/a\",\nGETPIVOTDATA(BT$21 & \"\",PivotTableB!$A$3,\"SchoolName\",$B74,\"SubsidiaryName\",$C74,\"YearStart\",BO$13))),\"\")","v":0},{"$f":"IFERROR(IF(BT74=\".\",\".\",IF(BT74=\"n/a\",\"n/a\",\nGETPIVOTDATA(BU$21 & \"\",PivotTableB!$A$3,\"SchoolName\",$B74,\"SubsidiaryName\",$C74,\"YearStart\",BO$13))),\"\")","v":315},{"$f":"IFERROR(IF($B74=\"\",\"\",\nIF(OR($L74=\"Nursery School\",$L74=\"All-through PRU\",$M74=\"True\"),\"n/a\",\nIF(GETPIVOTDATA(BV$21 & \"\",PivotTableB!$A$3,\"SchoolName\",$B74,\"SubsidiaryName\",$C74,\"YearStart\",BV$13)=\"\",\".\",\nGETPIVOTDATA(BV$21 & \"\",PivotTableB!$A$3,\"SchoolName\",$B74,\"SubsidiaryName\",$C74,\"YearStart\",BV$13)))),\"\")","v":45},{"$f":"IFERROR(IF(BV74=\".\",\".\",IF(BV74=\"n/a\",\"n/a\",\nGETPIVOTDATA(BW$21 & \"\",PivotTableB!$A$3,\"SchoolName\",$B74,\"SubsidiaryName\",$C74,\"YearStart\",BV$13))),\"\")","v":0},{"$f":"IFERROR(IF(BW74=\".\",\".\",IF(BW74=\"n/a\",\"n/a\",\nGETPIVOTDATA(BX$21 & \"\",PivotTableB!$A$3,\"SchoolName\",$B74,\"SubsidiaryName\",$C74,\"YearStart\",BV$13))),\"\")","v":0},{"$f":"IFERROR(IF(BX74=\".\",\".\",IF(BX74=\"n/a\",\"n/a\",\nGETPIVOTDATA(BY$21 & \"\",PivotTableB!$A$3,\"SchoolName\",$B74,\"SubsidiaryName\",$C74,\"YearStart\",BV$13))),\"\")","v":0},45,{"$f":"IFERROR(IF(BZ74=\".\",\".\",IF(BZ74=\"n/a\",\"n/a\",\nGETPIVOTDATA(CA$21 & \"\",PivotTableB!$A$3,\"SchoolName\",$B74,\"SubsidiaryName\",$C74,\"YearStart\",BV$13))),\"\")","v":0},{"$f":"IFERROR(IF(CA74=\".\",\".\",IF(CA74=\"n/a\",\"n/a\",\nGETPIVOTDATA(CB$21 & \"\",PivotTableB!$A$3,\"SchoolName\",$B74,\"SubsidiaryName\",$C74,\"YearStart\",BV$13))),\"\")","v":315}]
[null,{"$f":"IF(PivotTableA!A62=\"\",\"n/a\",PivotTableA!A62)","v":"St Michael's C of E Primary School, Sunninghill"},{"$f":"IF(B75=\"n/a\",\"\",PivotTableA!B62)","v":"St Michael's C of E Primary School, Sunninghill"},{"$f":"IF($B75=\"n/a\",\"\",PivotTableA!C62)","v":"R"},{"$f":"IF($B75=\"n/a\",\"\",PivotTableA!D62)","v":"Ascot"},{"$f":"IF($B75=\"n/a\",\"\",PivotTableA!E62)","v":"Ascot"},{"$f":"IF($B75=\"n/a\",\"\",PivotTableA!F62)","v":"Sunninghill"},{"$f":"IF($B75=\"n/a\",\"\",PivotTableA!G62)","v":"Sunninghill & South Ascot"},{"$f":"IF($B75=\"n/a\",\"\",PivotTableA!H62)","v":"Sunninghill & Ascot"},{"$f":"IF($B75=\"n/a\",\"\",PivotTableA!I62)","v":"Primary"},{"$f":"IF($B75=\"n/a\",\"\",PivotTableA!J62)","v":"Two Tier"},{"$f":"IF($B75=\"n/a\",\"\",PivotTableA!K62)","v":"JMI"},{"$f":"IF($B75=\"n/a\",\"\",PivotTableA!O62)","v":"FALSE"},{"$f":"IF($B75=\"n/a\",\"\",PivotTableA!L62)","v":"Voluntary Controlled"},{"$f":"IF($B75=\"n/a\",\"\",PivotTableA!M62)","v":" "},{"$f":"IF($B75=\"n/a\",\"\",PivotTableA!N62)","v":"Church of England"},{"$f":"IFERROR(IF($B75=\"\",\"\",\nIF(OR($L75=\"Nursery School\",$L75=\"All-through PRU\",$M75=\"True\"),\"n/a\",\nIF(GETPIVOTDATA(Q$21 & \"\",PivotTableB!$A$3,\"SchoolName\",$B75,\"SubsidiaryName\",$C75,\"YearStart\",Q$13)=\"\",\".\",\nGETPIVOTDATA(Q$21 & \"\",PivotTableB!$A$3,\"SchoolName\",$B75,\"SubsidiaryName\",$C75,\"YearStart\",Q$13)))),\"\")","v":30},{"$f":"IFERROR(IF(Q75=\".\",\".\",IF(Q75=\"n/a\",\"n/a\",\nGETPIVOTDATA(R$21 & \"\",PivotTableB!$A$3,\"SchoolName\",$B75,\"SubsidiaryName\",$C75,\"YearStart\",Q$13))),\"\")","v":0},{"$f":"IFERROR(IF(R75=\".\",\".\",IF(R75=\"n/a\",\"n/a\",\nGETPIVOTDATA(S$21 & \"\",PivotTableB!$A$3,\"SchoolName\",$B75,\"SubsidiaryName\",$C75,\"YearStart\",Q$13))),\"\")","v":0},30,{"$f":"IFERROR(IF(T75=\".\",\".\",IF(T75=\"n/a\",\"n/a\",\nGETPIVOTDATA(U$21 & \"\",PivotTableB!$A$3,\"SchoolName\",$B75,\"SubsidiaryName\",$C75,\"YearStart\",Q$13))),\"\")","v":0},{"$f":"IFERROR(IF(U75=\".\",\".\",IF(U75=\"n/a\",\"n/a\",\nGETPIVOTDATA(V$21 & \"\",PivotTableB!$A$3,\"SchoolName\",$B75,\"SubsidiaryName\",$C75,\"YearStart\",Q$13))),\"\")","v":210},{"$f":"IFERROR(IF($B75=\"\",\"\",\nIF(OR($L75=\"Nursery School\",$L75=\"All-through PRU\",$M75=\"True\"),\"n/a\",\nIF(GETPIVOTDATA(W$21 & \"\",PivotTableB!$A$3,\"SchoolName\",$B75,\"SubsidiaryName\",$C75,\"YearStart\",W$13)=\"\",\".\",\nGETPIVOTDATA(W$21 & \"\",PivotTableB!$A$3,\"SchoolName\",$B75,\"SubsidiaryName\",$C75,\"YearStart\",W$13)))),\"\")","v":30},{"$f":"IFERROR(IF(W75=\".\",\".\",IF(W75=\"n/a\",\"n/a\",\nGETPIVOTDATA(X$21 & \"\",PivotTableB!$A$3,\"SchoolName\",$B75,\"SubsidiaryName\",$C75,\"YearStart\",W$13))),\"\")","v":0},{"$f":"IFERROR(IF(X75=\".\",\".\",IF(X75=\"n/a\",\"n/a\",\nGETPIVOTDATA(Y$21 & \"\",PivotTableB!$A$3,\"SchoolName\",$B75,\"SubsidiaryName\",$C75,\"YearStart\",W$13))),\"\")","v":0},30,{"$f":"IFERROR(IF(Z75=\".\",\".\",IF(Z75=\"n/a\",\"n/a\",\nGETPIVOTDATA(AA$21 & \"\",PivotTableB!$A$3,\"SchoolName\",$B75,\"SubsidiaryName\",$C75,\"YearStart\",W$13))),\"\")","v":0},{"$f":"IFERROR(IF(AA75=\".\",\".\",IF(AA75=\"n/a\",\"n/a\",\nGETPIVOTDATA(AB$21 & \"\",PivotTableB!$A$3,\"SchoolName\",$B75,\"SubsidiaryName\",$C75,\"YearStart\",W$13))),\"\")","v":210},{"$f":"IFERROR(IF($B75=\"\",\"\",\nIF(OR($L75=\"Nursery School\",$L75=\"All-through PRU\",$M75=\"True\"),\"n/a\",\nIF(GETPIVOTDATA(AC$21 & \"\",PivotTableB!$A$3,\"SchoolName\",$B75,\"SubsidiaryName\",$C75,\"YearStart\",AC$13)=\"\",\".\",\nGETPIVOTDATA(AC$21 & \"\",PivotTableB!$A$3,\"SchoolName\",$B75,\"SubsidiaryName\",$C75,\"YearStart\",AC$13)))),\"\")","v":30},{"$f":"IFERROR(IF(AC75=\".\",\".\",IF(AC75=\"n/a\",\"n/a\",\nGETPIVOTDATA(AD$21 & \"\",PivotTableB!$A$3,\"SchoolName\",$B75,\"SubsidiaryName\",$C75,\"YearStart\",AC$13))),\"\")","v":0},{"$f":"IFERROR(IF(AD75=\".\",\".\",IF(AD75=\"n/a\",\"n/a\",\nGETPIVOTDATA(AE$21 & \"\",PivotTableB!$A$3,\"SchoolName\",$B75,\"SubsidiaryName\",$C75,\"YearStart\",AC$13))),\"\")","v":0},30,{"$f":"IFERROR(IF(AF75=\".\",\".\",IF(AF75=\"n/a\",\"n/a\",\nGETPIVOTDATA(AG$21 & \"\",PivotTableB!$A$3,\"SchoolName\",$B75,\"SubsidiaryName\",$C75,\"YearStart\",AC$13))),\"\")","v":0},{"$f":"IFERROR(IF(AG75=\".\",\".\",IF(AG75=\"n/a\",\"n/a\",\nGETPIVOTDATA(AH$21 & \"\",PivotTableB!$A$3,\"SchoolName\",$B75,\"SubsidiaryName\",$C75,\"YearStart\",AC$13))),\"\")","v":210},{"$f":"IFERROR(IF($B75=\"\",\"\",\nIF(OR($L75=\"Nursery School\",$L75=\"All-through PRU\",$M75=\"True\"),\"n/a\",\nIF(GETPIVOTDATA(AI$21 & \"\",PivotTableB!$A$3,\"SchoolName\",$B75,\"SubsidiaryName\",$C75,\"YearStart\",AI$13)=\"\",\".\",\nGETPIVOTDATA(AI$21 & \"\",PivotTableB!$A$3,\"SchoolName\",$B75,\"SubsidiaryName\",$C75,\"YearStart\",AI$13)))),\"\")","v":30},{"$f":"IFERROR(IF(AI75=\".\",\".\",IF(AI75=\"n/a\",\"n/a\",\nGETPIVOTDATA(AJ$21 & \"\",PivotTableB!$A$3,\"SchoolName\",$B75,\"SubsidiaryName\",$C75,\"YearStart\",AI$13))),\"\")","v":0},{"$f":"IFERROR(IF(AJ75=\".\",\".\",IF(AJ75=\"n/a\",\"n/a\",\nGETPIVOTDATA(AK$21 & \"\",PivotTableB!$A$3,\"SchoolName\",$B75,\"SubsidiaryName\",$C75,\"YearStart\",AI$13))),\"\")","v":0},30,{"$f":"IFERROR(IF(AL75=\".\",\".\",IF(AL75=\"n/a\",\"n/a\",\nGETPIVOTDATA(AM$21 & \"\",PivotTableB!$A$3,\"SchoolName\",$B75,\"SubsidiaryName\",$C75,\"YearStart\",AI$13))),\"\")","v":0},{"$f":"IFERROR(IF(AM75=\".\",\".\",IF(AM75=\"n/a\",\"n/a\",\nGETPIVOTDATA(AN$21 & \"\",PivotTableB!$A$3,\"SchoolName\",$B75,\"SubsidiaryName\",$C75,\"YearStart\",AI$13))),\"\")","v":210},{"$f":"IFERROR(IF($B75=\"\",\"\",\nIF(OR($L75=\"Nursery School\",$L75=\"All-through PRU\",$M75=\"True\"),\"n/a\",\nIF(GETPIVOTDATA(AO$21 & \"\",PivotTableB!$A$3,\"SchoolName\",$B75,\"SubsidiaryName\",$C75,\"YearStart\",AO$13)=\"\",\".\",\nGETPIVOTDATA(AO$21 & \"\",PivotTableB!$A$3,\"SchoolName\",$B75,\"SubsidiaryName\",$C75,\"YearStart\",AO$13)))),\"\")","v":30},{"$f":"IFERROR(IF(AO75=\".\",\".\",IF(AO75=\"n/a\",\"n/a\",\nGETPIVOTDATA(AP$21 & \"\",PivotTableB!$A$3,\"SchoolName\",$B75,\"SubsidiaryName\",$C75,\"YearStart\",AO$13))),\"\")","v":0},{"$f":"IFERROR(IF(AP75=\".\",\".\",IF(AP75=\"n/a\",\"n/a\",\nGETPIVOTDATA(AQ$21 & \"\",PivotTableB!$A$3,\"SchoolName\",$B75,\"SubsidiaryName\",$C75,\"YearStart\",AO$13))),\"\")","v":0},30,{"$f":"IFERROR(IF(AR75=\".\",\".\",IF(AR75=\"n/a\",\"n/a\",\nGETPIVOTDATA(AS$21 & \"\",PivotTableB!$A$3,\"SchoolName\",$B75,\"SubsidiaryName\",$C75,\"YearStart\",AO$13))),\"\")","v":0},{"$f":"IFERROR(IF(AS75=\".\",\".\",IF(AS75=\"n/a\",\"n/a\",\nGETPIVOTDATA(AT$21 & \"\",PivotTableB!$A$3,\"SchoolName\",$B75,\"SubsidiaryName\",$C75,\"YearStart\",AO$13))),\"\")","v":205},{"$f":"IFERROR(IF($B75=\"\",\"\",\nIF(OR($L75=\"Nursery School\",$L75=\"All-through PRU\",$M75=\"True\"),\"n/a\",\nIF(GETPIVOTDATA(AU$21 & \"\",PivotTableB!$A$3,\"SchoolName\",$B75,\"SubsidiaryName\",$C75,\"YearStart\",AU$13)=\"\",\".\",\nGETPIVOTDATA(AU$21 & \"\",PivotTableB!$A$3,\"SchoolName\",$B75,\"SubsidiaryName\",$C75,\"YearStart\",AU$13)))),\"\")","v":30},{"$f":"IFERROR(IF(AU75=\".\",\".\",IF(AU75=\"n/a\",\"n/a\",\nGETPIVOTDATA(AV$21 & \"\",PivotTableB!$A$3,\"SchoolName\",$B75,\"SubsidiaryName\",$C75,\"YearStart\",AU$13))),\"\")","v":0},{"$f":"IFERROR(IF(AV75=\".\",\".\",IF(AV75=\"n/a\",\"n/a\",\nGETPIVOTDATA(AW$21 & \"\",PivotTableB!$A$3,\"SchoolName\",$B75,\"SubsidiaryName\",$C75,\"YearStart\",AU$13))),\"\")","v":0},30,{"$f":"IFERROR(IF(AX75=\".\",\".\",IF(AX75=\"n/a\",\"n/a\",\nGETPIVOTDATA(AY$21 & \"\",PivotTableB!$A$3,\"SchoolName\",$B75,\"SubsidiaryName\",$C75,\"YearStart\",AU$13))),\"\")","v":0},{"$f":"IFERROR(IF(AY75=\".\",\".\",IF(AY75=\"n/a\",\"n/a\",\nGETPIVOTDATA(AZ$21 & \"\",PivotTableB!$A$3,\"SchoolName\",$B75,\"SubsidiaryName\",$C75,\"YearStart\",AU$13))),\"\")","v":205},{"$f":"IFERROR(IF($B75=\"\",\"\",\nIF(OR($L75=\"Nursery School\",$L75=\"All-through PRU\",$M75=\"True\"),\"n/a\",\nIF(GETPIVOTDATA(BA$21 & \"\",PivotTableB!$A$3,\"SchoolName\",$B75,\"SubsidiaryName\",$C75,\"YearStart\",BA$13)=\"\",\".\",\nGETPIVOTDATA(BA$21 & \"\",PivotTableB!$A$3,\"SchoolName\",$B75,\"SubsidiaryName\",$C75,\"YearStart\",BA$13)))),\"\")","v":30},{"$f":"IFERROR(IF(BA75=\".\",\".\",IF(BA75=\"n/a\",\"n/a\",\nGETPIVOTDATA(BB$21 & \"\",PivotTableB!$A$3,\"SchoolName\",$B75,\"SubsidiaryName\",$C75,\"YearStart\",BA$13))),\"\")","v":0},{"$f":"IFERROR(IF(BB75=\".\",\".\",IF(BB75=\"n/a\",\"n/a\",\nGETPIVOTDATA(BC$21 & \"\",PivotTableB!$A$3,\"SchoolName\",$B75,\"SubsidiaryName\",$C75,\"YearStart\",BA$13))),\"\")","v":0},{"$f":"IFERROR(IF(BC75=\".\",\".\",IF(BC75=\"n/a\",\"n/a\",\nGETPIVOTDATA(BD$21 & \"\",PivotTableB!$A$3,\"SchoolName\",$B75,\"SubsidiaryName\",$C75,\"YearStart\",BB$13))),\"\")","v":""},30,{"$f":"IFERROR(IF(BE75=\".\",\".\",IF(BE75=\"n/a\",\"n/a\",\nGETPIVOTDATA(BF$21 & \"\",PivotTableB!$A$3,\"SchoolName\",$B75,\"SubsidiaryName\",$C75,\"YearStart\",BA$13))),\"\")","v":0},{"$f":"IFERROR(IF(BF75=\".\",\".\",IF(BF75=\"n/a\",\"n/a\",\nGETPIVOTDATA(BG$21 & \"\",PivotTableB!$A$3,\"SchoolName\",$B75,\"SubsidiaryName\",$C75,\"YearStart\",BA$13))),\"\")","v":205},{"$f":"IFERROR(IF($B75=\"\",\"\",\nIF(OR($L75=\"Nursery School\",$L75=\"All-through PRU\",$M75=\"True\"),\"n/a\",\nIF(GETPIVOTDATA(BH$21 & \"\",PivotTableB!$A$3,\"SchoolName\",$B75,\"SubsidiaryName\",$C75,\"YearStart\",BH$13)=\"\",\".\",\nGETPIVOTDATA(BH$21 & \"\",PivotTableB!$A$3,\"SchoolName\",$B75,\"SubsidiaryName\",$C75,\"YearStart\",BH$13)))),\"\")","v":30},{"$f":"IFERROR(IF(BH75=\".\",\".\",IF(BH75=\"n/a\",\"n/a\",\nGETPIVOTDATA(BI$21 & \"\",PivotTableB!$A$3,\"SchoolName\",$B75,\"SubsidiaryName\",$C75,\"YearStart\",BH$13))),\"\")","v":0},{"$f":"IFERROR(IF(BI75=\".\",\".\",IF(BI75=\"n/a\",\"n/a\",\nGETPIVOTDATA(BJ$21 & \"\",PivotTableB!$A$3,\"SchoolName\",$B75,\"SubsidiaryName\",$C75,\"YearStart\",BH$13))),\"\")","v":0},{"$f":"IFERROR(IF(BJ75=\".\",\".\",IF(BJ75=\"n/a\",\"n/a\",\nGETPIVOTDATA(BK$21 & \"\",PivotTableB!$A$3,\"SchoolName\",$B75,\"SubsidiaryName\",$C75,\"YearStart\",BH$13))),\"\")","v":0},30,{"$f":"IFERROR(IF(BL75=\".\",\".\",IF(BL75=\"n/a\",\"n/a\",\nGETPIVOTDATA(BM$21 & \"\",PivotTableB!$A$3,\"SchoolName\",$B75,\"SubsidiaryName\",$C75,\"YearStart\",BH$13))),\"\")","v":0},{"$f":"IFERROR(IF(BM75=\".\",\".\",IF(BM75=\"n/a\",\"n/a\",\nGETPIVOTDATA(BN$21 & \"\",PivotTableB!$A$3,\"SchoolName\",$B75,\"SubsidiaryName\",$C75,\"YearStart\",BH$13))),\"\")","v":205},{"$f":"IFERROR(IF($B75=\"\",\"\",\nIF(OR($L75=\"Nursery School\",$L75=\"All-through PRU\",$M75=\"True\"),\"n/a\",\nIF(GETPIVOTDATA(BO$21 & \"\",PivotTableB!$A$3,\"SchoolName\",$B75,\"SubsidiaryName\",$C75,\"YearStart\",BO$13)=\"\",\".\",\nGETPIVOTDATA(BO$21 & \"\",PivotTableB!$A$3,\"SchoolName\",$B75,\"SubsidiaryName\",$C75,\"YearStart\",BO$13)))),\"\")","v":30},{"$f":"IFERROR(IF(BO75=\".\",\".\",IF(BO75=\"n/a\",\"n/a\",\nGETPIVOTDATA(BP$21 & \"\",PivotTableB!$A$3,\"SchoolName\",$B75,\"SubsidiaryName\",$C75,\"YearStart\",BO$13))),\"\")","v":0},{"$f":"IFERROR(IF(BP75=\".\",\".\",IF(BP75=\"n/a\",\"n/a\",\nGETPIVOTDATA(BQ$21 & \"\",PivotTableB!$A$3,\"SchoolName\",$B75,\"SubsidiaryName\",$C75,\"YearStart\",BO$13))),\"\")","v":0},{"$f":"IFERROR(IF(BQ75=\".\",\".\",IF(BQ75=\"n/a\",\"n/a\",\nGETPIVOTDATA(BR$21 & \"\",PivotTableB!$A$3,\"SchoolName\",$B75,\"SubsidiaryName\",$C75,\"YearStart\",BP$13))),\"\")","v":""},30,{"$f":"IFERROR(IF(BS75=\".\",\".\",IF(BS75=\"n/a\",\"n/a\",\nGETPIVOTDATA(BT$21 & \"\",PivotTableB!$A$3,\"SchoolName\",$B75,\"SubsidiaryName\",$C75,\"YearStart\",BO$13))),\"\")","v":0},{"$f":"IFERROR(IF(BT75=\".\",\".\",IF(BT75=\"n/a\",\"n/a\",\nGETPIVOTDATA(BU$21 & \"\",PivotTableB!$A$3,\"SchoolName\",$B75,\"SubsidiaryName\",$C75,\"YearStart\",BO$13))),\"\")","v":205},{"$f":"IFERROR(IF($B75=\"\",\"\",\nIF(OR($L75=\"Nursery School\",$L75=\"All-through PRU\",$M75=\"True\"),\"n/a\",\nIF(GETPIVOTDATA(BV$21 & \"\",PivotTableB!$A$3,\"SchoolName\",$B75,\"SubsidiaryName\",$C75,\"YearStart\",BV$13)=\"\",\".\",\nGETPIVOTDATA(BV$21 & \"\",PivotTableB!$A$3,\"SchoolName\",$B75,\"SubsidiaryName\",$C75,\"YearStart\",BV$13)))),\"\")","v":30},{"$f":"IFERROR(IF(BV75=\".\",\".\",IF(BV75=\"n/a\",\"n/a\",\nGETPIVOTDATA(BW$21 & \"\",PivotTableB!$A$3,\"SchoolName\",$B75,\"SubsidiaryName\",$C75,\"YearStart\",BV$13))),\"\")","v":0},{"$f":"IFERROR(IF(BW75=\".\",\".\",IF(BW75=\"n/a\",\"n/a\",\nGETPIVOTDATA(BX$21 & \"\",PivotTableB!$A$3,\"SchoolName\",$B75,\"SubsidiaryName\",$C75,\"YearStart\",BV$13))),\"\")","v":0},{"$f":"IFERROR(IF(BX75=\".\",\".\",IF(BX75=\"n/a\",\"n/a\",\nGETPIVOTDATA(BY$21 & \"\",PivotTableB!$A$3,\"SchoolName\",$B75,\"SubsidiaryName\",$C75,\"YearStart\",BV$13))),\"\")","v":0},30,{"$f":"IFERROR(IF(BZ75=\".\",\".\",IF(BZ75=\"n/a\",\"n/a\",\nGETPIVOTDATA(CA$21 & \"\",PivotTableB!$A$3,\"SchoolName\",$B75,\"SubsidiaryName\",$C75,\"YearStart\",BV$13))),\"\")","v":0},{"$f":"IFERROR(IF(CA75=\".\",\".\",IF(CA75=\"n/a\",\"n/a\",\nGETPIVOTDATA(CB$21 & \"\",PivotTableB!$A$3,\"SchoolName\",$B75,\"SubsidiaryName\",$C75,\"YearStart\",BV$13))),\"\")","v":205}]
[null,{"$f":"IF(PivotTableA!A63=\"\",\"n/a\",PivotTableA!A63)","v":"St Peter's Church of England Middle School"},{"$f":"IF(B76=\"n/a\",\"\",PivotTableA!B63)","v":"St Peter's Church of England Middle School"},{"$f":"IF($B76=\"n/a\",\"\",PivotTableA!C63)","v":"5"},{"$f":"IF($B76=\"n/a\",\"\",PivotTableA!D63)","v":"Windsor"},{"$f":"IF($B76=\"n/a\",\"\",PivotTableA!E63)","v":"Windsor Villages"},{"$f":"IF($B76=\"n/a\",\"\",PivotTableA!F63)","v":"Old Windsor"},{"$f":"IF($B76=\"n/a\",\"\",PivotTableA!G63)","v":"Old Windsor"},{"$f":"IF($B76=\"n/a\",\"\",PivotTableA!H63)","v":"Old Windsor"},{"$f":"IF($B76=\"n/a\",\"\",PivotTableA!I63)","v":"Secondary"},{"$f":"IF($B76=\"n/a\",\"\",PivotTableA!J63)","v":"Three Tier"},{"$f":"IF($B76=\"n/a\",\"\",PivotTableA!K63)","v":"Middle"},{"$f":"IF($B76=\"n/a\",\"\",PivotTableA!O63)","v":"FALSE"},{"$f":"IF($B76=\"n/a\",\"\",PivotTableA!L63)","v":"Academy"},{"$f":"IF($B76=\"n/a\",\"\",PivotTableA!M63)","v":"2014-11-01"},{"$f":"IF($B76=\"n/a\",\"\",PivotTableA!N63)","v":"Church of England"},{"$f":"IFERROR(IF($B76=\"\",\"\",\nIF(OR($L76=\"Nursery School\",$L76=\"All-through PRU\",$M76=\"True\"),\"n/a\",\nIF(GETPIVOTDATA(Q$21 & \"\",PivotTableB!$A$3,\"SchoolName\",$B76,\"SubsidiaryName\",$C76,\"YearStart\",Q$13)=\"\",\".\",\nGETPIVOTDATA(Q$21 & \"\",PivotTableB!$A$3,\"SchoolName\",$B76,\"SubsidiaryName\",$C76,\"YearStart\",Q$13)))),\"\")","v":60},{"$f":"IFERROR(IF(Q76=\".\",\".\",IF(Q76=\"n/a\",\"n/a\",\nGETPIVOTDATA(R$21 & \"\",PivotTableB!$A$3,\"SchoolName\",$B76,\"SubsidiaryName\",$C76,\"YearStart\",Q$13))),\"\")","v":0},{"$f":"IFERROR(IF(R76=\".\",\".\",IF(R76=\"n/a\",\"n/a\",\nGETPIVOTDATA(S$21 & \"\",PivotTableB!$A$3,\"SchoolName\",$B76,\"SubsidiaryName\",$C76,\"YearStart\",Q$13))),\"\")","v":0},60,{"$f":"IFERROR(IF(T76=\".\",\".\",IF(T76=\"n/a\",\"n/a\",\nGETPIVOTDATA(U$21 & \"\",PivotTableB!$A$3,\"SchoolName\",$B76,\"SubsidiaryName\",$C76,\"YearStart\",Q$13))),\"\")","v":0},{"$f":"IFERROR(IF(U76=\".\",\".\",IF(U76=\"n/a\",\"n/a\",\nGETPIVOTDATA(V$21 & \"\",PivotTableB!$A$3,\"SchoolName\",$B76,\"SubsidiaryName\",$C76,\"YearStart\",Q$13))),\"\")","v":271},{"$f":"IFERROR(IF($B76=\"\",\"\",\nIF(OR($L76=\"Nursery School\",$L76=\"All-through PRU\",$M76=\"True\"),\"n/a\",\nIF(GETPIVOTDATA(W$21 & \"\",PivotTableB!$A$3,\"SchoolName\",$B76,\"SubsidiaryName\",$C76,\"YearStart\",W$13)=\"\",\".\",\nGETPIVOTDATA(W$21 & \"\",PivotTableB!$A$3,\"SchoolName\",$B76,\"SubsidiaryName\",$C76,\"YearStart\",W$13)))),\"\")","v":60},{"$f":"IFERROR(IF(W76=\".\",\".\",IF(W76=\"n/a\",\"n/a\",\nGETPIVOTDATA(X$21 & \"\",PivotTableB!$A$3,\"SchoolName\",$B76,\"SubsidiaryName\",$C76,\"YearStart\",W$13))),\"\")","v":0},{"$f":"IFERROR(IF(X76=\".\",\".\",IF(X76=\"n/a\",\"n/a\",\nGETPIVOTDATA(Y$21 & \"\",PivotTableB!$A$3,\"SchoolName\",$B76,\"SubsidiaryName\",$C76,\"YearStart\",W$13))),\"\")","v":0},60,{"$f":"IFERROR(IF(Z76=\".\",\".\",IF(Z76=\"n/a\",\"n/a\",\nGETPIVOTDATA(AA$21 & \"\",PivotTableB!$A$3,\"SchoolName\",$B76,\"SubsidiaryName\",$C76,\"YearStart\",W$13))),\"\")","v":0},{"$f":"IFERROR(IF(AA76=\".\",\".\",IF(AA76=\"n/a\",\"n/a\",\nGETPIVOTDATA(AB$21 & \"\",PivotTableB!$A$3,\"SchoolName\",$B76,\"SubsidiaryName\",$C76,\"YearStart\",W$13))),\"\")","v":271},{"$f":"IFERROR(IF($B76=\"\",\"\",\nIF(OR($L76=\"Nursery School\",$L76=\"All-through PRU\",$M76=\"True\"),\"n/a\",\nIF(GETPIVOTDATA(AC$21 & \"\",PivotTableB!$A$3,\"SchoolName\",$B76,\"SubsidiaryName\",$C76,\"YearStart\",AC$13)=\"\",\".\",\nGETPIVOTDATA(AC$21 & \"\",PivotTableB!$A$3,\"SchoolName\",$B76,\"SubsidiaryName\",$C76,\"YearStart\",AC$13)))),\"\")","v":60},{"$f":"IFERROR(IF(AC76=\".\",\".\",IF(AC76=\"n/a\",\"n/a\",\nGETPIVOTDATA(AD$21 & \"\",PivotTableB!$A$3,\"SchoolName\",$B76,\"SubsidiaryName\",$C76,\"YearStart\",AC$13))),\"\")","v":0},{"$f":"IFERROR(IF(AD76=\".\",\".\",IF(AD76=\"n/a\",\"n/a\",\nGETPIVOTDATA(AE$21 & \"\",PivotTableB!$A$3,\"SchoolName\",$B76,\"SubsidiaryName\",$C76,\"YearStart\",AC$13))),\"\")","v":0},60,{"$f":"IFERROR(IF(AF76=\".\",\".\",IF(AF76=\"n/a\",\"n/a\",\nGETPIVOTDATA(AG$21 & \"\",PivotTableB!$A$3,\"SchoolName\",$B76,\"SubsidiaryName\",$C76,\"YearStart\",AC$13))),\"\")","v":0},{"$f":"IFERROR(IF(AG76=\".\",\".\",IF(AG76=\"n/a\",\"n/a\",\nGETPIVOTDATA(AH$21 & \"\",PivotTableB!$A$3,\"SchoolName\",$B76,\"SubsidiaryName\",$C76,\"YearStart\",AC$13))),\"\")","v":271},{"$f":"IFERROR(IF($B76=\"\",\"\",\nIF(OR($L76=\"Nursery School\",$L76=\"All-through PRU\",$M76=\"True\"),\"n/a\",\nIF(GETPIVOTDATA(AI$21 & \"\",PivotTableB!$A$3,\"SchoolName\",$B76,\"SubsidiaryName\",$C76,\"YearStart\",AI$13)=\"\",\".\",\nGETPIVOTDATA(AI$21 & \"\",PivotTableB!$A$3,\"SchoolName\",$B76,\"SubsidiaryName\",$C76,\"YearStart\",AI$13)))),\"\")","v":60},{"$f":"IFERROR(IF(AI76=\".\",\".\",IF(AI76=\"n/a\",\"n/a\",\nGETPIVOTDATA(AJ$21 & \"\",PivotTableB!$A$3,\"SchoolName\",$B76,\"SubsidiaryName\",$C76,\"YearStart\",AI$13))),\"\")","v":0},{"$f":"IFERROR(IF(AJ76=\".\",\".\",IF(AJ76=\"n/a\",\"n/a\",\nGETPIVOTDATA(AK$21 & \"\",PivotTableB!$A$3,\"SchoolName\",$B76,\"SubsidiaryName\",$C76,\"YearStart\",AI$13))),\"\")","v":0},60,{"$f":"IFERROR(IF(AL76=\".\",\".\",IF(AL76=\"n/a\",\"n/a\",\nGETPIVOTDATA(AM$21 & \"\",PivotTableB!$A$3,\"SchoolName\",$B76,\"SubsidiaryName\",$C76,\"YearStart\",AI$13))),\"\")","v":0},{"$f":"IFERROR(IF(AM76=\".\",\".\",IF(AM76=\"n/a\",\"n/a\",\nGETPIVOTDATA(AN$21 & \"\",PivotTableB!$A$3,\"SchoolName\",$B76,\"SubsidiaryName\",$C76,\"YearStart\",AI$13))),\"\")","v":271},{"$f":"IFERROR(IF($B76=\"\",\"\",\nIF(OR($L76=\"Nursery School\",$L76=\"All-through PRU\",$M76=\"True\"),\"n/a\",\nIF(GETPIVOTDATA(AO$21 & \"\",PivotTableB!$A$3,\"SchoolName\",$B76,\"SubsidiaryName\",$C76,\"YearStart\",AO$13)=\"\",\".\",\nGETPIVOTDATA(AO$21 & \"\",PivotTableB!$A$3,\"SchoolName\",$B76,\"SubsidiaryName\",$C76,\"YearStart\",AO$13)))),\"\")","v":60},{"$f":"IFERROR(IF(AO76=\".\",\".\",IF(AO76=\"n/a\",\"n/a\",\nGETPIVOTDATA(AP$21 & \"\",PivotTableB!$A$3,\"SchoolName\",$B76,\"SubsidiaryName\",$C76,\"YearStart\",AO$13))),\"\")","v":0},{"$f":"IFERROR(IF(AP76=\".\",\".\",IF(AP76=\"n/a\",\"n/a\",\nGETPIVOTDATA(AQ$21 & \"\",PivotTableB!$A$3,\"SchoolName\",$B76,\"SubsidiaryName\",$C76,\"YearStart\",AO$13))),\"\")","v":0},60,{"$f":"IFERROR(IF(AR76=\".\",\".\",IF(AR76=\"n/a\",\"n/a\",\nGETPIVOTDATA(AS$21 & \"\",PivotTableB!$A$3,\"SchoolName\",$B76,\"SubsidiaryName\",$C76,\"YearStart\",AO$13))),\"\")","v":0},{"$f":"IFERROR(IF(AS76=\".\",\".\",IF(AS76=\"n/a\",\"n/a\",\nGETPIVOTDATA(AT$21 & \"\",PivotTableB!$A$3,\"SchoolName\",$B76,\"SubsidiaryName\",$C76,\"YearStart\",AO$13))),\"\")","v":271},{"$f":"IFERROR(IF($B76=\"\",\"\",\nIF(OR($L76=\"Nursery School\",$L76=\"All-through PRU\",$M76=\"True\"),\"n/a\",\nIF(GETPIVOTDATA(AU$21 & \"\",PivotTableB!$A$3,\"SchoolName\",$B76,\"SubsidiaryName\",$C76,\"YearStart\",AU$13)=\"\",\".\",\nGETPIVOTDATA(AU$21 & \"\",PivotTableB!$A$3,\"SchoolName\",$B76,\"SubsidiaryName\",$C76,\"YearStart\",AU$13)))),\"\")","v":60},{"$f":"IFERROR(IF(AU76=\".\",\".\",IF(AU76=\"n/a\",\"n/a\",\nGETPIVOTDATA(AV$21 & \"\",PivotTableB!$A$3,\"SchoolName\",$B76,\"SubsidiaryName\",$C76,\"YearStart\",AU$13))),\"\")","v":0},{"$f":"IFERROR(IF(AV76=\".\",\".\",IF(AV76=\"n/a\",\"n/a\",\nGETPIVOTDATA(AW$21 & \"\",PivotTableB!$A$3,\"SchoolName\",$B76,\"SubsidiaryName\",$C76,\"YearStart\",AU$13))),\"\")","v":0},60,{"$f":"IFERROR(IF(AX76=\".\",\".\",IF(AX76=\"n/a\",\"n/a\",\nGETPIVOTDATA(AY$21 & \"\",PivotTableB!$A$3,\"SchoolName\",$B76,\"SubsidiaryName\",$C76,\"YearStart\",AU$13))),\"\")","v":0},{"$f":"IFERROR(IF(AY76=\".\",\".\",IF(AY76=\"n/a\",\"n/a\",\nGETPIVOTDATA(AZ$21 & \"\",PivotTableB!$A$3,\"SchoolName\",$B76,\"SubsidiaryName\",$C76,\"YearStart\",AU$13))),\"\")","v":271},{"$f":"IFERROR(IF($B76=\"\",\"\",\nIF(OR($L76=\"Nursery School\",$L76=\"All-through PRU\",$M76=\"True\"),\"n/a\",\nIF(GETPIVOTDATA(BA$21 & \"\",PivotTableB!$A$3,\"SchoolName\",$B76,\"SubsidiaryName\",$C76,\"YearStart\",BA$13)=\"\",\".\",\nGETPIVOTDATA(BA$21 & \"\",PivotTableB!$A$3,\"SchoolName\",$B76,\"SubsidiaryName\",$C76,\"YearStart\",BA$13)))),\"\")","v":60},{"$f":"IFERROR(IF(BA76=\".\",\".\",IF(BA76=\"n/a\",\"n/a\",\nGETPIVOTDATA(BB$21 & \"\",PivotTableB!$A$3,\"SchoolName\",$B76,\"SubsidiaryName\",$C76,\"YearStart\",BA$13))),\"\")","v":0},{"$f":"IFERROR(IF(BB76=\".\",\".\",IF(BB76=\"n/a\",\"n/a\",\nGETPIVOTDATA(BC$21 & \"\",PivotTableB!$A$3,\"SchoolName\",$B76,\"SubsidiaryName\",$C76,\"YearStart\",BA$13))),\"\")","v":30},{"$f":"IFERROR(IF(BC76=\".\",\".\",IF(BC76=\"n/a\",\"n/a\",\nGETPIVOTDATA(BD$21 & \"\",PivotTableB!$A$3,\"SchoolName\",$B76,\"SubsidiaryName\",$C76,\"YearStart\",BB$13))),\"\")","v":""},90,{"$f":"IFERROR(IF(BE76=\".\",\".\",IF(BE76=\"n/a\",\"n/a\",\nGETPIVOTDATA(BF$21 & \"\",PivotTableB!$A$3,\"SchoolName\",$B76,\"SubsidiaryName\",$C76,\"YearStart\",BA$13))),\"\")","v":0},{"$f":"IFERROR(IF(BF76=\".\",\".\",IF(BF76=\"n/a\",\"n/a\",\nGETPIVOTDATA(BG$21 & \"\",PivotTableB!$A$3,\"SchoolName\",$B76,\"SubsidiaryName\",$C76,\"YearStart\",BA$13))),\"\")","v":271},{"$f":"IFERROR(IF($B76=\"\",\"\",\nIF(OR($L76=\"Nursery School\",$L76=\"All-through PRU\",$M76=\"True\"),\"n/a\",\nIF(GETPIVOTDATA(BH$21 & \"\",PivotTableB!$A$3,\"SchoolName\",$B76,\"SubsidiaryName\",$C76,\"YearStart\",BH$13)=\"\",\".\",\nGETPIVOTDATA(BH$21 & \"\",PivotTableB!$A$3,\"SchoolName\",$B76,\"SubsidiaryName\",$C76,\"YearStart\",BH$13)))),\"\")","v":60},{"$f":"IFERROR(IF(BH76=\".\",\".\",IF(BH76=\"n/a\",\"n/a\",\nGETPIVOTDATA(BI$21 & \"\",PivotTableB!$A$3,\"SchoolName\",$B76,\"SubsidiaryName\",$C76,\"YearStart\",BH$13))),\"\")","v":0},{"$f":"IFERROR(IF(BI76=\".\",\".\",IF(BI76=\"n/a\",\"n/a\",\nGETPIVOTDATA(BJ$21 & \"\",PivotTableB!$A$3,\"SchoolName\",$B76,\"SubsidiaryName\",$C76,\"YearStart\",BH$13))),\"\")","v":30},{"$f":"IFERROR(IF(BJ76=\".\",\".\",IF(BJ76=\"n/a\",\"n/a\",\nGETPIVOTDATA(BK$21 & \"\",PivotTableB!$A$3,\"SchoolName\",$B76,\"SubsidiaryName\",$C76,\"YearStart\",BH$13))),\"\")","v":0},90,{"$f":"IFERROR(IF(BL76=\".\",\".\",IF(BL76=\"n/a\",\"n/a\",\nGETPIVOTDATA(BM$21 & \"\",PivotTableB!$A$3,\"SchoolName\",$B76,\"SubsidiaryName\",$C76,\"YearStart\",BH$13))),\"\")","v":0},{"$f":"IFERROR(IF(BM76=\".\",\".\",IF(BM76=\"n/a\",\"n/a\",\nGETPIVOTDATA(BN$21 & \"\",PivotTableB!$A$3,\"SchoolName\",$B76,\"SubsidiaryName\",$C76,\"YearStart\",BH$13))),\"\")","v":271},{"$f":"IFERROR(IF($B76=\"\",\"\",\nIF(OR($L76=\"Nursery School\",$L76=\"All-through PRU\",$M76=\"True\"),\"n/a\",\nIF(GETPIVOTDATA(BO$21 & \"\",PivotTableB!$A$3,\"SchoolName\",$B76,\"SubsidiaryName\",$C76,\"YearStart\",BO$13)=\"\",\".\",\nGETPIVOTDATA(BO$21 & \"\",PivotTableB!$A$3,\"SchoolName\",$B76,\"SubsidiaryName\",$C76,\"YearStart\",BO$13)))),\"\")","v":60},{"$f":"IFERROR(IF(BO76=\".\",\".\",IF(BO76=\"n/a\",\"n/a\",\nGETPIVOTDATA(BP$21 & \"\",PivotTableB!$A$3,\"SchoolName\",$B76,\"SubsidiaryName\",$C76,\"YearStart\",BO$13))),\"\")","v":0},{"$f":"IFERROR(IF(BP76=\".\",\".\",IF(BP76=\"n/a\",\"n/a\",\nGETPIVOTDATA(BQ$21 & \"\",PivotTableB!$A$3,\"SchoolName\",$B76,\"SubsidiaryName\",$C76,\"YearStart\",BO$13))),\"\")","v":30},{"$f":"IFERROR(IF(BQ76=\".\",\".\",IF(BQ76=\"n/a\",\"n/a\",\nGETPIVOTDATA(BR$21 & \"\",PivotTableB!$A$3,\"SchoolName\",$B76,\"SubsidiaryName\",$C76,\"YearStart\",BP$13))),\"\")","v":""},90,{"$f":"IFERROR(IF(BS76=\".\",\".\",IF(BS76=\"n/a\",\"n/a\",\nGETPIVOTDATA(BT$21 & \"\",PivotTableB!$A$3,\"SchoolName\",$B76,\"SubsidiaryName\",$C76,\"YearStart\",BO$13))),\"\")","v":0},{"$f":"IFERROR(IF(BT76=\".\",\".\",IF(BT76=\"n/a\",\"n/a\",\nGETPIVOTDATA(BU$21 & \"\",PivotTableB!$A$3,\"SchoolName\",$B76,\"SubsidiaryName\",$C76,\"YearStart\",BO$13))),\"\")","v":271},{"$f":"IFERROR(IF($B76=\"\",\"\",\nIF(OR($L76=\"Nursery School\",$L76=\"All-through PRU\",$M76=\"True\"),\"n/a\",\nIF(GETPIVOTDATA(BV$21 & \"\",PivotTableB!$A$3,\"SchoolName\",$B76,\"SubsidiaryName\",$C76,\"YearStart\",BV$13)=\"\",\".\",\nGETPIVOTDATA(BV$21 & \"\",PivotTableB!$A$3,\"SchoolName\",$B76,\"SubsidiaryName\",$C76,\"YearStart\",BV$13)))),\"\")","v":60},{"$f":"IFERROR(IF(BV76=\".\",\".\",IF(BV76=\"n/a\",\"n/a\",\nGETPIVOTDATA(BW$21 & \"\",PivotTableB!$A$3,\"SchoolName\",$B76,\"SubsidiaryName\",$C76,\"YearStart\",BV$13))),\"\")","v":0},{"$f":"IFERROR(IF(BW76=\".\",\".\",IF(BW76=\"n/a\",\"n/a\",\nGETPIVOTDATA(BX$21 & \"\",PivotTableB!$A$3,\"SchoolName\",$B76,\"SubsidiaryName\",$C76,\"YearStart\",BV$13))),\"\")","v":30},{"$f":"IFERROR(IF(BX76=\".\",\".\",IF(BX76=\"n/a\",\"n/a\",\nGETPIVOTDATA(BY$21 & \"\",PivotTableB!$A$3,\"SchoolName\",$B76,\"SubsidiaryName\",$C76,\"YearStart\",BV$13))),\"\")","v":0},90,{"$f":"IFERROR(IF(BZ76=\".\",\".\",IF(BZ76=\"n/a\",\"n/a\",\nGETPIVOTDATA(CA$21 & \"\",PivotTableB!$A$3,\"SchoolName\",$B76,\"SubsidiaryName\",$C76,\"YearStart\",BV$13))),\"\")","v":0},{"$f":"IFERROR(IF(CA76=\".\",\".\",IF(CA76=\"n/a\",\"n/a\",\nGETPIVOTDATA(CB$21 & \"\",PivotTableB!$A$3,\"SchoolName\",$B76,\"SubsidiaryName\",$C76,\"YearStart\",BV$13))),\"\")","v":271}]
[null,{"$f":"IF(PivotTableA!A64=\"\",\"n/a\",PivotTableA!A64)","v":"The Lawns Nursery"},{"$f":"IF(B77=\"n/a\",\"\",PivotTableA!B64)","v":"The Lawns Nursery"},{"$f":"IF($B77=\"n/a\",\"\",PivotTableA!C64)","v":"E1"},{"$f":"IF($B77=\"n/a\",\"\",PivotTableA!D64)","v":"Windsor"},{"$f":"IF($B77=\"n/a\",\"\",PivotTableA!E64)","v":"East Windsor"},{"$f":"IF($B77=\"n/a\",\"\",PivotTableA!F64)","v":"Oakfield"},{"$f":"IF($B77=\"n/a\",\"\",PivotTableA!G64)","v":"Clewer East"},{"$f":"IF($B77=\"n/a\",\"\",PivotTableA!H64)","v":"None"},{"$f":"IF($B77=\"n/a\",\"\",PivotTableA!I64)","v":"Early Years"},{"$f":"IF($B77=\"n/a\",\"\",PivotTableA!J64)","v":"NA"},{"$f":"IF($B77=\"n/a\",\"\",PivotTableA!K64)","v":"Nursery School"},{"$f":"IF($B77=\"n/a\",\"\",PivotTableA!O64)","v":"FALSE"},{"$f":"IF($B77=\"n/a\",\"\",PivotTableA!L64)","v":"Community"},{"$f":"IF($B77=\"n/a\",\"\",PivotTableA!M64)","v":" "},{"$f":"IF($B77=\"n/a\",\"\",PivotTableA!N64)","v":"None"},{"$f":"IFERROR(IF($B77=\"\",\"\",\nIF(OR($L77=\"Nursery School\",$L77=\"All-through PRU\",$M77=\"True\"),\"n/a\",\nIF(GETPIVOTDATA(Q$21 & \"\",PivotTableB!$A$3,\"SchoolName\",$B77,\"SubsidiaryName\",$C77,\"YearStart\",Q$13)=\"\",\".\",\nGETPIVOTDATA(Q$21 & \"\",PivotTableB!$A$3,\"SchoolName\",$B77,\"SubsidiaryName\",$C77,\"YearStart\",Q$13)))),\"\")","v":"n/a"},{"$f":"IFERROR(IF(Q77=\".\",\".\",IF(Q77=\"n/a\",\"n/a\",\nGETPIVOTDATA(R$21 & \"\",PivotTableB!$A$3,\"SchoolName\",$B77,\"SubsidiaryName\",$C77,\"YearStart\",Q$13))),\"\")","v":"n/a"},{"$f":"IFERROR(IF(R77=\".\",\".\",IF(R77=\"n/a\",\"n/a\",\nGETPIVOTDATA(S$21 & \"\",PivotTableB!$A$3,\"SchoolName\",$B77,\"SubsidiaryName\",$C77,\"YearStart\",Q$13))),\"\")","v":"n/a"},"n/a",{"$f":"IFERROR(IF(T77=\".\",\".\",IF(T77=\"n/a\",\"n/a\",\nGETPIVOTDATA(U$21 & \"\",PivotTableB!$A$3,\"SchoolName\",$B77,\"SubsidiaryName\",$C77,\"YearStart\",Q$13))),\"\")","v":"n/a"},{"$f":"IFERROR(IF(U77=\".\",\".\",IF(U77=\"n/a\",\"n/a\",\nGETPIVOTDATA(V$21 & \"\",PivotTableB!$A$3,\"SchoolName\",$B77,\"SubsidiaryName\",$C77,\"YearStart\",Q$13))),\"\")","v":"n/a"},{"$f":"IFERROR(IF($B77=\"\",\"\",\nIF(OR($L77=\"Nursery School\",$L77=\"All-through PRU\",$M77=\"True\"),\"n/a\",\nIF(GETPIVOTDATA(W$21 & \"\",PivotTableB!$A$3,\"SchoolName\",$B77,\"SubsidiaryName\",$C77,\"YearStart\",W$13)=\"\",\".\",\nGETPIVOTDATA(W$21 & \"\",PivotTableB!$A$3,\"SchoolName\",$B77,\"SubsidiaryName\",$C77,\"YearStart\",W$13)))),\"\")","v":"n/a"},{"$f":"IFERROR(IF(W77=\".\",\".\",IF(W77=\"n/a\",\"n/a\",\nGETPIVOTDATA(X$21 & \"\",PivotTableB!$A$3,\"SchoolName\",$B77,\"SubsidiaryName\",$C77,\"YearStart\",W$13))),\"\")","v":"n/a"},{"$f":"IFERROR(IF(X77=\".\",\".\",IF(X77=\"n/a\",\"n/a\",\nGETPIVOTDATA(Y$21 & \"\",PivotTableB!$A$3,\"SchoolName\",$B77,\"SubsidiaryName\",$C77,\"YearStart\",W$13))),\"\")","v":"n/a"},"n/a",{"$f":"IFERROR(IF(Z77=\".\",\".\",IF(Z77=\"n/a\",\"n/a\",\nGETPIVOTDATA(AA$21 & \"\",PivotTableB!$A$3,\"SchoolName\",$B77,\"SubsidiaryName\",$C77,\"YearStart\",W$13))),\"\")","v":"n/a"},{"$f":"IFERROR(IF(AA77=\".\",\".\",IF(AA77=\"n/a\",\"n/a\",\nGETPIVOTDATA(AB$21 & \"\",PivotTableB!$A$3,\"SchoolName\",$B77,\"SubsidiaryName\",$C77,\"YearStart\",W$13))),\"\")","v":"n/a"},{"$f":"IFERROR(IF($B77=\"\",\"\",\nIF(OR($L77=\"Nursery School\",$L77=\"All-through PRU\",$M77=\"True\"),\"n/a\",\nIF(GETPIVOTDATA(AC$21 & \"\",PivotTableB!$A$3,\"SchoolName\",$B77,\"SubsidiaryName\",$C77,\"YearStart\",AC$13)=\"\",\".\",\nGETPIVOTDATA(AC$21 & \"\",PivotTableB!$A$3,\"SchoolName\",$B77,\"SubsidiaryName\",$C77,\"YearStart\",AC$13)))),\"\")","v":"n/a"},{"$f":"IFERROR(IF(AC77=\".\",\".\",IF(AC77=\"n/a\",\"n/a\",\nGETPIVOTDATA(AD$21 & \"\",PivotTableB!$A$3,\"SchoolName\",$B77,\"SubsidiaryName\",$C77,\"YearStart\",AC$13))),\"\")","v":"n/a"},{"$f":"IFERROR(IF(AD77=\".\",\".\",IF(AD77=\"n/a\",\"n/a\",\nGETPIVOTDATA(AE$21 & \"\",PivotTableB!$A$3,\"SchoolName\",$B77,\"SubsidiaryName\",$C77,\"YearStart\",AC$13))),\"\")","v":"n/a"},"n/a",{"$f":"IFERROR(IF(AF77=\".\",\".\",IF(AF77=\"n/a\",\"n/a\",\nGETPIVOTDATA(AG$21 & \"\",PivotTableB!$A$3,\"SchoolName\",$B77,\"SubsidiaryName\",$C77,\"YearStart\",AC$13))),\"\")","v":"n/a"},{"$f":"IFERROR(IF(AG77=\".\",\".\",IF(AG77=\"n/a\",\"n/a\",\nGETPIVOTDATA(AH$21 & \"\",PivotTableB!$A$3,\"SchoolName\",$B77,\"SubsidiaryName\",$C77,\"YearStart\",AC$13))),\"\")","v":"n/a"},{"$f":"IFERROR(IF($B77=\"\",\"\",\nIF(OR($L77=\"Nursery School\",$L77=\"All-through PRU\",$M77=\"True\"),\"n/a\",\nIF(GETPIVOTDATA(AI$21 & \"\",PivotTableB!$A$3,\"SchoolName\",$B77,\"SubsidiaryName\",$C77,\"YearStart\",AI$13)=\"\",\".\",\nGETPIVOTDATA(AI$21 & \"\",PivotTableB!$A$3,\"SchoolName\",$B77,\"SubsidiaryName\",$C77,\"YearStart\",AI$13)))),\"\")","v":"n/a"},{"$f":"IFERROR(IF(AI77=\".\",\".\",IF(AI77=\"n/a\",\"n/a\",\nGETPIVOTDATA(AJ$21 & \"\",PivotTableB!$A$3,\"SchoolName\",$B77,\"SubsidiaryName\",$C77,\"YearStart\",AI$13))),\"\")","v":"n/a"},{"$f":"IFERROR(IF(AJ77=\".\",\".\",IF(AJ77=\"n/a\",\"n/a\",\nGETPIVOTDATA(AK$21 & \"\",PivotTableB!$A$3,\"SchoolName\",$B77,\"SubsidiaryName\",$C77,\"YearStart\",AI$13))),\"\")","v":"n/a"},"n/a",{"$f":"IFERROR(IF(AL77=\".\",\".\",IF(AL77=\"n/a\",\"n/a\",\nGETPIVOTDATA(AM$21 & \"\",PivotTableB!$A$3,\"SchoolName\",$B77,\"SubsidiaryName\",$C77,\"YearStart\",AI$13))),\"\")","v":"n/a"},{"$f":"IFERROR(IF(AM77=\".\",\".\",IF(AM77=\"n/a\",\"n/a\",\nGETPIVOTDATA(AN$21 & \"\",PivotTableB!$A$3,\"SchoolName\",$B77,\"SubsidiaryName\",$C77,\"YearStart\",AI$13))),\"\")","v":"n/a"},{"$f":"IFERROR(IF($B77=\"\",\"\",\nIF(OR($L77=\"Nursery School\",$L77=\"All-through PRU\",$M77=\"True\"),\"n/a\",\nIF(GETPIVOTDATA(AO$21 & \"\",PivotTableB!$A$3,\"SchoolName\",$B77,\"SubsidiaryName\",$C77,\"YearStart\",AO$13)=\"\",\".\",\nGETPIVOTDATA(AO$21 & \"\",PivotTableB!$A$3,\"SchoolName\",$B77,\"SubsidiaryName\",$C77,\"YearStart\",AO$13)))),\"\")","v":"n/a"},{"$f":"IFERROR(IF(AO77=\".\",\".\",IF(AO77=\"n/a\",\"n/a\",\nGETPIVOTDATA(AP$21 & \"\",PivotTableB!$A$3,\"SchoolName\",$B77,\"SubsidiaryName\",$C77,\"YearStart\",AO$13))),\"\")","v":"n/a"},{"$f":"IFERROR(IF(AP77=\".\",\".\",IF(AP77=\"n/a\",\"n/a\",\nGETPIVOTDATA(AQ$21 & \"\",PivotTableB!$A$3,\"SchoolName\",$B77,\"SubsidiaryName\",$C77,\"YearStart\",AO$13))),\"\")","v":"n/a"},"n/a",{"$f":"IFERROR(IF(AR77=\".\",\".\",IF(AR77=\"n/a\",\"n/a\",\nGETPIVOTDATA(AS$21 & \"\",PivotTableB!$A$3,\"SchoolName\",$B77,\"SubsidiaryName\",$C77,\"YearStart\",AO$13))),\"\")","v":"n/a"},{"$f":"IFERROR(IF(AS77=\".\",\".\",IF(AS77=\"n/a\",\"n/a\",\nGETPIVOTDATA(AT$21 & \"\",PivotTableB!$A$3,\"SchoolName\",$B77,\"SubsidiaryName\",$C77,\"YearStart\",AO$13))),\"\")","v":"n/a"},{"$f":"IFERROR(IF($B77=\"\",\"\",\nIF(OR($L77=\"Nursery School\",$L77=\"All-through PRU\",$M77=\"True\"),\"n/a\",\nIF(GETPIVOTDATA(AU$21 & \"\",PivotTableB!$A$3,\"SchoolName\",$B77,\"SubsidiaryName\",$C77,\"YearStart\",AU$13)=\"\",\".\",\nGETPIVOTDATA(AU$21 & \"\",PivotTableB!$A$3,\"SchoolName\",$B77,\"SubsidiaryName\",$C77,\"YearStart\",AU$13)))),\"\")","v":"n/a"},{"$f":"IFERROR(IF(AU77=\".\",\".\",IF(AU77=\"n/a\",\"n/a\",\nGETPIVOTDATA(AV$21 & \"\",PivotTableB!$A$3,\"SchoolName\",$B77,\"SubsidiaryName\",$C77,\"YearStart\",AU$13))),\"\")","v":"n/a"},{"$f":"IFERROR(IF(AV77=\".\",\".\",IF(AV77=\"n/a\",\"n/a\",\nGETPIVOTDATA(AW$21 & \"\",PivotTableB!$A$3,\"SchoolName\",$B77,\"SubsidiaryName\",$C77,\"YearStart\",AU$13))),\"\")","v":"n/a"},"n/a",{"$f":"IFERROR(IF(AX77=\".\",\".\",IF(AX77=\"n/a\",\"n/a\",\nGETPIVOTDATA(AY$21 & \"\",PivotTableB!$A$3,\"SchoolName\",$B77,\"SubsidiaryName\",$C77,\"YearStart\",AU$13))),\"\")","v":"n/a"},{"$f":"IFERROR(IF(AY77=\".\",\".\",IF(AY77=\"n/a\",\"n/a\",\nGETPIVOTDATA(AZ$21 & \"\",PivotTableB!$A$3,\"SchoolName\",$B77,\"SubsidiaryName\",$C77,\"YearStart\",AU$13))),\"\")","v":"n/a"},{"$f":"IFERROR(IF($B77=\"\",\"\",\nIF(OR($L77=\"Nursery School\",$L77=\"All-through PRU\",$M77=\"True\"),\"n/a\",\nIF(GETPIVOTDATA(BA$21 & \"\",PivotTableB!$A$3,\"SchoolName\",$B77,\"SubsidiaryName\",$C77,\"YearStart\",BA$13)=\"\",\".\",\nGETPIVOTDATA(BA$21 & \"\",PivotTableB!$A$3,\"SchoolName\",$B77,\"SubsidiaryName\",$C77,\"YearStart\",BA$13)))),\"\")","v":"n/a"},{"$f":"IFERROR(IF(BA77=\".\",\".\",IF(BA77=\"n/a\",\"n/a\",\nGETPIVOTDATA(BB$21 & \"\",PivotTableB!$A$3,\"SchoolName\",$B77,\"SubsidiaryName\",$C77,\"YearStart\",BA$13))),\"\")","v":"n/a"},{"$f":"IFERROR(IF(BB77=\".\",\".\",IF(BB77=\"n/a\",\"n/a\",\nGETPIVOTDATA(BC$21 & \"\",PivotTableB!$A$3,\"SchoolName\",$B77,\"SubsidiaryName\",$C77,\"YearStart\",BA$13))),\"\")","v":"n/a"},{"$f":"IFERROR(IF(BC77=\".\",\".\",IF(BC77=\"n/a\",\"n/a\",\nGETPIVOTDATA(BD$21 & \"\",PivotTableB!$A$3,\"SchoolName\",$B77,\"SubsidiaryName\",$C77,\"YearStart\",BB$13))),\"\")","v":"n/a"},"n/a",{"$f":"IFERROR(IF(BE77=\".\",\".\",IF(BE77=\"n/a\",\"n/a\",\nGETPIVOTDATA(BF$21 & \"\",PivotTableB!$A$3,\"SchoolName\",$B77,\"SubsidiaryName\",$C77,\"YearStart\",BA$13))),\"\")","v":"n/a"},{"$f":"IFERROR(IF(BF77=\".\",\".\",IF(BF77=\"n/a\",\"n/a\",\nGETPIVOTDATA(BG$21 & \"\",PivotTableB!$A$3,\"SchoolName\",$B77,\"SubsidiaryName\",$C77,\"YearStart\",BA$13))),\"\")","v":"n/a"},{"$f":"IFERROR(IF($B77=\"\",\"\",\nIF(OR($L77=\"Nursery School\",$L77=\"All-through PRU\",$M77=\"True\"),\"n/a\",\nIF(GETPIVOTDATA(BH$21 & \"\",PivotTableB!$A$3,\"SchoolName\",$B77,\"SubsidiaryName\",$C77,\"YearStart\",BH$13)=\"\",\".\",\nGETPIVOTDATA(BH$21 & \"\",PivotTableB!$A$3,\"SchoolName\",$B77,\"SubsidiaryName\",$C77,\"YearStart\",BH$13)))),\"\")","v":"n/a"},{"$f":"IFERROR(IF(BH77=\".\",\".\",IF(BH77=\"n/a\",\"n/a\",\nGETPIVOTDATA(BI$21 & \"\",PivotTableB!$A$3,\"SchoolName\",$B77,\"SubsidiaryName\",$C77,\"YearStart\",BH$13))),\"\")","v":"n/a"},{"$f":"IFERROR(IF(BI77=\".\",\".\",IF(BI77=\"n/a\",\"n/a\",\nGETPIVOTDATA(BJ$21 & \"\",PivotTableB!$A$3,\"SchoolName\",$B77,\"SubsidiaryName\",$C77,\"YearStart\",BH$13))),\"\")","v":"n/a"},{"$f":"IFERROR(IF(BJ77=\".\",\".\",IF(BJ77=\"n/a\",\"n/a\",\nGETPIVOTDATA(BK$21 & \"\",PivotTableB!$A$3,\"SchoolName\",$B77,\"SubsidiaryName\",$C77,\"YearStart\",BH$13))),\"\")","v":"n/a"},"n/a",{"$f":"IFERROR(IF(BL77=\".\",\".\",IF(BL77=\"n/a\",\"n/a\",\nGETPIVOTDATA(BM$21 & \"\",PivotTableB!$A$3,\"SchoolName\",$B77,\"SubsidiaryName\",$C77,\"YearStart\",BH$13))),\"\")","v":"n/a"},{"$f":"IFERROR(IF(BM77=\".\",\".\",IF(BM77=\"n/a\",\"n/a\",\nGETPIVOTDATA(BN$21 & \"\",PivotTableB!$A$3,\"SchoolName\",$B77,\"SubsidiaryName\",$C77,\"YearStart\",BH$13))),\"\")","v":"n/a"},{"$f":"IFERROR(IF($B77=\"\",\"\",\nIF(OR($L77=\"Nursery School\",$L77=\"All-through PRU\",$M77=\"True\"),\"n/a\",\nIF(GETPIVOTDATA(BO$21 & \"\",PivotTableB!$A$3,\"SchoolName\",$B77,\"SubsidiaryName\",$C77,\"YearStart\",BO$13)=\"\",\".\",\nGETPIVOTDATA(BO$21 & \"\",PivotTableB!$A$3,\"SchoolName\",$B77,\"SubsidiaryName\",$C77,\"YearStart\",BO$13)))),\"\")","v":"n/a"},{"$f":"IFERROR(IF(BO77=\".\",\".\",IF(BO77=\"n/a\",\"n/a\",\nGETPIVOTDATA(BP$21 & \"\",PivotTableB!$A$3,\"SchoolName\",$B77,\"SubsidiaryName\",$C77,\"YearStart\",BO$13))),\"\")","v":"n/a"},{"$f":"IFERROR(IF(BP77=\".\",\".\",IF(BP77=\"n/a\",\"n/a\",\nGETPIVOTDATA(BQ$21 & \"\",PivotTableB!$A$3,\"SchoolName\",$B77,\"SubsidiaryName\",$C77,\"YearStart\",BO$13))),\"\")","v":"n/a"},{"$f":"IFERROR(IF(BQ77=\".\",\".\",IF(BQ77=\"n/a\",\"n/a\",\nGETPIVOTDATA(BR$21 & \"\",PivotTableB!$A$3,\"SchoolName\",$B77,\"SubsidiaryName\",$C77,\"YearStart\",BP$13))),\"\")","v":"n/a"},"n/a",{"$f":"IFERROR(IF(BS77=\".\",\".\",IF(BS77=\"n/a\",\"n/a\",\nGETPIVOTDATA(BT$21 & \"\",PivotTableB!$A$3,\"SchoolName\",$B77,\"SubsidiaryName\",$C77,\"YearStart\",BO$13))),\"\")","v":"n/a"},{"$f":"IFERROR(IF(BT77=\".\",\".\",IF(BT77=\"n/a\",\"n/a\",\nGETPIVOTDATA(BU$21 & \"\",PivotTableB!$A$3,\"SchoolName\",$B77,\"SubsidiaryName\",$C77,\"YearStart\",BO$13))),\"\")","v":"n/a"},{"$f":"IFERROR(IF($B77=\"\",\"\",\nIF(OR($L77=\"Nursery School\",$L77=\"All-through PRU\",$M77=\"True\"),\"n/a\",\nIF(GETPIVOTDATA(BV$21 & \"\",PivotTableB!$A$3,\"SchoolName\",$B77,\"SubsidiaryName\",$C77,\"YearStart\",BV$13)=\"\",\".\",\nGETPIVOTDATA(BV$21 & \"\",PivotTableB!$A$3,\"SchoolName\",$B77,\"SubsidiaryName\",$C77,\"YearStart\",BV$13)))),\"\")","v":"n/a"},{"$f":"IFERROR(IF(BV77=\".\",\".\",IF(BV77=\"n/a\",\"n/a\",\nGETPIVOTDATA(BW$21 & \"\",PivotTableB!$A$3,\"SchoolName\",$B77,\"SubsidiaryName\",$C77,\"YearStart\",BV$13))),\"\")","v":"n/a"},{"$f":"IFERROR(IF(BW77=\".\",\".\",IF(BW77=\"n/a\",\"n/a\",\nGETPIVOTDATA(BX$21 & \"\",PivotTableB!$A$3,\"SchoolName\",$B77,\"SubsidiaryName\",$C77,\"YearStart\",BV$13))),\"\")","v":"n/a"},{"$f":"IFERROR(IF(BX77=\".\",\".\",IF(BX77=\"n/a\",\"n/a\",\nGETPIVOTDATA(BY$21 & \"\",PivotTableB!$A$3,\"SchoolName\",$B77,\"SubsidiaryName\",$C77,\"YearStart\",BV$13))),\"\")","v":"n/a"},"n/a",{"$f":"IFERROR(IF(BZ77=\".\",\".\",IF(BZ77=\"n/a\",\"n/a\",\nGETPIVOTDATA(CA$21 & \"\",PivotTableB!$A$3,\"SchoolName\",$B77,\"SubsidiaryName\",$C77,\"YearStart\",BV$13))),\"\")","v":"n/a"},{"$f":"IFERROR(IF(CA77=\".\",\".\",IF(CA77=\"n/a\",\"n/a\",\nGETPIVOTDATA(CB$21 & \"\",PivotTableB!$A$3,\"SchoolName\",$B77,\"SubsidiaryName\",$C77,\"YearStart\",BV$13))),\"\")","v":"n/a"}]
[null,{"$f":"IF(PivotTableA!A65=\"\",\"n/a\",PivotTableA!A65)","v":"The Queen Anne Royal Free CE First School"},{"$f":"IF(B78=\"n/a\",\"\",PivotTableA!B65)","v":"The Queen Anne Royal Free CE First School"},{"$f":"IF($B78=\"n/a\",\"\",PivotTableA!C65)","v":"R"},{"$f":"IF($B78=\"n/a\",\"\",PivotTableA!D65)","v":"Windsor"},{"$f":"IF($B78=\"n/a\",\"\",PivotTableA!E65)","v":"East Windsor"},{"$f":"IF($B78=\"n/a\",\"\",PivotTableA!F65)","v":"Home Park"},{"$f":"IF($B78=\"n/a\",\"\",PivotTableA!G65)","v":"Castle Without"},{"$f":"IF($B78=\"n/a\",\"\",PivotTableA!H65)","v":"None"},{"$f":"IF($B78=\"n/a\",\"\",PivotTableA!I65)","v":"Primary"},{"$f":"IF($B78=\"n/a\",\"\",PivotTableA!J65)","v":"Three Tier"},{"$f":"IF($B78=\"n/a\",\"\",PivotTableA!K65)","v":"First"},{"$f":"IF($B78=\"n/a\",\"\",PivotTableA!O65)","v":"FALSE"},{"$f":"IF($B78=\"n/a\",\"\",PivotTableA!L65)","v":"Voluntary Controlled"},{"$f":"IF($B78=\"n/a\",\"\",PivotTableA!M65)","v":" "},{"$f":"IF($B78=\"n/a\",\"\",PivotTableA!N65)","v":"Church of England"},{"$f":"IFERROR(IF($B78=\"\",\"\",\nIF(OR($L78=\"Nursery School\",$L78=\"All-through PRU\",$M78=\"True\"),\"n/a\",\nIF(GETPIVOTDATA(Q$21 & \"\",PivotTableB!$A$3,\"SchoolName\",$B78,\"SubsidiaryName\",$C78,\"YearStart\",Q$13)=\"\",\".\",\nGETPIVOTDATA(Q$21 & \"\",PivotTableB!$A$3,\"SchoolName\",$B78,\"SubsidiaryName\",$C78,\"YearStart\",Q$13)))),\"\")","v":30},{"$f":"IFERROR(IF(Q78=\".\",\".\",IF(Q78=\"n/a\",\"n/a\",\nGETPIVOTDATA(R$21 & \"\",PivotTableB!$A$3,\"SchoolName\",$B78,\"SubsidiaryName\",$C78,\"YearStart\",Q$13))),\"\")","v":0},{"$f":"IFERROR(IF(R78=\".\",\".\",IF(R78=\"n/a\",\"n/a\",\nGETPIVOTDATA(S$21 & \"\",PivotTableB!$A$3,\"SchoolName\",$B78,\"SubsidiaryName\",$C78,\"YearStart\",Q$13))),\"\")","v":0},30,{"$f":"IFERROR(IF(T78=\".\",\".\",IF(T78=\"n/a\",\"n/a\",\nGETPIVOTDATA(U$21 & \"\",PivotTableB!$A$3,\"SchoolName\",$B78,\"SubsidiaryName\",$C78,\"YearStart\",Q$13))),\"\")","v":0},{"$f":"IFERROR(IF(U78=\".\",\".\",IF(U78=\"n/a\",\"n/a\",\nGETPIVOTDATA(V$21 & \"\",PivotTableB!$A$3,\"SchoolName\",$B78,\"SubsidiaryName\",$C78,\"YearStart\",Q$13))),\"\")","v":149},{"$f":"IFERROR(IF($B78=\"\",\"\",\nIF(OR($L78=\"Nursery School\",$L78=\"All-through PRU\",$M78=\"True\"),\"n/a\",\nIF(GETPIVOTDATA(W$21 & \"\",PivotTableB!$A$3,\"SchoolName\",$B78,\"SubsidiaryName\",$C78,\"YearStart\",W$13)=\"\",\".\",\nGETPIVOTDATA(W$21 & \"\",PivotTableB!$A$3,\"SchoolName\",$B78,\"SubsidiaryName\",$C78,\"YearStart\",W$13)))),\"\")","v":30},{"$f":"IFERROR(IF(W78=\".\",\".\",IF(W78=\"n/a\",\"n/a\",\nGETPIVOTDATA(X$21 & \"\",PivotTableB!$A$3,\"SchoolName\",$B78,\"SubsidiaryName\",$C78,\"YearStart\",W$13))),\"\")","v":0},{"$f":"IFERROR(IF(X78=\".\",\".\",IF(X78=\"n/a\",\"n/a\",\nGETPIVOTDATA(Y$21 & \"\",PivotTableB!$A$3,\"SchoolName\",$B78,\"SubsidiaryName\",$C78,\"YearStart\",W$13))),\"\")","v":0},30,{"$f":"IFERROR(IF(Z78=\".\",\".\",IF(Z78=\"n/a\",\"n/a\",\nGETPIVOTDATA(AA$21 & \"\",PivotTableB!$A$3,\"SchoolName\",$B78,\"SubsidiaryName\",$C78,\"YearStart\",W$13))),\"\")","v":0},{"$f":"IFERROR(IF(AA78=\".\",\".\",IF(AA78=\"n/a\",\"n/a\",\nGETPIVOTDATA(AB$21 & \"\",PivotTableB!$A$3,\"SchoolName\",$B78,\"SubsidiaryName\",$C78,\"YearStart\",W$13))),\"\")","v":149},{"$f":"IFERROR(IF($B78=\"\",\"\",\nIF(OR($L78=\"Nursery School\",$L78=\"All-through PRU\",$M78=\"True\"),\"n/a\",\nIF(GETPIVOTDATA(AC$21 & \"\",PivotTableB!$A$3,\"SchoolName\",$B78,\"SubsidiaryName\",$C78,\"YearStart\",AC$13)=\"\",\".\",\nGETPIVOTDATA(AC$21 & \"\",PivotTableB!$A$3,\"SchoolName\",$B78,\"SubsidiaryName\",$C78,\"YearStart\",AC$13)))),\"\")","v":30},{"$f":"IFERROR(IF(AC78=\".\",\".\",IF(AC78=\"n/a\",\"n/a\",\nGETPIVOTDATA(AD$21 & \"\",PivotTableB!$A$3,\"SchoolName\",$B78,\"SubsidiaryName\",$C78,\"YearStart\",AC$13))),\"\")","v":0},{"$f":"IFERROR(IF(AD78=\".\",\".\",IF(AD78=\"n/a\",\"n/a\",\nGETPIVOTDATA(AE$21 & \"\",PivotTableB!$A$3,\"SchoolName\",$B78,\"SubsidiaryName\",$C78,\"YearStart\",AC$13))),\"\")","v":0},30,{"$f":"IFERROR(IF(AF78=\".\",\".\",IF(AF78=\"n/a\",\"n/a\",\nGETPIVOTDATA(AG$21 & \"\",PivotTableB!$A$3,\"SchoolName\",$B78,\"SubsidiaryName\",$C78,\"YearStart\",AC$13))),\"\")","v":0},{"$f":"IFERROR(IF(AG78=\".\",\".\",IF(AG78=\"n/a\",\"n/a\",\nGETPIVOTDATA(AH$21 & \"\",PivotTableB!$A$3,\"SchoolName\",$B78,\"SubsidiaryName\",$C78,\"YearStart\",AC$13))),\"\")","v":150},{"$f":"IFERROR(IF($B78=\"\",\"\",\nIF(OR($L78=\"Nursery School\",$L78=\"All-through PRU\",$M78=\"True\"),\"n/a\",\nIF(GETPIVOTDATA(AI$21 & \"\",PivotTableB!$A$3,\"SchoolName\",$B78,\"SubsidiaryName\",$C78,\"YearStart\",AI$13)=\"\",\".\",\nGETPIVOTDATA(AI$21 & \"\",PivotTableB!$A$3,\"SchoolName\",$B78,\"SubsidiaryName\",$C78,\"YearStart\",AI$13)))),\"\")","v":30},{"$f":"IFERROR(IF(AI78=\".\",\".\",IF(AI78=\"n/a\",\"n/a\",\nGETPIVOTDATA(AJ$21 & \"\",PivotTableB!$A$3,\"SchoolName\",$B78,\"SubsidiaryName\",$C78,\"YearStart\",AI$13))),\"\")","v":0},{"$f":"IFERROR(IF(AJ78=\".\",\".\",IF(AJ78=\"n/a\",\"n/a\",\nGETPIVOTDATA(AK$21 & \"\",PivotTableB!$A$3,\"SchoolName\",$B78,\"SubsidiaryName\",$C78,\"YearStart\",AI$13))),\"\")","v":0},30,{"$f":"IFERROR(IF(AL78=\".\",\".\",IF(AL78=\"n/a\",\"n/a\",\nGETPIVOTDATA(AM$21 & \"\",PivotTableB!$A$3,\"SchoolName\",$B78,\"SubsidiaryName\",$C78,\"YearStart\",AI$13))),\"\")","v":0},{"$f":"IFERROR(IF(AM78=\".\",\".\",IF(AM78=\"n/a\",\"n/a\",\nGETPIVOTDATA(AN$21 & \"\",PivotTableB!$A$3,\"SchoolName\",$B78,\"SubsidiaryName\",$C78,\"YearStart\",AI$13))),\"\")","v":150},{"$f":"IFERROR(IF($B78=\"\",\"\",\nIF(OR($L78=\"Nursery School\",$L78=\"All-through PRU\",$M78=\"True\"),\"n/a\",\nIF(GETPIVOTDATA(AO$21 & \"\",PivotTableB!$A$3,\"SchoolName\",$B78,\"SubsidiaryName\",$C78,\"YearStart\",AO$13)=\"\",\".\",\nGETPIVOTDATA(AO$21 & \"\",PivotTableB!$A$3,\"SchoolName\",$B78,\"SubsidiaryName\",$C78,\"YearStart\",AO$13)))),\"\")","v":30},{"$f":"IFERROR(IF(AO78=\".\",\".\",IF(AO78=\"n/a\",\"n/a\",\nGETPIVOTDATA(AP$21 & \"\",PivotTableB!$A$3,\"SchoolName\",$B78,\"SubsidiaryName\",$C78,\"YearStart\",AO$13))),\"\")","v":0},{"$f":"IFERROR(IF(AP78=\".\",\".\",IF(AP78=\"n/a\",\"n/a\",\nGETPIVOTDATA(AQ$21 & \"\",PivotTableB!$A$3,\"SchoolName\",$B78,\"SubsidiaryName\",$C78,\"YearStart\",AO$13))),\"\")","v":0},30,{"$f":"IFERROR(IF(AR78=\".\",\".\",IF(AR78=\"n/a\",\"n/a\",\nGETPIVOTDATA(AS$21 & \"\",PivotTableB!$A$3,\"SchoolName\",$B78,\"SubsidiaryName\",$C78,\"YearStart\",AO$13))),\"\")","v":0},{"$f":"IFERROR(IF(AS78=\".\",\".\",IF(AS78=\"n/a\",\"n/a\",\nGETPIVOTDATA(AT$21 & \"\",PivotTableB!$A$3,\"SchoolName\",$B78,\"SubsidiaryName\",$C78,\"YearStart\",AO$13))),\"\")","v":150},{"$f":"IFERROR(IF($B78=\"\",\"\",\nIF(OR($L78=\"Nursery School\",$L78=\"All-through PRU\",$M78=\"True\"),\"n/a\",\nIF(GETPIVOTDATA(AU$21 & \"\",PivotTableB!$A$3,\"SchoolName\",$B78,\"SubsidiaryName\",$C78,\"YearStart\",AU$13)=\"\",\".\",\nGETPIVOTDATA(AU$21 & \"\",PivotTableB!$A$3,\"SchoolName\",$B78,\"SubsidiaryName\",$C78,\"YearStart\",AU$13)))),\"\")","v":30},{"$f":"IFERROR(IF(AU78=\".\",\".\",IF(AU78=\"n/a\",\"n/a\",\nGETPIVOTDATA(AV$21 & \"\",PivotTableB!$A$3,\"SchoolName\",$B78,\"SubsidiaryName\",$C78,\"YearStart\",AU$13))),\"\")","v":0},{"$f":"IFERROR(IF(AV78=\".\",\".\",IF(AV78=\"n/a\",\"n/a\",\nGETPIVOTDATA(AW$21 & \"\",PivotTableB!$A$3,\"SchoolName\",$B78,\"SubsidiaryName\",$C78,\"YearStart\",AU$13))),\"\")","v":0},30,{"$f":"IFERROR(IF(AX78=\".\",\".\",IF(AX78=\"n/a\",\"n/a\",\nGETPIVOTDATA(AY$21 & \"\",PivotTableB!$A$3,\"SchoolName\",$B78,\"SubsidiaryName\",$C78,\"YearStart\",AU$13))),\"\")","v":0},{"$f":"IFERROR(IF(AY78=\".\",\".\",IF(AY78=\"n/a\",\"n/a\",\nGETPIVOTDATA(AZ$21 & \"\",PivotTableB!$A$3,\"SchoolName\",$B78,\"SubsidiaryName\",$C78,\"YearStart\",AU$13))),\"\")","v":150},{"$f":"IFERROR(IF($B78=\"\",\"\",\nIF(OR($L78=\"Nursery School\",$L78=\"All-through PRU\",$M78=\"True\"),\"n/a\",\nIF(GETPIVOTDATA(BA$21 & \"\",PivotTableB!$A$3,\"SchoolName\",$B78,\"SubsidiaryName\",$C78,\"YearStart\",BA$13)=\"\",\".\",\nGETPIVOTDATA(BA$21 & \"\",PivotTableB!$A$3,\"SchoolName\",$B78,\"SubsidiaryName\",$C78,\"YearStart\",BA$13)))),\"\")","v":30},{"$f":"IFERROR(IF(BA78=\".\",\".\",IF(BA78=\"n/a\",\"n/a\",\nGETPIVOTDATA(BB$21 & \"\",PivotTableB!$A$3,\"SchoolName\",$B78,\"SubsidiaryName\",$C78,\"YearStart\",BA$13))),\"\")","v":0},{"$f":"IFERROR(IF(BB78=\".\",\".\",IF(BB78=\"n/a\",\"n/a\",\nGETPIVOTDATA(BC$21 & \"\",PivotTableB!$A$3,\"SchoolName\",$B78,\"SubsidiaryName\",$C78,\"YearStart\",BA$13))),\"\")","v":0},{"$f":"IFERROR(IF(BC78=\".\",\".\",IF(BC78=\"n/a\",\"n/a\",\nGETPIVOTDATA(BD$21 & \"\",PivotTableB!$A$3,\"SchoolName\",$B78,\"SubsidiaryName\",$C78,\"YearStart\",BB$13))),\"\")","v":""},30,{"$f":"IFERROR(IF(BE78=\".\",\".\",IF(BE78=\"n/a\",\"n/a\",\nGETPIVOTDATA(BF$21 & \"\",PivotTableB!$A$3,\"SchoolName\",$B78,\"SubsidiaryName\",$C78,\"YearStart\",BA$13))),\"\")","v":0},{"$f":"IFERROR(IF(BF78=\".\",\".\",IF(BF78=\"n/a\",\"n/a\",\nGETPIVOTDATA(BG$21 & \"\",PivotTableB!$A$3,\"SchoolName\",$B78,\"SubsidiaryName\",$C78,\"YearStart\",BA$13))),\"\")","v":150},{"$f":"IFERROR(IF($B78=\"\",\"\",\nIF(OR($L78=\"Nursery School\",$L78=\"All-through PRU\",$M78=\"True\"),\"n/a\",\nIF(GETPIVOTDATA(BH$21 & \"\",PivotTableB!$A$3,\"SchoolName\",$B78,\"SubsidiaryName\",$C78,\"YearStart\",BH$13)=\"\",\".\",\nGETPIVOTDATA(BH$21 & \"\",PivotTableB!$A$3,\"SchoolName\",$B78,\"SubsidiaryName\",$C78,\"YearStart\",BH$13)))),\"\")","v":30},{"$f":"IFERROR(IF(BH78=\".\",\".\",IF(BH78=\"n/a\",\"n/a\",\nGETPIVOTDATA(BI$21 & \"\",PivotTableB!$A$3,\"SchoolName\",$B78,\"SubsidiaryName\",$C78,\"YearStart\",BH$13))),\"\")","v":0},{"$f":"IFERROR(IF(BI78=\".\",\".\",IF(BI78=\"n/a\",\"n/a\",\nGETPIVOTDATA(BJ$21 & \"\",PivotTableB!$A$3,\"SchoolName\",$B78,\"SubsidiaryName\",$C78,\"YearStart\",BH$13))),\"\")","v":0},{"$f":"IFERROR(IF(BJ78=\".\",\".\",IF(BJ78=\"n/a\",\"n/a\",\nGETPIVOTDATA(BK$21 & \"\",PivotTableB!$A$3,\"SchoolName\",$B78,\"SubsidiaryName\",$C78,\"YearStart\",BH$13))),\"\")","v":0},30,{"$f":"IFERROR(IF(BL78=\".\",\".\",IF(BL78=\"n/a\",\"n/a\",\nGETPIVOTDATA(BM$21 & \"\",PivotTableB!$A$3,\"SchoolName\",$B78,\"SubsidiaryName\",$C78,\"YearStart\",BH$13))),\"\")","v":0},{"$f":"IFERROR(IF(BM78=\".\",\".\",IF(BM78=\"n/a\",\"n/a\",\nGETPIVOTDATA(BN$21 & \"\",PivotTableB!$A$3,\"SchoolName\",$B78,\"SubsidiaryName\",$C78,\"YearStart\",BH$13))),\"\")","v":150},{"$f":"IFERROR(IF($B78=\"\",\"\",\nIF(OR($L78=\"Nursery School\",$L78=\"All-through PRU\",$M78=\"True\"),\"n/a\",\nIF(GETPIVOTDATA(BO$21 & \"\",PivotTableB!$A$3,\"SchoolName\",$B78,\"SubsidiaryName\",$C78,\"YearStart\",BO$13)=\"\",\".\",\nGETPIVOTDATA(BO$21 & \"\",PivotTableB!$A$3,\"SchoolName\",$B78,\"SubsidiaryName\",$C78,\"YearStart\",BO$13)))),\"\")","v":30},{"$f":"IFERROR(IF(BO78=\".\",\".\",IF(BO78=\"n/a\",\"n/a\",\nGETPIVOTDATA(BP$21 & \"\",PivotTableB!$A$3,\"SchoolName\",$B78,\"SubsidiaryName\",$C78,\"YearStart\",BO$13))),\"\")","v":0},{"$f":"IFERROR(IF(BP78=\".\",\".\",IF(BP78=\"n/a\",\"n/a\",\nGETPIVOTDATA(BQ$21 & \"\",PivotTableB!$A$3,\"SchoolName\",$B78,\"SubsidiaryName\",$C78,\"YearStart\",BO$13))),\"\")","v":0},{"$f":"IFERROR(IF(BQ78=\".\",\".\",IF(BQ78=\"n/a\",\"n/a\",\nGETPIVOTDATA(BR$21 & \"\",PivotTableB!$A$3,\"SchoolName\",$B78,\"SubsidiaryName\",$C78,\"YearStart\",BP$13))),\"\")","v":""},30,{"$f":"IFERROR(IF(BS78=\".\",\".\",IF(BS78=\"n/a\",\"n/a\",\nGETPIVOTDATA(BT$21 & \"\",PivotTableB!$A$3,\"SchoolName\",$B78,\"SubsidiaryName\",$C78,\"YearStart\",BO$13))),\"\")","v":0},{"$f":"IFERROR(IF(BT78=\".\",\".\",IF(BT78=\"n/a\",\"n/a\",\nGETPIVOTDATA(BU$21 & \"\",PivotTableB!$A$3,\"SchoolName\",$B78,\"SubsidiaryName\",$C78,\"YearStart\",BO$13))),\"\")","v":150},{"$f":"IFERROR(IF($B78=\"\",\"\",\nIF(OR($L78=\"Nursery School\",$L78=\"All-through PRU\",$M78=\"True\"),\"n/a\",\nIF(GETPIVOTDATA(BV$21 & \"\",PivotTableB!$A$3,\"SchoolName\",$B78,\"SubsidiaryName\",$C78,\"YearStart\",BV$13)=\"\",\".\",\nGETPIVOTDATA(BV$21 & \"\",PivotTableB!$A$3,\"SchoolName\",$B78,\"SubsidiaryName\",$C78,\"YearStart\",BV$13)))),\"\")","v":30},{"$f":"IFERROR(IF(BV78=\".\",\".\",IF(BV78=\"n/a\",\"n/a\",\nGETPIVOTDATA(BW$21 & \"\",PivotTableB!$A$3,\"SchoolName\",$B78,\"SubsidiaryName\",$C78,\"YearStart\",BV$13))),\"\")","v":0},{"$f":"IFERROR(IF(BW78=\".\",\".\",IF(BW78=\"n/a\",\"n/a\",\nGETPIVOTDATA(BX$21 & \"\",PivotTableB!$A$3,\"SchoolName\",$B78,\"SubsidiaryName\",$C78,\"YearStart\",BV$13))),\"\")","v":0},{"$f":"IFERROR(IF(BX78=\".\",\".\",IF(BX78=\"n/a\",\"n/a\",\nGETPIVOTDATA(BY$21 & \"\",PivotTableB!$A$3,\"SchoolName\",$B78,\"SubsidiaryName\",$C78,\"YearStart\",BV$13))),\"\")","v":0},30,{"$f":"IFERROR(IF(BZ78=\".\",\".\",IF(BZ78=\"n/a\",\"n/a\",\nGETPIVOTDATA(CA$21 & \"\",PivotTableB!$A$3,\"SchoolName\",$B78,\"SubsidiaryName\",$C78,\"YearStart\",BV$13))),\"\")","v":0},{"$f":"IFERROR(IF(CA78=\".\",\".\",IF(CA78=\"n/a\",\"n/a\",\nGETPIVOTDATA(CB$21 & \"\",PivotTableB!$A$3,\"SchoolName\",$B78,\"SubsidiaryName\",$C78,\"YearStart\",BV$13))),\"\")","v":150}]
[null,{"$f":"IF(PivotTableA!A66=\"\",\"n/a\",PivotTableA!A66)","v":"The Royal School (Crown Aided)"},{"$f":"IF(B79=\"n/a\",\"\",PivotTableA!B66)","v":"The Royal School (Crown Aided)"},{"$f":"IF($B79=\"n/a\",\"\",PivotTableA!C66)","v":"R"},{"$f":"IF($B79=\"n/a\",\"\",PivotTableA!D66)","v":"Windsor"},{"$f":"IF($B79=\"n/a\",\"\",PivotTableA!E66)","v":"Windsor Villages"},{"$f":"IF($B79=\"n/a\",\"\",PivotTableA!F66)","v":"Great Park"},{"$f":"IF($B79=\"n/a\",\"\",PivotTableA!G66)","v":"Old Windsor"},{"$f":"IF($B79=\"n/a\",\"\",PivotTableA!H66)","v":"Old Windsor"},{"$f":"IF($B79=\"n/a\",\"\",PivotTableA!I66)","v":"Primary"},{"$f":"IF($B79=\"n/a\",\"\",PivotTableA!J66)","v":"Three Tier"},{"$f":"IF($B79=\"n/a\",\"\",PivotTableA!K66)","v":"First"},{"$f":"IF($B79=\"n/a\",\"\",PivotTableA!O66)","v":"FALSE"},{"$f":"IF($B79=\"n/a\",\"\",PivotTableA!L66)","v":"Voluntary Aided"},{"$f":"IF($B79=\"n/a\",\"\",PivotTableA!M66)","v":" "},{"$f":"IF($B79=\"n/a\",\"\",PivotTableA!N66)","v":"Church of England"},{"$f":"IFERROR(IF($B79=\"\",\"\",\nIF(OR($L79=\"Nursery School\",$L79=\"All-through PRU\",$M79=\"True\"),\"n/a\",\nIF(GETPIVOTDATA(Q$21 & \"\",PivotTableB!$A$3,\"SchoolName\",$B79,\"SubsidiaryName\",$C79,\"YearStart\",Q$13)=\"\",\".\",\nGETPIVOTDATA(Q$21 & \"\",PivotTableB!$A$3,\"SchoolName\",$B79,\"SubsidiaryName\",$C79,\"YearStart\",Q$13)))),\"\")","v":20},{"$f":"IFERROR(IF(Q79=\".\",\".\",IF(Q79=\"n/a\",\"n/a\",\nGETPIVOTDATA(R$21 & \"\",PivotTableB!$A$3,\"SchoolName\",$B79,\"SubsidiaryName\",$C79,\"YearStart\",Q$13))),\"\")","v":0},{"$f":"IFERROR(IF(R79=\".\",\".\",IF(R79=\"n/a\",\"n/a\",\nGETPIVOTDATA(S$21 & \"\",PivotTableB!$A$3,\"SchoolName\",$B79,\"SubsidiaryName\",$C79,\"YearStart\",Q$13))),\"\")","v":0},20,{"$f":"IFERROR(IF(T79=\".\",\".\",IF(T79=\"n/a\",\"n/a\",\nGETPIVOTDATA(U$21 & \"\",PivotTableB!$A$3,\"SchoolName\",$B79,\"SubsidiaryName\",$C79,\"YearStart\",Q$13))),\"\")","v":0},{"$f":"IFERROR(IF(U79=\".\",\".\",IF(U79=\"n/a\",\"n/a\",\nGETPIVOTDATA(V$21 & \"\",PivotTableB!$A$3,\"SchoolName\",$B79,\"SubsidiaryName\",$C79,\"YearStart\",Q$13))),\"\")","v":108},{"$f":"IFERROR(IF($B79=\"\",\"\",\nIF(OR($L79=\"Nursery School\",$L79=\"All-through PRU\",$M79=\"True\"),\"n/a\",\nIF(GETPIVOTDATA(W$21 & \"\",PivotTableB!$A$3,\"SchoolName\",$B79,\"SubsidiaryName\",$C79,\"YearStart\",W$13)=\"\",\".\",\nGETPIVOTDATA(W$21 & \"\",PivotTableB!$A$3,\"SchoolName\",$B79,\"SubsidiaryName\",$C79,\"YearStart\",W$13)))),\"\")","v":20},{"$f":"IFERROR(IF(W79=\".\",\".\",IF(W79=\"n/a\",\"n/a\",\nGETPIVOTDATA(X$21 & \"\",PivotTableB!$A$3,\"SchoolName\",$B79,\"SubsidiaryName\",$C79,\"YearStart\",W$13))),\"\")","v":0},{"$f":"IFERROR(IF(X79=\".\",\".\",IF(X79=\"n/a\",\"n/a\",\nGETPIVOTDATA(Y$21 & \"\",PivotTableB!$A$3,\"SchoolName\",$B79,\"SubsidiaryName\",$C79,\"YearStart\",W$13))),\"\")","v":0},20,{"$f":"IFERROR(IF(Z79=\".\",\".\",IF(Z79=\"n/a\",\"n/a\",\nGETPIVOTDATA(AA$21 & \"\",PivotTableB!$A$3,\"SchoolName\",$B79,\"SubsidiaryName\",$C79,\"YearStart\",W$13))),\"\")","v":0},{"$f":"IFERROR(IF(AA79=\".\",\".\",IF(AA79=\"n/a\",\"n/a\",\nGETPIVOTDATA(AB$21 & \"\",PivotTableB!$A$3,\"SchoolName\",$B79,\"SubsidiaryName\",$C79,\"YearStart\",W$13))),\"\")","v":108},{"$f":"IFERROR(IF($B79=\"\",\"\",\nIF(OR($L79=\"Nursery School\",$L79=\"All-through PRU\",$M79=\"True\"),\"n/a\",\nIF(GETPIVOTDATA(AC$21 & \"\",PivotTableB!$A$3,\"SchoolName\",$B79,\"SubsidiaryName\",$C79,\"YearStart\",AC$13)=\"\",\".\",\nGETPIVOTDATA(AC$21 & \"\",PivotTableB!$A$3,\"SchoolName\",$B79,\"SubsidiaryName\",$C79,\"YearStart\",AC$13)))),\"\")","v":20},{"$f":"IFERROR(IF(AC79=\".\",\".\",IF(AC79=\"n/a\",\"n/a\",\nGETPIVOTDATA(AD$21 & \"\",PivotTableB!$A$3,\"SchoolName\",$B79,\"SubsidiaryName\",$C79,\"YearStart\",AC$13))),\"\")","v":0},{"$f":"IFERROR(IF(AD79=\".\",\".\",IF(AD79=\"n/a\",\"n/a\",\nGETPIVOTDATA(AE$21 & \"\",PivotTableB!$A$3,\"SchoolName\",$B79,\"SubsidiaryName\",$C79,\"YearStart\",AC$13))),\"\")","v":0},20,{"$f":"IFERROR(IF(AF79=\".\",\".\",IF(AF79=\"n/a\",\"n/a\",\nGETPIVOTDATA(AG$21 & \"\",PivotTableB!$A$3,\"SchoolName\",$B79,\"SubsidiaryName\",$C79,\"YearStart\",AC$13))),\"\")","v":0},{"$f":"IFERROR(IF(AG79=\".\",\".\",IF(AG79=\"n/a\",\"n/a\",\nGETPIVOTDATA(AH$21 & \"\",PivotTableB!$A$3,\"SchoolName\",$B79,\"SubsidiaryName\",$C79,\"YearStart\",AC$13))),\"\")","v":108},{"$f":"IFERROR(IF($B79=\"\",\"\",\nIF(OR($L79=\"Nursery School\",$L79=\"All-through PRU\",$M79=\"True\"),\"n/a\",\nIF(GETPIVOTDATA(AI$21 & \"\",PivotTableB!$A$3,\"SchoolName\",$B79,\"SubsidiaryName\",$C79,\"YearStart\",AI$13)=\"\",\".\",\nGETPIVOTDATA(AI$21 & \"\",PivotTableB!$A$3,\"SchoolName\",$B79,\"SubsidiaryName\",$C79,\"YearStart\",AI$13)))),\"\")","v":20},{"$f":"IFERROR(IF(AI79=\".\",\".\",IF(AI79=\"n/a\",\"n/a\",\nGETPIVOTDATA(AJ$21 & \"\",PivotTableB!$A$3,\"SchoolName\",$B79,\"SubsidiaryName\",$C79,\"YearStart\",AI$13))),\"\")","v":0},{"$f":"IFERROR(IF(AJ79=\".\",\".\",IF(AJ79=\"n/a\",\"n/a\",\nGETPIVOTDATA(AK$21 & \"\",PivotTableB!$A$3,\"SchoolName\",$B79,\"SubsidiaryName\",$C79,\"YearStart\",AI$13))),\"\")","v":0},20,{"$f":"IFERROR(IF(AL79=\".\",\".\",IF(AL79=\"n/a\",\"n/a\",\nGETPIVOTDATA(AM$21 & \"\",PivotTableB!$A$3,\"SchoolName\",$B79,\"SubsidiaryName\",$C79,\"YearStart\",AI$13))),\"\")","v":0},{"$f":"IFERROR(IF(AM79=\".\",\".\",IF(AM79=\"n/a\",\"n/a\",\nGETPIVOTDATA(AN$21 & \"\",PivotTableB!$A$3,\"SchoolName\",$B79,\"SubsidiaryName\",$C79,\"YearStart\",AI$13))),\"\")","v":108},{"$f":"IFERROR(IF($B79=\"\",\"\",\nIF(OR($L79=\"Nursery School\",$L79=\"All-through PRU\",$M79=\"True\"),\"n/a\",\nIF(GETPIVOTDATA(AO$21 & \"\",PivotTableB!$A$3,\"SchoolName\",$B79,\"SubsidiaryName\",$C79,\"YearStart\",AO$13)=\"\",\".\",\nGETPIVOTDATA(AO$21 & \"\",PivotTableB!$A$3,\"SchoolName\",$B79,\"SubsidiaryName\",$C79,\"YearStart\",AO$13)))),\"\")","v":20},{"$f":"IFERROR(IF(AO79=\".\",\".\",IF(AO79=\"n/a\",\"n/a\",\nGETPIVOTDATA(AP$21 & \"\",PivotTableB!$A$3,\"SchoolName\",$B79,\"SubsidiaryName\",$C79,\"YearStart\",AO$13))),\"\")","v":0},{"$f":"IFERROR(IF(AP79=\".\",\".\",IF(AP79=\"n/a\",\"n/a\",\nGETPIVOTDATA(AQ$21 & \"\",PivotTableB!$A$3,\"SchoolName\",$B79,\"SubsidiaryName\",$C79,\"YearStart\",AO$13))),\"\")","v":0},20,{"$f":"IFERROR(IF(AR79=\".\",\".\",IF(AR79=\"n/a\",\"n/a\",\nGETPIVOTDATA(AS$21 & \"\",PivotTableB!$A$3,\"SchoolName\",$B79,\"SubsidiaryName\",$C79,\"YearStart\",AO$13))),\"\")","v":0},{"$f":"IFERROR(IF(AS79=\".\",\".\",IF(AS79=\"n/a\",\"n/a\",\nGETPIVOTDATA(AT$21 & \"\",PivotTableB!$A$3,\"SchoolName\",$B79,\"SubsidiaryName\",$C79,\"YearStart\",AO$13))),\"\")","v":108},{"$f":"IFERROR(IF($B79=\"\",\"\",\nIF(OR($L79=\"Nursery School\",$L79=\"All-through PRU\",$M79=\"True\"),\"n/a\",\nIF(GETPIVOTDATA(AU$21 & \"\",PivotTableB!$A$3,\"SchoolName\",$B79,\"SubsidiaryName\",$C79,\"YearStart\",AU$13)=\"\",\".\",\nGETPIVOTDATA(AU$21 & \"\",PivotTableB!$A$3,\"SchoolName\",$B79,\"SubsidiaryName\",$C79,\"YearStart\",AU$13)))),\"\")","v":20},{"$f":"IFERROR(IF(AU79=\".\",\".\",IF(AU79=\"n/a\",\"n/a\",\nGETPIVOTDATA(AV$21 & \"\",PivotTableB!$A$3,\"SchoolName\",$B79,\"SubsidiaryName\",$C79,\"YearStart\",AU$13))),\"\")","v":0},{"$f":"IFERROR(IF(AV79=\".\",\".\",IF(AV79=\"n/a\",\"n/a\",\nGETPIVOTDATA(AW$21 & \"\",PivotTableB!$A$3,\"SchoolName\",$B79,\"SubsidiaryName\",$C79,\"YearStart\",AU$13))),\"\")","v":0},20,{"$f":"IFERROR(IF(AX79=\".\",\".\",IF(AX79=\"n/a\",\"n/a\",\nGETPIVOTDATA(AY$21 & \"\",PivotTableB!$A$3,\"SchoolName\",$B79,\"SubsidiaryName\",$C79,\"YearStart\",AU$13))),\"\")","v":0},{"$f":"IFERROR(IF(AY79=\".\",\".\",IF(AY79=\"n/a\",\"n/a\",\nGETPIVOTDATA(AZ$21 & \"\",PivotTableB!$A$3,\"SchoolName\",$B79,\"SubsidiaryName\",$C79,\"YearStart\",AU$13))),\"\")","v":108},{"$f":"IFERROR(IF($B79=\"\",\"\",\nIF(OR($L79=\"Nursery School\",$L79=\"All-through PRU\",$M79=\"True\"),\"n/a\",\nIF(GETPIVOTDATA(BA$21 & \"\",PivotTableB!$A$3,\"SchoolName\",$B79,\"SubsidiaryName\",$C79,\"YearStart\",BA$13)=\"\",\".\",\nGETPIVOTDATA(BA$21 & \"\",PivotTableB!$A$3,\"SchoolName\",$B79,\"SubsidiaryName\",$C79,\"YearStart\",BA$13)))),\"\")","v":20},{"$f":"IFERROR(IF(BA79=\".\",\".\",IF(BA79=\"n/a\",\"n/a\",\nGETPIVOTDATA(BB$21 & \"\",PivotTableB!$A$3,\"SchoolName\",$B79,\"SubsidiaryName\",$C79,\"YearStart\",BA$13))),\"\")","v":0},{"$f":"IFERROR(IF(BB79=\".\",\".\",IF(BB79=\"n/a\",\"n/a\",\nGETPIVOTDATA(BC$21 & \"\",PivotTableB!$A$3,\"SchoolName\",$B79,\"SubsidiaryName\",$C79,\"YearStart\",BA$13))),\"\")","v":0},{"$f":"IFERROR(IF(BC79=\".\",\".\",IF(BC79=\"n/a\",\"n/a\",\nGETPIVOTDATA(BD$21 & \"\",PivotTableB!$A$3,\"SchoolName\",$B79,\"SubsidiaryName\",$C79,\"YearStart\",BB$13))),\"\")","v":""},20,{"$f":"IFERROR(IF(BE79=\".\",\".\",IF(BE79=\"n/a\",\"n/a\",\nGETPIVOTDATA(BF$21 & \"\",PivotTableB!$A$3,\"SchoolName\",$B79,\"SubsidiaryName\",$C79,\"YearStart\",BA$13))),\"\")","v":0},{"$f":"IFERROR(IF(BF79=\".\",\".\",IF(BF79=\"n/a\",\"n/a\",\nGETPIVOTDATA(BG$21 & \"\",PivotTableB!$A$3,\"SchoolName\",$B79,\"SubsidiaryName\",$C79,\"YearStart\",BA$13))),\"\")","v":108},{"$f":"IFERROR(IF($B79=\"\",\"\",\nIF(OR($L79=\"Nursery School\",$L79=\"All-through PRU\",$M79=\"True\"),\"n/a\",\nIF(GETPIVOTDATA(BH$21 & \"\",PivotTableB!$A$3,\"SchoolName\",$B79,\"SubsidiaryName\",$C79,\"YearStart\",BH$13)=\"\",\".\",\nGETPIVOTDATA(BH$21 & \"\",PivotTableB!$A$3,\"SchoolName\",$B79,\"SubsidiaryName\",$C79,\"YearStart\",BH$13)))),\"\")","v":20},{"$f":"IFERROR(IF(BH79=\".\",\".\",IF(BH79=\"n/a\",\"n/a\",\nGETPIVOTDATA(BI$21 & \"\",PivotTableB!$A$3,\"SchoolName\",$B79,\"SubsidiaryName\",$C79,\"YearStart\",BH$13))),\"\")","v":0},{"$f":"IFERROR(IF(BI79=\".\",\".\",IF(BI79=\"n/a\",\"n/a\",\nGETPIVOTDATA(BJ$21 & \"\",PivotTableB!$A$3,\"SchoolName\",$B79,\"SubsidiaryName\",$C79,\"YearStart\",BH$13))),\"\")","v":0},{"$f":"IFERROR(IF(BJ79=\".\",\".\",IF(BJ79=\"n/a\",\"n/a\",\nGETPIVOTDATA(BK$21 & \"\",PivotTableB!$A$3,\"SchoolName\",$B79,\"SubsidiaryName\",$C79,\"YearStart\",BH$13))),\"\")","v":0},20,{"$f":"IFERROR(IF(BL79=\".\",\".\",IF(BL79=\"n/a\",\"n/a\",\nGETPIVOTDATA(BM$21 & \"\",PivotTableB!$A$3,\"SchoolName\",$B79,\"SubsidiaryName\",$C79,\"YearStart\",BH$13))),\"\")","v":0},{"$f":"IFERROR(IF(BM79=\".\",\".\",IF(BM79=\"n/a\",\"n/a\",\nGETPIVOTDATA(BN$21 & \"\",PivotTableB!$A$3,\"SchoolName\",$B79,\"SubsidiaryName\",$C79,\"YearStart\",BH$13))),\"\")","v":108},{"$f":"IFERROR(IF($B79=\"\",\"\",\nIF(OR($L79=\"Nursery School\",$L79=\"All-through PRU\",$M79=\"True\"),\"n/a\",\nIF(GETPIVOTDATA(BO$21 & \"\",PivotTableB!$A$3,\"SchoolName\",$B79,\"SubsidiaryName\",$C79,\"YearStart\",BO$13)=\"\",\".\",\nGETPIVOTDATA(BO$21 & \"\",PivotTableB!$A$3,\"SchoolName\",$B79,\"SubsidiaryName\",$C79,\"YearStart\",BO$13)))),\"\")","v":20},{"$f":"IFERROR(IF(BO79=\".\",\".\",IF(BO79=\"n/a\",\"n/a\",\nGETPIVOTDATA(BP$21 & \"\",PivotTableB!$A$3,\"SchoolName\",$B79,\"SubsidiaryName\",$C79,\"YearStart\",BO$13))),\"\")","v":0},{"$f":"IFERROR(IF(BP79=\".\",\".\",IF(BP79=\"n/a\",\"n/a\",\nGETPIVOTDATA(BQ$21 & \"\",PivotTableB!$A$3,\"SchoolName\",$B79,\"SubsidiaryName\",$C79,\"YearStart\",BO$13))),\"\")","v":0},{"$f":"IFERROR(IF(BQ79=\".\",\".\",IF(BQ79=\"n/a\",\"n/a\",\nGETPIVOTDATA(BR$21 & \"\",PivotTableB!$A$3,\"SchoolName\",$B79,\"SubsidiaryName\",$C79,\"YearStart\",BP$13))),\"\")","v":""},20,{"$f":"IFERROR(IF(BS79=\".\",\".\",IF(BS79=\"n/a\",\"n/a\",\nGETPIVOTDATA(BT$21 & \"\",PivotTableB!$A$3,\"SchoolName\",$B79,\"SubsidiaryName\",$C79,\"YearStart\",BO$13))),\"\")","v":0},{"$f":"IFERROR(IF(BT79=\".\",\".\",IF(BT79=\"n/a\",\"n/a\",\nGETPIVOTDATA(BU$21 & \"\",PivotTableB!$A$3,\"SchoolName\",$B79,\"SubsidiaryName\",$C79,\"YearStart\",BO$13))),\"\")","v":108},{"$f":"IFERROR(IF($B79=\"\",\"\",\nIF(OR($L79=\"Nursery School\",$L79=\"All-through PRU\",$M79=\"True\"),\"n/a\",\nIF(GETPIVOTDATA(BV$21 & \"\",PivotTableB!$A$3,\"SchoolName\",$B79,\"SubsidiaryName\",$C79,\"YearStart\",BV$13)=\"\",\".\",\nGETPIVOTDATA(BV$21 & \"\",PivotTableB!$A$3,\"SchoolName\",$B79,\"SubsidiaryName\",$C79,\"YearStart\",BV$13)))),\"\")","v":20},{"$f":"IFERROR(IF(BV79=\".\",\".\",IF(BV79=\"n/a\",\"n/a\",\nGETPIVOTDATA(BW$21 & \"\",PivotTableB!$A$3,\"SchoolName\",$B79,\"SubsidiaryName\",$C79,\"YearStart\",BV$13))),\"\")","v":0},{"$f":"IFERROR(IF(BW79=\".\",\".\",IF(BW79=\"n/a\",\"n/a\",\nGETPIVOTDATA(BX$21 & \"\",PivotTableB!$A$3,\"SchoolName\",$B79,\"SubsidiaryName\",$C79,\"YearStart\",BV$13))),\"\")","v":0},{"$f":"IFERROR(IF(BX79=\".\",\".\",IF(BX79=\"n/a\",\"n/a\",\nGETPIVOTDATA(BY$21 & \"\",PivotTableB!$A$3,\"SchoolName\",$B79,\"SubsidiaryName\",$C79,\"YearStart\",BV$13))),\"\")","v":0},20,{"$f":"IFERROR(IF(BZ79=\".\",\".\",IF(BZ79=\"n/a\",\"n/a\",\nGETPIVOTDATA(CA$21 & \"\",PivotTableB!$A$3,\"SchoolName\",$B79,\"SubsidiaryName\",$C79,\"YearStart\",BV$13))),\"\")","v":0},{"$f":"IFERROR(IF(CA79=\".\",\".\",IF(CA79=\"n/a\",\"n/a\",\nGETPIVOTDATA(CB$21 & \"\",PivotTableB!$A$3,\"SchoolName\",$B79,\"SubsidiaryName\",$C79,\"YearStart\",BV$13))),\"\")","v":108}]
[null,{"$f":"IF(PivotTableA!A67=\"\",\"n/a\",PivotTableA!A67)","v":"The Windsor Boys' School"},{"$f":"IF(B80=\"n/a\",\"\",PivotTableA!B67)","v":"The Windsor Boys' School"},{"$f":"IF($B80=\"n/a\",\"\",PivotTableA!C67)","v":"9"},{"$f":"IF($B80=\"n/a\",\"\",PivotTableA!D67)","v":"Windsor"},{"$f":"IF($B80=\"n/a\",\"\",PivotTableA!E67)","v":"East Windsor"},{"$f":"IF($B80=\"n/a\",\"\",PivotTableA!F67)","v":"Trinity"},{"$f":"IF($B80=\"n/a\",\"\",PivotTableA!G67)","v":"Castle Without"},{"$f":"IF($B80=\"n/a\",\"\",PivotTableA!H67)","v":"None"},{"$f":"IF($B80=\"n/a\",\"\",PivotTableA!I67)","v":"Secondary"},{"$f":"IF($B80=\"n/a\",\"\",PivotTableA!J67)","v":"Three Tier"},{"$f":"IF($B80=\"n/a\",\"\",PivotTableA!K67)","v":"Upper"},{"$f":"IF($B80=\"n/a\",\"\",PivotTableA!O67)","v":"FALSE"},{"$f":"IF($B80=\"n/a\",\"\",PivotTableA!L67)","v":"Academy"},{"$f":"IF($B80=\"n/a\",\"\",PivotTableA!M67)","v":"2015-03-01"},{"$f":"IF($B80=\"n/a\",\"\",PivotTableA!N67)","v":"None"},{"$f":"IFERROR(IF($B80=\"\",\"\",\nIF(OR($L80=\"Nursery School\",$L80=\"All-through PRU\",$M80=\"True\"),\"n/a\",\nIF(GETPIVOTDATA(Q$21 & \"\",PivotTableB!$A$3,\"SchoolName\",$B80,\"SubsidiaryName\",$C80,\"YearStart\",Q$13)=\"\",\".\",\nGETPIVOTDATA(Q$21 & \"\",PivotTableB!$A$3,\"SchoolName\",$B80,\"SubsidiaryName\",$C80,\"YearStart\",Q$13)))),\"\")","v":230},{"$f":"IFERROR(IF(Q80=\".\",\".\",IF(Q80=\"n/a\",\"n/a\",\nGETPIVOTDATA(R$21 & \"\",PivotTableB!$A$3,\"SchoolName\",$B80,\"SubsidiaryName\",$C80,\"YearStart\",Q$13))),\"\")","v":0},{"$f":"IFERROR(IF(R80=\".\",\".\",IF(R80=\"n/a\",\"n/a\",\nGETPIVOTDATA(S$21 & \"\",PivotTableB!$A$3,\"SchoolName\",$B80,\"SubsidiaryName\",$C80,\"YearStart\",Q$13))),\"\")","v":0},230,{"$f":"IFERROR(IF(T80=\".\",\".\",IF(T80=\"n/a\",\"n/a\",\nGETPIVOTDATA(U$21 & \"\",PivotTableB!$A$3,\"SchoolName\",$B80,\"SubsidiaryName\",$C80,\"YearStart\",Q$13))),\"\")","v":0},{"$f":"IFERROR(IF(U80=\".\",\".\",IF(U80=\"n/a\",\"n/a\",\nGETPIVOTDATA(V$21 & \"\",PivotTableB!$A$3,\"SchoolName\",$B80,\"SubsidiaryName\",$C80,\"YearStart\",Q$13))),\"\")","v":1027},{"$f":"IFERROR(IF($B80=\"\",\"\",\nIF(OR($L80=\"Nursery School\",$L80=\"All-through PRU\",$M80=\"True\"),\"n/a\",\nIF(GETPIVOTDATA(W$21 & \"\",PivotTableB!$A$3,\"SchoolName\",$B80,\"SubsidiaryName\",$C80,\"YearStart\",W$13)=\"\",\".\",\nGETPIVOTDATA(W$21 & \"\",PivotTableB!$A$3,\"SchoolName\",$B80,\"SubsidiaryName\",$C80,\"YearStart\",W$13)))),\"\")","v":230},{"$f":"IFERROR(IF(W80=\".\",\".\",IF(W80=\"n/a\",\"n/a\",\nGETPIVOTDATA(X$21 & \"\",PivotTableB!$A$3,\"SchoolName\",$B80,\"SubsidiaryName\",$C80,\"YearStart\",W$13))),\"\")","v":0},{"$f":"IFERROR(IF(X80=\".\",\".\",IF(X80=\"n/a\",\"n/a\",\nGETPIVOTDATA(Y$21 & \"\",PivotTableB!$A$3,\"SchoolName\",$B80,\"SubsidiaryName\",$C80,\"YearStart\",W$13))),\"\")","v":0},230,{"$f":"IFERROR(IF(Z80=\".\",\".\",IF(Z80=\"n/a\",\"n/a\",\nGETPIVOTDATA(AA$21 & \"\",PivotTableB!$A$3,\"SchoolName\",$B80,\"SubsidiaryName\",$C80,\"YearStart\",W$13))),\"\")","v":0},{"$f":"IFERROR(IF(AA80=\".\",\".\",IF(AA80=\"n/a\",\"n/a\",\nGETPIVOTDATA(AB$21 & \"\",PivotTableB!$A$3,\"SchoolName\",$B80,\"SubsidiaryName\",$C80,\"YearStart\",W$13))),\"\")","v":1027},{"$f":"IFERROR(IF($B80=\"\",\"\",\nIF(OR($L80=\"Nursery School\",$L80=\"All-through PRU\",$M80=\"True\"),\"n/a\",\nIF(GETPIVOTDATA(AC$21 & \"\",PivotTableB!$A$3,\"SchoolName\",$B80,\"SubsidiaryName\",$C80,\"YearStart\",AC$13)=\"\",\".\",\nGETPIVOTDATA(AC$21 & \"\",PivotTableB!$A$3,\"SchoolName\",$B80,\"SubsidiaryName\",$C80,\"YearStart\",AC$13)))),\"\")","v":230},{"$f":"IFERROR(IF(AC80=\".\",\".\",IF(AC80=\"n/a\",\"n/a\",\nGETPIVOTDATA(AD$21 & \"\",PivotTableB!$A$3,\"SchoolName\",$B80,\"SubsidiaryName\",$C80,\"YearStart\",AC$13))),\"\")","v":0},{"$f":"IFERROR(IF(AD80=\".\",\".\",IF(AD80=\"n/a\",\"n/a\",\nGETPIVOTDATA(AE$21 & \"\",PivotTableB!$A$3,\"SchoolName\",$B80,\"SubsidiaryName\",$C80,\"YearStart\",AC$13))),\"\")","v":0},230,{"$f":"IFERROR(IF(AF80=\".\",\".\",IF(AF80=\"n/a\",\"n/a\",\nGETPIVOTDATA(AG$21 & \"\",PivotTableB!$A$3,\"SchoolName\",$B80,\"SubsidiaryName\",$C80,\"YearStart\",AC$13))),\"\")","v":0},{"$f":"IFERROR(IF(AG80=\".\",\".\",IF(AG80=\"n/a\",\"n/a\",\nGETPIVOTDATA(AH$21 & \"\",PivotTableB!$A$3,\"SchoolName\",$B80,\"SubsidiaryName\",$C80,\"YearStart\",AC$13))),\"\")","v":1072},{"$f":"IFERROR(IF($B80=\"\",\"\",\nIF(OR($L80=\"Nursery School\",$L80=\"All-through PRU\",$M80=\"True\"),\"n/a\",\nIF(GETPIVOTDATA(AI$21 & \"\",PivotTableB!$A$3,\"SchoolName\",$B80,\"SubsidiaryName\",$C80,\"YearStart\",AI$13)=\"\",\".\",\nGETPIVOTDATA(AI$21 & \"\",PivotTableB!$A$3,\"SchoolName\",$B80,\"SubsidiaryName\",$C80,\"YearStart\",AI$13)))),\"\")","v":230},{"$f":"IFERROR(IF(AI80=\".\",\".\",IF(AI80=\"n/a\",\"n/a\",\nGETPIVOTDATA(AJ$21 & \"\",PivotTableB!$A$3,\"SchoolName\",$B80,\"SubsidiaryName\",$C80,\"YearStart\",AI$13))),\"\")","v":0},{"$f":"IFERROR(IF(AJ80=\".\",\".\",IF(AJ80=\"n/a\",\"n/a\",\nGETPIVOTDATA(AK$21 & \"\",PivotTableB!$A$3,\"SchoolName\",$B80,\"SubsidiaryName\",$C80,\"YearStart\",AI$13))),\"\")","v":0},230,{"$f":"IFERROR(IF(AL80=\".\",\".\",IF(AL80=\"n/a\",\"n/a\",\nGETPIVOTDATA(AM$21 & \"\",PivotTableB!$A$3,\"SchoolName\",$B80,\"SubsidiaryName\",$C80,\"YearStart\",AI$13))),\"\")","v":0},{"$f":"IFERROR(IF(AM80=\".\",\".\",IF(AM80=\"n/a\",\"n/a\",\nGETPIVOTDATA(AN$21 & \"\",PivotTableB!$A$3,\"SchoolName\",$B80,\"SubsidiaryName\",$C80,\"YearStart\",AI$13))),\"\")","v":1072},{"$f":"IFERROR(IF($B80=\"\",\"\",\nIF(OR($L80=\"Nursery School\",$L80=\"All-through PRU\",$M80=\"True\"),\"n/a\",\nIF(GETPIVOTDATA(AO$21 & \"\",PivotTableB!$A$3,\"SchoolName\",$B80,\"SubsidiaryName\",$C80,\"YearStart\",AO$13)=\"\",\".\",\nGETPIVOTDATA(AO$21 & \"\",PivotTableB!$A$3,\"SchoolName\",$B80,\"SubsidiaryName\",$C80,\"YearStart\",AO$13)))),\"\")","v":260},{"$f":"IFERROR(IF(AO80=\".\",\".\",IF(AO80=\"n/a\",\"n/a\",\nGETPIVOTDATA(AP$21 & \"\",PivotTableB!$A$3,\"SchoolName\",$B80,\"SubsidiaryName\",$C80,\"YearStart\",AO$13))),\"\")","v":0},{"$f":"IFERROR(IF(AP80=\".\",\".\",IF(AP80=\"n/a\",\"n/a\",\nGETPIVOTDATA(AQ$21 & \"\",PivotTableB!$A$3,\"SchoolName\",$B80,\"SubsidiaryName\",$C80,\"YearStart\",AO$13))),\"\")","v":0},260,{"$f":"IFERROR(IF(AR80=\".\",\".\",IF(AR80=\"n/a\",\"n/a\",\nGETPIVOTDATA(AS$21 & \"\",PivotTableB!$A$3,\"SchoolName\",$B80,\"SubsidiaryName\",$C80,\"YearStart\",AO$13))),\"\")","v":0},{"$f":"IFERROR(IF(AS80=\".\",\".\",IF(AS80=\"n/a\",\"n/a\",\nGETPIVOTDATA(AT$21 & \"\",PivotTableB!$A$3,\"SchoolName\",$B80,\"SubsidiaryName\",$C80,\"YearStart\",AO$13))),\"\")","v":1128},{"$f":"IFERROR(IF($B80=\"\",\"\",\nIF(OR($L80=\"Nursery School\",$L80=\"All-through PRU\",$M80=\"True\"),\"n/a\",\nIF(GETPIVOTDATA(AU$21 & \"\",PivotTableB!$A$3,\"SchoolName\",$B80,\"SubsidiaryName\",$C80,\"YearStart\",AU$13)=\"\",\".\",\nGETPIVOTDATA(AU$21 & \"\",PivotTableB!$A$3,\"SchoolName\",$B80,\"SubsidiaryName\",$C80,\"YearStart\",AU$13)))),\"\")","v":260},{"$f":"IFERROR(IF(AU80=\".\",\".\",IF(AU80=\"n/a\",\"n/a\",\nGETPIVOTDATA(AV$21 & \"\",PivotTableB!$A$3,\"SchoolName\",$B80,\"SubsidiaryName\",$C80,\"YearStart\",AU$13))),\"\")","v":0},{"$f":"IFERROR(IF(AV80=\".\",\".\",IF(AV80=\"n/a\",\"n/a\",\nGETPIVOTDATA(AW$21 & \"\",PivotTableB!$A$3,\"SchoolName\",$B80,\"SubsidiaryName\",$C80,\"YearStart\",AU$13))),\"\")","v":0},260,{"$f":"IFERROR(IF(AX80=\".\",\".\",IF(AX80=\"n/a\",\"n/a\",\nGETPIVOTDATA(AY$21 & \"\",PivotTableB!$A$3,\"SchoolName\",$B80,\"SubsidiaryName\",$C80,\"YearStart\",AU$13))),\"\")","v":0},{"$f":"IFERROR(IF(AY80=\".\",\".\",IF(AY80=\"n/a\",\"n/a\",\nGETPIVOTDATA(AZ$21 & \"\",PivotTableB!$A$3,\"SchoolName\",$B80,\"SubsidiaryName\",$C80,\"YearStart\",AU$13))),\"\")","v":1128},{"$f":"IFERROR(IF($B80=\"\",\"\",\nIF(OR($L80=\"Nursery School\",$L80=\"All-through PRU\",$M80=\"True\"),\"n/a\",\nIF(GETPIVOTDATA(BA$21 & \"\",PivotTableB!$A$3,\"SchoolName\",$B80,\"SubsidiaryName\",$C80,\"YearStart\",BA$13)=\"\",\".\",\nGETPIVOTDATA(BA$21 & \"\",PivotTableB!$A$3,\"SchoolName\",$B80,\"SubsidiaryName\",$C80,\"YearStart\",BA$13)))),\"\")","v":260},{"$f":"IFERROR(IF(BA80=\".\",\".\",IF(BA80=\"n/a\",\"n/a\",\nGETPIVOTDATA(BB$21 & \"\",PivotTableB!$A$3,\"SchoolName\",$B80,\"SubsidiaryName\",$C80,\"YearStart\",BA$13))),\"\")","v":0},{"$f":"IFERROR(IF(BB80=\".\",\".\",IF(BB80=\"n/a\",\"n/a\",\nGETPIVOTDATA(BC$21 & \"\",PivotTableB!$A$3,\"SchoolName\",$B80,\"SubsidiaryName\",$C80,\"YearStart\",BA$13))),\"\")","v":0},{"$f":"IFERROR(IF(BC80=\".\",\".\",IF(BC80=\"n/a\",\"n/a\",\nGETPIVOTDATA(BD$21 & \"\",PivotTableB!$A$3,\"SchoolName\",$B80,\"SubsidiaryName\",$C80,\"YearStart\",BB$13))),\"\")","v":""},260,{"$f":"IFERROR(IF(BE80=\".\",\".\",IF(BE80=\"n/a\",\"n/a\",\nGETPIVOTDATA(BF$21 & \"\",PivotTableB!$A$3,\"SchoolName\",$B80,\"SubsidiaryName\",$C80,\"YearStart\",BA$13))),\"\")","v":0},{"$f":"IFERROR(IF(BF80=\".\",\".\",IF(BF80=\"n/a\",\"n/a\",\nGETPIVOTDATA(BG$21 & \"\",PivotTableB!$A$3,\"SchoolName\",$B80,\"SubsidiaryName\",$C80,\"YearStart\",BA$13))),\"\")","v":1128},{"$f":"IFERROR(IF($B80=\"\",\"\",\nIF(OR($L80=\"Nursery School\",$L80=\"All-through PRU\",$M80=\"True\"),\"n/a\",\nIF(GETPIVOTDATA(BH$21 & \"\",PivotTableB!$A$3,\"SchoolName\",$B80,\"SubsidiaryName\",$C80,\"YearStart\",BH$13)=\"\",\".\",\nGETPIVOTDATA(BH$21 & \"\",PivotTableB!$A$3,\"SchoolName\",$B80,\"SubsidiaryName\",$C80,\"YearStart\",BH$13)))),\"\")","v":260},{"$f":"IFERROR(IF(BH80=\".\",\".\",IF(BH80=\"n/a\",\"n/a\",\nGETPIVOTDATA(BI$21 & \"\",PivotTableB!$A$3,\"SchoolName\",$B80,\"SubsidiaryName\",$C80,\"YearStart\",BH$13))),\"\")","v":0},{"$f":"IFERROR(IF(BI80=\".\",\".\",IF(BI80=\"n/a\",\"n/a\",\nGETPIVOTDATA(BJ$21 & \"\",PivotTableB!$A$3,\"SchoolName\",$B80,\"SubsidiaryName\",$C80,\"YearStart\",BH$13))),\"\")","v":0},{"$f":"IFERROR(IF(BJ80=\".\",\".\",IF(BJ80=\"n/a\",\"n/a\",\nGETPIVOTDATA(BK$21 & \"\",PivotTableB!$A$3,\"SchoolName\",$B80,\"SubsidiaryName\",$C80,\"YearStart\",BH$13))),\"\")","v":0},260,{"$f":"IFERROR(IF(BL80=\".\",\".\",IF(BL80=\"n/a\",\"n/a\",\nGETPIVOTDATA(BM$21 & \"\",PivotTableB!$A$3,\"SchoolName\",$B80,\"SubsidiaryName\",$C80,\"YearStart\",BH$13))),\"\")","v":0},{"$f":"IFERROR(IF(BM80=\".\",\".\",IF(BM80=\"n/a\",\"n/a\",\nGETPIVOTDATA(BN$21 & \"\",PivotTableB!$A$3,\"SchoolName\",$B80,\"SubsidiaryName\",$C80,\"YearStart\",BH$13))),\"\")","v":1128},{"$f":"IFERROR(IF($B80=\"\",\"\",\nIF(OR($L80=\"Nursery School\",$L80=\"All-through PRU\",$M80=\"True\"),\"n/a\",\nIF(GETPIVOTDATA(BO$21 & \"\",PivotTableB!$A$3,\"SchoolName\",$B80,\"SubsidiaryName\",$C80,\"YearStart\",BO$13)=\"\",\".\",\nGETPIVOTDATA(BO$21 & \"\",PivotTableB!$A$3,\"SchoolName\",$B80,\"SubsidiaryName\",$C80,\"YearStart\",BO$13)))),\"\")","v":260},{"$f":"IFERROR(IF(BO80=\".\",\".\",IF(BO80=\"n/a\",\"n/a\",\nGETPIVOTDATA(BP$21 & \"\",PivotTableB!$A$3,\"SchoolName\",$B80,\"SubsidiaryName\",$C80,\"YearStart\",BO$13))),\"\")","v":0},{"$f":"IFERROR(IF(BP80=\".\",\".\",IF(BP80=\"n/a\",\"n/a\",\nGETPIVOTDATA(BQ$21 & \"\",PivotTableB!$A$3,\"SchoolName\",$B80,\"SubsidiaryName\",$C80,\"YearStart\",BO$13))),\"\")","v":0},{"$f":"IFERROR(IF(BQ80=\".\",\".\",IF(BQ80=\"n/a\",\"n/a\",\nGETPIVOTDATA(BR$21 & \"\",PivotTableB!$A$3,\"SchoolName\",$B80,\"SubsidiaryName\",$C80,\"YearStart\",BP$13))),\"\")","v":""},260,{"$f":"IFERROR(IF(BS80=\".\",\".\",IF(BS80=\"n/a\",\"n/a\",\nGETPIVOTDATA(BT$21 & \"\",PivotTableB!$A$3,\"SchoolName\",$B80,\"SubsidiaryName\",$C80,\"YearStart\",BO$13))),\"\")","v":0},{"$f":"IFERROR(IF(BT80=\".\",\".\",IF(BT80=\"n/a\",\"n/a\",\nGETPIVOTDATA(BU$21 & \"\",PivotTableB!$A$3,\"SchoolName\",$B80,\"SubsidiaryName\",$C80,\"YearStart\",BO$13))),\"\")","v":1128},{"$f":"IFERROR(IF($B80=\"\",\"\",\nIF(OR($L80=\"Nursery School\",$L80=\"All-through PRU\",$M80=\"True\"),\"n/a\",\nIF(GETPIVOTDATA(BV$21 & \"\",PivotTableB!$A$3,\"SchoolName\",$B80,\"SubsidiaryName\",$C80,\"YearStart\",BV$13)=\"\",\".\",\nGETPIVOTDATA(BV$21 & \"\",PivotTableB!$A$3,\"SchoolName\",$B80,\"SubsidiaryName\",$C80,\"YearStart\",BV$13)))),\"\")","v":260},{"$f":"IFERROR(IF(BV80=\".\",\".\",IF(BV80=\"n/a\",\"n/a\",\nGETPIVOTDATA(BW$21 & \"\",PivotTableB!$A$3,\"SchoolName\",$B80,\"SubsidiaryName\",$C80,\"YearStart\",BV$13))),\"\")","v":0},{"$f":"IFERROR(IF(BW80=\".\",\".\",IF(BW80=\"n/a\",\"n/a\",\nGETPIVOTDATA(BX$21 & \"\",PivotTableB!$A$3,\"SchoolName\",$B80,\"SubsidiaryName\",$C80,\"YearStart\",BV$13))),\"\")","v":0},{"$f":"IFERROR(IF(BX80=\".\",\".\",IF(BX80=\"n/a\",\"n/a\",\nGETPIVOTDATA(BY$21 & \"\",PivotTableB!$A$3,\"SchoolName\",$B80,\"SubsidiaryName\",$C80,\"YearStart\",BV$13))),\"\")","v":0},260,{"$f":"IFERROR(IF(BZ80=\".\",\".\",IF(BZ80=\"n/a\",\"n/a\",\nGETPIVOTDATA(CA$21 & \"\",PivotTableB!$A$3,\"SchoolName\",$B80,\"SubsidiaryName\",$C80,\"YearStart\",BV$13))),\"\")","v":0},{"$f":"IFERROR(IF(CA80=\".\",\".\",IF(CA80=\"n/a\",\"n/a\",\nGETPIVOTDATA(CB$21 & \"\",PivotTableB!$A$3,\"SchoolName\",$B80,\"SubsidiaryName\",$C80,\"YearStart\",BV$13))),\"\")","v":1128}]
[null,{"$f":"IF(PivotTableA!A68=\"\",\"n/a\",PivotTableA!A68)","v":"Trevelyan Middle School"},{"$f":"IF(B81=\"n/a\",\"\",PivotTableA!B68)","v":"Trevelyan Middle School"},{"$f":"IF($B81=\"n/a\",\"\",PivotTableA!C68)","v":"5"},{"$f":"IF($B81=\"n/a\",\"\",PivotTableA!D68)","v":"Windsor"},{"$f":"IF($B81=\"n/a\",\"\",PivotTableA!E68)","v":"East Windsor"},{"$f":"IF($B81=\"n/a\",\"\",PivotTableA!F68)","v":"Home Park"},{"$f":"IF($B81=\"n/a\",\"\",PivotTableA!G68)","v":"Park"},{"$f":"IF($B81=\"n/a\",\"\",PivotTableA!H68)","v":"None"},{"$f":"IF($B81=\"n/a\",\"\",PivotTableA!I68)","v":"Secondary"},{"$f":"IF($B81=\"n/a\",\"\",PivotTableA!J68)","v":"Three Tier"},{"$f":"IF($B81=\"n/a\",\"\",PivotTableA!K68)","v":"Middle"},{"$f":"IF($B81=\"n/a\",\"\",PivotTableA!O68)","v":"FALSE"},{"$f":"IF($B81=\"n/a\",\"\",PivotTableA!L68)","v":"Academy"},{"$f":"IF($B81=\"n/a\",\"\",PivotTableA!M68)","v":"2016-11-01"},{"$f":"IF($B81=\"n/a\",\"\",PivotTableA!N68)","v":"None"},{"$f":"IFERROR(IF($B81=\"\",\"\",\nIF(OR($L81=\"Nursery School\",$L81=\"All-through PRU\",$M81=\"True\"),\"n/a\",\nIF(GETPIVOTDATA(Q$21 & \"\",PivotTableB!$A$3,\"SchoolName\",$B81,\"SubsidiaryName\",$C81,\"YearStart\",Q$13)=\"\",\".\",\nGETPIVOTDATA(Q$21 & \"\",PivotTableB!$A$3,\"SchoolName\",$B81,\"SubsidiaryName\",$C81,\"YearStart\",Q$13)))),\"\")","v":150},{"$f":"IFERROR(IF(Q81=\".\",\".\",IF(Q81=\"n/a\",\"n/a\",\nGETPIVOTDATA(R$21 & \"\",PivotTableB!$A$3,\"SchoolName\",$B81,\"SubsidiaryName\",$C81,\"YearStart\",Q$13))),\"\")","v":0},{"$f":"IFERROR(IF(R81=\".\",\".\",IF(R81=\"n/a\",\"n/a\",\nGETPIVOTDATA(S$21 & \"\",PivotTableB!$A$3,\"SchoolName\",$B81,\"SubsidiaryName\",$C81,\"YearStart\",Q$13))),\"\")","v":0},150,{"$f":"IFERROR(IF(T81=\".\",\".\",IF(T81=\"n/a\",\"n/a\",\nGETPIVOTDATA(U$21 & \"\",PivotTableB!$A$3,\"SchoolName\",$B81,\"SubsidiaryName\",$C81,\"YearStart\",Q$13))),\"\")","v":0},{"$f":"IFERROR(IF(U81=\".\",\".\",IF(U81=\"n/a\",\"n/a\",\nGETPIVOTDATA(V$21 & \"\",PivotTableB!$A$3,\"SchoolName\",$B81,\"SubsidiaryName\",$C81,\"YearStart\",Q$13))),\"\")","v":600},{"$f":"IFERROR(IF($B81=\"\",\"\",\nIF(OR($L81=\"Nursery School\",$L81=\"All-through PRU\",$M81=\"True\"),\"n/a\",\nIF(GETPIVOTDATA(W$21 & \"\",PivotTableB!$A$3,\"SchoolName\",$B81,\"SubsidiaryName\",$C81,\"YearStart\",W$13)=\"\",\".\",\nGETPIVOTDATA(W$21 & \"\",PivotTableB!$A$3,\"SchoolName\",$B81,\"SubsidiaryName\",$C81,\"YearStart\",W$13)))),\"\")","v":150},{"$f":"IFERROR(IF(W81=\".\",\".\",IF(W81=\"n/a\",\"n/a\",\nGETPIVOTDATA(X$21 & \"\",PivotTableB!$A$3,\"SchoolName\",$B81,\"SubsidiaryName\",$C81,\"YearStart\",W$13))),\"\")","v":0},{"$f":"IFERROR(IF(X81=\".\",\".\",IF(X81=\"n/a\",\"n/a\",\nGETPIVOTDATA(Y$21 & \"\",PivotTableB!$A$3,\"SchoolName\",$B81,\"SubsidiaryName\",$C81,\"YearStart\",W$13))),\"\")","v":0},150,{"$f":"IFERROR(IF(Z81=\".\",\".\",IF(Z81=\"n/a\",\"n/a\",\nGETPIVOTDATA(AA$21 & \"\",PivotTableB!$A$3,\"SchoolName\",$B81,\"SubsidiaryName\",$C81,\"YearStart\",W$13))),\"\")","v":0},{"$f":"IFERROR(IF(AA81=\".\",\".\",IF(AA81=\"n/a\",\"n/a\",\nGETPIVOTDATA(AB$21 & \"\",PivotTableB!$A$3,\"SchoolName\",$B81,\"SubsidiaryName\",$C81,\"YearStart\",W$13))),\"\")","v":600},{"$f":"IFERROR(IF($B81=\"\",\"\",\nIF(OR($L81=\"Nursery School\",$L81=\"All-through PRU\",$M81=\"True\"),\"n/a\",\nIF(GETPIVOTDATA(AC$21 & \"\",PivotTableB!$A$3,\"SchoolName\",$B81,\"SubsidiaryName\",$C81,\"YearStart\",AC$13)=\"\",\".\",\nGETPIVOTDATA(AC$21 & \"\",PivotTableB!$A$3,\"SchoolName\",$B81,\"SubsidiaryName\",$C81,\"YearStart\",AC$13)))),\"\")","v":150},{"$f":"IFERROR(IF(AC81=\".\",\".\",IF(AC81=\"n/a\",\"n/a\",\nGETPIVOTDATA(AD$21 & \"\",PivotTableB!$A$3,\"SchoolName\",$B81,\"SubsidiaryName\",$C81,\"YearStart\",AC$13))),\"\")","v":0},{"$f":"IFERROR(IF(AD81=\".\",\".\",IF(AD81=\"n/a\",\"n/a\",\nGETPIVOTDATA(AE$21 & \"\",PivotTableB!$A$3,\"SchoolName\",$B81,\"SubsidiaryName\",$C81,\"YearStart\",AC$13))),\"\")","v":0},150,{"$f":"IFERROR(IF(AF81=\".\",\".\",IF(AF81=\"n/a\",\"n/a\",\nGETPIVOTDATA(AG$21 & \"\",PivotTableB!$A$3,\"SchoolName\",$B81,\"SubsidiaryName\",$C81,\"YearStart\",AC$13))),\"\")","v":0},{"$f":"IFERROR(IF(AG81=\".\",\".\",IF(AG81=\"n/a\",\"n/a\",\nGETPIVOTDATA(AH$21 & \"\",PivotTableB!$A$3,\"SchoolName\",$B81,\"SubsidiaryName\",$C81,\"YearStart\",AC$13))),\"\")","v":600},{"$f":"IFERROR(IF($B81=\"\",\"\",\nIF(OR($L81=\"Nursery School\",$L81=\"All-through PRU\",$M81=\"True\"),\"n/a\",\nIF(GETPIVOTDATA(AI$21 & \"\",PivotTableB!$A$3,\"SchoolName\",$B81,\"SubsidiaryName\",$C81,\"YearStart\",AI$13)=\"\",\".\",\nGETPIVOTDATA(AI$21 & \"\",PivotTableB!$A$3,\"SchoolName\",$B81,\"SubsidiaryName\",$C81,\"YearStart\",AI$13)))),\"\")","v":150},{"$f":"IFERROR(IF(AI81=\".\",\".\",IF(AI81=\"n/a\",\"n/a\",\nGETPIVOTDATA(AJ$21 & \"\",PivotTableB!$A$3,\"SchoolName\",$B81,\"SubsidiaryName\",$C81,\"YearStart\",AI$13))),\"\")","v":0},{"$f":"IFERROR(IF(AJ81=\".\",\".\",IF(AJ81=\"n/a\",\"n/a\",\nGETPIVOTDATA(AK$21 & \"\",PivotTableB!$A$3,\"SchoolName\",$B81,\"SubsidiaryName\",$C81,\"YearStart\",AI$13))),\"\")","v":0},150,{"$f":"IFERROR(IF(AL81=\".\",\".\",IF(AL81=\"n/a\",\"n/a\",\nGETPIVOTDATA(AM$21 & \"\",PivotTableB!$A$3,\"SchoolName\",$B81,\"SubsidiaryName\",$C81,\"YearStart\",AI$13))),\"\")","v":0},{"$f":"IFERROR(IF(AM81=\".\",\".\",IF(AM81=\"n/a\",\"n/a\",\nGETPIVOTDATA(AN$21 & \"\",PivotTableB!$A$3,\"SchoolName\",$B81,\"SubsidiaryName\",$C81,\"YearStart\",AI$13))),\"\")","v":600},{"$f":"IFERROR(IF($B81=\"\",\"\",\nIF(OR($L81=\"Nursery School\",$L81=\"All-through PRU\",$M81=\"True\"),\"n/a\",\nIF(GETPIVOTDATA(AO$21 & \"\",PivotTableB!$A$3,\"SchoolName\",$B81,\"SubsidiaryName\",$C81,\"YearStart\",AO$13)=\"\",\".\",\nGETPIVOTDATA(AO$21 & \"\",PivotTableB!$A$3,\"SchoolName\",$B81,\"SubsidiaryName\",$C81,\"YearStart\",AO$13)))),\"\")","v":150},{"$f":"IFERROR(IF(AO81=\".\",\".\",IF(AO81=\"n/a\",\"n/a\",\nGETPIVOTDATA(AP$21 & \"\",PivotTableB!$A$3,\"SchoolName\",$B81,\"SubsidiaryName\",$C81,\"YearStart\",AO$13))),\"\")","v":0},{"$f":"IFERROR(IF(AP81=\".\",\".\",IF(AP81=\"n/a\",\"n/a\",\nGETPIVOTDATA(AQ$21 & \"\",PivotTableB!$A$3,\"SchoolName\",$B81,\"SubsidiaryName\",$C81,\"YearStart\",AO$13))),\"\")","v":0},150,{"$f":"IFERROR(IF(AR81=\".\",\".\",IF(AR81=\"n/a\",\"n/a\",\nGETPIVOTDATA(AS$21 & \"\",PivotTableB!$A$3,\"SchoolName\",$B81,\"SubsidiaryName\",$C81,\"YearStart\",AO$13))),\"\")","v":0},{"$f":"IFERROR(IF(AS81=\".\",\".\",IF(AS81=\"n/a\",\"n/a\",\nGETPIVOTDATA(AT$21 & \"\",PivotTableB!$A$3,\"SchoolName\",$B81,\"SubsidiaryName\",$C81,\"YearStart\",AO$13))),\"\")","v":630},{"$f":"IFERROR(IF($B81=\"\",\"\",\nIF(OR($L81=\"Nursery School\",$L81=\"All-through PRU\",$M81=\"True\"),\"n/a\",\nIF(GETPIVOTDATA(AU$21 & \"\",PivotTableB!$A$3,\"SchoolName\",$B81,\"SubsidiaryName\",$C81,\"YearStart\",AU$13)=\"\",\".\",\nGETPIVOTDATA(AU$21 & \"\",PivotTableB!$A$3,\"SchoolName\",$B81,\"SubsidiaryName\",$C81,\"YearStart\",AU$13)))),\"\")","v":150},{"$f":"IFERROR(IF(AU81=\".\",\".\",IF(AU81=\"n/a\",\"n/a\",\nGETPIVOTDATA(AV$21 & \"\",PivotTableB!$A$3,\"SchoolName\",$B81,\"SubsidiaryName\",$C81,\"YearStart\",AU$13))),\"\")","v":0},{"$f":"IFERROR(IF(AV81=\".\",\".\",IF(AV81=\"n/a\",\"n/a\",\nGETPIVOTDATA(AW$21 & \"\",PivotTableB!$A$3,\"SchoolName\",$B81,\"SubsidiaryName\",$C81,\"YearStart\",AU$13))),\"\")","v":0},150,{"$f":"IFERROR(IF(AX81=\".\",\".\",IF(AX81=\"n/a\",\"n/a\",\nGETPIVOTDATA(AY$21 & \"\",PivotTableB!$A$3,\"SchoolName\",$B81,\"SubsidiaryName\",$C81,\"YearStart\",AU$13))),\"\")","v":0},{"$f":"IFERROR(IF(AY81=\".\",\".\",IF(AY81=\"n/a\",\"n/a\",\nGETPIVOTDATA(AZ$21 & \"\",PivotTableB!$A$3,\"SchoolName\",$B81,\"SubsidiaryName\",$C81,\"YearStart\",AU$13))),\"\")","v":630},{"$f":"IFERROR(IF($B81=\"\",\"\",\nIF(OR($L81=\"Nursery School\",$L81=\"All-through PRU\",$M81=\"True\"),\"n/a\",\nIF(GETPIVOTDATA(BA$21 & \"\",PivotTableB!$A$3,\"SchoolName\",$B81,\"SubsidiaryName\",$C81,\"YearStart\",BA$13)=\"\",\".\",\nGETPIVOTDATA(BA$21 & \"\",PivotTableB!$A$3,\"SchoolName\",$B81,\"SubsidiaryName\",$C81,\"YearStart\",BA$13)))),\"\")","v":150},{"$f":"IFERROR(IF(BA81=\".\",\".\",IF(BA81=\"n/a\",\"n/a\",\nGETPIVOTDATA(BB$21 & \"\",PivotTableB!$A$3,\"SchoolName\",$B81,\"SubsidiaryName\",$C81,\"YearStart\",BA$13))),\"\")","v":0},{"$f":"IFERROR(IF(BB81=\".\",\".\",IF(BB81=\"n/a\",\"n/a\",\nGETPIVOTDATA(BC$21 & \"\",PivotTableB!$A$3,\"SchoolName\",$B81,\"SubsidiaryName\",$C81,\"YearStart\",BA$13))),\"\")","v":0},{"$f":"IFERROR(IF(BC81=\".\",\".\",IF(BC81=\"n/a\",\"n/a\",\nGETPIVOTDATA(BD$21 & \"\",PivotTableB!$A$3,\"SchoolName\",$B81,\"SubsidiaryName\",$C81,\"YearStart\",BB$13))),\"\")","v":""},150,{"$f":"IFERROR(IF(BE81=\".\",\".\",IF(BE81=\"n/a\",\"n/a\",\nGETPIVOTDATA(BF$21 & \"\",PivotTableB!$A$3,\"SchoolName\",$B81,\"SubsidiaryName\",$C81,\"YearStart\",BA$13))),\"\")","v":0},{"$f":"IFERROR(IF(BF81=\".\",\".\",IF(BF81=\"n/a\",\"n/a\",\nGETPIVOTDATA(BG$21 & \"\",PivotTableB!$A$3,\"SchoolName\",$B81,\"SubsidiaryName\",$C81,\"YearStart\",BA$13))),\"\")","v":630},{"$f":"IFERROR(IF($B81=\"\",\"\",\nIF(OR($L81=\"Nursery School\",$L81=\"All-through PRU\",$M81=\"True\"),\"n/a\",\nIF(GETPIVOTDATA(BH$21 & \"\",PivotTableB!$A$3,\"SchoolName\",$B81,\"SubsidiaryName\",$C81,\"YearStart\",BH$13)=\"\",\".\",\nGETPIVOTDATA(BH$21 & \"\",PivotTableB!$A$3,\"SchoolName\",$B81,\"SubsidiaryName\",$C81,\"YearStart\",BH$13)))),\"\")","v":150},{"$f":"IFERROR(IF(BH81=\".\",\".\",IF(BH81=\"n/a\",\"n/a\",\nGETPIVOTDATA(BI$21 & \"\",PivotTableB!$A$3,\"SchoolName\",$B81,\"SubsidiaryName\",$C81,\"YearStart\",BH$13))),\"\")","v":0},{"$f":"IFERROR(IF(BI81=\".\",\".\",IF(BI81=\"n/a\",\"n/a\",\nGETPIVOTDATA(BJ$21 & \"\",PivotTableB!$A$3,\"SchoolName\",$B81,\"SubsidiaryName\",$C81,\"YearStart\",BH$13))),\"\")","v":0},{"$f":"IFERROR(IF(BJ81=\".\",\".\",IF(BJ81=\"n/a\",\"n/a\",\nGETPIVOTDATA(BK$21 & \"\",PivotTableB!$A$3,\"SchoolName\",$B81,\"SubsidiaryName\",$C81,\"YearStart\",BH$13))),\"\")","v":0},150,{"$f":"IFERROR(IF(BL81=\".\",\".\",IF(BL81=\"n/a\",\"n/a\",\nGETPIVOTDATA(BM$21 & \"\",PivotTableB!$A$3,\"SchoolName\",$B81,\"SubsidiaryName\",$C81,\"YearStart\",BH$13))),\"\")","v":0},{"$f":"IFERROR(IF(BM81=\".\",\".\",IF(BM81=\"n/a\",\"n/a\",\nGETPIVOTDATA(BN$21 & \"\",PivotTableB!$A$3,\"SchoolName\",$B81,\"SubsidiaryName\",$C81,\"YearStart\",BH$13))),\"\")","v":630},{"$f":"IFERROR(IF($B81=\"\",\"\",\nIF(OR($L81=\"Nursery School\",$L81=\"All-through PRU\",$M81=\"True\"),\"n/a\",\nIF(GETPIVOTDATA(BO$21 & \"\",PivotTableB!$A$3,\"SchoolName\",$B81,\"SubsidiaryName\",$C81,\"YearStart\",BO$13)=\"\",\".\",\nGETPIVOTDATA(BO$21 & \"\",PivotTableB!$A$3,\"SchoolName\",$B81,\"SubsidiaryName\",$C81,\"YearStart\",BO$13)))),\"\")","v":150},{"$f":"IFERROR(IF(BO81=\".\",\".\",IF(BO81=\"n/a\",\"n/a\",\nGETPIVOTDATA(BP$21 & \"\",PivotTableB!$A$3,\"SchoolName\",$B81,\"SubsidiaryName\",$C81,\"YearStart\",BO$13))),\"\")","v":0},{"$f":"IFERROR(IF(BP81=\".\",\".\",IF(BP81=\"n/a\",\"n/a\",\nGETPIVOTDATA(BQ$21 & \"\",PivotTableB!$A$3,\"SchoolName\",$B81,\"SubsidiaryName\",$C81,\"YearStart\",BO$13))),\"\")","v":0},{"$f":"IFERROR(IF(BQ81=\".\",\".\",IF(BQ81=\"n/a\",\"n/a\",\nGETPIVOTDATA(BR$21 & \"\",PivotTableB!$A$3,\"SchoolName\",$B81,\"SubsidiaryName\",$C81,\"YearStart\",BP$13))),\"\")","v":""},150,{"$f":"IFERROR(IF(BS81=\".\",\".\",IF(BS81=\"n/a\",\"n/a\",\nGETPIVOTDATA(BT$21 & \"\",PivotTableB!$A$3,\"SchoolName\",$B81,\"SubsidiaryName\",$C81,\"YearStart\",BO$13))),\"\")","v":0},{"$f":"IFERROR(IF(BT81=\".\",\".\",IF(BT81=\"n/a\",\"n/a\",\nGETPIVOTDATA(BU$21 & \"\",PivotTableB!$A$3,\"SchoolName\",$B81,\"SubsidiaryName\",$C81,\"YearStart\",BO$13))),\"\")","v":630},{"$f":"IFERROR(IF($B81=\"\",\"\",\nIF(OR($L81=\"Nursery School\",$L81=\"All-through PRU\",$M81=\"True\"),\"n/a\",\nIF(GETPIVOTDATA(BV$21 & \"\",PivotTableB!$A$3,\"SchoolName\",$B81,\"SubsidiaryName\",$C81,\"YearStart\",BV$13)=\"\",\".\",\nGETPIVOTDATA(BV$21 & \"\",PivotTableB!$A$3,\"SchoolName\",$B81,\"SubsidiaryName\",$C81,\"YearStart\",BV$13)))),\"\")","v":150},{"$f":"IFERROR(IF(BV81=\".\",\".\",IF(BV81=\"n/a\",\"n/a\",\nGETPIVOTDATA(BW$21 & \"\",PivotTableB!$A$3,\"SchoolName\",$B81,\"SubsidiaryName\",$C81,\"YearStart\",BV$13))),\"\")","v":0},{"$f":"IFERROR(IF(BW81=\".\",\".\",IF(BW81=\"n/a\",\"n/a\",\nGETPIVOTDATA(BX$21 & \"\",PivotTableB!$A$3,\"SchoolName\",$B81,\"SubsidiaryName\",$C81,\"YearStart\",BV$13))),\"\")","v":0},{"$f":"IFERROR(IF(BX81=\".\",\".\",IF(BX81=\"n/a\",\"n/a\",\nGETPIVOTDATA(BY$21 & \"\",PivotTableB!$A$3,\"SchoolName\",$B81,\"SubsidiaryName\",$C81,\"YearStart\",BV$13))),\"\")","v":0},150,{"$f":"IFERROR(IF(BZ81=\".\",\".\",IF(BZ81=\"n/a\",\"n/a\",\nGETPIVOTDATA(CA$21 & \"\",PivotTableB!$A$3,\"SchoolName\",$B81,\"SubsidiaryName\",$C81,\"YearStart\",BV$13))),\"\")","v":0},{"$f":"IFERROR(IF(CA81=\".\",\".\",IF(CA81=\"n/a\",\"n/a\",\nGETPIVOTDATA(CB$21 & \"\",PivotTableB!$A$3,\"SchoolName\",$B81,\"SubsidiaryName\",$C81,\"YearStart\",BV$13))),\"\")","v":630}]
[null,{"$f":"IF(PivotTableA!A69=\"\",\"n/a\",PivotTableA!A69)","v":"Trinity St Stephen Church of England First School"},{"$f":"IF(B82=\"n/a\",\"\",PivotTableA!B69)","v":"Trinity St Stephen Church of England First School"},{"$f":"IF($B82=\"n/a\",\"\",PivotTableA!C69)","v":"R"},{"$f":"IF($B82=\"n/a\",\"\",PivotTableA!D69)","v":"Windsor"},{"$f":"IF($B82=\"n/a\",\"\",PivotTableA!E69)","v":"East Windsor"},{"$f":"IF($B82=\"n/a\",\"\",PivotTableA!F69)","v":"Trinity"},{"$f":"IF($B82=\"n/a\",\"\",PivotTableA!G69)","v":"Castle Without"},{"$f":"IF($B82=\"n/a\",\"\",PivotTableA!H69)","v":"None"},{"$f":"IF($B82=\"n/a\",\"\",PivotTableA!I69)","v":"Primary"},{"$f":"IF($B82=\"n/a\",\"\",PivotTableA!J69)","v":"Three Tier"},{"$f":"IF($B82=\"n/a\",\"\",PivotTableA!K69)","v":"First"},{"$f":"IF($B82=\"n/a\",\"\",PivotTableA!O69)","v":"FALSE"},{"$f":"IF($B82=\"n/a\",\"\",PivotTableA!L69)","v":"Voluntary Aided"},{"$f":"IF($B82=\"n/a\",\"\",PivotTableA!M69)","v":" "},{"$f":"IF($B82=\"n/a\",\"\",PivotTableA!N69)","v":"Church of England"},{"$f":"IFERROR(IF($B82=\"\",\"\",\nIF(OR($L82=\"Nursery School\",$L82=\"All-through PRU\",$M82=\"True\"),\"n/a\",\nIF(GETPIVOTDATA(Q$21 & \"\",PivotTableB!$A$3,\"SchoolName\",$B82,\"SubsidiaryName\",$C82,\"YearStart\",Q$13)=\"\",\".\",\nGETPIVOTDATA(Q$21 & \"\",PivotTableB!$A$3,\"SchoolName\",$B82,\"SubsidiaryName\",$C82,\"YearStart\",Q$13)))),\"\")","v":30},{"$f":"IFERROR(IF(Q82=\".\",\".\",IF(Q82=\"n/a\",\"n/a\",\nGETPIVOTDATA(R$21 & \"\",PivotTableB!$A$3,\"SchoolName\",$B82,\"SubsidiaryName\",$C82,\"YearStart\",Q$13))),\"\")","v":0},{"$f":"IFERROR(IF(R82=\".\",\".\",IF(R82=\"n/a\",\"n/a\",\nGETPIVOTDATA(S$21 & \"\",PivotTableB!$A$3,\"SchoolName\",$B82,\"SubsidiaryName\",$C82,\"YearStart\",Q$13))),\"\")","v":0},30,{"$f":"IFERROR(IF(T82=\".\",\".\",IF(T82=\"n/a\",\"n/a\",\nGETPIVOTDATA(U$21 & \"\",PivotTableB!$A$3,\"SchoolName\",$B82,\"SubsidiaryName\",$C82,\"YearStart\",Q$13))),\"\")","v":0},{"$f":"IFERROR(IF(U82=\".\",\".\",IF(U82=\"n/a\",\"n/a\",\nGETPIVOTDATA(V$21 & \"\",PivotTableB!$A$3,\"SchoolName\",$B82,\"SubsidiaryName\",$C82,\"YearStart\",Q$13))),\"\")","v":150},{"$f":"IFERROR(IF($B82=\"\",\"\",\nIF(OR($L82=\"Nursery School\",$L82=\"All-through PRU\",$M82=\"True\"),\"n/a\",\nIF(GETPIVOTDATA(W$21 & \"\",PivotTableB!$A$3,\"SchoolName\",$B82,\"SubsidiaryName\",$C82,\"YearStart\",W$13)=\"\",\".\",\nGETPIVOTDATA(W$21 & \"\",PivotTableB!$A$3,\"SchoolName\",$B82,\"SubsidiaryName\",$C82,\"YearStart\",W$13)))),\"\")","v":30},{"$f":"IFERROR(IF(W82=\".\",\".\",IF(W82=\"n/a\",\"n/a\",\nGETPIVOTDATA(X$21 & \"\",PivotTableB!$A$3,\"SchoolName\",$B82,\"SubsidiaryName\",$C82,\"YearStart\",W$13))),\"\")","v":0},{"$f":"IFERROR(IF(X82=\".\",\".\",IF(X82=\"n/a\",\"n/a\",\nGETPIVOTDATA(Y$21 & \"\",PivotTableB!$A$3,\"SchoolName\",$B82,\"SubsidiaryName\",$C82,\"YearStart\",W$13))),\"\")","v":0},30,{"$f":"IFERROR(IF(Z82=\".\",\".\",IF(Z82=\"n/a\",\"n/a\",\nGETPIVOTDATA(AA$21 & \"\",PivotTableB!$A$3,\"SchoolName\",$B82,\"SubsidiaryName\",$C82,\"YearStart\",W$13))),\"\")","v":0},{"$f":"IFERROR(IF(AA82=\".\",\".\",IF(AA82=\"n/a\",\"n/a\",\nGETPIVOTDATA(AB$21 & \"\",PivotTableB!$A$3,\"SchoolName\",$B82,\"SubsidiaryName\",$C82,\"YearStart\",W$13))),\"\")","v":150},{"$f":"IFERROR(IF($B82=\"\",\"\",\nIF(OR($L82=\"Nursery School\",$L82=\"All-through PRU\",$M82=\"True\"),\"n/a\",\nIF(GETPIVOTDATA(AC$21 & \"\",PivotTableB!$A$3,\"SchoolName\",$B82,\"SubsidiaryName\",$C82,\"YearStart\",AC$13)=\"\",\".\",\nGETPIVOTDATA(AC$21 & \"\",PivotTableB!$A$3,\"SchoolName\",$B82,\"SubsidiaryName\",$C82,\"YearStart\",AC$13)))),\"\")","v":30},{"$f":"IFERROR(IF(AC82=\".\",\".\",IF(AC82=\"n/a\",\"n/a\",\nGETPIVOTDATA(AD$21 & \"\",PivotTableB!$A$3,\"SchoolName\",$B82,\"SubsidiaryName\",$C82,\"YearStart\",AC$13))),\"\")","v":0},{"$f":"IFERROR(IF(AD82=\".\",\".\",IF(AD82=\"n/a\",\"n/a\",\nGETPIVOTDATA(AE$21 & \"\",PivotTableB!$A$3,\"SchoolName\",$B82,\"SubsidiaryName\",$C82,\"YearStart\",AC$13))),\"\")","v":0},30,{"$f":"IFERROR(IF(AF82=\".\",\".\",IF(AF82=\"n/a\",\"n/a\",\nGETPIVOTDATA(AG$21 & \"\",PivotTableB!$A$3,\"SchoolName\",$B82,\"SubsidiaryName\",$C82,\"YearStart\",AC$13))),\"\")","v":0},{"$f":"IFERROR(IF(AG82=\".\",\".\",IF(AG82=\"n/a\",\"n/a\",\nGETPIVOTDATA(AH$21 & \"\",PivotTableB!$A$3,\"SchoolName\",$B82,\"SubsidiaryName\",$C82,\"YearStart\",AC$13))),\"\")","v":150},{"$f":"IFERROR(IF($B82=\"\",\"\",\nIF(OR($L82=\"Nursery School\",$L82=\"All-through PRU\",$M82=\"True\"),\"n/a\",\nIF(GETPIVOTDATA(AI$21 & \"\",PivotTableB!$A$3,\"SchoolName\",$B82,\"SubsidiaryName\",$C82,\"YearStart\",AI$13)=\"\",\".\",\nGETPIVOTDATA(AI$21 & \"\",PivotTableB!$A$3,\"SchoolName\",$B82,\"SubsidiaryName\",$C82,\"YearStart\",AI$13)))),\"\")","v":30},{"$f":"IFERROR(IF(AI82=\".\",\".\",IF(AI82=\"n/a\",\"n/a\",\nGETPIVOTDATA(AJ$21 & \"\",PivotTableB!$A$3,\"SchoolName\",$B82,\"SubsidiaryName\",$C82,\"YearStart\",AI$13))),\"\")","v":0},{"$f":"IFERROR(IF(AJ82=\".\",\".\",IF(AJ82=\"n/a\",\"n/a\",\nGETPIVOTDATA(AK$21 & \"\",PivotTableB!$A$3,\"SchoolName\",$B82,\"SubsidiaryName\",$C82,\"YearStart\",AI$13))),\"\")","v":0},30,{"$f":"IFERROR(IF(AL82=\".\",\".\",IF(AL82=\"n/a\",\"n/a\",\nGETPIVOTDATA(AM$21 & \"\",PivotTableB!$A$3,\"SchoolName\",$B82,\"SubsidiaryName\",$C82,\"YearStart\",AI$13))),\"\")","v":0},{"$f":"IFERROR(IF(AM82=\".\",\".\",IF(AM82=\"n/a\",\"n/a\",\nGETPIVOTDATA(AN$21 & \"\",PivotTableB!$A$3,\"SchoolName\",$B82,\"SubsidiaryName\",$C82,\"YearStart\",AI$13))),\"\")","v":150},{"$f":"IFERROR(IF($B82=\"\",\"\",\nIF(OR($L82=\"Nursery School\",$L82=\"All-through PRU\",$M82=\"True\"),\"n/a\",\nIF(GETPIVOTDATA(AO$21 & \"\",PivotTableB!$A$3,\"SchoolName\",$B82,\"SubsidiaryName\",$C82,\"YearStart\",AO$13)=\"\",\".\",\nGETPIVOTDATA(AO$21 & \"\",PivotTableB!$A$3,\"SchoolName\",$B82,\"SubsidiaryName\",$C82,\"YearStart\",AO$13)))),\"\")","v":30},{"$f":"IFERROR(IF(AO82=\".\",\".\",IF(AO82=\"n/a\",\"n/a\",\nGETPIVOTDATA(AP$21 & \"\",PivotTableB!$A$3,\"SchoolName\",$B82,\"SubsidiaryName\",$C82,\"YearStart\",AO$13))),\"\")","v":0},{"$f":"IFERROR(IF(AP82=\".\",\".\",IF(AP82=\"n/a\",\"n/a\",\nGETPIVOTDATA(AQ$21 & \"\",PivotTableB!$A$3,\"SchoolName\",$B82,\"SubsidiaryName\",$C82,\"YearStart\",AO$13))),\"\")","v":0},30,{"$f":"IFERROR(IF(AR82=\".\",\".\",IF(AR82=\"n/a\",\"n/a\",\nGETPIVOTDATA(AS$21 & \"\",PivotTableB!$A$3,\"SchoolName\",$B82,\"SubsidiaryName\",$C82,\"YearStart\",AO$13))),\"\")","v":0},{"$f":"IFERROR(IF(AS82=\".\",\".\",IF(AS82=\"n/a\",\"n/a\",\nGETPIVOTDATA(AT$21 & \"\",PivotTableB!$A$3,\"SchoolName\",$B82,\"SubsidiaryName\",$C82,\"YearStart\",AO$13))),\"\")","v":150},{"$f":"IFERROR(IF($B82=\"\",\"\",\nIF(OR($L82=\"Nursery School\",$L82=\"All-through PRU\",$M82=\"True\"),\"n/a\",\nIF(GETPIVOTDATA(AU$21 & \"\",PivotTableB!$A$3,\"SchoolName\",$B82,\"SubsidiaryName\",$C82,\"YearStart\",AU$13)=\"\",\".\",\nGETPIVOTDATA(AU$21 & \"\",PivotTableB!$A$3,\"SchoolName\",$B82,\"SubsidiaryName\",$C82,\"YearStart\",AU$13)))),\"\")","v":30},{"$f":"IFERROR(IF(AU82=\".\",\".\",IF(AU82=\"n/a\",\"n/a\",\nGETPIVOTDATA(AV$21 & \"\",PivotTableB!$A$3,\"SchoolName\",$B82,\"SubsidiaryName\",$C82,\"YearStart\",AU$13))),\"\")","v":0},{"$f":"IFERROR(IF(AV82=\".\",\".\",IF(AV82=\"n/a\",\"n/a\",\nGETPIVOTDATA(AW$21 & \"\",PivotTableB!$A$3,\"SchoolName\",$B82,\"SubsidiaryName\",$C82,\"YearStart\",AU$13))),\"\")","v":0},30,{"$f":"IFERROR(IF(AX82=\".\",\".\",IF(AX82=\"n/a\",\"n/a\",\nGETPIVOTDATA(AY$21 & \"\",PivotTableB!$A$3,\"SchoolName\",$B82,\"SubsidiaryName\",$C82,\"YearStart\",AU$13))),\"\")","v":0},{"$f":"IFERROR(IF(AY82=\".\",\".\",IF(AY82=\"n/a\",\"n/a\",\nGETPIVOTDATA(AZ$21 & \"\",PivotTableB!$A$3,\"SchoolName\",$B82,\"SubsidiaryName\",$C82,\"YearStart\",AU$13))),\"\")","v":150},{"$f":"IFERROR(IF($B82=\"\",\"\",\nIF(OR($L82=\"Nursery School\",$L82=\"All-through PRU\",$M82=\"True\"),\"n/a\",\nIF(GETPIVOTDATA(BA$21 & \"\",PivotTableB!$A$3,\"SchoolName\",$B82,\"SubsidiaryName\",$C82,\"YearStart\",BA$13)=\"\",\".\",\nGETPIVOTDATA(BA$21 & \"\",PivotTableB!$A$3,\"SchoolName\",$B82,\"SubsidiaryName\",$C82,\"YearStart\",BA$13)))),\"\")","v":30},{"$f":"IFERROR(IF(BA82=\".\",\".\",IF(BA82=\"n/a\",\"n/a\",\nGETPIVOTDATA(BB$21 & \"\",PivotTableB!$A$3,\"SchoolName\",$B82,\"SubsidiaryName\",$C82,\"YearStart\",BA$13))),\"\")","v":0},{"$f":"IFERROR(IF(BB82=\".\",\".\",IF(BB82=\"n/a\",\"n/a\",\nGETPIVOTDATA(BC$21 & \"\",PivotTableB!$A$3,\"SchoolName\",$B82,\"SubsidiaryName\",$C82,\"YearStart\",BA$13))),\"\")","v":0},{"$f":"IFERROR(IF(BC82=\".\",\".\",IF(BC82=\"n/a\",\"n/a\",\nGETPIVOTDATA(BD$21 & \"\",PivotTableB!$A$3,\"SchoolName\",$B82,\"SubsidiaryName\",$C82,\"YearStart\",BB$13))),\"\")","v":""},30,{"$f":"IFERROR(IF(BE82=\".\",\".\",IF(BE82=\"n/a\",\"n/a\",\nGETPIVOTDATA(BF$21 & \"\",PivotTableB!$A$3,\"SchoolName\",$B82,\"SubsidiaryName\",$C82,\"YearStart\",BA$13))),\"\")","v":0},{"$f":"IFERROR(IF(BF82=\".\",\".\",IF(BF82=\"n/a\",\"n/a\",\nGETPIVOTDATA(BG$21 & \"\",PivotTableB!$A$3,\"SchoolName\",$B82,\"SubsidiaryName\",$C82,\"YearStart\",BA$13))),\"\")","v":150},{"$f":"IFERROR(IF($B82=\"\",\"\",\nIF(OR($L82=\"Nursery School\",$L82=\"All-through PRU\",$M82=\"True\"),\"n/a\",\nIF(GETPIVOTDATA(BH$21 & \"\",PivotTableB!$A$3,\"SchoolName\",$B82,\"SubsidiaryName\",$C82,\"YearStart\",BH$13)=\"\",\".\",\nGETPIVOTDATA(BH$21 & \"\",PivotTableB!$A$3,\"SchoolName\",$B82,\"SubsidiaryName\",$C82,\"YearStart\",BH$13)))),\"\")","v":30},{"$f":"IFERROR(IF(BH82=\".\",\".\",IF(BH82=\"n/a\",\"n/a\",\nGETPIVOTDATA(BI$21 & \"\",PivotTableB!$A$3,\"SchoolName\",$B82,\"SubsidiaryName\",$C82,\"YearStart\",BH$13))),\"\")","v":0},{"$f":"IFERROR(IF(BI82=\".\",\".\",IF(BI82=\"n/a\",\"n/a\",\nGETPIVOTDATA(BJ$21 & \"\",PivotTableB!$A$3,\"SchoolName\",$B82,\"SubsidiaryName\",$C82,\"YearStart\",BH$13))),\"\")","v":0},{"$f":"IFERROR(IF(BJ82=\".\",\".\",IF(BJ82=\"n/a\",\"n/a\",\nGETPIVOTDATA(BK$21 & \"\",PivotTableB!$A$3,\"SchoolName\",$B82,\"SubsidiaryName\",$C82,\"YearStart\",BH$13))),\"\")","v":0},30,{"$f":"IFERROR(IF(BL82=\".\",\".\",IF(BL82=\"n/a\",\"n/a\",\nGETPIVOTDATA(BM$21 & \"\",PivotTableB!$A$3,\"SchoolName\",$B82,\"SubsidiaryName\",$C82,\"YearStart\",BH$13))),\"\")","v":0},{"$f":"IFERROR(IF(BM82=\".\",\".\",IF(BM82=\"n/a\",\"n/a\",\nGETPIVOTDATA(BN$21 & \"\",PivotTableB!$A$3,\"SchoolName\",$B82,\"SubsidiaryName\",$C82,\"YearStart\",BH$13))),\"\")","v":150},{"$f":"IFERROR(IF($B82=\"\",\"\",\nIF(OR($L82=\"Nursery School\",$L82=\"All-through PRU\",$M82=\"True\"),\"n/a\",\nIF(GETPIVOTDATA(BO$21 & \"\",PivotTableB!$A$3,\"SchoolName\",$B82,\"SubsidiaryName\",$C82,\"YearStart\",BO$13)=\"\",\".\",\nGETPIVOTDATA(BO$21 & \"\",PivotTableB!$A$3,\"SchoolName\",$B82,\"SubsidiaryName\",$C82,\"YearStart\",BO$13)))),\"\")","v":30},{"$f":"IFERROR(IF(BO82=\".\",\".\",IF(BO82=\"n/a\",\"n/a\",\nGETPIVOTDATA(BP$21 & \"\",PivotTableB!$A$3,\"SchoolName\",$B82,\"SubsidiaryName\",$C82,\"YearStart\",BO$13))),\"\")","v":0},{"$f":"IFERROR(IF(BP82=\".\",\".\",IF(BP82=\"n/a\",\"n/a\",\nGETPIVOTDATA(BQ$21 & \"\",PivotTableB!$A$3,\"SchoolName\",$B82,\"SubsidiaryName\",$C82,\"YearStart\",BO$13))),\"\")","v":0},{"$f":"IFERROR(IF(BQ82=\".\",\".\",IF(BQ82=\"n/a\",\"n/a\",\nGETPIVOTDATA(BR$21 & \"\",PivotTableB!$A$3,\"SchoolName\",$B82,\"SubsidiaryName\",$C82,\"YearStart\",BP$13))),\"\")","v":""},30,{"$f":"IFERROR(IF(BS82=\".\",\".\",IF(BS82=\"n/a\",\"n/a\",\nGETPIVOTDATA(BT$21 & \"\",PivotTableB!$A$3,\"SchoolName\",$B82,\"SubsidiaryName\",$C82,\"YearStart\",BO$13))),\"\")","v":0},{"$f":"IFERROR(IF(BT82=\".\",\".\",IF(BT82=\"n/a\",\"n/a\",\nGETPIVOTDATA(BU$21 & \"\",PivotTableB!$A$3,\"SchoolName\",$B82,\"SubsidiaryName\",$C82,\"YearStart\",BO$13))),\"\")","v":150},{"$f":"IFERROR(IF($B82=\"\",\"\",\nIF(OR($L82=\"Nursery School\",$L82=\"All-through PRU\",$M82=\"True\"),\"n/a\",\nIF(GETPIVOTDATA(BV$21 & \"\",PivotTableB!$A$3,\"SchoolName\",$B82,\"SubsidiaryName\",$C82,\"YearStart\",BV$13)=\"\",\".\",\nGETPIVOTDATA(BV$21 & \"\",PivotTableB!$A$3,\"SchoolName\",$B82,\"SubsidiaryName\",$C82,\"YearStart\",BV$13)))),\"\")","v":30},{"$f":"IFERROR(IF(BV82=\".\",\".\",IF(BV82=\"n/a\",\"n/a\",\nGETPIVOTDATA(BW$21 & \"\",PivotTableB!$A$3,\"SchoolName\",$B82,\"SubsidiaryName\",$C82,\"YearStart\",BV$13))),\"\")","v":0},{"$f":"IFERROR(IF(BW82=\".\",\".\",IF(BW82=\"n/a\",\"n/a\",\nGETPIVOTDATA(BX$21 & \"\",PivotTableB!$A$3,\"SchoolName\",$B82,\"SubsidiaryName\",$C82,\"YearStart\",BV$13))),\"\")","v":0},{"$f":"IFERROR(IF(BX82=\".\",\".\",IF(BX82=\"n/a\",\"n/a\",\nGETPIVOTDATA(BY$21 & \"\",PivotTableB!$A$3,\"SchoolName\",$B82,\"SubsidiaryName\",$C82,\"YearStart\",BV$13))),\"\")","v":0},30,{"$f":"IFERROR(IF(BZ82=\".\",\".\",IF(BZ82=\"n/a\",\"n/a\",\nGETPIVOTDATA(CA$21 & \"\",PivotTableB!$A$3,\"SchoolName\",$B82,\"SubsidiaryName\",$C82,\"YearStart\",BV$13))),\"\")","v":0},{"$f":"IFERROR(IF(CA82=\".\",\".\",IF(CA82=\"n/a\",\"n/a\",\nGETPIVOTDATA(CB$21 & \"\",PivotTableB!$A$3,\"SchoolName\",$B82,\"SubsidiaryName\",$C82,\"YearStart\",BV$13))),\"\")","v":150}]
[null,{"$f":"IF(PivotTableA!A70=\"\",\"n/a\",PivotTableA!A70)","v":"Waltham St Lawrence Primary School"},{"$f":"IF(B83=\"n/a\",\"\",PivotTableA!B70)","v":"Waltham St Lawrence Primary School"},{"$f":"IF($B83=\"n/a\",\"\",PivotTableA!C70)","v":"R"},{"$f":"IF($B83=\"n/a\",\"\",PivotTableA!D70)","v":"Maidenhead"},{"$f":"IF($B83=\"n/a\",\"\",PivotTableA!E70)","v":"Maidenhead Villages"},{"$f":"IF($B83=\"n/a\",\"\",PivotTableA!F70)","v":"Waltham St Lawrence"},{"$f":"IF($B83=\"n/a\",\"\",PivotTableA!G70)","v":"Hurley and Walthams"},{"$f":"IF($B83=\"n/a\",\"\",PivotTableA!H70)","v":"Waltham St Lawrence"},{"$f":"IF($B83=\"n/a\",\"\",PivotTableA!I70)","v":"Primary"},{"$f":"IF($B83=\"n/a\",\"\",PivotTableA!J70)","v":"Two Tier"},{"$f":"IF($B83=\"n/a\",\"\",PivotTableA!K70)","v":"JMI"},{"$f":"IF($B83=\"n/a\",\"\",PivotTableA!O70)","v":"FALSE"},{"$f":"IF($B83=\"n/a\",\"\",PivotTableA!L70)","v":"Community"},{"$f":"IF($B83=\"n/a\",\"\",PivotTableA!M70)","v":" "},{"$f":"IF($B83=\"n/a\",\"\",PivotTableA!N70)","v":"None"},{"$f":"IFERROR(IF($B83=\"\",\"\",\nIF(OR($L83=\"Nursery School\",$L83=\"All-through PRU\",$M83=\"True\"),\"n/a\",\nIF(GETPIVOTDATA(Q$21 & \"\",PivotTableB!$A$3,\"SchoolName\",$B83,\"SubsidiaryName\",$C83,\"YearStart\",Q$13)=\"\",\".\",\nGETPIVOTDATA(Q$21 & \"\",PivotTableB!$A$3,\"SchoolName\",$B83,\"SubsidiaryName\",$C83,\"YearStart\",Q$13)))),\"\")","v":19},{"$f":"IFERROR(IF(Q83=\".\",\".\",IF(Q83=\"n/a\",\"n/a\",\nGETPIVOTDATA(R$21 & \"\",PivotTableB!$A$3,\"SchoolName\",$B83,\"SubsidiaryName\",$C83,\"YearStart\",Q$13))),\"\")","v":0},{"$f":"IFERROR(IF(R83=\".\",\".\",IF(R83=\"n/a\",\"n/a\",\nGETPIVOTDATA(S$21 & \"\",PivotTableB!$A$3,\"SchoolName\",$B83,\"SubsidiaryName\",$C83,\"YearStart\",Q$13))),\"\")","v":0},19,{"$f":"IFERROR(IF(T83=\".\",\".\",IF(T83=\"n/a\",\"n/a\",\nGETPIVOTDATA(U$21 & \"\",PivotTableB!$A$3,\"SchoolName\",$B83,\"SubsidiaryName\",$C83,\"YearStart\",Q$13))),\"\")","v":0},{"$f":"IFERROR(IF(U83=\".\",\".\",IF(U83=\"n/a\",\"n/a\",\nGETPIVOTDATA(V$21 & \"\",PivotTableB!$A$3,\"SchoolName\",$B83,\"SubsidiaryName\",$C83,\"YearStart\",Q$13))),\"\")","v":133},{"$f":"IFERROR(IF($B83=\"\",\"\",\nIF(OR($L83=\"Nursery School\",$L83=\"All-through PRU\",$M83=\"True\"),\"n/a\",\nIF(GETPIVOTDATA(W$21 & \"\",PivotTableB!$A$3,\"SchoolName\",$B83,\"SubsidiaryName\",$C83,\"YearStart\",W$13)=\"\",\".\",\nGETPIVOTDATA(W$21 & \"\",PivotTableB!$A$3,\"SchoolName\",$B83,\"SubsidiaryName\",$C83,\"YearStart\",W$13)))),\"\")","v":19},{"$f":"IFERROR(IF(W83=\".\",\".\",IF(W83=\"n/a\",\"n/a\",\nGETPIVOTDATA(X$21 & \"\",PivotTableB!$A$3,\"SchoolName\",$B83,\"SubsidiaryName\",$C83,\"YearStart\",W$13))),\"\")","v":0},{"$f":"IFERROR(IF(X83=\".\",\".\",IF(X83=\"n/a\",\"n/a\",\nGETPIVOTDATA(Y$21 & \"\",PivotTableB!$A$3,\"SchoolName\",$B83,\"SubsidiaryName\",$C83,\"YearStart\",W$13))),\"\")","v":0},19,{"$f":"IFERROR(IF(Z83=\".\",\".\",IF(Z83=\"n/a\",\"n/a\",\nGETPIVOTDATA(AA$21 & \"\",PivotTableB!$A$3,\"SchoolName\",$B83,\"SubsidiaryName\",$C83,\"YearStart\",W$13))),\"\")","v":0},{"$f":"IFERROR(IF(AA83=\".\",\".\",IF(AA83=\"n/a\",\"n/a\",\nGETPIVOTDATA(AB$21 & \"\",PivotTableB!$A$3,\"SchoolName\",$B83,\"SubsidiaryName\",$C83,\"YearStart\",W$13))),\"\")","v":133},{"$f":"IFERROR(IF($B83=\"\",\"\",\nIF(OR($L83=\"Nursery School\",$L83=\"All-through PRU\",$M83=\"True\"),\"n/a\",\nIF(GETPIVOTDATA(AC$21 & \"\",PivotTableB!$A$3,\"SchoolName\",$B83,\"SubsidiaryName\",$C83,\"YearStart\",AC$13)=\"\",\".\",\nGETPIVOTDATA(AC$21 & \"\",PivotTableB!$A$3,\"SchoolName\",$B83,\"SubsidiaryName\",$C83,\"YearStart\",AC$13)))),\"\")","v":19},{"$f":"IFERROR(IF(AC83=\".\",\".\",IF(AC83=\"n/a\",\"n/a\",\nGETPIVOTDATA(AD$21 & \"\",PivotTableB!$A$3,\"SchoolName\",$B83,\"SubsidiaryName\",$C83,\"YearStart\",AC$13))),\"\")","v":0},{"$f":"IFERROR(IF(AD83=\".\",\".\",IF(AD83=\"n/a\",\"n/a\",\nGETPIVOTDATA(AE$21 & \"\",PivotTableB!$A$3,\"SchoolName\",$B83,\"SubsidiaryName\",$C83,\"YearStart\",AC$13))),\"\")","v":0},19,{"$f":"IFERROR(IF(AF83=\".\",\".\",IF(AF83=\"n/a\",\"n/a\",\nGETPIVOTDATA(AG$21 & \"\",PivotTableB!$A$3,\"SchoolName\",$B83,\"SubsidiaryName\",$C83,\"YearStart\",AC$13))),\"\")","v":0},{"$f":"IFERROR(IF(AG83=\".\",\".\",IF(AG83=\"n/a\",\"n/a\",\nGETPIVOTDATA(AH$21 & \"\",PivotTableB!$A$3,\"SchoolName\",$B83,\"SubsidiaryName\",$C83,\"YearStart\",AC$13))),\"\")","v":133},{"$f":"IFERROR(IF($B83=\"\",\"\",\nIF(OR($L83=\"Nursery School\",$L83=\"All-through PRU\",$M83=\"True\"),\"n/a\",\nIF(GETPIVOTDATA(AI$21 & \"\",PivotTableB!$A$3,\"SchoolName\",$B83,\"SubsidiaryName\",$C83,\"YearStart\",AI$13)=\"\",\".\",\nGETPIVOTDATA(AI$21 & \"\",PivotTableB!$A$3,\"SchoolName\",$B83,\"SubsidiaryName\",$C83,\"YearStart\",AI$13)))),\"\")","v":19},{"$f":"IFERROR(IF(AI83=\".\",\".\",IF(AI83=\"n/a\",\"n/a\",\nGETPIVOTDATA(AJ$21 & \"\",PivotTableB!$A$3,\"SchoolName\",$B83,\"SubsidiaryName\",$C83,\"YearStart\",AI$13))),\"\")","v":0},{"$f":"IFERROR(IF(AJ83=\".\",\".\",IF(AJ83=\"n/a\",\"n/a\",\nGETPIVOTDATA(AK$21 & \"\",PivotTableB!$A$3,\"SchoolName\",$B83,\"SubsidiaryName\",$C83,\"YearStart\",AI$13))),\"\")","v":0},19,{"$f":"IFERROR(IF(AL83=\".\",\".\",IF(AL83=\"n/a\",\"n/a\",\nGETPIVOTDATA(AM$21 & \"\",PivotTableB!$A$3,\"SchoolName\",$B83,\"SubsidiaryName\",$C83,\"YearStart\",AI$13))),\"\")","v":0},{"$f":"IFERROR(IF(AM83=\".\",\".\",IF(AM83=\"n/a\",\"n/a\",\nGETPIVOTDATA(AN$21 & \"\",PivotTableB!$A$3,\"SchoolName\",$B83,\"SubsidiaryName\",$C83,\"YearStart\",AI$13))),\"\")","v":133},{"$f":"IFERROR(IF($B83=\"\",\"\",\nIF(OR($L83=\"Nursery School\",$L83=\"All-through PRU\",$M83=\"True\"),\"n/a\",\nIF(GETPIVOTDATA(AO$21 & \"\",PivotTableB!$A$3,\"SchoolName\",$B83,\"SubsidiaryName\",$C83,\"YearStart\",AO$13)=\"\",\".\",\nGETPIVOTDATA(AO$21 & \"\",PivotTableB!$A$3,\"SchoolName\",$B83,\"SubsidiaryName\",$C83,\"YearStart\",AO$13)))),\"\")","v":19},{"$f":"IFERROR(IF(AO83=\".\",\".\",IF(AO83=\"n/a\",\"n/a\",\nGETPIVOTDATA(AP$21 & \"\",PivotTableB!$A$3,\"SchoolName\",$B83,\"SubsidiaryName\",$C83,\"YearStart\",AO$13))),\"\")","v":0},{"$f":"IFERROR(IF(AP83=\".\",\".\",IF(AP83=\"n/a\",\"n/a\",\nGETPIVOTDATA(AQ$21 & \"\",PivotTableB!$A$3,\"SchoolName\",$B83,\"SubsidiaryName\",$C83,\"YearStart\",AO$13))),\"\")","v":0},19,{"$f":"IFERROR(IF(AR83=\".\",\".\",IF(AR83=\"n/a\",\"n/a\",\nGETPIVOTDATA(AS$21 & \"\",PivotTableB!$A$3,\"SchoolName\",$B83,\"SubsidiaryName\",$C83,\"YearStart\",AO$13))),\"\")","v":0},{"$f":"IFERROR(IF(AS83=\".\",\".\",IF(AS83=\"n/a\",\"n/a\",\nGETPIVOTDATA(AT$21 & \"\",PivotTableB!$A$3,\"SchoolName\",$B83,\"SubsidiaryName\",$C83,\"YearStart\",AO$13))),\"\")","v":133},{"$f":"IFERROR(IF($B83=\"\",\"\",\nIF(OR($L83=\"Nursery School\",$L83=\"All-through PRU\",$M83=\"True\"),\"n/a\",\nIF(GETPIVOTDATA(AU$21 & \"\",PivotTableB!$A$3,\"SchoolName\",$B83,\"SubsidiaryName\",$C83,\"YearStart\",AU$13)=\"\",\".\",\nGETPIVOTDATA(AU$21 & \"\",PivotTableB!$A$3,\"SchoolName\",$B83,\"SubsidiaryName\",$C83,\"YearStart\",AU$13)))),\"\")","v":19},{"$f":"IFERROR(IF(AU83=\".\",\".\",IF(AU83=\"n/a\",\"n/a\",\nGETPIVOTDATA(AV$21 & \"\",PivotTableB!$A$3,\"SchoolName\",$B83,\"SubsidiaryName\",$C83,\"YearStart\",AU$13))),\"\")","v":3},{"$f":"IFERROR(IF(AV83=\".\",\".\",IF(AV83=\"n/a\",\"n/a\",\nGETPIVOTDATA(AW$21 & \"\",PivotTableB!$A$3,\"SchoolName\",$B83,\"SubsidiaryName\",$C83,\"YearStart\",AU$13))),\"\")","v":0},22,{"$f":"IFERROR(IF(AX83=\".\",\".\",IF(AX83=\"n/a\",\"n/a\",\nGETPIVOTDATA(AY$21 & \"\",PivotTableB!$A$3,\"SchoolName\",$B83,\"SubsidiaryName\",$C83,\"YearStart\",AU$13))),\"\")","v":0},{"$f":"IFERROR(IF(AY83=\".\",\".\",IF(AY83=\"n/a\",\"n/a\",\nGETPIVOTDATA(AZ$21 & \"\",PivotTableB!$A$3,\"SchoolName\",$B83,\"SubsidiaryName\",$C83,\"YearStart\",AU$13))),\"\")","v":133},{"$f":"IFERROR(IF($B83=\"\",\"\",\nIF(OR($L83=\"Nursery School\",$L83=\"All-through PRU\",$M83=\"True\"),\"n/a\",\nIF(GETPIVOTDATA(BA$21 & \"\",PivotTableB!$A$3,\"SchoolName\",$B83,\"SubsidiaryName\",$C83,\"YearStart\",BA$13)=\"\",\".\",\nGETPIVOTDATA(BA$21 & \"\",PivotTableB!$A$3,\"SchoolName\",$B83,\"SubsidiaryName\",$C83,\"YearStart\",BA$13)))),\"\")","v":19},{"$f":"IFERROR(IF(BA83=\".\",\".\",IF(BA83=\"n/a\",\"n/a\",\nGETPIVOTDATA(BB$21 & \"\",PivotTableB!$A$3,\"SchoolName\",$B83,\"SubsidiaryName\",$C83,\"YearStart\",BA$13))),\"\")","v":0},{"$f":"IFERROR(IF(BB83=\".\",\".\",IF(BB83=\"n/a\",\"n/a\",\nGETPIVOTDATA(BC$21 & \"\",PivotTableB!$A$3,\"SchoolName\",$B83,\"SubsidiaryName\",$C83,\"YearStart\",BA$13))),\"\")","v":0},{"$f":"IFERROR(IF(BC83=\".\",\".\",IF(BC83=\"n/a\",\"n/a\",\nGETPIVOTDATA(BD$21 & \"\",PivotTableB!$A$3,\"SchoolName\",$B83,\"SubsidiaryName\",$C83,\"YearStart\",BB$13))),\"\")","v":""},19,{"$f":"IFERROR(IF(BE83=\".\",\".\",IF(BE83=\"n/a\",\"n/a\",\nGETPIVOTDATA(BF$21 & \"\",PivotTableB!$A$3,\"SchoolName\",$B83,\"SubsidiaryName\",$C83,\"YearStart\",BA$13))),\"\")","v":0},{"$f":"IFERROR(IF(BF83=\".\",\".\",IF(BF83=\"n/a\",\"n/a\",\nGETPIVOTDATA(BG$21 & \"\",PivotTableB!$A$3,\"SchoolName\",$B83,\"SubsidiaryName\",$C83,\"YearStart\",BA$13))),\"\")","v":133},{"$f":"IFERROR(IF($B83=\"\",\"\",\nIF(OR($L83=\"Nursery School\",$L83=\"All-through PRU\",$M83=\"True\"),\"n/a\",\nIF(GETPIVOTDATA(BH$21 & \"\",PivotTableB!$A$3,\"SchoolName\",$B83,\"SubsidiaryName\",$C83,\"YearStart\",BH$13)=\"\",\".\",\nGETPIVOTDATA(BH$21 & \"\",PivotTableB!$A$3,\"SchoolName\",$B83,\"SubsidiaryName\",$C83,\"YearStart\",BH$13)))),\"\")","v":19},{"$f":"IFERROR(IF(BH83=\".\",\".\",IF(BH83=\"n/a\",\"n/a\",\nGETPIVOTDATA(BI$21 & \"\",PivotTableB!$A$3,\"SchoolName\",$B83,\"SubsidiaryName\",$C83,\"YearStart\",BH$13))),\"\")","v":0},{"$f":"IFERROR(IF(BI83=\".\",\".\",IF(BI83=\"n/a\",\"n/a\",\nGETPIVOTDATA(BJ$21 & \"\",PivotTableB!$A$3,\"SchoolName\",$B83,\"SubsidiaryName\",$C83,\"YearStart\",BH$13))),\"\")","v":0},{"$f":"IFERROR(IF(BJ83=\".\",\".\",IF(BJ83=\"n/a\",\"n/a\",\nGETPIVOTDATA(BK$21 & \"\",PivotTableB!$A$3,\"SchoolName\",$B83,\"SubsidiaryName\",$C83,\"YearStart\",BH$13))),\"\")","v":0},19,{"$f":"IFERROR(IF(BL83=\".\",\".\",IF(BL83=\"n/a\",\"n/a\",\nGETPIVOTDATA(BM$21 & \"\",PivotTableB!$A$3,\"SchoolName\",$B83,\"SubsidiaryName\",$C83,\"YearStart\",BH$13))),\"\")","v":0},{"$f":"IFERROR(IF(BM83=\".\",\".\",IF(BM83=\"n/a\",\"n/a\",\nGETPIVOTDATA(BN$21 & \"\",PivotTableB!$A$3,\"SchoolName\",$B83,\"SubsidiaryName\",$C83,\"YearStart\",BH$13))),\"\")","v":133},{"$f":"IFERROR(IF($B83=\"\",\"\",\nIF(OR($L83=\"Nursery School\",$L83=\"All-through PRU\",$M83=\"True\"),\"n/a\",\nIF(GETPIVOTDATA(BO$21 & \"\",PivotTableB!$A$3,\"SchoolName\",$B83,\"SubsidiaryName\",$C83,\"YearStart\",BO$13)=\"\",\".\",\nGETPIVOTDATA(BO$21 & \"\",PivotTableB!$A$3,\"SchoolName\",$B83,\"SubsidiaryName\",$C83,\"YearStart\",BO$13)))),\"\")","v":19},{"$f":"IFERROR(IF(BO83=\".\",\".\",IF(BO83=\"n/a\",\"n/a\",\nGETPIVOTDATA(BP$21 & \"\",PivotTableB!$A$3,\"SchoolName\",$B83,\"SubsidiaryName\",$C83,\"YearStart\",BO$13))),\"\")","v":0},{"$f":"IFERROR(IF(BP83=\".\",\".\",IF(BP83=\"n/a\",\"n/a\",\nGETPIVOTDATA(BQ$21 & \"\",PivotTableB!$A$3,\"SchoolName\",$B83,\"SubsidiaryName\",$C83,\"YearStart\",BO$13))),\"\")","v":0},{"$f":"IFERROR(IF(BQ83=\".\",\".\",IF(BQ83=\"n/a\",\"n/a\",\nGETPIVOTDATA(BR$21 & \"\",PivotTableB!$A$3,\"SchoolName\",$B83,\"SubsidiaryName\",$C83,\"YearStart\",BP$13))),\"\")","v":""},19,{"$f":"IFERROR(IF(BS83=\".\",\".\",IF(BS83=\"n/a\",\"n/a\",\nGETPIVOTDATA(BT$21 & \"\",PivotTableB!$A$3,\"SchoolName\",$B83,\"SubsidiaryName\",$C83,\"YearStart\",BO$13))),\"\")","v":0},{"$f":"IFERROR(IF(BT83=\".\",\".\",IF(BT83=\"n/a\",\"n/a\",\nGETPIVOTDATA(BU$21 & \"\",PivotTableB!$A$3,\"SchoolName\",$B83,\"SubsidiaryName\",$C83,\"YearStart\",BO$13))),\"\")","v":133},{"$f":"IFERROR(IF($B83=\"\",\"\",\nIF(OR($L83=\"Nursery School\",$L83=\"All-through PRU\",$M83=\"True\"),\"n/a\",\nIF(GETPIVOTDATA(BV$21 & \"\",PivotTableB!$A$3,\"SchoolName\",$B83,\"SubsidiaryName\",$C83,\"YearStart\",BV$13)=\"\",\".\",\nGETPIVOTDATA(BV$21 & \"\",PivotTableB!$A$3,\"SchoolName\",$B83,\"SubsidiaryName\",$C83,\"YearStart\",BV$13)))),\"\")","v":19},{"$f":"IFERROR(IF(BV83=\".\",\".\",IF(BV83=\"n/a\",\"n/a\",\nGETPIVOTDATA(BW$21 & \"\",PivotTableB!$A$3,\"SchoolName\",$B83,\"SubsidiaryName\",$C83,\"YearStart\",BV$13))),\"\")","v":0},{"$f":"IFERROR(IF(BW83=\".\",\".\",IF(BW83=\"n/a\",\"n/a\",\nGETPIVOTDATA(BX$21 & \"\",PivotTableB!$A$3,\"SchoolName\",$B83,\"SubsidiaryName\",$C83,\"YearStart\",BV$13))),\"\")","v":0},{"$f":"IFERROR(IF(BX83=\".\",\".\",IF(BX83=\"n/a\",\"n/a\",\nGETPIVOTDATA(BY$21 & \"\",PivotTableB!$A$3,\"SchoolName\",$B83,\"SubsidiaryName\",$C83,\"YearStart\",BV$13))),\"\")","v":0},19,{"$f":"IFERROR(IF(BZ83=\".\",\".\",IF(BZ83=\"n/a\",\"n/a\",\nGETPIVOTDATA(CA$21 & \"\",PivotTableB!$A$3,\"SchoolName\",$B83,\"SubsidiaryName\",$C83,\"YearStart\",BV$13))),\"\")","v":0},{"$f":"IFERROR(IF(CA83=\".\",\".\",IF(CA83=\"n/a\",\"n/a\",\nGETPIVOTDATA(CB$21 & \"\",PivotTableB!$A$3,\"SchoolName\",$B83,\"SubsidiaryName\",$C83,\"YearStart\",BV$13))),\"\")","v":133}]
[null,{"$f":"IF(PivotTableA!A71=\"\",\"n/a\",PivotTableA!A71)","v":"Wessex Primary School"},{"$f":"IF(B84=\"n/a\",\"\",PivotTableA!B71)","v":"Wessex Primary School"},{"$f":"IF($B84=\"n/a\",\"\",PivotTableA!C71)","v":"R"},{"$f":"IF($B84=\"n/a\",\"\",PivotTableA!D71)","v":"Maidenhead"},{"$f":"IF($B84=\"n/a\",\"\",PivotTableA!E71)","v":"South West Maidenhead"},{"$f":"IF($B84=\"n/a\",\"\",PivotTableA!F71)","v":"Wessex West"},{"$f":"IF($B84=\"n/a\",\"\",PivotTableA!G71)","v":"Cox Green"},{"$f":"IF($B84=\"n/a\",\"\",PivotTableA!H71)","v":"Cox Green"},{"$f":"IF($B84=\"n/a\",\"\",PivotTableA!I71)","v":"Primary"},{"$f":"IF($B84=\"n/a\",\"\",PivotTableA!J71)","v":"Two Tier"},{"$f":"IF($B84=\"n/a\",\"\",PivotTableA!K71)","v":"JMI"},{"$f":"IF($B84=\"n/a\",\"\",PivotTableA!O71)","v":"FALSE"},{"$f":"IF($B84=\"n/a\",\"\",PivotTableA!L71)","v":"Community"},{"$f":"IF($B84=\"n/a\",\"\",PivotTableA!M71)","v":" "},{"$f":"IF($B84=\"n/a\",\"\",PivotTableA!N71)","v":"None"},{"$f":"IFERROR(IF($B84=\"\",\"\",\nIF(OR($L84=\"Nursery School\",$L84=\"All-through PRU\",$M84=\"True\"),\"n/a\",\nIF(GETPIVOTDATA(Q$21 & \"\",PivotTableB!$A$3,\"SchoolName\",$B84,\"SubsidiaryName\",$C84,\"YearStart\",Q$13)=\"\",\".\",\nGETPIVOTDATA(Q$21 & \"\",PivotTableB!$A$3,\"SchoolName\",$B84,\"SubsidiaryName\",$C84,\"YearStart\",Q$13)))),\"\")","v":60},{"$f":"IFERROR(IF(Q84=\".\",\".\",IF(Q84=\"n/a\",\"n/a\",\nGETPIVOTDATA(R$21 & \"\",PivotTableB!$A$3,\"SchoolName\",$B84,\"SubsidiaryName\",$C84,\"YearStart\",Q$13))),\"\")","v":0},{"$f":"IFERROR(IF(R84=\".\",\".\",IF(R84=\"n/a\",\"n/a\",\nGETPIVOTDATA(S$21 & \"\",PivotTableB!$A$3,\"SchoolName\",$B84,\"SubsidiaryName\",$C84,\"YearStart\",Q$13))),\"\")","v":0},60,{"$f":"IFERROR(IF(T84=\".\",\".\",IF(T84=\"n/a\",\"n/a\",\nGETPIVOTDATA(U$21 & \"\",PivotTableB!$A$3,\"SchoolName\",$B84,\"SubsidiaryName\",$C84,\"YearStart\",Q$13))),\"\")","v":0},{"$f":"IFERROR(IF(U84=\".\",\".\",IF(U84=\"n/a\",\"n/a\",\nGETPIVOTDATA(V$21 & \"\",PivotTableB!$A$3,\"SchoolName\",$B84,\"SubsidiaryName\",$C84,\"YearStart\",Q$13))),\"\")","v":420},{"$f":"IFERROR(IF($B84=\"\",\"\",\nIF(OR($L84=\"Nursery School\",$L84=\"All-through PRU\",$M84=\"True\"),\"n/a\",\nIF(GETPIVOTDATA(W$21 & \"\",PivotTableB!$A$3,\"SchoolName\",$B84,\"SubsidiaryName\",$C84,\"YearStart\",W$13)=\"\",\".\",\nGETPIVOTDATA(W$21 & \"\",PivotTableB!$A$3,\"SchoolName\",$B84,\"SubsidiaryName\",$C84,\"YearStart\",W$13)))),\"\")","v":60},{"$f":"IFERROR(IF(W84=\".\",\".\",IF(W84=\"n/a\",\"n/a\",\nGETPIVOTDATA(X$21 & \"\",PivotTableB!$A$3,\"SchoolName\",$B84,\"SubsidiaryName\",$C84,\"YearStart\",W$13))),\"\")","v":0},{"$f":"IFERROR(IF(X84=\".\",\".\",IF(X84=\"n/a\",\"n/a\",\nGETPIVOTDATA(Y$21 & \"\",PivotTableB!$A$3,\"SchoolName\",$B84,\"SubsidiaryName\",$C84,\"YearStart\",W$13))),\"\")","v":0},60,{"$f":"IFERROR(IF(Z84=\".\",\".\",IF(Z84=\"n/a\",\"n/a\",\nGETPIVOTDATA(AA$21 & \"\",PivotTableB!$A$3,\"SchoolName\",$B84,\"SubsidiaryName\",$C84,\"YearStart\",W$13))),\"\")","v":0},{"$f":"IFERROR(IF(AA84=\".\",\".\",IF(AA84=\"n/a\",\"n/a\",\nGETPIVOTDATA(AB$21 & \"\",PivotTableB!$A$3,\"SchoolName\",$B84,\"SubsidiaryName\",$C84,\"YearStart\",W$13))),\"\")","v":420},{"$f":"IFERROR(IF($B84=\"\",\"\",\nIF(OR($L84=\"Nursery School\",$L84=\"All-through PRU\",$M84=\"True\"),\"n/a\",\nIF(GETPIVOTDATA(AC$21 & \"\",PivotTableB!$A$3,\"SchoolName\",$B84,\"SubsidiaryName\",$C84,\"YearStart\",AC$13)=\"\",\".\",\nGETPIVOTDATA(AC$21 & \"\",PivotTableB!$A$3,\"SchoolName\",$B84,\"SubsidiaryName\",$C84,\"YearStart\",AC$13)))),\"\")","v":60},{"$f":"IFERROR(IF(AC84=\".\",\".\",IF(AC84=\"n/a\",\"n/a\",\nGETPIVOTDATA(AD$21 & \"\",PivotTableB!$A$3,\"SchoolName\",$B84,\"SubsidiaryName\",$C84,\"YearStart\",AC$13))),\"\")","v":0},{"$f":"IFERROR(IF(AD84=\".\",\".\",IF(AD84=\"n/a\",\"n/a\",\nGETPIVOTDATA(AE$21 & \"\",PivotTableB!$A$3,\"SchoolName\",$B84,\"SubsidiaryName\",$C84,\"YearStart\",AC$13))),\"\")","v":0},60,{"$f":"IFERROR(IF(AF84=\".\",\".\",IF(AF84=\"n/a\",\"n/a\",\nGETPIVOTDATA(AG$21 & \"\",PivotTableB!$A$3,\"SchoolName\",$B84,\"SubsidiaryName\",$C84,\"YearStart\",AC$13))),\"\")","v":0},{"$f":"IFERROR(IF(AG84=\".\",\".\",IF(AG84=\"n/a\",\"n/a\",\nGETPIVOTDATA(AH$21 & \"\",PivotTableB!$A$3,\"SchoolName\",$B84,\"SubsidiaryName\",$C84,\"YearStart\",AC$13))),\"\")","v":420},{"$f":"IFERROR(IF($B84=\"\",\"\",\nIF(OR($L84=\"Nursery School\",$L84=\"All-through PRU\",$M84=\"True\"),\"n/a\",\nIF(GETPIVOTDATA(AI$21 & \"\",PivotTableB!$A$3,\"SchoolName\",$B84,\"SubsidiaryName\",$C84,\"YearStart\",AI$13)=\"\",\".\",\nGETPIVOTDATA(AI$21 & \"\",PivotTableB!$A$3,\"SchoolName\",$B84,\"SubsidiaryName\",$C84,\"YearStart\",AI$13)))),\"\")","v":60},{"$f":"IFERROR(IF(AI84=\".\",\".\",IF(AI84=\"n/a\",\"n/a\",\nGETPIVOTDATA(AJ$21 & \"\",PivotTableB!$A$3,\"SchoolName\",$B84,\"SubsidiaryName\",$C84,\"YearStart\",AI$13))),\"\")","v":0},{"$f":"IFERROR(IF(AJ84=\".\",\".\",IF(AJ84=\"n/a\",\"n/a\",\nGETPIVOTDATA(AK$21 & \"\",PivotTableB!$A$3,\"SchoolName\",$B84,\"SubsidiaryName\",$C84,\"YearStart\",AI$13))),\"\")","v":0},60,{"$f":"IFERROR(IF(AL84=\".\",\".\",IF(AL84=\"n/a\",\"n/a\",\nGETPIVOTDATA(AM$21 & \"\",PivotTableB!$A$3,\"SchoolName\",$B84,\"SubsidiaryName\",$C84,\"YearStart\",AI$13))),\"\")","v":0},{"$f":"IFERROR(IF(AM84=\".\",\".\",IF(AM84=\"n/a\",\"n/a\",\nGETPIVOTDATA(AN$21 & \"\",PivotTableB!$A$3,\"SchoolName\",$B84,\"SubsidiaryName\",$C84,\"YearStart\",AI$13))),\"\")","v":420},{"$f":"IFERROR(IF($B84=\"\",\"\",\nIF(OR($L84=\"Nursery School\",$L84=\"All-through PRU\",$M84=\"True\"),\"n/a\",\nIF(GETPIVOTDATA(AO$21 & \"\",PivotTableB!$A$3,\"SchoolName\",$B84,\"SubsidiaryName\",$C84,\"YearStart\",AO$13)=\"\",\".\",\nGETPIVOTDATA(AO$21 & \"\",PivotTableB!$A$3,\"SchoolName\",$B84,\"SubsidiaryName\",$C84,\"YearStart\",AO$13)))),\"\")","v":60},{"$f":"IFERROR(IF(AO84=\".\",\".\",IF(AO84=\"n/a\",\"n/a\",\nGETPIVOTDATA(AP$21 & \"\",PivotTableB!$A$3,\"SchoolName\",$B84,\"SubsidiaryName\",$C84,\"YearStart\",AO$13))),\"\")","v":0},{"$f":"IFERROR(IF(AP84=\".\",\".\",IF(AP84=\"n/a\",\"n/a\",\nGETPIVOTDATA(AQ$21 & \"\",PivotTableB!$A$3,\"SchoolName\",$B84,\"SubsidiaryName\",$C84,\"YearStart\",AO$13))),\"\")","v":0},60,{"$f":"IFERROR(IF(AR84=\".\",\".\",IF(AR84=\"n/a\",\"n/a\",\nGETPIVOTDATA(AS$21 & \"\",PivotTableB!$A$3,\"SchoolName\",$B84,\"SubsidiaryName\",$C84,\"YearStart\",AO$13))),\"\")","v":0},{"$f":"IFERROR(IF(AS84=\".\",\".\",IF(AS84=\"n/a\",\"n/a\",\nGETPIVOTDATA(AT$21 & \"\",PivotTableB!$A$3,\"SchoolName\",$B84,\"SubsidiaryName\",$C84,\"YearStart\",AO$13))),\"\")","v":420},{"$f":"IFERROR(IF($B84=\"\",\"\",\nIF(OR($L84=\"Nursery School\",$L84=\"All-through PRU\",$M84=\"True\"),\"n/a\",\nIF(GETPIVOTDATA(AU$21 & \"\",PivotTableB!$A$3,\"SchoolName\",$B84,\"SubsidiaryName\",$C84,\"YearStart\",AU$13)=\"\",\".\",\nGETPIVOTDATA(AU$21 & \"\",PivotTableB!$A$3,\"SchoolName\",$B84,\"SubsidiaryName\",$C84,\"YearStart\",AU$13)))),\"\")","v":60},{"$f":"IFERROR(IF(AU84=\".\",\".\",IF(AU84=\"n/a\",\"n/a\",\nGETPIVOTDATA(AV$21 & \"\",PivotTableB!$A$3,\"SchoolName\",$B84,\"SubsidiaryName\",$C84,\"YearStart\",AU$13))),\"\")","v":0},{"$f":"IFERROR(IF(AV84=\".\",\".\",IF(AV84=\"n/a\",\"n/a\",\nGETPIVOTDATA(AW$21 & \"\",PivotTableB!$A$3,\"SchoolName\",$B84,\"SubsidiaryName\",$C84,\"YearStart\",AU$13))),\"\")","v":0},60,{"$f":"IFERROR(IF(AX84=\".\",\".\",IF(AX84=\"n/a\",\"n/a\",\nGETPIVOTDATA(AY$21 & \"\",PivotTableB!$A$3,\"SchoolName\",$B84,\"SubsidiaryName\",$C84,\"YearStart\",AU$13))),\"\")","v":0},{"$f":"IFERROR(IF(AY84=\".\",\".\",IF(AY84=\"n/a\",\"n/a\",\nGETPIVOTDATA(AZ$21 & \"\",PivotTableB!$A$3,\"SchoolName\",$B84,\"SubsidiaryName\",$C84,\"YearStart\",AU$13))),\"\")","v":420},{"$f":"IFERROR(IF($B84=\"\",\"\",\nIF(OR($L84=\"Nursery School\",$L84=\"All-through PRU\",$M84=\"True\"),\"n/a\",\nIF(GETPIVOTDATA(BA$21 & \"\",PivotTableB!$A$3,\"SchoolName\",$B84,\"SubsidiaryName\",$C84,\"YearStart\",BA$13)=\"\",\".\",\nGETPIVOTDATA(BA$21 & \"\",PivotTableB!$A$3,\"SchoolName\",$B84,\"SubsidiaryName\",$C84,\"YearStart\",BA$13)))),\"\")","v":60},{"$f":"IFERROR(IF(BA84=\".\",\".\",IF(BA84=\"n/a\",\"n/a\",\nGETPIVOTDATA(BB$21 & \"\",PivotTableB!$A$3,\"SchoolName\",$B84,\"SubsidiaryName\",$C84,\"YearStart\",BA$13))),\"\")","v":0},{"$f":"IFERROR(IF(BB84=\".\",\".\",IF(BB84=\"n/a\",\"n/a\",\nGETPIVOTDATA(BC$21 & \"\",PivotTableB!$A$3,\"SchoolName\",$B84,\"SubsidiaryName\",$C84,\"YearStart\",BA$13))),\"\")","v":0},{"$f":"IFERROR(IF(BC84=\".\",\".\",IF(BC84=\"n/a\",\"n/a\",\nGETPIVOTDATA(BD$21 & \"\",PivotTableB!$A$3,\"SchoolName\",$B84,\"SubsidiaryName\",$C84,\"YearStart\",BB$13))),\"\")","v":""},60,{"$f":"IFERROR(IF(BE84=\".\",\".\",IF(BE84=\"n/a\",\"n/a\",\nGETPIVOTDATA(BF$21 & \"\",PivotTableB!$A$3,\"SchoolName\",$B84,\"SubsidiaryName\",$C84,\"YearStart\",BA$13))),\"\")","v":0},{"$f":"IFERROR(IF(BF84=\".\",\".\",IF(BF84=\"n/a\",\"n/a\",\nGETPIVOTDATA(BG$21 & \"\",PivotTableB!$A$3,\"SchoolName\",$B84,\"SubsidiaryName\",$C84,\"YearStart\",BA$13))),\"\")","v":420},{"$f":"IFERROR(IF($B84=\"\",\"\",\nIF(OR($L84=\"Nursery School\",$L84=\"All-through PRU\",$M84=\"True\"),\"n/a\",\nIF(GETPIVOTDATA(BH$21 & \"\",PivotTableB!$A$3,\"SchoolName\",$B84,\"SubsidiaryName\",$C84,\"YearStart\",BH$13)=\"\",\".\",\nGETPIVOTDATA(BH$21 & \"\",PivotTableB!$A$3,\"SchoolName\",$B84,\"SubsidiaryName\",$C84,\"YearStart\",BH$13)))),\"\")","v":60},{"$f":"IFERROR(IF(BH84=\".\",\".\",IF(BH84=\"n/a\",\"n/a\",\nGETPIVOTDATA(BI$21 & \"\",PivotTableB!$A$3,\"SchoolName\",$B84,\"SubsidiaryName\",$C84,\"YearStart\",BH$13))),\"\")","v":0},{"$f":"IFERROR(IF(BI84=\".\",\".\",IF(BI84=\"n/a\",\"n/a\",\nGETPIVOTDATA(BJ$21 & \"\",PivotTableB!$A$3,\"SchoolName\",$B84,\"SubsidiaryName\",$C84,\"YearStart\",BH$13))),\"\")","v":0},{"$f":"IFERROR(IF(BJ84=\".\",\".\",IF(BJ84=\"n/a\",\"n/a\",\nGETPIVOTDATA(BK$21 & \"\",PivotTableB!$A$3,\"SchoolName\",$B84,\"SubsidiaryName\",$C84,\"YearStart\",BH$13))),\"\")","v":0},60,{"$f":"IFERROR(IF(BL84=\".\",\".\",IF(BL84=\"n/a\",\"n/a\",\nGETPIVOTDATA(BM$21 & \"\",PivotTableB!$A$3,\"SchoolName\",$B84,\"SubsidiaryName\",$C84,\"YearStart\",BH$13))),\"\")","v":0},{"$f":"IFERROR(IF(BM84=\".\",\".\",IF(BM84=\"n/a\",\"n/a\",\nGETPIVOTDATA(BN$21 & \"\",PivotTableB!$A$3,\"SchoolName\",$B84,\"SubsidiaryName\",$C84,\"YearStart\",BH$13))),\"\")","v":420},{"$f":"IFERROR(IF($B84=\"\",\"\",\nIF(OR($L84=\"Nursery School\",$L84=\"All-through PRU\",$M84=\"True\"),\"n/a\",\nIF(GETPIVOTDATA(BO$21 & \"\",PivotTableB!$A$3,\"SchoolName\",$B84,\"SubsidiaryName\",$C84,\"YearStart\",BO$13)=\"\",\".\",\nGETPIVOTDATA(BO$21 & \"\",PivotTableB!$A$3,\"SchoolName\",$B84,\"SubsidiaryName\",$C84,\"YearStart\",BO$13)))),\"\")","v":60},{"$f":"IFERROR(IF(BO84=\".\",\".\",IF(BO84=\"n/a\",\"n/a\",\nGETPIVOTDATA(BP$21 & \"\",PivotTableB!$A$3,\"SchoolName\",$B84,\"SubsidiaryName\",$C84,\"YearStart\",BO$13))),\"\")","v":0},{"$f":"IFERROR(IF(BP84=\".\",\".\",IF(BP84=\"n/a\",\"n/a\",\nGETPIVOTDATA(BQ$21 & \"\",PivotTableB!$A$3,\"SchoolName\",$B84,\"SubsidiaryName\",$C84,\"YearStart\",BO$13))),\"\")","v":0},{"$f":"IFERROR(IF(BQ84=\".\",\".\",IF(BQ84=\"n/a\",\"n/a\",\nGETPIVOTDATA(BR$21 & \"\",PivotTableB!$A$3,\"SchoolName\",$B84,\"SubsidiaryName\",$C84,\"YearStart\",BP$13))),\"\")","v":""},60,{"$f":"IFERROR(IF(BS84=\".\",\".\",IF(BS84=\"n/a\",\"n/a\",\nGETPIVOTDATA(BT$21 & \"\",PivotTableB!$A$3,\"SchoolName\",$B84,\"SubsidiaryName\",$C84,\"YearStart\",BO$13))),\"\")","v":0},{"$f":"IFERROR(IF(BT84=\".\",\".\",IF(BT84=\"n/a\",\"n/a\",\nGETPIVOTDATA(BU$21 & \"\",PivotTableB!$A$3,\"SchoolName\",$B84,\"SubsidiaryName\",$C84,\"YearStart\",BO$13))),\"\")","v":420},{"$f":"IFERROR(IF($B84=\"\",\"\",\nIF(OR($L84=\"Nursery School\",$L84=\"All-through PRU\",$M84=\"True\"),\"n/a\",\nIF(GETPIVOTDATA(BV$21 & \"\",PivotTableB!$A$3,\"SchoolName\",$B84,\"SubsidiaryName\",$C84,\"YearStart\",BV$13)=\"\",\".\",\nGETPIVOTDATA(BV$21 & \"\",PivotTableB!$A$3,\"SchoolName\",$B84,\"SubsidiaryName\",$C84,\"YearStart\",BV$13)))),\"\")","v":60},{"$f":"IFERROR(IF(BV84=\".\",\".\",IF(BV84=\"n/a\",\"n/a\",\nGETPIVOTDATA(BW$21 & \"\",PivotTableB!$A$3,\"SchoolName\",$B84,\"SubsidiaryName\",$C84,\"YearStart\",BV$13))),\"\")","v":0},{"$f":"IFERROR(IF(BW84=\".\",\".\",IF(BW84=\"n/a\",\"n/a\",\nGETPIVOTDATA(BX$21 & \"\",PivotTableB!$A$3,\"SchoolName\",$B84,\"SubsidiaryName\",$C84,\"YearStart\",BV$13))),\"\")","v":0},{"$f":"IFERROR(IF(BX84=\".\",\".\",IF(BX84=\"n/a\",\"n/a\",\nGETPIVOTDATA(BY$21 & \"\",PivotTableB!$A$3,\"SchoolName\",$B84,\"SubsidiaryName\",$C84,\"YearStart\",BV$13))),\"\")","v":0},60,{"$f":"IFERROR(IF(BZ84=\".\",\".\",IF(BZ84=\"n/a\",\"n/a\",\nGETPIVOTDATA(CA$21 & \"\",PivotTableB!$A$3,\"SchoolName\",$B84,\"SubsidiaryName\",$C84,\"YearStart\",BV$13))),\"\")","v":0},{"$f":"IFERROR(IF(CA84=\".\",\".\",IF(CA84=\"n/a\",\"n/a\",\nGETPIVOTDATA(CB$21 & \"\",PivotTableB!$A$3,\"SchoolName\",$B84,\"SubsidiaryName\",$C84,\"YearStart\",BV$13))),\"\")","v":420}]
[null,{"$f":"IF(PivotTableA!A72=\"\",\"n/a\",PivotTableA!A72)","v":"White Waltham C of E Academy"},{"$f":"IF(B85=\"n/a\",\"\",PivotTableA!B72)","v":"White Waltham C of E Academy"},{"$f":"IF($B85=\"n/a\",\"\",PivotTableA!C72)","v":"R"},{"$f":"IF($B85=\"n/a\",\"\",PivotTableA!D72)","v":"Maidenhead"},{"$f":"IF($B85=\"n/a\",\"\",PivotTableA!E72)","v":"Maidenhead Villages"},{"$f":"IF($B85=\"n/a\",\"\",PivotTableA!F72)","v":"White Waltham"},{"$f":"IF($B85=\"n/a\",\"\",PivotTableA!G72)","v":"Hurley and Walthams"},{"$f":"IF($B85=\"n/a\",\"\",PivotTableA!H72)","v":"White Waltham"},{"$f":"IF($B85=\"n/a\",\"\",PivotTableA!I72)","v":"Primary"},{"$f":"IF($B85=\"n/a\",\"\",PivotTableA!J72)","v":"Two Tier"},{"$f":"IF($B85=\"n/a\",\"\",PivotTableA!K72)","v":"JMI"},{"$f":"IF($B85=\"n/a\",\"\",PivotTableA!O72)","v":"FALSE"},{"$f":"IF($B85=\"n/a\",\"\",PivotTableA!L72)","v":"Academy"},{"$f":"IF($B85=\"n/a\",\"\",PivotTableA!M72)","v":"2012-09-01"},{"$f":"IF($B85=\"n/a\",\"\",PivotTableA!N72)","v":"Church of England"},{"$f":"IFERROR(IF($B85=\"\",\"\",\nIF(OR($L85=\"Nursery School\",$L85=\"All-through PRU\",$M85=\"True\"),\"n/a\",\nIF(GETPIVOTDATA(Q$21 & \"\",PivotTableB!$A$3,\"SchoolName\",$B85,\"SubsidiaryName\",$C85,\"YearStart\",Q$13)=\"\",\".\",\nGETPIVOTDATA(Q$21 & \"\",PivotTableB!$A$3,\"SchoolName\",$B85,\"SubsidiaryName\",$C85,\"YearStart\",Q$13)))),\"\")","v":30},{"$f":"IFERROR(IF(Q85=\".\",\".\",IF(Q85=\"n/a\",\"n/a\",\nGETPIVOTDATA(R$21 & \"\",PivotTableB!$A$3,\"SchoolName\",$B85,\"SubsidiaryName\",$C85,\"YearStart\",Q$13))),\"\")","v":0},{"$f":"IFERROR(IF(R85=\".\",\".\",IF(R85=\"n/a\",\"n/a\",\nGETPIVOTDATA(S$21 & \"\",PivotTableB!$A$3,\"SchoolName\",$B85,\"SubsidiaryName\",$C85,\"YearStart\",Q$13))),\"\")","v":0},30,{"$f":"IFERROR(IF(T85=\".\",\".\",IF(T85=\"n/a\",\"n/a\",\nGETPIVOTDATA(U$21 & \"\",PivotTableB!$A$3,\"SchoolName\",$B85,\"SubsidiaryName\",$C85,\"YearStart\",Q$13))),\"\")","v":0},{"$f":"IFERROR(IF(U85=\".\",\".\",IF(U85=\"n/a\",\"n/a\",\nGETPIVOTDATA(V$21 & \"\",PivotTableB!$A$3,\"SchoolName\",$B85,\"SubsidiaryName\",$C85,\"YearStart\",Q$13))),\"\")","v":210},{"$f":"IFERROR(IF($B85=\"\",\"\",\nIF(OR($L85=\"Nursery School\",$L85=\"All-through PRU\",$M85=\"True\"),\"n/a\",\nIF(GETPIVOTDATA(W$21 & \"\",PivotTableB!$A$3,\"SchoolName\",$B85,\"SubsidiaryName\",$C85,\"YearStart\",W$13)=\"\",\".\",\nGETPIVOTDATA(W$21 & \"\",PivotTableB!$A$3,\"SchoolName\",$B85,\"SubsidiaryName\",$C85,\"YearStart\",W$13)))),\"\")","v":30},{"$f":"IFERROR(IF(W85=\".\",\".\",IF(W85=\"n/a\",\"n/a\",\nGETPIVOTDATA(X$21 & \"\",PivotTableB!$A$3,\"SchoolName\",$B85,\"SubsidiaryName\",$C85,\"YearStart\",W$13))),\"\")","v":0},{"$f":"IFERROR(IF(X85=\".\",\".\",IF(X85=\"n/a\",\"n/a\",\nGETPIVOTDATA(Y$21 & \"\",PivotTableB!$A$3,\"SchoolName\",$B85,\"SubsidiaryName\",$C85,\"YearStart\",W$13))),\"\")","v":0},30,{"$f":"IFERROR(IF(Z85=\".\",\".\",IF(Z85=\"n/a\",\"n/a\",\nGETPIVOTDATA(AA$21 & \"\",PivotTableB!$A$3,\"SchoolName\",$B85,\"SubsidiaryName\",$C85,\"YearStart\",W$13))),\"\")","v":0},{"$f":"IFERROR(IF(AA85=\".\",\".\",IF(AA85=\"n/a\",\"n/a\",\nGETPIVOTDATA(AB$21 & \"\",PivotTableB!$A$3,\"SchoolName\",$B85,\"SubsidiaryName\",$C85,\"YearStart\",W$13))),\"\")","v":210},{"$f":"IFERROR(IF($B85=\"\",\"\",\nIF(OR($L85=\"Nursery School\",$L85=\"All-through PRU\",$M85=\"True\"),\"n/a\",\nIF(GETPIVOTDATA(AC$21 & \"\",PivotTableB!$A$3,\"SchoolName\",$B85,\"SubsidiaryName\",$C85,\"YearStart\",AC$13)=\"\",\".\",\nGETPIVOTDATA(AC$21 & \"\",PivotTableB!$A$3,\"SchoolName\",$B85,\"SubsidiaryName\",$C85,\"YearStart\",AC$13)))),\"\")","v":30},{"$f":"IFERROR(IF(AC85=\".\",\".\",IF(AC85=\"n/a\",\"n/a\",\nGETPIVOTDATA(AD$21 & \"\",PivotTableB!$A$3,\"SchoolName\",$B85,\"SubsidiaryName\",$C85,\"YearStart\",AC$13))),\"\")","v":0},{"$f":"IFERROR(IF(AD85=\".\",\".\",IF(AD85=\"n/a\",\"n/a\",\nGETPIVOTDATA(AE$21 & \"\",PivotTableB!$A$3,\"SchoolName\",$B85,\"SubsidiaryName\",$C85,\"YearStart\",AC$13))),\"\")","v":0},30,{"$f":"IFERROR(IF(AF85=\".\",\".\",IF(AF85=\"n/a\",\"n/a\",\nGETPIVOTDATA(AG$21 & \"\",PivotTableB!$A$3,\"SchoolName\",$B85,\"SubsidiaryName\",$C85,\"YearStart\",AC$13))),\"\")","v":0},{"$f":"IFERROR(IF(AG85=\".\",\".\",IF(AG85=\"n/a\",\"n/a\",\nGETPIVOTDATA(AH$21 & \"\",PivotTableB!$A$3,\"SchoolName\",$B85,\"SubsidiaryName\",$C85,\"YearStart\",AC$13))),\"\")","v":210},{"$f":"IFERROR(IF($B85=\"\",\"\",\nIF(OR($L85=\"Nursery School\",$L85=\"All-through PRU\",$M85=\"True\"),\"n/a\",\nIF(GETPIVOTDATA(AI$21 & \"\",PivotTableB!$A$3,\"SchoolName\",$B85,\"SubsidiaryName\",$C85,\"YearStart\",AI$13)=\"\",\".\",\nGETPIVOTDATA(AI$21 & \"\",PivotTableB!$A$3,\"SchoolName\",$B85,\"SubsidiaryName\",$C85,\"YearStart\",AI$13)))),\"\")","v":30},{"$f":"IFERROR(IF(AI85=\".\",\".\",IF(AI85=\"n/a\",\"n/a\",\nGETPIVOTDATA(AJ$21 & \"\",PivotTableB!$A$3,\"SchoolName\",$B85,\"SubsidiaryName\",$C85,\"YearStart\",AI$13))),\"\")","v":0},{"$f":"IFERROR(IF(AJ85=\".\",\".\",IF(AJ85=\"n/a\",\"n/a\",\nGETPIVOTDATA(AK$21 & \"\",PivotTableB!$A$3,\"SchoolName\",$B85,\"SubsidiaryName\",$C85,\"YearStart\",AI$13))),\"\")","v":0},30,{"$f":"IFERROR(IF(AL85=\".\",\".\",IF(AL85=\"n/a\",\"n/a\",\nGETPIVOTDATA(AM$21 & \"\",PivotTableB!$A$3,\"SchoolName\",$B85,\"SubsidiaryName\",$C85,\"YearStart\",AI$13))),\"\")","v":0},{"$f":"IFERROR(IF(AM85=\".\",\".\",IF(AM85=\"n/a\",\"n/a\",\nGETPIVOTDATA(AN$21 & \"\",PivotTableB!$A$3,\"SchoolName\",$B85,\"SubsidiaryName\",$C85,\"YearStart\",AI$13))),\"\")","v":210},{"$f":"IFERROR(IF($B85=\"\",\"\",\nIF(OR($L85=\"Nursery School\",$L85=\"All-through PRU\",$M85=\"True\"),\"n/a\",\nIF(GETPIVOTDATA(AO$21 & \"\",PivotTableB!$A$3,\"SchoolName\",$B85,\"SubsidiaryName\",$C85,\"YearStart\",AO$13)=\"\",\".\",\nGETPIVOTDATA(AO$21 & \"\",PivotTableB!$A$3,\"SchoolName\",$B85,\"SubsidiaryName\",$C85,\"YearStart\",AO$13)))),\"\")","v":30},{"$f":"IFERROR(IF(AO85=\".\",\".\",IF(AO85=\"n/a\",\"n/a\",\nGETPIVOTDATA(AP$21 & \"\",PivotTableB!$A$3,\"SchoolName\",$B85,\"SubsidiaryName\",$C85,\"YearStart\",AO$13))),\"\")","v":0},{"$f":"IFERROR(IF(AP85=\".\",\".\",IF(AP85=\"n/a\",\"n/a\",\nGETPIVOTDATA(AQ$21 & \"\",PivotTableB!$A$3,\"SchoolName\",$B85,\"SubsidiaryName\",$C85,\"YearStart\",AO$13))),\"\")","v":0},30,{"$f":"IFERROR(IF(AR85=\".\",\".\",IF(AR85=\"n/a\",\"n/a\",\nGETPIVOTDATA(AS$21 & \"\",PivotTableB!$A$3,\"SchoolName\",$B85,\"SubsidiaryName\",$C85,\"YearStart\",AO$13))),\"\")","v":0},{"$f":"IFERROR(IF(AS85=\".\",\".\",IF(AS85=\"n/a\",\"n/a\",\nGETPIVOTDATA(AT$21 & \"\",PivotTableB!$A$3,\"SchoolName\",$B85,\"SubsidiaryName\",$C85,\"YearStart\",AO$13))),\"\")","v":210},{"$f":"IFERROR(IF($B85=\"\",\"\",\nIF(OR($L85=\"Nursery School\",$L85=\"All-through PRU\",$M85=\"True\"),\"n/a\",\nIF(GETPIVOTDATA(AU$21 & \"\",PivotTableB!$A$3,\"SchoolName\",$B85,\"SubsidiaryName\",$C85,\"YearStart\",AU$13)=\"\",\".\",\nGETPIVOTDATA(AU$21 & \"\",PivotTableB!$A$3,\"SchoolName\",$B85,\"SubsidiaryName\",$C85,\"YearStart\",AU$13)))),\"\")","v":30},{"$f":"IFERROR(IF(AU85=\".\",\".\",IF(AU85=\"n/a\",\"n/a\",\nGETPIVOTDATA(AV$21 & \"\",PivotTableB!$A$3,\"SchoolName\",$B85,\"SubsidiaryName\",$C85,\"YearStart\",AU$13))),\"\")","v":0},{"$f":"IFERROR(IF(AV85=\".\",\".\",IF(AV85=\"n/a\",\"n/a\",\nGETPIVOTDATA(AW$21 & \"\",PivotTableB!$A$3,\"SchoolName\",$B85,\"SubsidiaryName\",$C85,\"YearStart\",AU$13))),\"\")","v":0},30,{"$f":"IFERROR(IF(AX85=\".\",\".\",IF(AX85=\"n/a\",\"n/a\",\nGETPIVOTDATA(AY$21 & \"\",PivotTableB!$A$3,\"SchoolName\",$B85,\"SubsidiaryName\",$C85,\"YearStart\",AU$13))),\"\")","v":0},{"$f":"IFERROR(IF(AY85=\".\",\".\",IF(AY85=\"n/a\",\"n/a\",\nGETPIVOTDATA(AZ$21 & \"\",PivotTableB!$A$3,\"SchoolName\",$B85,\"SubsidiaryName\",$C85,\"YearStart\",AU$13))),\"\")","v":210},{"$f":"IFERROR(IF($B85=\"\",\"\",\nIF(OR($L85=\"Nursery School\",$L85=\"All-through PRU\",$M85=\"True\"),\"n/a\",\nIF(GETPIVOTDATA(BA$21 & \"\",PivotTableB!$A$3,\"SchoolName\",$B85,\"SubsidiaryName\",$C85,\"YearStart\",BA$13)=\"\",\".\",\nGETPIVOTDATA(BA$21 & \"\",PivotTableB!$A$3,\"SchoolName\",$B85,\"SubsidiaryName\",$C85,\"YearStart\",BA$13)))),\"\")","v":30},{"$f":"IFERROR(IF(BA85=\".\",\".\",IF(BA85=\"n/a\",\"n/a\",\nGETPIVOTDATA(BB$21 & \"\",PivotTableB!$A$3,\"SchoolName\",$B85,\"SubsidiaryName\",$C85,\"YearStart\",BA$13))),\"\")","v":0},{"$f":"IFERROR(IF(BB85=\".\",\".\",IF(BB85=\"n/a\",\"n/a\",\nGETPIVOTDATA(BC$21 & \"\",PivotTableB!$A$3,\"SchoolName\",$B85,\"SubsidiaryName\",$C85,\"YearStart\",BA$13))),\"\")","v":0},{"$f":"IFERROR(IF(BC85=\".\",\".\",IF(BC85=\"n/a\",\"n/a\",\nGETPIVOTDATA(BD$21 & \"\",PivotTableB!$A$3,\"SchoolName\",$B85,\"SubsidiaryName\",$C85,\"YearStart\",BB$13))),\"\")","v":""},30,{"$f":"IFERROR(IF(BE85=\".\",\".\",IF(BE85=\"n/a\",\"n/a\",\nGETPIVOTDATA(BF$21 & \"\",PivotTableB!$A$3,\"SchoolName\",$B85,\"SubsidiaryName\",$C85,\"YearStart\",BA$13))),\"\")","v":0},{"$f":"IFERROR(IF(BF85=\".\",\".\",IF(BF85=\"n/a\",\"n/a\",\nGETPIVOTDATA(BG$21 & \"\",PivotTableB!$A$3,\"SchoolName\",$B85,\"SubsidiaryName\",$C85,\"YearStart\",BA$13))),\"\")","v":210},{"$f":"IFERROR(IF($B85=\"\",\"\",\nIF(OR($L85=\"Nursery School\",$L85=\"All-through PRU\",$M85=\"True\"),\"n/a\",\nIF(GETPIVOTDATA(BH$21 & \"\",PivotTableB!$A$3,\"SchoolName\",$B85,\"SubsidiaryName\",$C85,\"YearStart\",BH$13)=\"\",\".\",\nGETPIVOTDATA(BH$21 & \"\",PivotTableB!$A$3,\"SchoolName\",$B85,\"SubsidiaryName\",$C85,\"YearStart\",BH$13)))),\"\")","v":30},{"$f":"IFERROR(IF(BH85=\".\",\".\",IF(BH85=\"n/a\",\"n/a\",\nGETPIVOTDATA(BI$21 & \"\",PivotTableB!$A$3,\"SchoolName\",$B85,\"SubsidiaryName\",$C85,\"YearStart\",BH$13))),\"\")","v":0},{"$f":"IFERROR(IF(BI85=\".\",\".\",IF(BI85=\"n/a\",\"n/a\",\nGETPIVOTDATA(BJ$21 & \"\",PivotTableB!$A$3,\"SchoolName\",$B85,\"SubsidiaryName\",$C85,\"YearStart\",BH$13))),\"\")","v":0},{"$f":"IFERROR(IF(BJ85=\".\",\".\",IF(BJ85=\"n/a\",\"n/a\",\nGETPIVOTDATA(BK$21 & \"\",PivotTableB!$A$3,\"SchoolName\",$B85,\"SubsidiaryName\",$C85,\"YearStart\",BH$13))),\"\")","v":0},30,{"$f":"IFERROR(IF(BL85=\".\",\".\",IF(BL85=\"n/a\",\"n/a\",\nGETPIVOTDATA(BM$21 & \"\",PivotTableB!$A$3,\"SchoolName\",$B85,\"SubsidiaryName\",$C85,\"YearStart\",BH$13))),\"\")","v":0},{"$f":"IFERROR(IF(BM85=\".\",\".\",IF(BM85=\"n/a\",\"n/a\",\nGETPIVOTDATA(BN$21 & \"\",PivotTableB!$A$3,\"SchoolName\",$B85,\"SubsidiaryName\",$C85,\"YearStart\",BH$13))),\"\")","v":210},{"$f":"IFERROR(IF($B85=\"\",\"\",\nIF(OR($L85=\"Nursery School\",$L85=\"All-through PRU\",$M85=\"True\"),\"n/a\",\nIF(GETPIVOTDATA(BO$21 & \"\",PivotTableB!$A$3,\"SchoolName\",$B85,\"SubsidiaryName\",$C85,\"YearStart\",BO$13)=\"\",\".\",\nGETPIVOTDATA(BO$21 & \"\",PivotTableB!$A$3,\"SchoolName\",$B85,\"SubsidiaryName\",$C85,\"YearStart\",BO$13)))),\"\")","v":30},{"$f":"IFERROR(IF(BO85=\".\",\".\",IF(BO85=\"n/a\",\"n/a\",\nGETPIVOTDATA(BP$21 & \"\",PivotTableB!$A$3,\"SchoolName\",$B85,\"SubsidiaryName\",$C85,\"YearStart\",BO$13))),\"\")","v":0},{"$f":"IFERROR(IF(BP85=\".\",\".\",IF(BP85=\"n/a\",\"n/a\",\nGETPIVOTDATA(BQ$21 & \"\",PivotTableB!$A$3,\"SchoolName\",$B85,\"SubsidiaryName\",$C85,\"YearStart\",BO$13))),\"\")","v":0},{"$f":"IFERROR(IF(BQ85=\".\",\".\",IF(BQ85=\"n/a\",\"n/a\",\nGETPIVOTDATA(BR$21 & \"\",PivotTableB!$A$3,\"SchoolName\",$B85,\"SubsidiaryName\",$C85,\"YearStart\",BP$13))),\"\")","v":""},30,{"$f":"IFERROR(IF(BS85=\".\",\".\",IF(BS85=\"n/a\",\"n/a\",\nGETPIVOTDATA(BT$21 & \"\",PivotTableB!$A$3,\"SchoolName\",$B85,\"SubsidiaryName\",$C85,\"YearStart\",BO$13))),\"\")","v":0},{"$f":"IFERROR(IF(BT85=\".\",\".\",IF(BT85=\"n/a\",\"n/a\",\nGETPIVOTDATA(BU$21 & \"\",PivotTableB!$A$3,\"SchoolName\",$B85,\"SubsidiaryName\",$C85,\"YearStart\",BO$13))),\"\")","v":210},{"$f":"IFERROR(IF($B85=\"\",\"\",\nIF(OR($L85=\"Nursery School\",$L85=\"All-through PRU\",$M85=\"True\"),\"n/a\",\nIF(GETPIVOTDATA(BV$21 & \"\",PivotTableB!$A$3,\"SchoolName\",$B85,\"SubsidiaryName\",$C85,\"YearStart\",BV$13)=\"\",\".\",\nGETPIVOTDATA(BV$21 & \"\",PivotTableB!$A$3,\"SchoolName\",$B85,\"SubsidiaryName\",$C85,\"YearStart\",BV$13)))),\"\")","v":30},{"$f":"IFERROR(IF(BV85=\".\",\".\",IF(BV85=\"n/a\",\"n/a\",\nGETPIVOTDATA(BW$21 & \"\",PivotTableB!$A$3,\"SchoolName\",$B85,\"SubsidiaryName\",$C85,\"YearStart\",BV$13))),\"\")","v":0},{"$f":"IFERROR(IF(BW85=\".\",\".\",IF(BW85=\"n/a\",\"n/a\",\nGETPIVOTDATA(BX$21 & \"\",PivotTableB!$A$3,\"SchoolName\",$B85,\"SubsidiaryName\",$C85,\"YearStart\",BV$13))),\"\")","v":0},{"$f":"IFERROR(IF(BX85=\".\",\".\",IF(BX85=\"n/a\",\"n/a\",\nGETPIVOTDATA(BY$21 & \"\",PivotTableB!$A$3,\"SchoolName\",$B85,\"SubsidiaryName\",$C85,\"YearStart\",BV$13))),\"\")","v":0},30,{"$f":"IFERROR(IF(BZ85=\".\",\".\",IF(BZ85=\"n/a\",\"n/a\",\nGETPIVOTDATA(CA$21 & \"\",PivotTableB!$A$3,\"SchoolName\",$B85,\"SubsidiaryName\",$C85,\"YearStart\",BV$13))),\"\")","v":0},{"$f":"IFERROR(IF(CA85=\".\",\".\",IF(CA85=\"n/a\",\"n/a\",\nGETPIVOTDATA(CB$21 & \"\",PivotTableB!$A$3,\"SchoolName\",$B85,\"SubsidiaryName\",$C85,\"YearStart\",BV$13))),\"\")","v":210}]
[null,{"$f":"IF(PivotTableA!A73=\"\",\"n/a\",PivotTableA!A73)","v":"Windsor Girls' School"},{"$f":"IF(B86=\"n/a\",\"\",PivotTableA!B73)","v":"Windsor Girls' School"},{"$f":"IF($B86=\"n/a\",\"\",PivotTableA!C73)","v":"9"},{"$f":"IF($B86=\"n/a\",\"\",PivotTableA!D73)","v":"Windsor"},{"$f":"IF($B86=\"n/a\",\"\",PivotTableA!E73)","v":"Windsor South"},{"$f":"IF($B86=\"n/a\",\"\",PivotTableA!F73)","v":"New Town"},{"$f":"IF($B86=\"n/a\",\"\",PivotTableA!G73)","v":"Clewer East"},{"$f":"IF($B86=\"n/a\",\"\",PivotTableA!H73)","v":"None"},{"$f":"IF($B86=\"n/a\",\"\",PivotTableA!I73)","v":"Secondary"},{"$f":"IF($B86=\"n/a\",\"\",PivotTableA!J73)","v":"Three Tier"},{"$f":"IF($B86=\"n/a\",\"\",PivotTableA!K73)","v":"Upper"},{"$f":"IF($B86=\"n/a\",\"\",PivotTableA!O73)","v":"FALSE"},{"$f":"IF($B86=\"n/a\",\"\",PivotTableA!L73)","v":"Academy"},{"$f":"IF($B86=\"n/a\",\"\",PivotTableA!M73)","v":"2015-03-01"},{"$f":"IF($B86=\"n/a\",\"\",PivotTableA!N73)","v":"None"},{"$f":"IFERROR(IF($B86=\"\",\"\",\nIF(OR($L86=\"Nursery School\",$L86=\"All-through PRU\",$M86=\"True\"),\"n/a\",\nIF(GETPIVOTDATA(Q$21 & \"\",PivotTableB!$A$3,\"SchoolName\",$B86,\"SubsidiaryName\",$C86,\"YearStart\",Q$13)=\"\",\".\",\nGETPIVOTDATA(Q$21 & \"\",PivotTableB!$A$3,\"SchoolName\",$B86,\"SubsidiaryName\",$C86,\"YearStart\",Q$13)))),\"\")","v":178},{"$f":"IFERROR(IF(Q86=\".\",\".\",IF(Q86=\"n/a\",\"n/a\",\nGETPIVOTDATA(R$21 & \"\",PivotTableB!$A$3,\"SchoolName\",$B86,\"SubsidiaryName\",$C86,\"YearStart\",Q$13))),\"\")","v":0},{"$f":"IFERROR(IF(R86=\".\",\".\",IF(R86=\"n/a\",\"n/a\",\nGETPIVOTDATA(S$21 & \"\",PivotTableB!$A$3,\"SchoolName\",$B86,\"SubsidiaryName\",$C86,\"YearStart\",Q$13))),\"\")","v":0},178,{"$f":"IFERROR(IF(T86=\".\",\".\",IF(T86=\"n/a\",\"n/a\",\nGETPIVOTDATA(U$21 & \"\",PivotTableB!$A$3,\"SchoolName\",$B86,\"SubsidiaryName\",$C86,\"YearStart\",Q$13))),\"\")","v":0},{"$f":"IFERROR(IF(U86=\".\",\".\",IF(U86=\"n/a\",\"n/a\",\nGETPIVOTDATA(V$21 & \"\",PivotTableB!$A$3,\"SchoolName\",$B86,\"SubsidiaryName\",$C86,\"YearStart\",Q$13))),\"\")","v":712},{"$f":"IFERROR(IF($B86=\"\",\"\",\nIF(OR($L86=\"Nursery School\",$L86=\"All-through PRU\",$M86=\"True\"),\"n/a\",\nIF(GETPIVOTDATA(W$21 & \"\",PivotTableB!$A$3,\"SchoolName\",$B86,\"SubsidiaryName\",$C86,\"YearStart\",W$13)=\"\",\".\",\nGETPIVOTDATA(W$21 & \"\",PivotTableB!$A$3,\"SchoolName\",$B86,\"SubsidiaryName\",$C86,\"YearStart\",W$13)))),\"\")","v":178},{"$f":"IFERROR(IF(W86=\".\",\".\",IF(W86=\"n/a\",\"n/a\",\nGETPIVOTDATA(X$21 & \"\",PivotTableB!$A$3,\"SchoolName\",$B86,\"SubsidiaryName\",$C86,\"YearStart\",W$13))),\"\")","v":0},{"$f":"IFERROR(IF(X86=\".\",\".\",IF(X86=\"n/a\",\"n/a\",\nGETPIVOTDATA(Y$21 & \"\",PivotTableB!$A$3,\"SchoolName\",$B86,\"SubsidiaryName\",$C86,\"YearStart\",W$13))),\"\")","v":0},178,{"$f":"IFERROR(IF(Z86=\".\",\".\",IF(Z86=\"n/a\",\"n/a\",\nGETPIVOTDATA(AA$21 & \"\",PivotTableB!$A$3,\"SchoolName\",$B86,\"SubsidiaryName\",$C86,\"YearStart\",W$13))),\"\")","v":0},{"$f":"IFERROR(IF(AA86=\".\",\".\",IF(AA86=\"n/a\",\"n/a\",\nGETPIVOTDATA(AB$21 & \"\",PivotTableB!$A$3,\"SchoolName\",$B86,\"SubsidiaryName\",$C86,\"YearStart\",W$13))),\"\")","v":712},{"$f":"IFERROR(IF($B86=\"\",\"\",\nIF(OR($L86=\"Nursery School\",$L86=\"All-through PRU\",$M86=\"True\"),\"n/a\",\nIF(GETPIVOTDATA(AC$21 & \"\",PivotTableB!$A$3,\"SchoolName\",$B86,\"SubsidiaryName\",$C86,\"YearStart\",AC$13)=\"\",\".\",\nGETPIVOTDATA(AC$21 & \"\",PivotTableB!$A$3,\"SchoolName\",$B86,\"SubsidiaryName\",$C86,\"YearStart\",AC$13)))),\"\")","v":178},{"$f":"IFERROR(IF(AC86=\".\",\".\",IF(AC86=\"n/a\",\"n/a\",\nGETPIVOTDATA(AD$21 & \"\",PivotTableB!$A$3,\"SchoolName\",$B86,\"SubsidiaryName\",$C86,\"YearStart\",AC$13))),\"\")","v":0},{"$f":"IFERROR(IF(AD86=\".\",\".\",IF(AD86=\"n/a\",\"n/a\",\nGETPIVOTDATA(AE$21 & \"\",PivotTableB!$A$3,\"SchoolName\",$B86,\"SubsidiaryName\",$C86,\"YearStart\",AC$13))),\"\")","v":0},178,{"$f":"IFERROR(IF(AF86=\".\",\".\",IF(AF86=\"n/a\",\"n/a\",\nGETPIVOTDATA(AG$21 & \"\",PivotTableB!$A$3,\"SchoolName\",$B86,\"SubsidiaryName\",$C86,\"YearStart\",AC$13))),\"\")","v":0},{"$f":"IFERROR(IF(AG86=\".\",\".\",IF(AG86=\"n/a\",\"n/a\",\nGETPIVOTDATA(AH$21 & \"\",PivotTableB!$A$3,\"SchoolName\",$B86,\"SubsidiaryName\",$C86,\"YearStart\",AC$13))),\"\")","v":712},{"$f":"IFERROR(IF($B86=\"\",\"\",\nIF(OR($L86=\"Nursery School\",$L86=\"All-through PRU\",$M86=\"True\"),\"n/a\",\nIF(GETPIVOTDATA(AI$21 & \"\",PivotTableB!$A$3,\"SchoolName\",$B86,\"SubsidiaryName\",$C86,\"YearStart\",AI$13)=\"\",\".\",\nGETPIVOTDATA(AI$21 & \"\",PivotTableB!$A$3,\"SchoolName\",$B86,\"SubsidiaryName\",$C86,\"YearStart\",AI$13)))),\"\")","v":178},{"$f":"IFERROR(IF(AI86=\".\",\".\",IF(AI86=\"n/a\",\"n/a\",\nGETPIVOTDATA(AJ$21 & \"\",PivotTableB!$A$3,\"SchoolName\",$B86,\"SubsidiaryName\",$C86,\"YearStart\",AI$13))),\"\")","v":0},{"$f":"IFERROR(IF(AJ86=\".\",\".\",IF(AJ86=\"n/a\",\"n/a\",\nGETPIVOTDATA(AK$21 & \"\",PivotTableB!$A$3,\"SchoolName\",$B86,\"SubsidiaryName\",$C86,\"YearStart\",AI$13))),\"\")","v":0},178,{"$f":"IFERROR(IF(AL86=\".\",\".\",IF(AL86=\"n/a\",\"n/a\",\nGETPIVOTDATA(AM$21 & \"\",PivotTableB!$A$3,\"SchoolName\",$B86,\"SubsidiaryName\",$C86,\"YearStart\",AI$13))),\"\")","v":0},{"$f":"IFERROR(IF(AM86=\".\",\".\",IF(AM86=\"n/a\",\"n/a\",\nGETPIVOTDATA(AN$21 & \"\",PivotTableB!$A$3,\"SchoolName\",$B86,\"SubsidiaryName\",$C86,\"YearStart\",AI$13))),\"\")","v":732},{"$f":"IFERROR(IF($B86=\"\",\"\",\nIF(OR($L86=\"Nursery School\",$L86=\"All-through PRU\",$M86=\"True\"),\"n/a\",\nIF(GETPIVOTDATA(AO$21 & \"\",PivotTableB!$A$3,\"SchoolName\",$B86,\"SubsidiaryName\",$C86,\"YearStart\",AO$13)=\"\",\".\",\nGETPIVOTDATA(AO$21 & \"\",PivotTableB!$A$3,\"SchoolName\",$B86,\"SubsidiaryName\",$C86,\"YearStart\",AO$13)))),\"\")","v":208},{"$f":"IFERROR(IF(AO86=\".\",\".\",IF(AO86=\"n/a\",\"n/a\",\nGETPIVOTDATA(AP$21 & \"\",PivotTableB!$A$3,\"SchoolName\",$B86,\"SubsidiaryName\",$C86,\"YearStart\",AO$13))),\"\")","v":0},{"$f":"IFERROR(IF(AP86=\".\",\".\",IF(AP86=\"n/a\",\"n/a\",\nGETPIVOTDATA(AQ$21 & \"\",PivotTableB!$A$3,\"SchoolName\",$B86,\"SubsidiaryName\",$C86,\"YearStart\",AO$13))),\"\")","v":0},208,{"$f":"IFERROR(IF(AR86=\".\",\".\",IF(AR86=\"n/a\",\"n/a\",\nGETPIVOTDATA(AS$21 & \"\",PivotTableB!$A$3,\"SchoolName\",$B86,\"SubsidiaryName\",$C86,\"YearStart\",AO$13))),\"\")","v":0},{"$f":"IFERROR(IF(AS86=\".\",\".\",IF(AS86=\"n/a\",\"n/a\",\nGETPIVOTDATA(AT$21 & \"\",PivotTableB!$A$3,\"SchoolName\",$B86,\"SubsidiaryName\",$C86,\"YearStart\",AO$13))),\"\")","v":842},{"$f":"IFERROR(IF($B86=\"\",\"\",\nIF(OR($L86=\"Nursery School\",$L86=\"All-through PRU\",$M86=\"True\"),\"n/a\",\nIF(GETPIVOTDATA(AU$21 & \"\",PivotTableB!$A$3,\"SchoolName\",$B86,\"SubsidiaryName\",$C86,\"YearStart\",AU$13)=\"\",\".\",\nGETPIVOTDATA(AU$21 & \"\",PivotTableB!$A$3,\"SchoolName\",$B86,\"SubsidiaryName\",$C86,\"YearStart\",AU$13)))),\"\")","v":208},{"$f":"IFERROR(IF(AU86=\".\",\".\",IF(AU86=\"n/a\",\"n/a\",\nGETPIVOTDATA(AV$21 & \"\",PivotTableB!$A$3,\"SchoolName\",$B86,\"SubsidiaryName\",$C86,\"YearStart\",AU$13))),\"\")","v":0},{"$f":"IFERROR(IF(AV86=\".\",\".\",IF(AV86=\"n/a\",\"n/a\",\nGETPIVOTDATA(AW$21 & \"\",PivotTableB!$A$3,\"SchoolName\",$B86,\"SubsidiaryName\",$C86,\"YearStart\",AU$13))),\"\")","v":0},208,{"$f":"IFERROR(IF(AX86=\".\",\".\",IF(AX86=\"n/a\",\"n/a\",\nGETPIVOTDATA(AY$21 & \"\",PivotTableB!$A$3,\"SchoolName\",$B86,\"SubsidiaryName\",$C86,\"YearStart\",AU$13))),\"\")","v":0},{"$f":"IFERROR(IF(AY86=\".\",\".\",IF(AY86=\"n/a\",\"n/a\",\nGETPIVOTDATA(AZ$21 & \"\",PivotTableB!$A$3,\"SchoolName\",$B86,\"SubsidiaryName\",$C86,\"YearStart\",AU$13))),\"\")","v":842},{"$f":"IFERROR(IF($B86=\"\",\"\",\nIF(OR($L86=\"Nursery School\",$L86=\"All-through PRU\",$M86=\"True\"),\"n/a\",\nIF(GETPIVOTDATA(BA$21 & \"\",PivotTableB!$A$3,\"SchoolName\",$B86,\"SubsidiaryName\",$C86,\"YearStart\",BA$13)=\"\",\".\",\nGETPIVOTDATA(BA$21 & \"\",PivotTableB!$A$3,\"SchoolName\",$B86,\"SubsidiaryName\",$C86,\"YearStart\",BA$13)))),\"\")","v":208},{"$f":"IFERROR(IF(BA86=\".\",\".\",IF(BA86=\"n/a\",\"n/a\",\nGETPIVOTDATA(BB$21 & \"\",PivotTableB!$A$3,\"SchoolName\",$B86,\"SubsidiaryName\",$C86,\"YearStart\",BA$13))),\"\")","v":0},{"$f":"IFERROR(IF(BB86=\".\",\".\",IF(BB86=\"n/a\",\"n/a\",\nGETPIVOTDATA(BC$21 & \"\",PivotTableB!$A$3,\"SchoolName\",$B86,\"SubsidiaryName\",$C86,\"YearStart\",BA$13))),\"\")","v":0},{"$f":"IFERROR(IF(BC86=\".\",\".\",IF(BC86=\"n/a\",\"n/a\",\nGETPIVOTDATA(BD$21 & \"\",PivotTableB!$A$3,\"SchoolName\",$B86,\"SubsidiaryName\",$C86,\"YearStart\",BB$13))),\"\")","v":""},208,{"$f":"IFERROR(IF(BE86=\".\",\".\",IF(BE86=\"n/a\",\"n/a\",\nGETPIVOTDATA(BF$21 & \"\",PivotTableB!$A$3,\"SchoolName\",$B86,\"SubsidiaryName\",$C86,\"YearStart\",BA$13))),\"\")","v":0},{"$f":"IFERROR(IF(BF86=\".\",\".\",IF(BF86=\"n/a\",\"n/a\",\nGETPIVOTDATA(BG$21 & \"\",PivotTableB!$A$3,\"SchoolName\",$B86,\"SubsidiaryName\",$C86,\"YearStart\",BA$13))),\"\")","v":842},{"$f":"IFERROR(IF($B86=\"\",\"\",\nIF(OR($L86=\"Nursery School\",$L86=\"All-through PRU\",$M86=\"True\"),\"n/a\",\nIF(GETPIVOTDATA(BH$21 & \"\",PivotTableB!$A$3,\"SchoolName\",$B86,\"SubsidiaryName\",$C86,\"YearStart\",BH$13)=\"\",\".\",\nGETPIVOTDATA(BH$21 & \"\",PivotTableB!$A$3,\"SchoolName\",$B86,\"SubsidiaryName\",$C86,\"YearStart\",BH$13)))),\"\")","v":208},{"$f":"IFERROR(IF(BH86=\".\",\".\",IF(BH86=\"n/a\",\"n/a\",\nGETPIVOTDATA(BI$21 & \"\",PivotTableB!$A$3,\"SchoolName\",$B86,\"SubsidiaryName\",$C86,\"YearStart\",BH$13))),\"\")","v":0},{"$f":"IFERROR(IF(BI86=\".\",\".\",IF(BI86=\"n/a\",\"n/a\",\nGETPIVOTDATA(BJ$21 & \"\",PivotTableB!$A$3,\"SchoolName\",$B86,\"SubsidiaryName\",$C86,\"YearStart\",BH$13))),\"\")","v":0},{"$f":"IFERROR(IF(BJ86=\".\",\".\",IF(BJ86=\"n/a\",\"n/a\",\nGETPIVOTDATA(BK$21 & \"\",PivotTableB!$A$3,\"SchoolName\",$B86,\"SubsidiaryName\",$C86,\"YearStart\",BH$13))),\"\")","v":0},208,{"$f":"IFERROR(IF(BL86=\".\",\".\",IF(BL86=\"n/a\",\"n/a\",\nGETPIVOTDATA(BM$21 & \"\",PivotTableB!$A$3,\"SchoolName\",$B86,\"SubsidiaryName\",$C86,\"YearStart\",BH$13))),\"\")","v":0},{"$f":"IFERROR(IF(BM86=\".\",\".\",IF(BM86=\"n/a\",\"n/a\",\nGETPIVOTDATA(BN$21 & \"\",PivotTableB!$A$3,\"SchoolName\",$B86,\"SubsidiaryName\",$C86,\"YearStart\",BH$13))),\"\")","v":842},{"$f":"IFERROR(IF($B86=\"\",\"\",\nIF(OR($L86=\"Nursery School\",$L86=\"All-through PRU\",$M86=\"True\"),\"n/a\",\nIF(GETPIVOTDATA(BO$21 & \"\",PivotTableB!$A$3,\"SchoolName\",$B86,\"SubsidiaryName\",$C86,\"YearStart\",BO$13)=\"\",\".\",\nGETPIVOTDATA(BO$21 & \"\",PivotTableB!$A$3,\"SchoolName\",$B86,\"SubsidiaryName\",$C86,\"YearStart\",BO$13)))),\"\")","v":208},{"$f":"IFERROR(IF(BO86=\".\",\".\",IF(BO86=\"n/a\",\"n/a\",\nGETPIVOTDATA(BP$21 & \"\",PivotTableB!$A$3,\"SchoolName\",$B86,\"SubsidiaryName\",$C86,\"YearStart\",BO$13))),\"\")","v":0},{"$f":"IFERROR(IF(BP86=\".\",\".\",IF(BP86=\"n/a\",\"n/a\",\nGETPIVOTDATA(BQ$21 & \"\",PivotTableB!$A$3,\"SchoolName\",$B86,\"SubsidiaryName\",$C86,\"YearStart\",BO$13))),\"\")","v":0},{"$f":"IFERROR(IF(BQ86=\".\",\".\",IF(BQ86=\"n/a\",\"n/a\",\nGETPIVOTDATA(BR$21 & \"\",PivotTableB!$A$3,\"SchoolName\",$B86,\"SubsidiaryName\",$C86,\"YearStart\",BP$13))),\"\")","v":""},208,{"$f":"IFERROR(IF(BS86=\".\",\".\",IF(BS86=\"n/a\",\"n/a\",\nGETPIVOTDATA(BT$21 & \"\",PivotTableB!$A$3,\"SchoolName\",$B86,\"SubsidiaryName\",$C86,\"YearStart\",BO$13))),\"\")","v":0},{"$f":"IFERROR(IF(BT86=\".\",\".\",IF(BT86=\"n/a\",\"n/a\",\nGETPIVOTDATA(BU$21 & \"\",PivotTableB!$A$3,\"SchoolName\",$B86,\"SubsidiaryName\",$C86,\"YearStart\",BO$13))),\"\")","v":842},{"$f":"IFERROR(IF($B86=\"\",\"\",\nIF(OR($L86=\"Nursery School\",$L86=\"All-through PRU\",$M86=\"True\"),\"n/a\",\nIF(GETPIVOTDATA(BV$21 & \"\",PivotTableB!$A$3,\"SchoolName\",$B86,\"SubsidiaryName\",$C86,\"YearStart\",BV$13)=\"\",\".\",\nGETPIVOTDATA(BV$21 & \"\",PivotTableB!$A$3,\"SchoolName\",$B86,\"SubsidiaryName\",$C86,\"YearStart\",BV$13)))),\"\")","v":208},{"$f":"IFERROR(IF(BV86=\".\",\".\",IF(BV86=\"n/a\",\"n/a\",\nGETPIVOTDATA(BW$21 & \"\",PivotTableB!$A$3,\"SchoolName\",$B86,\"SubsidiaryName\",$C86,\"YearStart\",BV$13))),\"\")","v":0},{"$f":"IFERROR(IF(BW86=\".\",\".\",IF(BW86=\"n/a\",\"n/a\",\nGETPIVOTDATA(BX$21 & \"\",PivotTableB!$A$3,\"SchoolName\",$B86,\"SubsidiaryName\",$C86,\"YearStart\",BV$13))),\"\")","v":0},{"$f":"IFERROR(IF(BX86=\".\",\".\",IF(BX86=\"n/a\",\"n/a\",\nGETPIVOTDATA(BY$21 & \"\",PivotTableB!$A$3,\"SchoolName\",$B86,\"SubsidiaryName\",$C86,\"YearStart\",BV$13))),\"\")","v":0},208,{"$f":"IFERROR(IF(BZ86=\".\",\".\",IF(BZ86=\"n/a\",\"n/a\",\nGETPIVOTDATA(CA$21 & \"\",PivotTableB!$A$3,\"SchoolName\",$B86,\"SubsidiaryName\",$C86,\"YearStart\",BV$13))),\"\")","v":0},{"$f":"IFERROR(IF(CA86=\".\",\".\",IF(CA86=\"n/a\",\"n/a\",\nGETPIVOTDATA(CB$21 & \"\",PivotTableB!$A$3,\"SchoolName\",$B86,\"SubsidiaryName\",$C86,\"YearStart\",BV$13))),\"\")","v":842}]
[null,{"$f":"IF(PivotTableA!A74=\"\",\"n/a\",PivotTableA!A74)","v":"Woodlands Park Primary & Nursery School"},{"$f":"IF(B87=\"n/a\",\"\",PivotTableA!B74)","v":"Woodlands Park Primary & Nursery School"},{"$f":"IF($B87=\"n/a\",\"\",PivotTableA!C74)","v":"R"},{"$f":"IF($B87=\"n/a\",\"\",PivotTableA!D74)","v":"Maidenhead"},{"$f":"IF($B87=\"n/a\",\"\",PivotTableA!E74)","v":"South West Maidenhead"},{"$f":"IF($B87=\"n/a\",\"\",PivotTableA!F74)","v":"Woodlands Park"},{"$f":"IF($B87=\"n/a\",\"\",PivotTableA!G74)","v":"Hurley and Walthams"},{"$f":"IF($B87=\"n/a\",\"\",PivotTableA!H74)","v":"White Waltham"},{"$f":"IF($B87=\"n/a\",\"\",PivotTableA!I74)","v":"Primary"},{"$f":"IF($B87=\"n/a\",\"\",PivotTableA!J74)","v":"Two Tier"},{"$f":"IF($B87=\"n/a\",\"\",PivotTableA!K74)","v":"JMI"},{"$f":"IF($B87=\"n/a\",\"\",PivotTableA!O74)","v":"FALSE"},{"$f":"IF($B87=\"n/a\",\"\",PivotTableA!L74)","v":"Community"},{"$f":"IF($B87=\"n/a\",\"\",PivotTableA!M74)","v":" "},{"$f":"IF($B87=\"n/a\",\"\",PivotTableA!N74)","v":"None"},{"$f":"IFERROR(IF($B87=\"\",\"\",\nIF(OR($L87=\"Nursery School\",$L87=\"All-through PRU\",$M87=\"True\"),\"n/a\",\nIF(GETPIVOTDATA(Q$21 & \"\",PivotTableB!$A$3,\"SchoolName\",$B87,\"SubsidiaryName\",$C87,\"YearStart\",Q$13)=\"\",\".\",\nGETPIVOTDATA(Q$21 & \"\",PivotTableB!$A$3,\"SchoolName\",$B87,\"SubsidiaryName\",$C87,\"YearStart\",Q$13)))),\"\")","v":30},{"$f":"IFERROR(IF(Q87=\".\",\".\",IF(Q87=\"n/a\",\"n/a\",\nGETPIVOTDATA(R$21 & \"\",PivotTableB!$A$3,\"SchoolName\",$B87,\"SubsidiaryName\",$C87,\"YearStart\",Q$13))),\"\")","v":0},{"$f":"IFERROR(IF(R87=\".\",\".\",IF(R87=\"n/a\",\"n/a\",\nGETPIVOTDATA(S$21 & \"\",PivotTableB!$A$3,\"SchoolName\",$B87,\"SubsidiaryName\",$C87,\"YearStart\",Q$13))),\"\")","v":0},{"$f":"IFERROR(IF(R87=\".\",\".\",IF(R87=\"n/a\",\"n/a\",SUM(Q87:R87))),\"\")","v":30},{"$f":"IFERROR(IF(T87=\".\",\".\",IF(T87=\"n/a\",\"n/a\",\nGETPIVOTDATA(U$21 & \"\",PivotTableB!$A$3,\"SchoolName\",$B87,\"SubsidiaryName\",$C87,\"YearStart\",Q$13))),\"\")","v":0},{"$f":"IFERROR(IF(U87=\".\",\".\",IF(U87=\"n/a\",\"n/a\",\nGETPIVOTDATA(V$21 & \"\",PivotTableB!$A$3,\"SchoolName\",$B87,\"SubsidiaryName\",$C87,\"YearStart\",Q$13))),\"\")","v":205},{"$f":"IFERROR(IF($B87=\"\",\"\",\nIF(OR($L87=\"Nursery School\",$L87=\"All-through PRU\",$M87=\"True\"),\"n/a\",\nIF(GETPIVOTDATA(W$21 & \"\",PivotTableB!$A$3,\"SchoolName\",$B87,\"SubsidiaryName\",$C87,\"YearStart\",W$13)=\"\",\".\",\nGETPIVOTDATA(W$21 & \"\",PivotTableB!$A$3,\"SchoolName\",$B87,\"SubsidiaryName\",$C87,\"YearStart\",W$13)))),\"\")","v":30},{"$f":"IFERROR(IF(W87=\".\",\".\",IF(W87=\"n/a\",\"n/a\",\nGETPIVOTDATA(X$21 & \"\",PivotTableB!$A$3,\"SchoolName\",$B87,\"SubsidiaryName\",$C87,\"YearStart\",W$13))),\"\")","v":0},{"$f":"IFERROR(IF(X87=\".\",\".\",IF(X87=\"n/a\",\"n/a\",\nGETPIVOTDATA(Y$21 & \"\",PivotTableB!$A$3,\"SchoolName\",$B87,\"SubsidiaryName\",$C87,\"YearStart\",W$13))),\"\")","v":0},{"$f":"IFERROR(IF(X87=\".\",\".\",IF(X87=\"n/a\",\"n/a\",SUM(W87:X87))),\"\")","v":30},{"$f":"IFERROR(IF(Z87=\".\",\".\",IF(Z87=\"n/a\",\"n/a\",\nGETPIVOTDATA(AA$21 & \"\",PivotTableB!$A$3,\"SchoolName\",$B87,\"SubsidiaryName\",$C87,\"YearStart\",W$13))),\"\")","v":0},{"$f":"IFERROR(IF(AA87=\".\",\".\",IF(AA87=\"n/a\",\"n/a\",\nGETPIVOTDATA(AB$21 & \"\",PivotTableB!$A$3,\"SchoolName\",$B87,\"SubsidiaryName\",$C87,\"YearStart\",W$13))),\"\")","v":205},{"$f":"IFERROR(IF($B87=\"\",\"\",\nIF(OR($L87=\"Nursery School\",$L87=\"All-through PRU\",$M87=\"True\"),\"n/a\",\nIF(GETPIVOTDATA(AC$21 & \"\",PivotTableB!$A$3,\"SchoolName\",$B87,\"SubsidiaryName\",$C87,\"YearStart\",AC$13)=\"\",\".\",\nGETPIVOTDATA(AC$21 & \"\",PivotTableB!$A$3,\"SchoolName\",$B87,\"SubsidiaryName\",$C87,\"YearStart\",AC$13)))),\"\")","v":30},{"$f":"IFERROR(IF(AC87=\".\",\".\",IF(AC87=\"n/a\",\"n/a\",\nGETPIVOTDATA(AD$21 & \"\",PivotTableB!$A$3,\"SchoolName\",$B87,\"SubsidiaryName\",$C87,\"YearStart\",AC$13))),\"\")","v":0},{"$f":"IFERROR(IF(AD87=\".\",\".\",IF(AD87=\"n/a\",\"n/a\",\nGETPIVOTDATA(AE$21 & \"\",PivotTableB!$A$3,\"SchoolName\",$B87,\"SubsidiaryName\",$C87,\"YearStart\",AC$13))),\"\")","v":0},{"$f":"IFERROR(IF(AD87=\".\",\".\",IF(AD87=\"n/a\",\"n/a\",SUM(AC87:AD87))),\"\")","v":30},{"$f":"IFERROR(IF(AF87=\".\",\".\",IF(AF87=\"n/a\",\"n/a\",\nGETPIVOTDATA(AG$21 & \"\",PivotTableB!$A$3,\"SchoolName\",$B87,\"SubsidiaryName\",$C87,\"YearStart\",AC$13))),\"\")","v":0},{"$f":"IFERROR(IF(AG87=\".\",\".\",IF(AG87=\"n/a\",\"n/a\",\nGETPIVOTDATA(AH$21 & \"\",PivotTableB!$A$3,\"SchoolName\",$B87,\"SubsidiaryName\",$C87,\"YearStart\",AC$13))),\"\")","v":203},{"$f":"IFERROR(IF($B87=\"\",\"\",\nIF(OR($L87=\"Nursery School\",$L87=\"All-through PRU\",$M87=\"True\"),\"n/a\",\nIF(GETPIVOTDATA(AI$21 & \"\",PivotTableB!$A$3,\"SchoolName\",$B87,\"SubsidiaryName\",$C87,\"YearStart\",AI$13)=\"\",\".\",\nGETPIVOTDATA(AI$21 & \"\",PivotTableB!$A$3,\"SchoolName\",$B87,\"SubsidiaryName\",$C87,\"YearStart\",AI$13)))),\"\")","v":30},{"$f":"IFERROR(IF(AI87=\".\",\".\",IF(AI87=\"n/a\",\"n/a\",\nGETPIVOTDATA(AJ$21 & \"\",PivotTableB!$A$3,\"SchoolName\",$B87,\"SubsidiaryName\",$C87,\"YearStart\",AI$13))),\"\")","v":0},{"$f":"IFERROR(IF(AJ87=\".\",\".\",IF(AJ87=\"n/a\",\"n/a\",\nGETPIVOTDATA(AK$21 & \"\",PivotTableB!$A$3,\"SchoolName\",$B87,\"SubsidiaryName\",$C87,\"YearStart\",AI$13))),\"\")","v":0},{"$f":"IFERROR(IF(AJ87=\".\",\".\",IF(AJ87=\"n/a\",\"n/a\",SUM(AI87:AJ87))),\"\")","v":30},{"$f":"IFERROR(IF(AL87=\".\",\".\",IF(AL87=\"n/a\",\"n/a\",\nGETPIVOTDATA(AM$21 & \"\",PivotTableB!$A$3,\"SchoolName\",$B87,\"SubsidiaryName\",$C87,\"YearStart\",AI$13))),\"\")","v":0},{"$f":"IFERROR(IF(AM87=\".\",\".\",IF(AM87=\"n/a\",\"n/a\",\nGETPIVOTDATA(AN$21 & \"\",PivotTableB!$A$3,\"SchoolName\",$B87,\"SubsidiaryName\",$C87,\"YearStart\",AI$13))),\"\")","v":203},{"$f":"IFERROR(IF($B87=\"\",\"\",\nIF(OR($L87=\"Nursery School\",$L87=\"All-through PRU\",$M87=\"True\"),\"n/a\",\nIF(GETPIVOTDATA(AO$21 & \"\",PivotTableB!$A$3,\"SchoolName\",$B87,\"SubsidiaryName\",$C87,\"YearStart\",AO$13)=\"\",\".\",\nGETPIVOTDATA(AO$21 & \"\",PivotTableB!$A$3,\"SchoolName\",$B87,\"SubsidiaryName\",$C87,\"YearStart\",AO$13)))),\"\")","v":30},{"$f":"IFERROR(IF(AO87=\".\",\".\",IF(AO87=\"n/a\",\"n/a\",\nGETPIVOTDATA(AP$21 & \"\",PivotTableB!$A$3,\"SchoolName\",$B87,\"SubsidiaryName\",$C87,\"YearStart\",AO$13))),\"\")","v":0},{"$f":"IFERROR(IF(AP87=\".\",\".\",IF(AP87=\"n/a\",\"n/a\",\nGETPIVOTDATA(AQ$21 & \"\",PivotTableB!$A$3,\"SchoolName\",$B87,\"SubsidiaryName\",$C87,\"YearStart\",AO$13))),\"\")","v":0},{"$f":"IFERROR(IF(AP87=\".\",\".\",IF(AP87=\"n/a\",\"n/a\",SUM(AO87:AP87))),\"\")","v":30},{"$f":"IFERROR(IF(AR87=\".\",\".\",IF(AR87=\"n/a\",\"n/a\",\nGETPIVOTDATA(AS$21 & \"\",PivotTableB!$A$3,\"SchoolName\",$B87,\"SubsidiaryName\",$C87,\"YearStart\",AO$13))),\"\")","v":0},{"$f":"IFERROR(IF(AS87=\".\",\".\",IF(AS87=\"n/a\",\"n/a\",\nGETPIVOTDATA(AT$21 & \"\",PivotTableB!$A$3,\"SchoolName\",$B87,\"SubsidiaryName\",$C87,\"YearStart\",AO$13))),\"\")","v":203},{"$f":"IFERROR(IF($B87=\"\",\"\",\nIF(OR($L87=\"Nursery School\",$L87=\"All-through PRU\",$M87=\"True\"),\"n/a\",\nIF(GETPIVOTDATA(AU$21 & \"\",PivotTableB!$A$3,\"SchoolName\",$B87,\"SubsidiaryName\",$C87,\"YearStart\",AU$13)=\"\",\".\",\nGETPIVOTDATA(AU$21 & \"\",PivotTableB!$A$3,\"SchoolName\",$B87,\"SubsidiaryName\",$C87,\"YearStart\",AU$13)))),\"\")","v":30},{"$f":"IFERROR(IF(AU87=\".\",\".\",IF(AU87=\"n/a\",\"n/a\",\nGETPIVOTDATA(AV$21 & \"\",PivotTableB!$A$3,\"SchoolName\",$B87,\"SubsidiaryName\",$C87,\"YearStart\",AU$13))),\"\")","v":0},{"$f":"IFERROR(IF(AV87=\".\",\".\",IF(AV87=\"n/a\",\"n/a\",\nGETPIVOTDATA(AW$21 & \"\",PivotTableB!$A$3,\"SchoolName\",$B87,\"SubsidiaryName\",$C87,\"YearStart\",AU$13))),\"\")","v":0},{"$f":"IFERROR(IF(AV87=\".\",\".\",IF(AV87=\"n/a\",\"n/a\",SUM(AU87:AV87))),\"\")","v":30},{"$f":"IFERROR(IF(AX87=\".\",\".\",IF(AX87=\"n/a\",\"n/a\",\nGETPIVOTDATA(AY$21 & \"\",PivotTableB!$A$3,\"SchoolName\",$B87,\"SubsidiaryName\",$C87,\"YearStart\",AU$13))),\"\")","v":0},{"$f":"IFERROR(IF(AY87=\".\",\".\",IF(AY87=\"n/a\",\"n/a\",\nGETPIVOTDATA(AZ$21 & \"\",PivotTableB!$A$3,\"SchoolName\",$B87,\"SubsidiaryName\",$C87,\"YearStart\",AU$13))),\"\")","v":203},{"$f":"IFERROR(IF($B87=\"\",\"\",\nIF(OR($L87=\"Nursery School\",$L87=\"All-through PRU\",$M87=\"True\"),\"n/a\",\nIF(GETPIVOTDATA(BA$21 & \"\",PivotTableB!$A$3,\"SchoolName\",$B87,\"SubsidiaryName\",$C87,\"YearStart\",BA$13)=\"\",\".\",\nGETPIVOTDATA(BA$21 & \"\",PivotTableB!$A$3,\"SchoolName\",$B87,\"SubsidiaryName\",$C87,\"YearStart\",BA$13)))),\"\")","v":30},{"$f":"IFERROR(IF(BA87=\".\",\".\",IF(BA87=\"n/a\",\"n/a\",\nGETPIVOTDATA(BB$21 & \"\",PivotTableB!$A$3,\"SchoolName\",$B87,\"SubsidiaryName\",$C87,\"YearStart\",BA$13))),\"\")","v":0},{"$f":"IFERROR(IF(BB87=\".\",\".\",IF(BB87=\"n/a\",\"n/a\",\nGETPIVOTDATA(BC$21 & \"\",PivotTableB!$A$3,\"SchoolName\",$B87,\"SubsidiaryName\",$C87,\"YearStart\",BA$13))),\"\")","v":0},{"$f":"IFERROR(IF(BC87=\".\",\".\",IF(BC87=\"n/a\",\"n/a\",\nGETPIVOTDATA(BD$21 & \"\",PivotTableB!$A$3,\"SchoolName\",$B87,\"SubsidiaryName\",$C87,\"YearStart\",BB$13))),\"\")","v":""},{"$f":"IFERROR(IF(BD87=\".\",\".\",IF(BD87=\"n/a\",\"n/a\",SUM(BA87:BC87))),\"\")","v":30},{"$f":"IFERROR(IF(BE87=\".\",\".\",IF(BE87=\"n/a\",\"n/a\",\nGETPIVOTDATA(BF$21 & \"\",PivotTableB!$A$3,\"SchoolName\",$B87,\"SubsidiaryName\",$C87,\"YearStart\",BA$13))),\"\")","v":0},{"$f":"IFERROR(IF(BF87=\".\",\".\",IF(BF87=\"n/a\",\"n/a\",\nGETPIVOTDATA(BG$21 & \"\",PivotTableB!$A$3,\"SchoolName\",$B87,\"SubsidiaryName\",$C87,\"YearStart\",BA$13))),\"\")","v":203},{"$f":"IFERROR(IF($B87=\"\",\"\",\nIF(OR($L87=\"Nursery School\",$L87=\"All-through PRU\",$M87=\"True\"),\"n/a\",\nIF(GETPIVOTDATA(BH$21 & \"\",PivotTableB!$A$3,\"SchoolName\",$B87,\"SubsidiaryName\",$C87,\"YearStart\",BH$13)=\"\",\".\",\nGETPIVOTDATA(BH$21 & \"\",PivotTableB!$A$3,\"SchoolName\",$B87,\"SubsidiaryName\",$C87,\"YearStart\",BH$13)))),\"\")","v":30},{"$f":"IFERROR(IF(BH87=\".\",\".\",IF(BH87=\"n/a\",\"n/a\",\nGETPIVOTDATA(BI$21 & \"\",PivotTableB!$A$3,\"SchoolName\",$B87,\"SubsidiaryName\",$C87,\"YearStart\",BH$13))),\"\")","v":0},{"$f":"IFERROR(IF(BI87=\".\",\".\",IF(BI87=\"n/a\",\"n/a\",\nGETPIVOTDATA(BJ$21 & \"\",PivotTableB!$A$3,\"SchoolName\",$B87,\"SubsidiaryName\",$C87,\"YearStart\",BH$13))),\"\")","v":0},{"$f":"IFERROR(IF(BJ87=\".\",\".\",IF(BJ87=\"n/a\",\"n/a\",\nGETPIVOTDATA(BK$21 & \"\",PivotTableB!$A$3,\"SchoolName\",$B87,\"SubsidiaryName\",$C87,\"YearStart\",BH$13))),\"\")","v":0},{"$f":"IFERROR(IF(BK87=\".\",\".\",IF(BK87=\"n/a\",\"n/a\",SUM(BH87:BJ87))),\"\")","v":30},{"$f":"IFERROR(IF(BL87=\".\",\".\",IF(BL87=\"n/a\",\"n/a\",\nGETPIVOTDATA(BM$21 & \"\",PivotTableB!$A$3,\"SchoolName\",$B87,\"SubsidiaryName\",$C87,\"YearStart\",BH$13))),\"\")","v":0},{"$f":"IFERROR(IF(BM87=\".\",\".\",IF(BM87=\"n/a\",\"n/a\",\nGETPIVOTDATA(BN$21 & \"\",PivotTableB!$A$3,\"SchoolName\",$B87,\"SubsidiaryName\",$C87,\"YearStart\",BH$13))),\"\")","v":203},{"$f":"IFERROR(IF($B87=\"\",\"\",\nIF(OR($L87=\"Nursery School\",$L87=\"All-through PRU\",$M87=\"True\"),\"n/a\",\nIF(GETPIVOTDATA(BO$21 & \"\",PivotTableB!$A$3,\"SchoolName\",$B87,\"SubsidiaryName\",$C87,\"YearStart\",BO$13)=\"\",\".\",\nGETPIVOTDATA(BO$21 & \"\",PivotTableB!$A$3,\"SchoolName\",$B87,\"SubsidiaryName\",$C87,\"YearStart\",BO$13)))),\"\")","v":30},{"$f":"IFERROR(IF(BO87=\".\",\".\",IF(BO87=\"n/a\",\"n/a\",\nGETPIVOTDATA(BP$21 & \"\",PivotTableB!$A$3,\"SchoolName\",$B87,\"SubsidiaryName\",$C87,\"YearStart\",BO$13))),\"\")","v":0},{"$f":"IFERROR(IF(BP87=\".\",\".\",IF(BP87=\"n/a\",\"n/a\",\nGETPIVOTDATA(BQ$21 & \"\",PivotTableB!$A$3,\"SchoolName\",$B87,\"SubsidiaryName\",$C87,\"YearStart\",BO$13))),\"\")","v":0},{"$f":"IFERROR(IF(BQ87=\".\",\".\",IF(BQ87=\"n/a\",\"n/a\",\nGETPIVOTDATA(BR$21 & \"\",PivotTableB!$A$3,\"SchoolName\",$B87,\"SubsidiaryName\",$C87,\"YearStart\",BP$13))),\"\")","v":""},{"$f":"IFERROR(IF(BR87=\".\",\".\",IF(BR87=\"n/a\",\"n/a\",SUM(BO87:BQ87))),\"\")","v":30},{"$f":"IFERROR(IF(BS87=\".\",\".\",IF(BS87=\"n/a\",\"n/a\",\nGETPIVOTDATA(BT$21 & \"\",PivotTableB!$A$3,\"SchoolName\",$B87,\"SubsidiaryName\",$C87,\"YearStart\",BO$13))),\"\")","v":0},{"$f":"IFERROR(IF(BT87=\".\",\".\",IF(BT87=\"n/a\",\"n/a\",\nGETPIVOTDATA(BU$21 & \"\",PivotTableB!$A$3,\"SchoolName\",$B87,\"SubsidiaryName\",$C87,\"YearStart\",BO$13))),\"\")","v":203},{"$f":"IFERROR(IF($B87=\"\",\"\",\nIF(OR($L87=\"Nursery School\",$L87=\"All-through PRU\",$M87=\"True\"),\"n/a\",\nIF(GETPIVOTDATA(BV$21 & \"\",PivotTableB!$A$3,\"SchoolName\",$B87,\"SubsidiaryName\",$C87,\"YearStart\",BV$13)=\"\",\".\",\nGETPIVOTDATA(BV$21 & \"\",PivotTableB!$A$3,\"SchoolName\",$B87,\"SubsidiaryName\",$C87,\"YearStart\",BV$13)))),\"\")","v":30},{"$f":"IFERROR(IF(BV87=\".\",\".\",IF(BV87=\"n/a\",\"n/a\",\nGETPIVOTDATA(BW$21 & \"\",PivotTableB!$A$3,\"SchoolName\",$B87,\"SubsidiaryName\",$C87,\"YearStart\",BV$13))),\"\")","v":0},{"$f":"IFERROR(IF(BW87=\".\",\".\",IF(BW87=\"n/a\",\"n/a\",\nGETPIVOTDATA(BX$21 & \"\",PivotTableB!$A$3,\"SchoolName\",$B87,\"SubsidiaryName\",$C87,\"YearStart\",BV$13))),\"\")","v":0},{"$f":"IFERROR(IF(BX87=\".\",\".\",IF(BX87=\"n/a\",\"n/a\",\nGETPIVOTDATA(BY$21 & \"\",PivotTableB!$A$3,\"SchoolName\",$B87,\"SubsidiaryName\",$C87,\"YearStart\",BV$13))),\"\")","v":0},{"$f":"IFERROR(IF(BY87=\".\",\".\",IF(BY87=\"n/a\",\"n/a\",SUM(BV87:BX87))),\"\")","v":30},{"$f":"IFERROR(IF(BZ87=\".\",\".\",IF(BZ87=\"n/a\",\"n/a\",\nGETPIVOTDATA(CA$21 & \"\",PivotTableB!$A$3,\"SchoolName\",$B87,\"SubsidiaryName\",$C87,\"YearStart\",BV$13))),\"\")","v":0},{"$f":"IFERROR(IF(CA87=\".\",\".\",IF(CA87=\"n/a\",\"n/a\",\nGETPIVOTDATA(CB$21 & \"\",PivotTableB!$A$3,\"SchoolName\",$B87,\"SubsidiaryName\",$C87,\"YearStart\",BV$13))),\"\")","v":203}]
[null,{"$f":"IF(PivotTableA!A75=\"\",\"n/a\",PivotTableA!A75)","v":"Wraysbury Primary School"},{"$f":"IF(B88=\"n/a\",\"\",PivotTableA!B75)","v":"Wraysbury Primary School"},{"$f":"IF($B88=\"n/a\",\"\",PivotTableA!C75)","v":"R"},{"$f":"IF($B88=\"n/a\",\"\",PivotTableA!D75)","v":"Datchet & Wraysbury"},{"$f":"IF($B88=\"n/a\",\"\",PivotTableA!E75)","v":"Datchet and Wraysbury"},{"$f":"IF($B88=\"n/a\",\"\",PivotTableA!F75)","v":"Wraysbury"},{"$f":"IF($B88=\"n/a\",\"\",PivotTableA!G75)","v":"Horton and Wraysbury"},{"$f":"IF($B88=\"n/a\",\"\",PivotTableA!H75)","v":"Wraysbury"},{"$f":"IF($B88=\"n/a\",\"\",PivotTableA!I75)","v":"Primary"},{"$f":"IF($B88=\"n/a\",\"\",PivotTableA!J75)","v":"Two Tier"},{"$f":"IF($B88=\"n/a\",\"\",PivotTableA!K75)","v":"JMI"},{"$f":"IF($B88=\"n/a\",\"\",PivotTableA!O75)","v":"FALSE"},{"$f":"IF($B88=\"n/a\",\"\",PivotTableA!L75)","v":"Community"},{"$f":"IF($B88=\"n/a\",\"\",PivotTableA!M75)","v":" "},{"$f":"IF($B88=\"n/a\",\"\",PivotTableA!N75)","v":"None"},{"$f":"IFERROR(IF($B88=\"\",\"\",\nIF(OR($L88=\"Nursery School\",$L88=\"All-through PRU\",$M88=\"True\"),\"n/a\",\nIF(GETPIVOTDATA(Q$21 & \"\",PivotTableB!$A$3,\"SchoolName\",$B88,\"SubsidiaryName\",$C88,\"YearStart\",Q$13)=\"\",\".\",\nGETPIVOTDATA(Q$21 & \"\",PivotTableB!$A$3,\"SchoolName\",$B88,\"SubsidiaryName\",$C88,\"YearStart\",Q$13)))),\"\")","v":60},{"$f":"IFERROR(IF(Q88=\".\",\".\",IF(Q88=\"n/a\",\"n/a\",\nGETPIVOTDATA(R$21 & \"\",PivotTableB!$A$3,\"SchoolName\",$B88,\"SubsidiaryName\",$C88,\"YearStart\",Q$13))),\"\")","v":0},{"$f":"IFERROR(IF(R88=\".\",\".\",IF(R88=\"n/a\",\"n/a\",\nGETPIVOTDATA(S$21 & \"\",PivotTableB!$A$3,\"SchoolName\",$B88,\"SubsidiaryName\",$C88,\"YearStart\",Q$13))),\"\")","v":0},60,{"$f":"IFERROR(IF(T88=\".\",\".\",IF(T88=\"n/a\",\"n/a\",\nGETPIVOTDATA(U$21 & \"\",PivotTableB!$A$3,\"SchoolName\",$B88,\"SubsidiaryName\",$C88,\"YearStart\",Q$13))),\"\")","v":0},{"$f":"IFERROR(IF(U88=\".\",\".\",IF(U88=\"n/a\",\"n/a\",\nGETPIVOTDATA(V$21 & \"\",PivotTableB!$A$3,\"SchoolName\",$B88,\"SubsidiaryName\",$C88,\"YearStart\",Q$13))),\"\")","v":420},{"$f":"IFERROR(IF($B88=\"\",\"\",\nIF(OR($L88=\"Nursery School\",$L88=\"All-through PRU\",$M88=\"True\"),\"n/a\",\nIF(GETPIVOTDATA(W$21 & \"\",PivotTableB!$A$3,\"SchoolName\",$B88,\"SubsidiaryName\",$C88,\"YearStart\",W$13)=\"\",\".\",\nGETPIVOTDATA(W$21 & \"\",PivotTableB!$A$3,\"SchoolName\",$B88,\"SubsidiaryName\",$C88,\"YearStart\",W$13)))),\"\")","v":60},{"$f":"IFERROR(IF(W88=\".\",\".\",IF(W88=\"n/a\",\"n/a\",\nGETPIVOTDATA(X$21 & \"\",PivotTableB!$A$3,\"SchoolName\",$B88,\"SubsidiaryName\",$C88,\"YearStart\",W$13))),\"\")","v":0},{"$f":"IFERROR(IF(X88=\".\",\".\",IF(X88=\"n/a\",\"n/a\",\nGETPIVOTDATA(Y$21 & \"\",PivotTableB!$A$3,\"SchoolName\",$B88,\"SubsidiaryName\",$C88,\"YearStart\",W$13))),\"\")","v":0},60,{"$f":"IFERROR(IF(Z88=\".\",\".\",IF(Z88=\"n/a\",\"n/a\",\nGETPIVOTDATA(AA$21 & \"\",PivotTableB!$A$3,\"SchoolName\",$B88,\"SubsidiaryName\",$C88,\"YearStart\",W$13))),\"\")","v":0},{"$f":"IFERROR(IF(AA88=\".\",\".\",IF(AA88=\"n/a\",\"n/a\",\nGETPIVOTDATA(AB$21 & \"\",PivotTableB!$A$3,\"SchoolName\",$B88,\"SubsidiaryName\",$C88,\"YearStart\",W$13))),\"\")","v":420},{"$f":"IFERROR(IF($B88=\"\",\"\",\nIF(OR($L88=\"Nursery School\",$L88=\"All-through PRU\",$M88=\"True\"),\"n/a\",\nIF(GETPIVOTDATA(AC$21 & \"\",PivotTableB!$A$3,\"SchoolName\",$B88,\"SubsidiaryName\",$C88,\"YearStart\",AC$13)=\"\",\".\",\nGETPIVOTDATA(AC$21 & \"\",PivotTableB!$A$3,\"SchoolName\",$B88,\"SubsidiaryName\",$C88,\"YearStart\",AC$13)))),\"\")","v":60},{"$f":"IFERROR(IF(AC88=\".\",\".\",IF(AC88=\"n/a\",\"n/a\",\nGETPIVOTDATA(AD$21 & \"\",PivotTableB!$A$3,\"SchoolName\",$B88,\"SubsidiaryName\",$C88,\"YearStart\",AC$13))),\"\")","v":0},{"$f":"IFERROR(IF(AD88=\".\",\".\",IF(AD88=\"n/a\",\"n/a\",\nGETPIVOTDATA(AE$21 & \"\",PivotTableB!$A$3,\"SchoolName\",$B88,\"SubsidiaryName\",$C88,\"YearStart\",AC$13))),\"\")","v":0},60,{"$f":"IFERROR(IF(AF88=\".\",\".\",IF(AF88=\"n/a\",\"n/a\",\nGETPIVOTDATA(AG$21 & \"\",PivotTableB!$A$3,\"SchoolName\",$B88,\"SubsidiaryName\",$C88,\"YearStart\",AC$13))),\"\")","v":0},{"$f":"IFERROR(IF(AG88=\".\",\".\",IF(AG88=\"n/a\",\"n/a\",\nGETPIVOTDATA(AH$21 & \"\",PivotTableB!$A$3,\"SchoolName\",$B88,\"SubsidiaryName\",$C88,\"YearStart\",AC$13))),\"\")","v":420},{"$f":"IFERROR(IF($B88=\"\",\"\",\nIF(OR($L88=\"Nursery School\",$L88=\"All-through PRU\",$M88=\"True\"),\"n/a\",\nIF(GETPIVOTDATA(AI$21 & \"\",PivotTableB!$A$3,\"SchoolName\",$B88,\"SubsidiaryName\",$C88,\"YearStart\",AI$13)=\"\",\".\",\nGETPIVOTDATA(AI$21 & \"\",PivotTableB!$A$3,\"SchoolName\",$B88,\"SubsidiaryName\",$C88,\"YearStart\",AI$13)))),\"\")","v":60},{"$f":"IFERROR(IF(AI88=\".\",\".\",IF(AI88=\"n/a\",\"n/a\",\nGETPIVOTDATA(AJ$21 & \"\",PivotTableB!$A$3,\"SchoolName\",$B88,\"SubsidiaryName\",$C88,\"YearStart\",AI$13))),\"\")","v":0},{"$f":"IFERROR(IF(AJ88=\".\",\".\",IF(AJ88=\"n/a\",\"n/a\",\nGETPIVOTDATA(AK$21 & \"\",PivotTableB!$A$3,\"SchoolName\",$B88,\"SubsidiaryName\",$C88,\"YearStart\",AI$13))),\"\")","v":0},60,{"$f":"IFERROR(IF(AL88=\".\",\".\",IF(AL88=\"n/a\",\"n/a\",\nGETPIVOTDATA(AM$21 & \"\",PivotTableB!$A$3,\"SchoolName\",$B88,\"SubsidiaryName\",$C88,\"YearStart\",AI$13))),\"\")","v":0},{"$f":"IFERROR(IF(AM88=\".\",\".\",IF(AM88=\"n/a\",\"n/a\",\nGETPIVOTDATA(AN$21 & \"\",PivotTableB!$A$3,\"SchoolName\",$B88,\"SubsidiaryName\",$C88,\"YearStart\",AI$13))),\"\")","v":420},{"$f":"IFERROR(IF($B88=\"\",\"\",\nIF(OR($L88=\"Nursery School\",$L88=\"All-through PRU\",$M88=\"True\"),\"n/a\",\nIF(GETPIVOTDATA(AO$21 & \"\",PivotTableB!$A$3,\"SchoolName\",$B88,\"SubsidiaryName\",$C88,\"YearStart\",AO$13)=\"\",\".\",\nGETPIVOTDATA(AO$21 & \"\",PivotTableB!$A$3,\"SchoolName\",$B88,\"SubsidiaryName\",$C88,\"YearStart\",AO$13)))),\"\")","v":60},{"$f":"IFERROR(IF(AO88=\".\",\".\",IF(AO88=\"n/a\",\"n/a\",\nGETPIVOTDATA(AP$21 & \"\",PivotTableB!$A$3,\"SchoolName\",$B88,\"SubsidiaryName\",$C88,\"YearStart\",AO$13))),\"\")","v":0},{"$f":"IFERROR(IF(AP88=\".\",\".\",IF(AP88=\"n/a\",\"n/a\",\nGETPIVOTDATA(AQ$21 & \"\",PivotTableB!$A$3,\"SchoolName\",$B88,\"SubsidiaryName\",$C88,\"YearStart\",AO$13))),\"\")","v":0},60,{"$f":"IFERROR(IF(AR88=\".\",\".\",IF(AR88=\"n/a\",\"n/a\",\nGETPIVOTDATA(AS$21 & \"\",PivotTableB!$A$3,\"SchoolName\",$B88,\"SubsidiaryName\",$C88,\"YearStart\",AO$13))),\"\")","v":0},{"$f":"IFERROR(IF(AS88=\".\",\".\",IF(AS88=\"n/a\",\"n/a\",\nGETPIVOTDATA(AT$21 & \"\",PivotTableB!$A$3,\"SchoolName\",$B88,\"SubsidiaryName\",$C88,\"YearStart\",AO$13))),\"\")","v":420},{"$f":"IFERROR(IF($B88=\"\",\"\",\nIF(OR($L88=\"Nursery School\",$L88=\"All-through PRU\",$M88=\"True\"),\"n/a\",\nIF(GETPIVOTDATA(AU$21 & \"\",PivotTableB!$A$3,\"SchoolName\",$B88,\"SubsidiaryName\",$C88,\"YearStart\",AU$13)=\"\",\".\",\nGETPIVOTDATA(AU$21 & \"\",PivotTableB!$A$3,\"SchoolName\",$B88,\"SubsidiaryName\",$C88,\"YearStart\",AU$13)))),\"\")","v":60},{"$f":"IFERROR(IF(AU88=\".\",\".\",IF(AU88=\"n/a\",\"n/a\",\nGETPIVOTDATA(AV$21 & \"\",PivotTableB!$A$3,\"SchoolName\",$B88,\"SubsidiaryName\",$C88,\"YearStart\",AU$13))),\"\")","v":0},{"$f":"IFERROR(IF(AV88=\".\",\".\",IF(AV88=\"n/a\",\"n/a\",\nGETPIVOTDATA(AW$21 & \"\",PivotTableB!$A$3,\"SchoolName\",$B88,\"SubsidiaryName\",$C88,\"YearStart\",AU$13))),\"\")","v":0},60,{"$f":"IFERROR(IF(AX88=\".\",\".\",IF(AX88=\"n/a\",\"n/a\",\nGETPIVOTDATA(AY$21 & \"\",PivotTableB!$A$3,\"SchoolName\",$B88,\"SubsidiaryName\",$C88,\"YearStart\",AU$13))),\"\")","v":0},{"$f":"IFERROR(IF(AY88=\".\",\".\",IF(AY88=\"n/a\",\"n/a\",\nGETPIVOTDATA(AZ$21 & \"\",PivotTableB!$A$3,\"SchoolName\",$B88,\"SubsidiaryName\",$C88,\"YearStart\",AU$13))),\"\")","v":420},{"$f":"IFERROR(IF($B88=\"\",\"\",\nIF(OR($L88=\"Nursery School\",$L88=\"All-through PRU\",$M88=\"True\"),\"n/a\",\nIF(GETPIVOTDATA(BA$21 & \"\",PivotTableB!$A$3,\"SchoolName\",$B88,\"SubsidiaryName\",$C88,\"YearStart\",BA$13)=\"\",\".\",\nGETPIVOTDATA(BA$21 & \"\",PivotTableB!$A$3,\"SchoolName\",$B88,\"SubsidiaryName\",$C88,\"YearStart\",BA$13)))),\"\")","v":60},{"$f":"IFERROR(IF(BA88=\".\",\".\",IF(BA88=\"n/a\",\"n/a\",\nGETPIVOTDATA(BB$21 & \"\",PivotTableB!$A$3,\"SchoolName\",$B88,\"SubsidiaryName\",$C88,\"YearStart\",BA$13))),\"\")","v":0},{"$f":"IFERROR(IF(BB88=\".\",\".\",IF(BB88=\"n/a\",\"n/a\",\nGETPIVOTDATA(BC$21 & \"\",PivotTableB!$A$3,\"SchoolName\",$B88,\"SubsidiaryName\",$C88,\"YearStart\",BA$13))),\"\")","v":0},{"$f":"IFERROR(IF(BC88=\".\",\".\",IF(BC88=\"n/a\",\"n/a\",\nGETPIVOTDATA(BD$21 & \"\",PivotTableB!$A$3,\"SchoolName\",$B88,\"SubsidiaryName\",$C88,\"YearStart\",BB$13))),\"\")","v":""},60,{"$f":"IFERROR(IF(BE88=\".\",\".\",IF(BE88=\"n/a\",\"n/a\",\nGETPIVOTDATA(BF$21 & \"\",PivotTableB!$A$3,\"SchoolName\",$B88,\"SubsidiaryName\",$C88,\"YearStart\",BA$13))),\"\")","v":0},{"$f":"IFERROR(IF(BF88=\".\",\".\",IF(BF88=\"n/a\",\"n/a\",\nGETPIVOTDATA(BG$21 & \"\",PivotTableB!$A$3,\"SchoolName\",$B88,\"SubsidiaryName\",$C88,\"YearStart\",BA$13))),\"\")","v":420},{"$f":"IFERROR(IF($B88=\"\",\"\",\nIF(OR($L88=\"Nursery School\",$L88=\"All-through PRU\",$M88=\"True\"),\"n/a\",\nIF(GETPIVOTDATA(BH$21 & \"\",PivotTableB!$A$3,\"SchoolName\",$B88,\"SubsidiaryName\",$C88,\"YearStart\",BH$13)=\"\",\".\",\nGETPIVOTDATA(BH$21 & \"\",PivotTableB!$A$3,\"SchoolName\",$B88,\"SubsidiaryName\",$C88,\"YearStart\",BH$13)))),\"\")","v":60},{"$f":"IFERROR(IF(BH88=\".\",\".\",IF(BH88=\"n/a\",\"n/a\",\nGETPIVOTDATA(BI$21 & \"\",PivotTableB!$A$3,\"SchoolName\",$B88,\"SubsidiaryName\",$C88,\"YearStart\",BH$13))),\"\")","v":0},{"$f":"IFERROR(IF(BI88=\".\",\".\",IF(BI88=\"n/a\",\"n/a\",\nGETPIVOTDATA(BJ$21 & \"\",PivotTableB!$A$3,\"SchoolName\",$B88,\"SubsidiaryName\",$C88,\"YearStart\",BH$13))),\"\")","v":0},{"$f":"IFERROR(IF(BJ88=\".\",\".\",IF(BJ88=\"n/a\",\"n/a\",\nGETPIVOTDATA(BK$21 & \"\",PivotTableB!$A$3,\"SchoolName\",$B88,\"SubsidiaryName\",$C88,\"YearStart\",BH$13))),\"\")","v":0},60,{"$f":"IFERROR(IF(BL88=\".\",\".\",IF(BL88=\"n/a\",\"n/a\",\nGETPIVOTDATA(BM$21 & \"\",PivotTableB!$A$3,\"SchoolName\",$B88,\"SubsidiaryName\",$C88,\"YearStart\",BH$13))),\"\")","v":0},{"$f":"IFERROR(IF(BM88=\".\",\".\",IF(BM88=\"n/a\",\"n/a\",\nGETPIVOTDATA(BN$21 & \"\",PivotTableB!$A$3,\"SchoolName\",$B88,\"SubsidiaryName\",$C88,\"YearStart\",BH$13))),\"\")","v":420},{"$f":"IFERROR(IF($B88=\"\",\"\",\nIF(OR($L88=\"Nursery School\",$L88=\"All-through PRU\",$M88=\"True\"),\"n/a\",\nIF(GETPIVOTDATA(BO$21 & \"\",PivotTableB!$A$3,\"SchoolName\",$B88,\"SubsidiaryName\",$C88,\"YearStart\",BO$13)=\"\",\".\",\nGETPIVOTDATA(BO$21 & \"\",PivotTableB!$A$3,\"SchoolName\",$B88,\"SubsidiaryName\",$C88,\"YearStart\",BO$13)))),\"\")","v":60},{"$f":"IFERROR(IF(BO88=\".\",\".\",IF(BO88=\"n/a\",\"n/a\",\nGETPIVOTDATA(BP$21 & \"\",PivotTableB!$A$3,\"SchoolName\",$B88,\"SubsidiaryName\",$C88,\"YearStart\",BO$13))),\"\")","v":0},{"$f":"IFERROR(IF(BP88=\".\",\".\",IF(BP88=\"n/a\",\"n/a\",\nGETPIVOTDATA(BQ$21 & \"\",PivotTableB!$A$3,\"SchoolName\",$B88,\"SubsidiaryName\",$C88,\"YearStart\",BO$13))),\"\")","v":0},{"$f":"IFERROR(IF(BQ88=\".\",\".\",IF(BQ88=\"n/a\",\"n/a\",\nGETPIVOTDATA(BR$21 & \"\",PivotTableB!$A$3,\"SchoolName\",$B88,\"SubsidiaryName\",$C88,\"YearStart\",BP$13))),\"\")","v":""},60,{"$f":"IFERROR(IF(BS88=\".\",\".\",IF(BS88=\"n/a\",\"n/a\",\nGETPIVOTDATA(BT$21 & \"\",PivotTableB!$A$3,\"SchoolName\",$B88,\"SubsidiaryName\",$C88,\"YearStart\",BO$13))),\"\")","v":0},{"$f":"IFERROR(IF(BT88=\".\",\".\",IF(BT88=\"n/a\",\"n/a\",\nGETPIVOTDATA(BU$21 & \"\",PivotTableB!$A$3,\"SchoolName\",$B88,\"SubsidiaryName\",$C88,\"YearStart\",BO$13))),\"\")","v":420},{"$f":"IFERROR(IF($B88=\"\",\"\",\nIF(OR($L88=\"Nursery School\",$L88=\"All-through PRU\",$M88=\"True\"),\"n/a\",\nIF(GETPIVOTDATA(BV$21 & \"\",PivotTableB!$A$3,\"SchoolName\",$B88,\"SubsidiaryName\",$C88,\"YearStart\",BV$13)=\"\",\".\",\nGETPIVOTDATA(BV$21 & \"\",PivotTableB!$A$3,\"SchoolName\",$B88,\"SubsidiaryName\",$C88,\"YearStart\",BV$13)))),\"\")","v":60},{"$f":"IFERROR(IF(BV88=\".\",\".\",IF(BV88=\"n/a\",\"n/a\",\nGETPIVOTDATA(BW$21 & \"\",PivotTableB!$A$3,\"SchoolName\",$B88,\"SubsidiaryName\",$C88,\"YearStart\",BV$13))),\"\")","v":0},{"$f":"IFERROR(IF(BW88=\".\",\".\",IF(BW88=\"n/a\",\"n/a\",\nGETPIVOTDATA(BX$21 & \"\",PivotTableB!$A$3,\"SchoolName\",$B88,\"SubsidiaryName\",$C88,\"YearStart\",BV$13))),\"\")","v":0},{"$f":"IFERROR(IF(BX88=\".\",\".\",IF(BX88=\"n/a\",\"n/a\",\nGETPIVOTDATA(BY$21 & \"\",PivotTableB!$A$3,\"SchoolName\",$B88,\"SubsidiaryName\",$C88,\"YearStart\",BV$13))),\"\")","v":0},60,{"$f":"IFERROR(IF(BZ88=\".\",\".\",IF(BZ88=\"n/a\",\"n/a\",\nGETPIVOTDATA(CA$21 & \"\",PivotTableB!$A$3,\"SchoolName\",$B88,\"SubsidiaryName\",$C88,\"YearStart\",BV$13))),\"\")","v":0},{"$f":"IFERROR(IF(CA88=\".\",\".\",IF(CA88=\"n/a\",\"n/a\",\nGETPIVOTDATA(CB$21 & \"\",PivotTableB!$A$3,\"SchoolName\",$B88,\"SubsidiaryName\",$C88,\"YearStart\",BV$13))),\"\")","v":420}]
[null,{"$f":"IF(PivotTableA!A76=\"\",\"n/a\",PivotTableA!A76)","v":"n/a"},{"$f":"IF(B89=\"n/a\",\"\",PivotTableA!B76)","v":""},{"$f":"IF($B89=\"n/a\",\"\",PivotTableA!C76)","v":""},{"$f":"IF($B89=\"n/a\",\"\",PivotTableA!D76)","v":""},{"$f":"IF($B89=\"n/a\",\"\",PivotTableA!E76)","v":""},{"$f":"IF($B89=\"n/a\",\"\",PivotTableA!F76)","v":""},{"$f":"IF($B89=\"n/a\",\"\",PivotTableA!G76)","v":""},{"$f":"IF($B89=\"n/a\",\"\",PivotTableA!H76)","v":""},{"$f":"IF($B89=\"n/a\",\"\",PivotTableA!I76)","v":""},{"$f":"IF($B89=\"n/a\",\"\",PivotTableA!J76)","v":""},{"$f":"IF($B89=\"n/a\",\"\",PivotTableA!K76)","v":""},{"$f":"IF($B89=\"n/a\",\"\",PivotTableA!O76)","v":""},{"$f":"IF($B89=\"n/a\",\"\",PivotTableA!L76)","v":""},{"$f":"IF($B89=\"n/a\",\"\",PivotTableA!M76)","v":""},{"$f":"IF($B89=\"n/a\",\"\",PivotTableA!N76)","v":""},{"$f":"IFERROR(IF($B89=\"\",\"\",\nIF(OR($L89=\"Nursery School\",$L89=\"All-through PRU\",$M89=\"True\"),\"n/a\",\nIF(GETPIVOTDATA(Q$21 & \"\",PivotTableB!$A$3,\"SchoolName\",$B89,\"SubsidiaryName\",$C89,\"YearStart\",Q$13)=\"\",\".\",\nGETPIVOTDATA(Q$21 & \"\",PivotTableB!$A$3,\"SchoolName\",$B89,\"SubsidiaryName\",$C89,\"YearStart\",Q$13)))),\"\")","v":""},{"$f":"IFERROR(IF(Q89=\".\",\".\",IF(Q89=\"n/a\",\"n/a\",\nGETPIVOTDATA(R$21 & \"\",PivotTableB!$A$3,\"SchoolName\",$B89,\"SubsidiaryName\",$C89,\"YearStart\",Q$13))),\"\")","v":""},{"$f":"IFERROR(IF(R89=\".\",\".\",IF(R89=\"n/a\",\"n/a\",\nGETPIVOTDATA(S$21 & \"\",PivotTableB!$A$3,\"SchoolName\",$B89,\"SubsidiaryName\",$C89,\"YearStart\",Q$13))),\"\")","v":""},0,{"$f":"IFERROR(IF(T89=\".\",\".\",IF(T89=\"n/a\",\"n/a\",\nGETPIVOTDATA(U$21 & \"\",PivotTableB!$A$3,\"SchoolName\",$B89,\"SubsidiaryName\",$C89,\"YearStart\",Q$13))),\"\")","v":""},{"$f":"IFERROR(IF(U89=\".\",\".\",IF(U89=\"n/a\",\"n/a\",\nGETPIVOTDATA(V$21 & \"\",PivotTableB!$A$3,\"SchoolName\",$B89,\"SubsidiaryName\",$C89,\"YearStart\",Q$13))),\"\")","v":""},{"$f":"IFERROR(IF($B89=\"\",\"\",\nIF(OR($L89=\"Nursery School\",$L89=\"All-through PRU\",$M89=\"True\"),\"n/a\",\nIF(GETPIVOTDATA(W$21 & \"\",PivotTableB!$A$3,\"SchoolName\",$B89,\"SubsidiaryName\",$C89,\"YearStart\",W$13)=\"\",\".\",\nGETPIVOTDATA(W$21 & \"\",PivotTableB!$A$3,\"SchoolName\",$B89,\"SubsidiaryName\",$C89,\"YearStart\",W$13)))),\"\")","v":""},{"$f":"IFERROR(IF(W89=\".\",\".\",IF(W89=\"n/a\",\"n/a\",\nGETPIVOTDATA(X$21 & \"\",PivotTableB!$A$3,\"SchoolName\",$B89,\"SubsidiaryName\",$C89,\"YearStart\",W$13))),\"\")","v":""},{"$f":"IFERROR(IF(X89=\".\",\".\",IF(X89=\"n/a\",\"n/a\",\nGETPIVOTDATA(Y$21 & \"\",PivotTableB!$A$3,\"SchoolName\",$B89,\"SubsidiaryName\",$C89,\"YearStart\",W$13))),\"\")","v":""},0,{"$f":"IFERROR(IF(Z89=\".\",\".\",IF(Z89=\"n/a\",\"n/a\",\nGETPIVOTDATA(AA$21 & \"\",PivotTableB!$A$3,\"SchoolName\",$B89,\"SubsidiaryName\",$C89,\"YearStart\",W$13))),\"\")","v":""},{"$f":"IFERROR(IF(AA89=\".\",\".\",IF(AA89=\"n/a\",\"n/a\",\nGETPIVOTDATA(AB$21 & \"\",PivotTableB!$A$3,\"SchoolName\",$B89,\"SubsidiaryName\",$C89,\"YearStart\",W$13))),\"\")","v":""},{"$f":"IFERROR(IF($B89=\"\",\"\",\nIF(OR($L89=\"Nursery School\",$L89=\"All-through PRU\",$M89=\"True\"),\"n/a\",\nIF(GETPIVOTDATA(AC$21 & \"\",PivotTableB!$A$3,\"SchoolName\",$B89,\"SubsidiaryName\",$C89,\"YearStart\",AC$13)=\"\",\".\",\nGETPIVOTDATA(AC$21 & \"\",PivotTableB!$A$3,\"SchoolName\",$B89,\"SubsidiaryName\",$C89,\"YearStart\",AC$13)))),\"\")","v":""},{"$f":"IFERROR(IF(AC89=\".\",\".\",IF(AC89=\"n/a\",\"n/a\",\nGETPIVOTDATA(AD$21 & \"\",PivotTableB!$A$3,\"SchoolName\",$B89,\"SubsidiaryName\",$C89,\"YearStart\",AC$13))),\"\")","v":""},{"$f":"IFERROR(IF(AD89=\".\",\".\",IF(AD89=\"n/a\",\"n/a\",\nGETPIVOTDATA(AE$21 & \"\",PivotTableB!$A$3,\"SchoolName\",$B89,\"SubsidiaryName\",$C89,\"YearStart\",AC$13))),\"\")","v":""},0,{"$f":"IFERROR(IF(AF89=\".\",\".\",IF(AF89=\"n/a\",\"n/a\",\nGETPIVOTDATA(AG$21 & \"\",PivotTableB!$A$3,\"SchoolName\",$B89,\"SubsidiaryName\",$C89,\"YearStart\",AC$13))),\"\")","v":""},{"$f":"IFERROR(IF(AG89=\".\",\".\",IF(AG89=\"n/a\",\"n/a\",\nGETPIVOTDATA(AH$21 & \"\",PivotTableB!$A$3,\"SchoolName\",$B89,\"SubsidiaryName\",$C89,\"YearStart\",AC$13))),\"\")","v":""},{"$f":"IFERROR(IF($B89=\"\",\"\",\nIF(OR($L89=\"Nursery School\",$L89=\"All-through PRU\",$M89=\"True\"),\"n/a\",\nIF(GETPIVOTDATA(AI$21 & \"\",PivotTableB!$A$3,\"SchoolName\",$B89,\"SubsidiaryName\",$C89,\"YearStart\",AI$13)=\"\",\".\",\nGETPIVOTDATA(AI$21 & \"\",PivotTableB!$A$3,\"SchoolName\",$B89,\"SubsidiaryName\",$C89,\"YearStart\",AI$13)))),\"\")","v":""},{"$f":"IFERROR(IF(AI89=\".\",\".\",IF(AI89=\"n/a\",\"n/a\",\nGETPIVOTDATA(AJ$21 & \"\",PivotTableB!$A$3,\"SchoolName\",$B89,\"SubsidiaryName\",$C89,\"YearStart\",AI$13))),\"\")","v":""},{"$f":"IFERROR(IF(AJ89=\".\",\".\",IF(AJ89=\"n/a\",\"n/a\",\nGETPIVOTDATA(AK$21 & \"\",PivotTableB!$A$3,\"SchoolName\",$B89,\"SubsidiaryName\",$C89,\"YearStart\",AI$13))),\"\")","v":""},0,{"$f":"IFERROR(IF(AL89=\".\",\".\",IF(AL89=\"n/a\",\"n/a\",\nGETPIVOTDATA(AM$21 & \"\",PivotTableB!$A$3,\"SchoolName\",$B89,\"SubsidiaryName\",$C89,\"YearStart\",AI$13))),\"\")","v":""},{"$f":"IFERROR(IF(AM89=\".\",\".\",IF(AM89=\"n/a\",\"n/a\",\nGETPIVOTDATA(AN$21 & \"\",PivotTableB!$A$3,\"SchoolName\",$B89,\"SubsidiaryName\",$C89,\"YearStart\",AI$13))),\"\")","v":""},{"$f":"IFERROR(IF($B89=\"\",\"\",\nIF(OR($L89=\"Nursery School\",$L89=\"All-through PRU\",$M89=\"True\"),\"n/a\",\nIF(GETPIVOTDATA(AO$21 & \"\",PivotTableB!$A$3,\"SchoolName\",$B89,\"SubsidiaryName\",$C89,\"YearStart\",AO$13)=\"\",\".\",\nGETPIVOTDATA(AO$21 & \"\",PivotTableB!$A$3,\"SchoolName\",$B89,\"SubsidiaryName\",$C89,\"YearStart\",AO$13)))),\"\")","v":""},{"$f":"IFERROR(IF(AO89=\".\",\".\",IF(AO89=\"n/a\",\"n/a\",\nGETPIVOTDATA(AP$21 & \"\",PivotTableB!$A$3,\"SchoolName\",$B89,\"SubsidiaryName\",$C89,\"YearStart\",AO$13))),\"\")","v":""},{"$f":"IFERROR(IF(AP89=\".\",\".\",IF(AP89=\"n/a\",\"n/a\",\nGETPIVOTDATA(AQ$21 & \"\",PivotTableB!$A$3,\"SchoolName\",$B89,\"SubsidiaryName\",$C89,\"YearStart\",AO$13))),\"\")","v":""},0,{"$f":"IFERROR(IF(AR89=\".\",\".\",IF(AR89=\"n/a\",\"n/a\",\nGETPIVOTDATA(AS$21 & \"\",PivotTableB!$A$3,\"SchoolName\",$B89,\"SubsidiaryName\",$C89,\"YearStart\",AO$13))),\"\")","v":""},{"$f":"IFERROR(IF(AS89=\".\",\".\",IF(AS89=\"n/a\",\"n/a\",\nGETPIVOTDATA(AT$21 & \"\",PivotTableB!$A$3,\"SchoolName\",$B89,\"SubsidiaryName\",$C89,\"YearStart\",AO$13))),\"\")","v":""},{"$f":"IFERROR(IF($B89=\"\",\"\",\nIF(OR($L89=\"Nursery School\",$L89=\"All-through PRU\",$M89=\"True\"),\"n/a\",\nIF(GETPIVOTDATA(AU$21 & \"\",PivotTableB!$A$3,\"SchoolName\",$B89,\"SubsidiaryName\",$C89,\"YearStart\",AU$13)=\"\",\".\",\nGETPIVOTDATA(AU$21 & \"\",PivotTableB!$A$3,\"SchoolName\",$B89,\"SubsidiaryName\",$C89,\"YearStart\",AU$13)))),\"\")","v":""},{"$f":"IFERROR(IF(AU89=\".\",\".\",IF(AU89=\"n/a\",\"n/a\",\nGETPIVOTDATA(AV$21 & \"\",PivotTableB!$A$3,\"SchoolName\",$B89,\"SubsidiaryName\",$C89,\"YearStart\",AU$13))),\"\")","v":""},{"$f":"IFERROR(IF(AV89=\".\",\".\",IF(AV89=\"n/a\",\"n/a\",\nGETPIVOTDATA(AW$21 & \"\",PivotTableB!$A$3,\"SchoolName\",$B89,\"SubsidiaryName\",$C89,\"YearStart\",AU$13))),\"\")","v":""},0,{"$f":"IFERROR(IF(AX89=\".\",\".\",IF(AX89=\"n/a\",\"n/a\",\nGETPIVOTDATA(AY$21 & \"\",PivotTableB!$A$3,\"SchoolName\",$B89,\"SubsidiaryName\",$C89,\"YearStart\",AU$13))),\"\")","v":""},{"$f":"IFERROR(IF(AY89=\".\",\".\",IF(AY89=\"n/a\",\"n/a\",\nGETPIVOTDATA(AZ$21 & \"\",PivotTableB!$A$3,\"SchoolName\",$B89,\"SubsidiaryName\",$C89,\"YearStart\",AU$13))),\"\")","v":""},{"$f":"IFERROR(IF($B89=\"\",\"\",\nIF(OR($L89=\"Nursery School\",$L89=\"All-through PRU\",$M89=\"True\"),\"n/a\",\nIF(GETPIVOTDATA(BA$21 & \"\",PivotTableB!$A$3,\"SchoolName\",$B89,\"SubsidiaryName\",$C89,\"YearStart\",BA$13)=\"\",\".\",\nGETPIVOTDATA(BA$21 & \"\",PivotTableB!$A$3,\"SchoolName\",$B89,\"SubsidiaryName\",$C89,\"YearStart\",BA$13)))),\"\")","v":""},{"$f":"IFERROR(IF(BA89=\".\",\".\",IF(BA89=\"n/a\",\"n/a\",\nGETPIVOTDATA(BB$21 & \"\",PivotTableB!$A$3,\"SchoolName\",$B89,\"SubsidiaryName\",$C89,\"YearStart\",BA$13))),\"\")","v":""},{"$f":"IFERROR(IF(BB89=\".\",\".\",IF(BB89=\"n/a\",\"n/a\",\nGETPIVOTDATA(BC$21 & \"\",PivotTableB!$A$3,\"SchoolName\",$B89,\"SubsidiaryName\",$C89,\"YearStart\",BA$13))),\"\")","v":""},{"$f":"IFERROR(IF(BC89=\".\",\".\",IF(BC89=\"n/a\",\"n/a\",\nGETPIVOTDATA(BD$21 & \"\",PivotTableB!$A$3,\"SchoolName\",$B89,\"SubsidiaryName\",$C89,\"YearStart\",BB$13))),\"\")","v":""},0,{"$f":"IFERROR(IF(BE89=\".\",\".\",IF(BE89=\"n/a\",\"n/a\",\nGETPIVOTDATA(BF$21 & \"\",PivotTableB!$A$3,\"SchoolName\",$B89,\"SubsidiaryName\",$C89,\"YearStart\",BA$13))),\"\")","v":""},{"$f":"IFERROR(IF(BF89=\".\",\".\",IF(BF89=\"n/a\",\"n/a\",\nGETPIVOTDATA(BG$21 & \"\",PivotTableB!$A$3,\"SchoolName\",$B89,\"SubsidiaryName\",$C89,\"YearStart\",BA$13))),\"\")","v":""},{"$f":"IFERROR(IF($B89=\"\",\"\",\nIF(OR($L89=\"Nursery School\",$L89=\"All-through PRU\",$M89=\"True\"),\"n/a\",\nIF(GETPIVOTDATA(BH$21 & \"\",PivotTableB!$A$3,\"SchoolName\",$B89,\"SubsidiaryName\",$C89,\"YearStart\",BH$13)=\"\",\".\",\nGETPIVOTDATA(BH$21 & \"\",PivotTableB!$A$3,\"SchoolName\",$B89,\"SubsidiaryName\",$C89,\"YearStart\",BH$13)))),\"\")","v":""},{"$f":"IFERROR(IF(BH89=\".\",\".\",IF(BH89=\"n/a\",\"n/a\",\nGETPIVOTDATA(BI$21 & \"\",PivotTableB!$A$3,\"SchoolName\",$B89,\"SubsidiaryName\",$C89,\"YearStart\",BH$13))),\"\")","v":""},{"$f":"IFERROR(IF(BI89=\".\",\".\",IF(BI89=\"n/a\",\"n/a\",\nGETPIVOTDATA(BJ$21 & \"\",PivotTableB!$A$3,\"SchoolName\",$B89,\"SubsidiaryName\",$C89,\"YearStart\",BH$13))),\"\")","v":""},{"$f":"IFERROR(IF(BJ89=\".\",\".\",IF(BJ89=\"n/a\",\"n/a\",\nGETPIVOTDATA(BK$21 & \"\",PivotTableB!$A$3,\"SchoolName\",$B89,\"SubsidiaryName\",$C89,\"YearStart\",BH$13))),\"\")","v":""},0,{"$f":"IFERROR(IF(BL89=\".\",\".\",IF(BL89=\"n/a\",\"n/a\",\nGETPIVOTDATA(BM$21 & \"\",PivotTableB!$A$3,\"SchoolName\",$B89,\"SubsidiaryName\",$C89,\"YearStart\",BH$13))),\"\")","v":""},{"$f":"IFERROR(IF(BM89=\".\",\".\",IF(BM89=\"n/a\",\"n/a\",\nGETPIVOTDATA(BN$21 & \"\",PivotTableB!$A$3,\"SchoolName\",$B89,\"SubsidiaryName\",$C89,\"YearStart\",BH$13))),\"\")","v":""},{"$f":"IFERROR(IF($B89=\"\",\"\",\nIF(OR($L89=\"Nursery School\",$L89=\"All-through PRU\",$M89=\"True\"),\"n/a\",\nIF(GETPIVOTDATA(BO$21 & \"\",PivotTableB!$A$3,\"SchoolName\",$B89,\"SubsidiaryName\",$C89,\"YearStart\",BO$13)=\"\",\".\",\nGETPIVOTDATA(BO$21 & \"\",PivotTableB!$A$3,\"SchoolName\",$B89,\"SubsidiaryName\",$C89,\"YearStart\",BO$13)))),\"\")","v":""},{"$f":"IFERROR(IF(BO89=\".\",\".\",IF(BO89=\"n/a\",\"n/a\",\nGETPIVOTDATA(BP$21 & \"\",PivotTableB!$A$3,\"SchoolName\",$B89,\"SubsidiaryName\",$C89,\"YearStart\",BO$13))),\"\")","v":""},{"$f":"IFERROR(IF(BP89=\".\",\".\",IF(BP89=\"n/a\",\"n/a\",\nGETPIVOTDATA(BQ$21 & \"\",PivotTableB!$A$3,\"SchoolName\",$B89,\"SubsidiaryName\",$C89,\"YearStart\",BO$13))),\"\")","v":""},{"$f":"IFERROR(IF(BQ89=\".\",\".\",IF(BQ89=\"n/a\",\"n/a\",\nGETPIVOTDATA(BR$21 & \"\",PivotTableB!$A$3,\"SchoolName\",$B89,\"SubsidiaryName\",$C89,\"YearStart\",BP$13))),\"\")","v":""},0,{"$f":"IFERROR(IF(BS89=\".\",\".\",IF(BS89=\"n/a\",\"n/a\",\nGETPIVOTDATA(BT$21 & \"\",PivotTableB!$A$3,\"SchoolName\",$B89,\"SubsidiaryName\",$C89,\"YearStart\",BO$13))),\"\")","v":""},{"$f":"IFERROR(IF(BT89=\".\",\".\",IF(BT89=\"n/a\",\"n/a\",\nGETPIVOTDATA(BU$21 & \"\",PivotTableB!$A$3,\"SchoolName\",$B89,\"SubsidiaryName\",$C89,\"YearStart\",BO$13))),\"\")","v":""},{"$f":"IFERROR(IF($B89=\"\",\"\",\nIF(OR($L89=\"Nursery School\",$L89=\"All-through PRU\",$M89=\"True\"),\"n/a\",\nIF(GETPIVOTDATA(BV$21 & \"\",PivotTableB!$A$3,\"SchoolName\",$B89,\"SubsidiaryName\",$C89,\"YearStart\",BV$13)=\"\",\".\",\nGETPIVOTDATA(BV$21 & \"\",PivotTableB!$A$3,\"SchoolName\",$B89,\"SubsidiaryName\",$C89,\"YearStart\",BV$13)))),\"\")","v":""},{"$f":"IFERROR(IF(BV89=\".\",\".\",IF(BV89=\"n/a\",\"n/a\",\nGETPIVOTDATA(BW$21 & \"\",PivotTableB!$A$3,\"SchoolName\",$B89,\"SubsidiaryName\",$C89,\"YearStart\",BV$13))),\"\")","v":""},{"$f":"IFERROR(IF(BW89=\".\",\".\",IF(BW89=\"n/a\",\"n/a\",\nGETPIVOTDATA(BX$21 & \"\",PivotTableB!$A$3,\"SchoolName\",$B89,\"SubsidiaryName\",$C89,\"YearStart\",BV$13))),\"\")","v":""},{"$f":"IFERROR(IF(BX89=\".\",\".\",IF(BX89=\"n/a\",\"n/a\",\nGETPIVOTDATA(BY$21 & \"\",PivotTableB!$A$3,\"SchoolName\",$B89,\"SubsidiaryName\",$C89,\"YearStart\",BV$13))),\"\")","v":""},0,{"$f":"IFERROR(IF(BZ89=\".\",\".\",IF(BZ89=\"n/a\",\"n/a\",\nGETPIVOTDATA(CA$21 & \"\",PivotTableB!$A$3,\"SchoolName\",$B89,\"SubsidiaryName\",$C89,\"YearStart\",BV$13))),\"\")","v":""},{"$f":"IFERROR(IF(CA89=\".\",\".\",IF(CA89=\"n/a\",\"n/a\",\nGETPIVOTDATA(CB$21 & \"\",PivotTableB!$A$3,\"SchoolName\",$B89,\"SubsidiaryName\",$C89,\"YearStart\",BV$13))),\"\")","v":""}]
[null,{"$f":"IF(PivotTableA!A77=\"\",\"n/a\",PivotTableA!A77)","v":"n/a"},{"$f":"IF(B90=\"n/a\",\"\",PivotTableA!B77)","v":""},{"$f":"IF($B90=\"n/a\",\"\",PivotTableA!C77)","v":""},{"$f":"IF($B90=\"n/a\",\"\",PivotTableA!D77)","v":""},{"$f":"IF($B90=\"n/a\",\"\",PivotTableA!E77)","v":""},{"$f":"IF($B90=\"n/a\",\"\",PivotTableA!F77)","v":""},{"$f":"IF($B90=\"n/a\",\"\",PivotTableA!G77)","v":""},{"$f":"IF($B90=\"n/a\",\"\",PivotTableA!H77)","v":""},{"$f":"IF($B90=\"n/a\",\"\",PivotTableA!I77)","v":""},{"$f":"IF($B90=\"n/a\",\"\",PivotTableA!J77)","v":""},{"$f":"IF($B90=\"n/a\",\"\",PivotTableA!K77)","v":""},{"$f":"IF($B90=\"n/a\",\"\",PivotTableA!O77)","v":""},{"$f":"IF($B90=\"n/a\",\"\",PivotTableA!L77)","v":""},{"$f":"IF($B90=\"n/a\",\"\",PivotTableA!M77)","v":""},{"$f":"IF($B90=\"n/a\",\"\",PivotTableA!N77)","v":""},{"$f":"IFERROR(IF($B90=\"\",\"\",\nIF(OR($L90=\"Nursery School\",$L90=\"All-through PRU\",$M90=\"True\"),\"n/a\",\nIF(GETPIVOTDATA(Q$21 & \"\",PivotTableB!$A$3,\"SchoolName\",$B90,\"SubsidiaryName\",$C90,\"YearStart\",Q$13)=\"\",\".\",\nGETPIVOTDATA(Q$21 & \"\",PivotTableB!$A$3,\"SchoolName\",$B90,\"SubsidiaryName\",$C90,\"YearStart\",Q$13)))),\"\")","v":""},{"$f":"IFERROR(IF(Q90=\".\",\".\",IF(Q90=\"n/a\",\"n/a\",\nGETPIVOTDATA(R$21 & \"\",PivotTableB!$A$3,\"SchoolName\",$B90,\"SubsidiaryName\",$C90,\"YearStart\",Q$13))),\"\")","v":""},{"$f":"IFERROR(IF(R90=\".\",\".\",IF(R90=\"n/a\",\"n/a\",\nGETPIVOTDATA(S$21 & \"\",PivotTableB!$A$3,\"SchoolName\",$B90,\"SubsidiaryName\",$C90,\"YearStart\",Q$13))),\"\")","v":""},0,{"$f":"IFERROR(IF(T90=\".\",\".\",IF(T90=\"n/a\",\"n/a\",\nGETPIVOTDATA(U$21 & \"\",PivotTableB!$A$3,\"SchoolName\",$B90,\"SubsidiaryName\",$C90,\"YearStart\",Q$13))),\"\")","v":""},{"$f":"IFERROR(IF(U90=\".\",\".\",IF(U90=\"n/a\",\"n/a\",\nGETPIVOTDATA(V$21 & \"\",PivotTableB!$A$3,\"SchoolName\",$B90,\"SubsidiaryName\",$C90,\"YearStart\",Q$13))),\"\")","v":""},{"$f":"IFERROR(IF($B90=\"\",\"\",\nIF(OR($L90=\"Nursery School\",$L90=\"All-through PRU\",$M90=\"True\"),\"n/a\",\nIF(GETPIVOTDATA(W$21 & \"\",PivotTableB!$A$3,\"SchoolName\",$B90,\"SubsidiaryName\",$C90,\"YearStart\",W$13)=\"\",\".\",\nGETPIVOTDATA(W$21 & \"\",PivotTableB!$A$3,\"SchoolName\",$B90,\"SubsidiaryName\",$C90,\"YearStart\",W$13)))),\"\")","v":""},{"$f":"IFERROR(IF(W90=\".\",\".\",IF(W90=\"n/a\",\"n/a\",\nGETPIVOTDATA(X$21 & \"\",PivotTableB!$A$3,\"SchoolName\",$B90,\"SubsidiaryName\",$C90,\"YearStart\",W$13))),\"\")","v":""},{"$f":"IFERROR(IF(X90=\".\",\".\",IF(X90=\"n/a\",\"n/a\",\nGETPIVOTDATA(Y$21 & \"\",PivotTableB!$A$3,\"SchoolName\",$B90,\"SubsidiaryName\",$C90,\"YearStart\",W$13))),\"\")","v":""},0,{"$f":"IFERROR(IF(Z90=\".\",\".\",IF(Z90=\"n/a\",\"n/a\",\nGETPIVOTDATA(AA$21 & \"\",PivotTableB!$A$3,\"SchoolName\",$B90,\"SubsidiaryName\",$C90,\"YearStart\",W$13))),\"\")","v":""},{"$f":"IFERROR(IF(AA90=\".\",\".\",IF(AA90=\"n/a\",\"n/a\",\nGETPIVOTDATA(AB$21 & \"\",PivotTableB!$A$3,\"SchoolName\",$B90,\"SubsidiaryName\",$C90,\"YearStart\",W$13))),\"\")","v":""},{"$f":"IFERROR(IF($B90=\"\",\"\",\nIF(OR($L90=\"Nursery School\",$L90=\"All-through PRU\",$M90=\"True\"),\"n/a\",\nIF(GETPIVOTDATA(AC$21 & \"\",PivotTableB!$A$3,\"SchoolName\",$B90,\"SubsidiaryName\",$C90,\"YearStart\",AC$13)=\"\",\".\",\nGETPIVOTDATA(AC$21 & \"\",PivotTableB!$A$3,\"SchoolName\",$B90,\"SubsidiaryName\",$C90,\"YearStart\",AC$13)))),\"\")","v":""},{"$f":"IFERROR(IF(AC90=\".\",\".\",IF(AC90=\"n/a\",\"n/a\",\nGETPIVOTDATA(AD$21 & \"\",PivotTableB!$A$3,\"SchoolName\",$B90,\"SubsidiaryName\",$C90,\"YearStart\",AC$13))),\"\")","v":""},{"$f":"IFERROR(IF(AD90=\".\",\".\",IF(AD90=\"n/a\",\"n/a\",\nGETPIVOTDATA(AE$21 & \"\",PivotTableB!$A$3,\"SchoolName\",$B90,\"SubsidiaryName\",$C90,\"YearStart\",AC$13))),\"\")","v":""},0,{"$f":"IFERROR(IF(AF90=\".\",\".\",IF(AF90=\"n/a\",\"n/a\",\nGETPIVOTDATA(AG$21 & \"\",PivotTableB!$A$3,\"SchoolName\",$B90,\"SubsidiaryName\",$C90,\"YearStart\",AC$13))),\"\")","v":""},{"$f":"IFERROR(IF(AG90=\".\",\".\",IF(AG90=\"n/a\",\"n/a\",\nGETPIVOTDATA(AH$21 & \"\",PivotTableB!$A$3,\"SchoolName\",$B90,\"SubsidiaryName\",$C90,\"YearStart\",AC$13))),\"\")","v":""},{"$f":"IFERROR(IF($B90=\"\",\"\",\nIF(OR($L90=\"Nursery School\",$L90=\"All-through PRU\",$M90=\"True\"),\"n/a\",\nIF(GETPIVOTDATA(AI$21 & \"\",PivotTableB!$A$3,\"SchoolName\",$B90,\"SubsidiaryName\",$C90,\"YearStart\",AI$13)=\"\",\".\",\nGETPIVOTDATA(AI$21 & \"\",PivotTableB!$A$3,\"SchoolName\",$B90,\"SubsidiaryName\",$C90,\"YearStart\",AI$13)))),\"\")","v":""},{"$f":"IFERROR(IF(AI90=\".\",\".\",IF(AI90=\"n/a\",\"n/a\",\nGETPIVOTDATA(AJ$21 & \"\",PivotTableB!$A$3,\"SchoolName\",$B90,\"SubsidiaryName\",$C90,\"YearStart\",AI$13))),\"\")","v":""},{"$f":"IFERROR(IF(AJ90=\".\",\".\",IF(AJ90=\"n/a\",\"n/a\",\nGETPIVOTDATA(AK$21 & \"\",PivotTableB!$A$3,\"SchoolName\",$B90,\"SubsidiaryName\",$C90,\"YearStart\",AI$13))),\"\")","v":""},0,{"$f":"IFERROR(IF(AL90=\".\",\".\",IF(AL90=\"n/a\",\"n/a\",\nGETPIVOTDATA(AM$21 & \"\",PivotTableB!$A$3,\"SchoolName\",$B90,\"SubsidiaryName\",$C90,\"YearStart\",AI$13))),\"\")","v":""},{"$f":"IFERROR(IF(AM90=\".\",\".\",IF(AM90=\"n/a\",\"n/a\",\nGETPIVOTDATA(AN$21 & \"\",PivotTableB!$A$3,\"SchoolName\",$B90,\"SubsidiaryName\",$C90,\"YearStart\",AI$13))),\"\")","v":""},{"$f":"IFERROR(IF($B90=\"\",\"\",\nIF(OR($L90=\"Nursery School\",$L90=\"All-through PRU\",$M90=\"True\"),\"n/a\",\nIF(GETPIVOTDATA(AO$21 & \"\",PivotTableB!$A$3,\"SchoolName\",$B90,\"SubsidiaryName\",$C90,\"YearStart\",AO$13)=\"\",\".\",\nGETPIVOTDATA(AO$21 & \"\",PivotTableB!$A$3,\"SchoolName\",$B90,\"SubsidiaryName\",$C90,\"YearStart\",AO$13)))),\"\")","v":""},{"$f":"IFERROR(IF(AO90=\".\",\".\",IF(AO90=\"n/a\",\"n/a\",\nGETPIVOTDATA(AP$21 & \"\",PivotTableB!$A$3,\"SchoolName\",$B90,\"SubsidiaryName\",$C90,\"YearStart\",AO$13))),\"\")","v":""},{"$f":"IFERROR(IF(AP90=\".\",\".\",IF(AP90=\"n/a\",\"n/a\",\nGETPIVOTDATA(AQ$21 & \"\",PivotTableB!$A$3,\"SchoolName\",$B90,\"SubsidiaryName\",$C90,\"YearStart\",AO$13))),\"\")","v":""},0,{"$f":"IFERROR(IF(AR90=\".\",\".\",IF(AR90=\"n/a\",\"n/a\",\nGETPIVOTDATA(AS$21 & \"\",PivotTableB!$A$3,\"SchoolName\",$B90,\"SubsidiaryName\",$C90,\"YearStart\",AO$13))),\"\")","v":""},{"$f":"IFERROR(IF(AS90=\".\",\".\",IF(AS90=\"n/a\",\"n/a\",\nGETPIVOTDATA(AT$21 & \"\",PivotTableB!$A$3,\"SchoolName\",$B90,\"SubsidiaryName\",$C90,\"YearStart\",AO$13))),\"\")","v":""},{"$f":"IFERROR(IF($B90=\"\",\"\",\nIF(OR($L90=\"Nursery School\",$L90=\"All-through PRU\",$M90=\"True\"),\"n/a\",\nIF(GETPIVOTDATA(AU$21 & \"\",PivotTableB!$A$3,\"SchoolName\",$B90,\"SubsidiaryName\",$C90,\"YearStart\",AU$13)=\"\",\".\",\nGETPIVOTDATA(AU$21 & \"\",PivotTableB!$A$3,\"SchoolName\",$B90,\"SubsidiaryName\",$C90,\"YearStart\",AU$13)))),\"\")","v":""},{"$f":"IFERROR(IF(AU90=\".\",\".\",IF(AU90=\"n/a\",\"n/a\",\nGETPIVOTDATA(AV$21 & \"\",PivotTableB!$A$3,\"SchoolName\",$B90,\"SubsidiaryName\",$C90,\"YearStart\",AU$13))),\"\")","v":""},{"$f":"IFERROR(IF(AV90=\".\",\".\",IF(AV90=\"n/a\",\"n/a\",\nGETPIVOTDATA(AW$21 & \"\",PivotTableB!$A$3,\"SchoolName\",$B90,\"SubsidiaryName\",$C90,\"YearStart\",AU$13))),\"\")","v":""},0,{"$f":"IFERROR(IF(AX90=\".\",\".\",IF(AX90=\"n/a\",\"n/a\",\nGETPIVOTDATA(AY$21 & \"\",PivotTableB!$A$3,\"SchoolName\",$B90,\"SubsidiaryName\",$C90,\"YearStart\",AU$13))),\"\")","v":""},{"$f":"IFERROR(IF(AY90=\".\",\".\",IF(AY90=\"n/a\",\"n/a\",\nGETPIVOTDATA(AZ$21 & \"\",PivotTableB!$A$3,\"SchoolName\",$B90,\"SubsidiaryName\",$C90,\"YearStart\",AU$13))),\"\")","v":""},{"$f":"IFERROR(IF($B90=\"\",\"\",\nIF(OR($L90=\"Nursery School\",$L90=\"All-through PRU\",$M90=\"True\"),\"n/a\",\nIF(GETPIVOTDATA(BA$21 & \"\",PivotTableB!$A$3,\"SchoolName\",$B90,\"SubsidiaryName\",$C90,\"YearStart\",BA$13)=\"\",\".\",\nGETPIVOTDATA(BA$21 & \"\",PivotTableB!$A$3,\"SchoolName\",$B90,\"SubsidiaryName\",$C90,\"YearStart\",BA$13)))),\"\")","v":""},{"$f":"IFERROR(IF(BA90=\".\",\".\",IF(BA90=\"n/a\",\"n/a\",\nGETPIVOTDATA(BB$21 & \"\",PivotTableB!$A$3,\"SchoolName\",$B90,\"SubsidiaryName\",$C90,\"YearStart\",BA$13))),\"\")","v":""},{"$f":"IFERROR(IF(BB90=\".\",\".\",IF(BB90=\"n/a\",\"n/a\",\nGETPIVOTDATA(BC$21 & \"\",PivotTableB!$A$3,\"SchoolName\",$B90,\"SubsidiaryName\",$C90,\"YearStart\",BA$13))),\"\")","v":""},{"$f":"IFERROR(IF(BC90=\".\",\".\",IF(BC90=\"n/a\",\"n/a\",\nGETPIVOTDATA(BD$21 & \"\",PivotTableB!$A$3,\"SchoolName\",$B90,\"SubsidiaryName\",$C90,\"YearStart\",BB$13))),\"\")","v":""},0,{"$f":"IFERROR(IF(BE90=\".\",\".\",IF(BE90=\"n/a\",\"n/a\",\nGETPIVOTDATA(BF$21 & \"\",PivotTableB!$A$3,\"SchoolName\",$B90,\"SubsidiaryName\",$C90,\"YearStart\",BA$13))),\"\")","v":""},{"$f":"IFERROR(IF(BF90=\".\",\".\",IF(BF90=\"n/a\",\"n/a\",\nGETPIVOTDATA(BG$21 & \"\",PivotTableB!$A$3,\"SchoolName\",$B90,\"SubsidiaryName\",$C90,\"YearStart\",BA$13))),\"\")","v":""},{"$f":"IFERROR(IF($B90=\"\",\"\",\nIF(OR($L90=\"Nursery School\",$L90=\"All-through PRU\",$M90=\"True\"),\"n/a\",\nIF(GETPIVOTDATA(BH$21 & \"\",PivotTableB!$A$3,\"SchoolName\",$B90,\"SubsidiaryName\",$C90,\"YearStart\",BH$13)=\"\",\".\",\nGETPIVOTDATA(BH$21 & \"\",PivotTableB!$A$3,\"SchoolName\",$B90,\"SubsidiaryName\",$C90,\"YearStart\",BH$13)))),\"\")","v":""},{"$f":"IFERROR(IF(BH90=\".\",\".\",IF(BH90=\"n/a\",\"n/a\",\nGETPIVOTDATA(BI$21 & \"\",PivotTableB!$A$3,\"SchoolName\",$B90,\"SubsidiaryName\",$C90,\"YearStart\",BH$13))),\"\")","v":""},{"$f":"IFERROR(IF(BI90=\".\",\".\",IF(BI90=\"n/a\",\"n/a\",\nGETPIVOTDATA(BJ$21 & \"\",PivotTableB!$A$3,\"SchoolName\",$B90,\"SubsidiaryName\",$C90,\"YearStart\",BH$13))),\"\")","v":""},{"$f":"IFERROR(IF(BJ90=\".\",\".\",IF(BJ90=\"n/a\",\"n/a\",\nGETPIVOTDATA(BK$21 & \"\",PivotTableB!$A$3,\"SchoolName\",$B90,\"SubsidiaryName\",$C90,\"YearStart\",BH$13))),\"\")","v":""},0,{"$f":"IFERROR(IF(BL90=\".\",\".\",IF(BL90=\"n/a\",\"n/a\",\nGETPIVOTDATA(BM$21 & \"\",PivotTableB!$A$3,\"SchoolName\",$B90,\"SubsidiaryName\",$C90,\"YearStart\",BH$13))),\"\")","v":""},{"$f":"IFERROR(IF(BM90=\".\",\".\",IF(BM90=\"n/a\",\"n/a\",\nGETPIVOTDATA(BN$21 & \"\",PivotTableB!$A$3,\"SchoolName\",$B90,\"SubsidiaryName\",$C90,\"YearStart\",BH$13))),\"\")","v":""},{"$f":"IFERROR(IF($B90=\"\",\"\",\nIF(OR($L90=\"Nursery School\",$L90=\"All-through PRU\",$M90=\"True\"),\"n/a\",\nIF(GETPIVOTDATA(BO$21 & \"\",PivotTableB!$A$3,\"SchoolName\",$B90,\"SubsidiaryName\",$C90,\"YearStart\",BO$13)=\"\",\".\",\nGETPIVOTDATA(BO$21 & \"\",PivotTableB!$A$3,\"SchoolName\",$B90,\"SubsidiaryName\",$C90,\"YearStart\",BO$13)))),\"\")","v":""},{"$f":"IFERROR(IF(BO90=\".\",\".\",IF(BO90=\"n/a\",\"n/a\",\nGETPIVOTDATA(BP$21 & \"\",PivotTableB!$A$3,\"SchoolName\",$B90,\"SubsidiaryName\",$C90,\"YearStart\",BO$13))),\"\")","v":""},{"$f":"IFERROR(IF(BP90=\".\",\".\",IF(BP90=\"n/a\",\"n/a\",\nGETPIVOTDATA(BQ$21 & \"\",PivotTableB!$A$3,\"SchoolName\",$B90,\"SubsidiaryName\",$C90,\"YearStart\",BO$13))),\"\")","v":""},{"$f":"IFERROR(IF(BQ90=\".\",\".\",IF(BQ90=\"n/a\",\"n/a\",\nGETPIVOTDATA(BR$21 & \"\",PivotTableB!$A$3,\"SchoolName\",$B90,\"SubsidiaryName\",$C90,\"YearStart\",BP$13))),\"\")","v":""},0,{"$f":"IFERROR(IF(BS90=\".\",\".\",IF(BS90=\"n/a\",\"n/a\",\nGETPIVOTDATA(BT$21 & \"\",PivotTableB!$A$3,\"SchoolName\",$B90,\"SubsidiaryName\",$C90,\"YearStart\",BO$13))),\"\")","v":""},{"$f":"IFERROR(IF(BT90=\".\",\".\",IF(BT90=\"n/a\",\"n/a\",\nGETPIVOTDATA(BU$21 & \"\",PivotTableB!$A$3,\"SchoolName\",$B90,\"SubsidiaryName\",$C90,\"YearStart\",BO$13))),\"\")","v":""},{"$f":"IFERROR(IF($B90=\"\",\"\",\nIF(OR($L90=\"Nursery School\",$L90=\"All-through PRU\",$M90=\"True\"),\"n/a\",\nIF(GETPIVOTDATA(BV$21 & \"\",PivotTableB!$A$3,\"SchoolName\",$B90,\"SubsidiaryName\",$C90,\"YearStart\",BV$13)=\"\",\".\",\nGETPIVOTDATA(BV$21 & \"\",PivotTableB!$A$3,\"SchoolName\",$B90,\"SubsidiaryName\",$C90,\"YearStart\",BV$13)))),\"\")","v":""},{"$f":"IFERROR(IF(BV90=\".\",\".\",IF(BV90=\"n/a\",\"n/a\",\nGETPIVOTDATA(BW$21 & \"\",PivotTableB!$A$3,\"SchoolName\",$B90,\"SubsidiaryName\",$C90,\"YearStart\",BV$13))),\"\")","v":""},{"$f":"IFERROR(IF(BW90=\".\",\".\",IF(BW90=\"n/a\",\"n/a\",\nGETPIVOTDATA(BX$21 & \"\",PivotTableB!$A$3,\"SchoolName\",$B90,\"SubsidiaryName\",$C90,\"YearStart\",BV$13))),\"\")","v":""},{"$f":"IFERROR(IF(BX90=\".\",\".\",IF(BX90=\"n/a\",\"n/a\",\nGETPIVOTDATA(BY$21 & \"\",PivotTableB!$A$3,\"SchoolName\",$B90,\"SubsidiaryName\",$C90,\"YearStart\",BV$13))),\"\")","v":""},0,{"$f":"IFERROR(IF(BZ90=\".\",\".\",IF(BZ90=\"n/a\",\"n/a\",\nGETPIVOTDATA(CA$21 & \"\",PivotTableB!$A$3,\"SchoolName\",$B90,\"SubsidiaryName\",$C90,\"YearStart\",BV$13))),\"\")","v":""},{"$f":"IFERROR(IF(CA90=\".\",\".\",IF(CA90=\"n/a\",\"n/a\",\nGETPIVOTDATA(CB$21 & \"\",PivotTableB!$A$3,\"SchoolName\",$B90,\"SubsidiaryName\",$C90,\"YearStart\",BV$13))),\"\")","v":""}]
[null,{"$f":"IF(PivotTableA!A78=\"\",\"n/a\",PivotTableA!A78)","v":"n/a"},{"$f":"IF(B91=\"n/a\",\"\",PivotTableA!B78)","v":""},{"$f":"IF($B91=\"n/a\",\"\",PivotTableA!C78)","v":""},{"$f":"IF($B91=\"n/a\",\"\",PivotTableA!D78)","v":""},{"$f":"IF($B91=\"n/a\",\"\",PivotTableA!E78)","v":""},{"$f":"IF($B91=\"n/a\",\"\",PivotTableA!F78)","v":""},{"$f":"IF($B91=\"n/a\",\"\",PivotTableA!G78)","v":""},{"$f":"IF($B91=\"n/a\",\"\",PivotTableA!H78)","v":""},{"$f":"IF($B91=\"n/a\",\"\",PivotTableA!I78)","v":""},{"$f":"IF($B91=\"n/a\",\"\",PivotTableA!J78)","v":""},{"$f":"IF($B91=\"n/a\",\"\",PivotTableA!K78)","v":""},{"$f":"IF($B91=\"n/a\",\"\",PivotTableA!O78)","v":""},{"$f":"IF($B91=\"n/a\",\"\",PivotTableA!L78)","v":""},{"$f":"IF($B91=\"n/a\",\"\",PivotTableA!M78)","v":""},{"$f":"IF($B91=\"n/a\",\"\",PivotTableA!N78)","v":""},{"$f":"IFERROR(IF($B91=\"\",\"\",\nIF(OR($L91=\"Nursery School\",$L91=\"All-through PRU\",$M91=\"True\"),\"n/a\",\nIF(GETPIVOTDATA(Q$21 & \"\",PivotTableB!$A$3,\"SchoolName\",$B91,\"SubsidiaryName\",$C91,\"YearStart\",Q$13)=\"\",\".\",\nGETPIVOTDATA(Q$21 & \"\",PivotTableB!$A$3,\"SchoolName\",$B91,\"SubsidiaryName\",$C91,\"YearStart\",Q$13)))),\"\")","v":""},{"$f":"IFERROR(IF(Q91=\".\",\".\",IF(Q91=\"n/a\",\"n/a\",\nGETPIVOTDATA(R$21 & \"\",PivotTableB!$A$3,\"SchoolName\",$B91,\"SubsidiaryName\",$C91,\"YearStart\",Q$13))),\"\")","v":""},{"$f":"IFERROR(IF(R91=\".\",\".\",IF(R91=\"n/a\",\"n/a\",\nGETPIVOTDATA(S$21 & \"\",PivotTableB!$A$3,\"SchoolName\",$B91,\"SubsidiaryName\",$C91,\"YearStart\",Q$13))),\"\")","v":""},0,{"$f":"IFERROR(IF(T91=\".\",\".\",IF(T91=\"n/a\",\"n/a\",\nGETPIVOTDATA(U$21 & \"\",PivotTableB!$A$3,\"SchoolName\",$B91,\"SubsidiaryName\",$C91,\"YearStart\",Q$13))),\"\")","v":""},{"$f":"IFERROR(IF(U91=\".\",\".\",IF(U91=\"n/a\",\"n/a\",\nGETPIVOTDATA(V$21 & \"\",PivotTableB!$A$3,\"SchoolName\",$B91,\"SubsidiaryName\",$C91,\"YearStart\",Q$13))),\"\")","v":""},{"$f":"IFERROR(IF($B91=\"\",\"\",\nIF(OR($L91=\"Nursery School\",$L91=\"All-through PRU\",$M91=\"True\"),\"n/a\",\nIF(GETPIVOTDATA(W$21 & \"\",PivotTableB!$A$3,\"SchoolName\",$B91,\"SubsidiaryName\",$C91,\"YearStart\",W$13)=\"\",\".\",\nGETPIVOTDATA(W$21 & \"\",PivotTableB!$A$3,\"SchoolName\",$B91,\"SubsidiaryName\",$C91,\"YearStart\",W$13)))),\"\")","v":""},{"$f":"IFERROR(IF(W91=\".\",\".\",IF(W91=\"n/a\",\"n/a\",\nGETPIVOTDATA(X$21 & \"\",PivotTableB!$A$3,\"SchoolName\",$B91,\"SubsidiaryName\",$C91,\"YearStart\",W$13))),\"\")","v":""},{"$f":"IFERROR(IF(X91=\".\",\".\",IF(X91=\"n/a\",\"n/a\",\nGETPIVOTDATA(Y$21 & \"\",PivotTableB!$A$3,\"SchoolName\",$B91,\"SubsidiaryName\",$C91,\"YearStart\",W$13))),\"\")","v":""},0,{"$f":"IFERROR(IF(Z91=\".\",\".\",IF(Z91=\"n/a\",\"n/a\",\nGETPIVOTDATA(AA$21 & \"\",PivotTableB!$A$3,\"SchoolName\",$B91,\"SubsidiaryName\",$C91,\"YearStart\",W$13))),\"\")","v":""},{"$f":"IFERROR(IF(AA91=\".\",\".\",IF(AA91=\"n/a\",\"n/a\",\nGETPIVOTDATA(AB$21 & \"\",PivotTableB!$A$3,\"SchoolName\",$B91,\"SubsidiaryName\",$C91,\"YearStart\",W$13))),\"\")","v":""},{"$f":"IFERROR(IF($B91=\"\",\"\",\nIF(OR($L91=\"Nursery School\",$L91=\"All-through PRU\",$M91=\"True\"),\"n/a\",\nIF(GETPIVOTDATA(AC$21 & \"\",PivotTableB!$A$3,\"SchoolName\",$B91,\"SubsidiaryName\",$C91,\"YearStart\",AC$13)=\"\",\".\",\nGETPIVOTDATA(AC$21 & \"\",PivotTableB!$A$3,\"SchoolName\",$B91,\"SubsidiaryName\",$C91,\"YearStart\",AC$13)))),\"\")","v":""},{"$f":"IFERROR(IF(AC91=\".\",\".\",IF(AC91=\"n/a\",\"n/a\",\nGETPIVOTDATA(AD$21 & \"\",PivotTableB!$A$3,\"SchoolName\",$B91,\"SubsidiaryName\",$C91,\"YearStart\",AC$13))),\"\")","v":""},{"$f":"IFERROR(IF(AD91=\".\",\".\",IF(AD91=\"n/a\",\"n/a\",\nGETPIVOTDATA(AE$21 & \"\",PivotTableB!$A$3,\"SchoolName\",$B91,\"SubsidiaryName\",$C91,\"YearStart\",AC$13))),\"\")","v":""},0,{"$f":"IFERROR(IF(AF91=\".\",\".\",IF(AF91=\"n/a\",\"n/a\",\nGETPIVOTDATA(AG$21 & \"\",PivotTableB!$A$3,\"SchoolName\",$B91,\"SubsidiaryName\",$C91,\"YearStart\",AC$13))),\"\")","v":""},{"$f":"IFERROR(IF(AG91=\".\",\".\",IF(AG91=\"n/a\",\"n/a\",\nGETPIVOTDATA(AH$21 & \"\",PivotTableB!$A$3,\"SchoolName\",$B91,\"SubsidiaryName\",$C91,\"YearStart\",AC$13))),\"\")","v":""},{"$f":"IFERROR(IF($B91=\"\",\"\",\nIF(OR($L91=\"Nursery School\",$L91=\"All-through PRU\",$M91=\"True\"),\"n/a\",\nIF(GETPIVOTDATA(AI$21 & \"\",PivotTableB!$A$3,\"SchoolName\",$B91,\"SubsidiaryName\",$C91,\"YearStart\",AI$13)=\"\",\".\",\nGETPIVOTDATA(AI$21 & \"\",PivotTableB!$A$3,\"SchoolName\",$B91,\"SubsidiaryName\",$C91,\"YearStart\",AI$13)))),\"\")","v":""},{"$f":"IFERROR(IF(AI91=\".\",\".\",IF(AI91=\"n/a\",\"n/a\",\nGETPIVOTDATA(AJ$21 & \"\",PivotTableB!$A$3,\"SchoolName\",$B91,\"SubsidiaryName\",$C91,\"YearStart\",AI$13))),\"\")","v":""},{"$f":"IFERROR(IF(AJ91=\".\",\".\",IF(AJ91=\"n/a\",\"n/a\",\nGETPIVOTDATA(AK$21 & \"\",PivotTableB!$A$3,\"SchoolName\",$B91,\"SubsidiaryName\",$C91,\"YearStart\",AI$13))),\"\")","v":""},0,{"$f":"IFERROR(IF(AL91=\".\",\".\",IF(AL91=\"n/a\",\"n/a\",\nGETPIVOTDATA(AM$21 & \"\",PivotTableB!$A$3,\"SchoolName\",$B91,\"SubsidiaryName\",$C91,\"YearStart\",AI$13))),\"\")","v":""},{"$f":"IFERROR(IF(AM91=\".\",\".\",IF(AM91=\"n/a\",\"n/a\",\nGETPIVOTDATA(AN$21 & \"\",PivotTableB!$A$3,\"SchoolName\",$B91,\"SubsidiaryName\",$C91,\"YearStart\",AI$13))),\"\")","v":""},{"$f":"IFERROR(IF($B91=\"\",\"\",\nIF(OR($L91=\"Nursery School\",$L91=\"All-through PRU\",$M91=\"True\"),\"n/a\",\nIF(GETPIVOTDATA(AO$21 & \"\",PivotTableB!$A$3,\"SchoolName\",$B91,\"SubsidiaryName\",$C91,\"YearStart\",AO$13)=\"\",\".\",\nGETPIVOTDATA(AO$21 & \"\",PivotTableB!$A$3,\"SchoolName\",$B91,\"SubsidiaryName\",$C91,\"YearStart\",AO$13)))),\"\")","v":""},{"$f":"IFERROR(IF(AO91=\".\",\".\",IF(AO91=\"n/a\",\"n/a\",\nGETPIVOTDATA(AP$21 & \"\",PivotTableB!$A$3,\"SchoolName\",$B91,\"SubsidiaryName\",$C91,\"YearStart\",AO$13))),\"\")","v":""},{"$f":"IFERROR(IF(AP91=\".\",\".\",IF(AP91=\"n/a\",\"n/a\",\nGETPIVOTDATA(AQ$21 & \"\",PivotTableB!$A$3,\"SchoolName\",$B91,\"SubsidiaryName\",$C91,\"YearStart\",AO$13))),\"\")","v":""},0,{"$f":"IFERROR(IF(AR91=\".\",\".\",IF(AR91=\"n/a\",\"n/a\",\nGETPIVOTDATA(AS$21 & \"\",PivotTableB!$A$3,\"SchoolName\",$B91,\"SubsidiaryName\",$C91,\"YearStart\",AO$13))),\"\")","v":""},{"$f":"IFERROR(IF(AS91=\".\",\".\",IF(AS91=\"n/a\",\"n/a\",\nGETPIVOTDATA(AT$21 & \"\",PivotTableB!$A$3,\"SchoolName\",$B91,\"SubsidiaryName\",$C91,\"YearStart\",AO$13))),\"\")","v":""},{"$f":"IFERROR(IF($B91=\"\",\"\",\nIF(OR($L91=\"Nursery School\",$L91=\"All-through PRU\",$M91=\"True\"),\"n/a\",\nIF(GETPIVOTDATA(AU$21 & \"\",PivotTableB!$A$3,\"SchoolName\",$B91,\"SubsidiaryName\",$C91,\"YearStart\",AU$13)=\"\",\".\",\nGETPIVOTDATA(AU$21 & \"\",PivotTableB!$A$3,\"SchoolName\",$B91,\"SubsidiaryName\",$C91,\"YearStart\",AU$13)))),\"\")","v":""},{"$f":"IFERROR(IF(AU91=\".\",\".\",IF(AU91=\"n/a\",\"n/a\",\nGETPIVOTDATA(AV$21 & \"\",PivotTableB!$A$3,\"SchoolName\",$B91,\"SubsidiaryName\",$C91,\"YearStart\",AU$13))),\"\")","v":""},{"$f":"IFERROR(IF(AV91=\".\",\".\",IF(AV91=\"n/a\",\"n/a\",\nGETPIVOTDATA(AW$21 & \"\",PivotTableB!$A$3,\"SchoolName\",$B91,\"SubsidiaryName\",$C91,\"YearStart\",AU$13))),\"\")","v":""},0,{"$f":"IFERROR(IF(AX91=\".\",\".\",IF(AX91=\"n/a\",\"n/a\",\nGETPIVOTDATA(AY$21 & \"\",PivotTableB!$A$3,\"SchoolName\",$B91,\"SubsidiaryName\",$C91,\"YearStart\",AU$13))),\"\")","v":""},{"$f":"IFERROR(IF(AY91=\".\",\".\",IF(AY91=\"n/a\",\"n/a\",\nGETPIVOTDATA(AZ$21 & \"\",PivotTableB!$A$3,\"SchoolName\",$B91,\"SubsidiaryName\",$C91,\"YearStart\",AU$13))),\"\")","v":""},{"$f":"IFERROR(IF($B91=\"\",\"\",\nIF(OR($L91=\"Nursery School\",$L91=\"All-through PRU\",$M91=\"True\"),\"n/a\",\nIF(GETPIVOTDATA(BA$21 & \"\",PivotTableB!$A$3,\"SchoolName\",$B91,\"SubsidiaryName\",$C91,\"YearStart\",BA$13)=\"\",\".\",\nGETPIVOTDATA(BA$21 & \"\",PivotTableB!$A$3,\"SchoolName\",$B91,\"SubsidiaryName\",$C91,\"YearStart\",BA$13)))),\"\")","v":""},{"$f":"IFERROR(IF(BA91=\".\",\".\",IF(BA91=\"n/a\",\"n/a\",\nGETPIVOTDATA(BB$21 & \"\",PivotTableB!$A$3,\"SchoolName\",$B91,\"SubsidiaryName\",$C91,\"YearStart\",BA$13))),\"\")","v":""},{"$f":"IFERROR(IF(BB91=\".\",\".\",IF(BB91=\"n/a\",\"n/a\",\nGETPIVOTDATA(BC$21 & \"\",PivotTableB!$A$3,\"SchoolName\",$B91,\"SubsidiaryName\",$C91,\"YearStart\",BA$13))),\"\")","v":""},{"$f":"IFERROR(IF(BC91=\".\",\".\",IF(BC91=\"n/a\",\"n/a\",\nGETPIVOTDATA(BD$21 & \"\",PivotTableB!$A$3,\"SchoolName\",$B91,\"SubsidiaryName\",$C91,\"YearStart\",BB$13))),\"\")","v":""},0,{"$f":"IFERROR(IF(BE91=\".\",\".\",IF(BE91=\"n/a\",\"n/a\",\nGETPIVOTDATA(BF$21 & \"\",PivotTableB!$A$3,\"SchoolName\",$B91,\"SubsidiaryName\",$C91,\"YearStart\",BA$13))),\"\")","v":""},{"$f":"IFERROR(IF(BF91=\".\",\".\",IF(BF91=\"n/a\",\"n/a\",\nGETPIVOTDATA(BG$21 & \"\",PivotTableB!$A$3,\"SchoolName\",$B91,\"SubsidiaryName\",$C91,\"YearStart\",BA$13))),\"\")","v":""},{"$f":"IFERROR(IF($B91=\"\",\"\",\nIF(OR($L91=\"Nursery School\",$L91=\"All-through PRU\",$M91=\"True\"),\"n/a\",\nIF(GETPIVOTDATA(BH$21 & \"\",PivotTableB!$A$3,\"SchoolName\",$B91,\"SubsidiaryName\",$C91,\"YearStart\",BH$13)=\"\",\".\",\nGETPIVOTDATA(BH$21 & \"\",PivotTableB!$A$3,\"SchoolName\",$B91,\"SubsidiaryName\",$C91,\"YearStart\",BH$13)))),\"\")","v":""},{"$f":"IFERROR(IF(BH91=\".\",\".\",IF(BH91=\"n/a\",\"n/a\",\nGETPIVOTDATA(BI$21 & \"\",PivotTableB!$A$3,\"SchoolName\",$B91,\"SubsidiaryName\",$C91,\"YearStart\",BH$13))),\"\")","v":""},{"$f":"IFERROR(IF(BI91=\".\",\".\",IF(BI91=\"n/a\",\"n/a\",\nGETPIVOTDATA(BJ$21 & \"\",PivotTableB!$A$3,\"SchoolName\",$B91,\"SubsidiaryName\",$C91,\"YearStart\",BH$13))),\"\")","v":""},{"$f":"IFERROR(IF(BJ91=\".\",\".\",IF(BJ91=\"n/a\",\"n/a\",\nGETPIVOTDATA(BK$21 & \"\",PivotTableB!$A$3,\"SchoolName\",$B91,\"SubsidiaryName\",$C91,\"YearStart\",BH$13))),\"\")","v":""},0,{"$f":"IFERROR(IF(BL91=\".\",\".\",IF(BL91=\"n/a\",\"n/a\",\nGETPIVOTDATA(BM$21 & \"\",PivotTableB!$A$3,\"SchoolName\",$B91,\"SubsidiaryName\",$C91,\"YearStart\",BH$13))),\"\")","v":""},{"$f":"IFERROR(IF(BM91=\".\",\".\",IF(BM91=\"n/a\",\"n/a\",\nGETPIVOTDATA(BN$21 & \"\",PivotTableB!$A$3,\"SchoolName\",$B91,\"SubsidiaryName\",$C91,\"YearStart\",BH$13))),\"\")","v":""},{"$f":"IFERROR(IF($B91=\"\",\"\",\nIF(OR($L91=\"Nursery School\",$L91=\"All-through PRU\",$M91=\"True\"),\"n/a\",\nIF(GETPIVOTDATA(BO$21 & \"\",PivotTableB!$A$3,\"SchoolName\",$B91,\"SubsidiaryName\",$C91,\"YearStart\",BO$13)=\"\",\".\",\nGETPIVOTDATA(BO$21 & \"\",PivotTableB!$A$3,\"SchoolName\",$B91,\"SubsidiaryName\",$C91,\"YearStart\",BO$13)))),\"\")","v":""},{"$f":"IFERROR(IF(BO91=\".\",\".\",IF(BO91=\"n/a\",\"n/a\",\nGETPIVOTDATA(BP$21 & \"\",PivotTableB!$A$3,\"SchoolName\",$B91,\"SubsidiaryName\",$C91,\"YearStart\",BO$13))),\"\")","v":""},{"$f":"IFERROR(IF(BP91=\".\",\".\",IF(BP91=\"n/a\",\"n/a\",\nGETPIVOTDATA(BQ$21 & \"\",PivotTableB!$A$3,\"SchoolName\",$B91,\"SubsidiaryName\",$C91,\"YearStart\",BO$13))),\"\")","v":""},{"$f":"IFERROR(IF(BQ91=\".\",\".\",IF(BQ91=\"n/a\",\"n/a\",\nGETPIVOTDATA(BR$21 & \"\",PivotTableB!$A$3,\"SchoolName\",$B91,\"SubsidiaryName\",$C91,\"YearStart\",BP$13))),\"\")","v":""},0,{"$f":"IFERROR(IF(BS91=\".\",\".\",IF(BS91=\"n/a\",\"n/a\",\nGETPIVOTDATA(BT$21 & \"\",PivotTableB!$A$3,\"SchoolName\",$B91,\"SubsidiaryName\",$C91,\"YearStart\",BO$13))),\"\")","v":""},{"$f":"IFERROR(IF(BT91=\".\",\".\",IF(BT91=\"n/a\",\"n/a\",\nGETPIVOTDATA(BU$21 & \"\",PivotTableB!$A$3,\"SchoolName\",$B91,\"SubsidiaryName\",$C91,\"YearStart\",BO$13))),\"\")","v":""},{"$f":"IFERROR(IF($B91=\"\",\"\",\nIF(OR($L91=\"Nursery School\",$L91=\"All-through PRU\",$M91=\"True\"),\"n/a\",\nIF(GETPIVOTDATA(BV$21 & \"\",PivotTableB!$A$3,\"SchoolName\",$B91,\"SubsidiaryName\",$C91,\"YearStart\",BV$13)=\"\",\".\",\nGETPIVOTDATA(BV$21 & \"\",PivotTableB!$A$3,\"SchoolName\",$B91,\"SubsidiaryName\",$C91,\"YearStart\",BV$13)))),\"\")","v":""},{"$f":"IFERROR(IF(BV91=\".\",\".\",IF(BV91=\"n/a\",\"n/a\",\nGETPIVOTDATA(BW$21 & \"\",PivotTableB!$A$3,\"SchoolName\",$B91,\"SubsidiaryName\",$C91,\"YearStart\",BV$13))),\"\")","v":""},{"$f":"IFERROR(IF(BW91=\".\",\".\",IF(BW91=\"n/a\",\"n/a\",\nGETPIVOTDATA(BX$21 & \"\",PivotTableB!$A$3,\"SchoolName\",$B91,\"SubsidiaryName\",$C91,\"YearStart\",BV$13))),\"\")","v":""},{"$f":"IFERROR(IF(BX91=\".\",\".\",IF(BX91=\"n/a\",\"n/a\",\nGETPIVOTDATA(BY$21 & \"\",PivotTableB!$A$3,\"SchoolName\",$B91,\"SubsidiaryName\",$C91,\"YearStart\",BV$13))),\"\")","v":""},0,{"$f":"IFERROR(IF(BZ91=\".\",\".\",IF(BZ91=\"n/a\",\"n/a\",\nGETPIVOTDATA(CA$21 & \"\",PivotTableB!$A$3,\"SchoolName\",$B91,\"SubsidiaryName\",$C91,\"YearStart\",BV$13))),\"\")","v":""},{"$f":"IFERROR(IF(CA91=\".\",\".\",IF(CA91=\"n/a\",\"n/a\",\nGETPIVOTDATA(CB$21 & \"\",PivotTableB!$A$3,\"SchoolName\",$B91,\"SubsidiaryName\",$C91,\"YearStart\",BV$13))),\"\")","v":""}]
[null,{"$f":"IF(PivotTableA!A79=\"\",\"n/a\",PivotTableA!A79)","v":"n/a"},{"$f":"IF(B92=\"n/a\",\"\",PivotTableA!B79)","v":""},{"$f":"IF($B92=\"n/a\",\"\",PivotTableA!C79)","v":""},{"$f":"IF($B92=\"n/a\",\"\",PivotTableA!D79)","v":""},{"$f":"IF($B92=\"n/a\",\"\",PivotTableA!E79)","v":""},{"$f":"IF($B92=\"n/a\",\"\",PivotTableA!F79)","v":""},{"$f":"IF($B92=\"n/a\",\"\",PivotTableA!G79)","v":""},{"$f":"IF($B92=\"n/a\",\"\",PivotTableA!H79)","v":""},{"$f":"IF($B92=\"n/a\",\"\",PivotTableA!I79)","v":""},{"$f":"IF($B92=\"n/a\",\"\",PivotTableA!J79)","v":""},{"$f":"IF($B92=\"n/a\",\"\",PivotTableA!K79)","v":""},{"$f":"IF($B92=\"n/a\",\"\",PivotTableA!O79)","v":""},{"$f":"IF($B92=\"n/a\",\"\",PivotTableA!L79)","v":""},{"$f":"IF($B92=\"n/a\",\"\",PivotTableA!M79)","v":""},{"$f":"IF($B92=\"n/a\",\"\",PivotTableA!N79)","v":""},{"$f":"IFERROR(IF($B92=\"\",\"\",\nIF(OR($L92=\"Nursery School\",$L92=\"All-through PRU\",$M92=\"True\"),\"n/a\",\nIF(GETPIVOTDATA(Q$21 & \"\",PivotTableB!$A$3,\"SchoolName\",$B92,\"SubsidiaryName\",$C92,\"YearStart\",Q$13)=\"\",\".\",\nGETPIVOTDATA(Q$21 & \"\",PivotTableB!$A$3,\"SchoolName\",$B92,\"SubsidiaryName\",$C92,\"YearStart\",Q$13)))),\"\")","v":""},{"$f":"IFERROR(IF(Q92=\".\",\".\",IF(Q92=\"n/a\",\"n/a\",\nGETPIVOTDATA(R$21 & \"\",PivotTableB!$A$3,\"SchoolName\",$B92,\"SubsidiaryName\",$C92,\"YearStart\",Q$13))),\"\")","v":""},{"$f":"IFERROR(IF(R92=\".\",\".\",IF(R92=\"n/a\",\"n/a\",\nGETPIVOTDATA(S$21 & \"\",PivotTableB!$A$3,\"SchoolName\",$B92,\"SubsidiaryName\",$C92,\"YearStart\",Q$13))),\"\")","v":""},0,{"$f":"IFERROR(IF(T92=\".\",\".\",IF(T92=\"n/a\",\"n/a\",\nGETPIVOTDATA(U$21 & \"\",PivotTableB!$A$3,\"SchoolName\",$B92,\"SubsidiaryName\",$C92,\"YearStart\",Q$13))),\"\")","v":""},{"$f":"IFERROR(IF(U92=\".\",\".\",IF(U92=\"n/a\",\"n/a\",\nGETPIVOTDATA(V$21 & \"\",PivotTableB!$A$3,\"SchoolName\",$B92,\"SubsidiaryName\",$C92,\"YearStart\",Q$13))),\"\")","v":""},{"$f":"IFERROR(IF($B92=\"\",\"\",\nIF(OR($L92=\"Nursery School\",$L92=\"All-through PRU\",$M92=\"True\"),\"n/a\",\nIF(GETPIVOTDATA(W$21 & \"\",PivotTableB!$A$3,\"SchoolName\",$B92,\"SubsidiaryName\",$C92,\"YearStart\",W$13)=\"\",\".\",\nGETPIVOTDATA(W$21 & \"\",PivotTableB!$A$3,\"SchoolName\",$B92,\"SubsidiaryName\",$C92,\"YearStart\",W$13)))),\"\")","v":""},{"$f":"IFERROR(IF(W92=\".\",\".\",IF(W92=\"n/a\",\"n/a\",\nGETPIVOTDATA(X$21 & \"\",PivotTableB!$A$3,\"SchoolName\",$B92,\"SubsidiaryName\",$C92,\"YearStart\",W$13))),\"\")","v":""},{"$f":"IFERROR(IF(X92=\".\",\".\",IF(X92=\"n/a\",\"n/a\",\nGETPIVOTDATA(Y$21 & \"\",PivotTableB!$A$3,\"SchoolName\",$B92,\"SubsidiaryName\",$C92,\"YearStart\",W$13))),\"\")","v":""},0,{"$f":"IFERROR(IF(Z92=\".\",\".\",IF(Z92=\"n/a\",\"n/a\",\nGETPIVOTDATA(AA$21 & \"\",PivotTableB!$A$3,\"SchoolName\",$B92,\"SubsidiaryName\",$C92,\"YearStart\",W$13))),\"\")","v":""},{"$f":"IFERROR(IF(AA92=\".\",\".\",IF(AA92=\"n/a\",\"n/a\",\nGETPIVOTDATA(AB$21 & \"\",PivotTableB!$A$3,\"SchoolName\",$B92,\"SubsidiaryName\",$C92,\"YearStart\",W$13))),\"\")","v":""},{"$f":"IFERROR(IF($B92=\"\",\"\",\nIF(OR($L92=\"Nursery School\",$L92=\"All-through PRU\",$M92=\"True\"),\"n/a\",\nIF(GETPIVOTDATA(AC$21 & \"\",PivotTableB!$A$3,\"SchoolName\",$B92,\"SubsidiaryName\",$C92,\"YearStart\",AC$13)=\"\",\".\",\nGETPIVOTDATA(AC$21 & \"\",PivotTableB!$A$3,\"SchoolName\",$B92,\"SubsidiaryName\",$C92,\"YearStart\",AC$13)))),\"\")","v":""},{"$f":"IFERROR(IF(AC92=\".\",\".\",IF(AC92=\"n/a\",\"n/a\",\nGETPIVOTDATA(AD$21 & \"\",PivotTableB!$A$3,\"SchoolName\",$B92,\"SubsidiaryName\",$C92,\"YearStart\",AC$13))),\"\")","v":""},{"$f":"IFERROR(IF(AD92=\".\",\".\",IF(AD92=\"n/a\",\"n/a\",\nGETPIVOTDATA(AE$21 & \"\",PivotTableB!$A$3,\"SchoolName\",$B92,\"SubsidiaryName\",$C92,\"YearStart\",AC$13))),\"\")","v":""},0,{"$f":"IFERROR(IF(AF92=\".\",\".\",IF(AF92=\"n/a\",\"n/a\",\nGETPIVOTDATA(AG$21 & \"\",PivotTableB!$A$3,\"SchoolName\",$B92,\"SubsidiaryName\",$C92,\"YearStart\",AC$13))),\"\")","v":""},{"$f":"IFERROR(IF(AG92=\".\",\".\",IF(AG92=\"n/a\",\"n/a\",\nGETPIVOTDATA(AH$21 & \"\",PivotTableB!$A$3,\"SchoolName\",$B92,\"SubsidiaryName\",$C92,\"YearStart\",AC$13))),\"\")","v":""},{"$f":"IFERROR(IF($B92=\"\",\"\",\nIF(OR($L92=\"Nursery School\",$L92=\"All-through PRU\",$M92=\"True\"),\"n/a\",\nIF(GETPIVOTDATA(AI$21 & \"\",PivotTableB!$A$3,\"SchoolName\",$B92,\"SubsidiaryName\",$C92,\"YearStart\",AI$13)=\"\",\".\",\nGETPIVOTDATA(AI$21 & \"\",PivotTableB!$A$3,\"SchoolName\",$B92,\"SubsidiaryName\",$C92,\"YearStart\",AI$13)))),\"\")","v":""},{"$f":"IFERROR(IF(AI92=\".\",\".\",IF(AI92=\"n/a\",\"n/a\",\nGETPIVOTDATA(AJ$21 & \"\",PivotTableB!$A$3,\"SchoolName\",$B92,\"SubsidiaryName\",$C92,\"YearStart\",AI$13))),\"\")","v":""},{"$f":"IFERROR(IF(AJ92=\".\",\".\",IF(AJ92=\"n/a\",\"n/a\",\nGETPIVOTDATA(AK$21 & \"\",PivotTableB!$A$3,\"SchoolName\",$B92,\"SubsidiaryName\",$C92,\"YearStart\",AI$13))),\"\")","v":""},0,{"$f":"IFERROR(IF(AL92=\".\",\".\",IF(AL92=\"n/a\",\"n/a\",\nGETPIVOTDATA(AM$21 & \"\",PivotTableB!$A$3,\"SchoolName\",$B92,\"SubsidiaryName\",$C92,\"YearStart\",AI$13))),\"\")","v":""},{"$f":"IFERROR(IF(AM92=\".\",\".\",IF(AM92=\"n/a\",\"n/a\",\nGETPIVOTDATA(AN$21 & \"\",PivotTableB!$A$3,\"SchoolName\",$B92,\"SubsidiaryName\",$C92,\"YearStart\",AI$13))),\"\")","v":""},{"$f":"IFERROR(IF($B92=\"\",\"\",\nIF(OR($L92=\"Nursery School\",$L92=\"All-through PRU\",$M92=\"True\"),\"n/a\",\nIF(GETPIVOTDATA(AO$21 & \"\",PivotTableB!$A$3,\"SchoolName\",$B92,\"SubsidiaryName\",$C92,\"YearStart\",AO$13)=\"\",\".\",\nGETPIVOTDATA(AO$21 & \"\",PivotTableB!$A$3,\"SchoolName\",$B92,\"SubsidiaryName\",$C92,\"YearStart\",AO$13)))),\"\")","v":""},{"$f":"IFERROR(IF(AO92=\".\",\".\",IF(AO92=\"n/a\",\"n/a\",\nGETPIVOTDATA(AP$21 & \"\",PivotTableB!$A$3,\"SchoolName\",$B92,\"SubsidiaryName\",$C92,\"YearStart\",AO$13))),\"\")","v":""},{"$f":"IFERROR(IF(AP92=\".\",\".\",IF(AP92=\"n/a\",\"n/a\",\nGETPIVOTDATA(AQ$21 & \"\",PivotTableB!$A$3,\"SchoolName\",$B92,\"SubsidiaryName\",$C92,\"YearStart\",AO$13))),\"\")","v":""},0,{"$f":"IFERROR(IF(AR92=\".\",\".\",IF(AR92=\"n/a\",\"n/a\",\nGETPIVOTDATA(AS$21 & \"\",PivotTableB!$A$3,\"SchoolName\",$B92,\"SubsidiaryName\",$C92,\"YearStart\",AO$13))),\"\")","v":""},{"$f":"IFERROR(IF(AS92=\".\",\".\",IF(AS92=\"n/a\",\"n/a\",\nGETPIVOTDATA(AT$21 & \"\",PivotTableB!$A$3,\"SchoolName\",$B92,\"SubsidiaryName\",$C92,\"YearStart\",AO$13))),\"\")","v":""},{"$f":"IFERROR(IF($B92=\"\",\"\",\nIF(OR($L92=\"Nursery School\",$L92=\"All-through PRU\",$M92=\"True\"),\"n/a\",\nIF(GETPIVOTDATA(AU$21 & \"\",PivotTableB!$A$3,\"SchoolName\",$B92,\"SubsidiaryName\",$C92,\"YearStart\",AU$13)=\"\",\".\",\nGETPIVOTDATA(AU$21 & \"\",PivotTableB!$A$3,\"SchoolName\",$B92,\"SubsidiaryName\",$C92,\"YearStart\",AU$13)))),\"\")","v":""},{"$f":"IFERROR(IF(AU92=\".\",\".\",IF(AU92=\"n/a\",\"n/a\",\nGETPIVOTDATA(AV$21 & \"\",PivotTableB!$A$3,\"SchoolName\",$B92,\"SubsidiaryName\",$C92,\"YearStart\",AU$13))),\"\")","v":""},{"$f":"IFERROR(IF(AV92=\".\",\".\",IF(AV92=\"n/a\",\"n/a\",\nGETPIVOTDATA(AW$21 & \"\",PivotTableB!$A$3,\"SchoolName\",$B92,\"SubsidiaryName\",$C92,\"YearStart\",AU$13))),\"\")","v":""},0,{"$f":"IFERROR(IF(AX92=\".\",\".\",IF(AX92=\"n/a\",\"n/a\",\nGETPIVOTDATA(AY$21 & \"\",PivotTableB!$A$3,\"SchoolName\",$B92,\"SubsidiaryName\",$C92,\"YearStart\",AU$13))),\"\")","v":""},{"$f":"IFERROR(IF(AY92=\".\",\".\",IF(AY92=\"n/a\",\"n/a\",\nGETPIVOTDATA(AZ$21 & \"\",PivotTableB!$A$3,\"SchoolName\",$B92,\"SubsidiaryName\",$C92,\"YearStart\",AU$13))),\"\")","v":""},{"$f":"IFERROR(IF($B92=\"\",\"\",\nIF(OR($L92=\"Nursery School\",$L92=\"All-through PRU\",$M92=\"True\"),\"n/a\",\nIF(GETPIVOTDATA(BA$21 & \"\",PivotTableB!$A$3,\"SchoolName\",$B92,\"SubsidiaryName\",$C92,\"YearStart\",BA$13)=\"\",\".\",\nGETPIVOTDATA(BA$21 & \"\",PivotTableB!$A$3,\"SchoolName\",$B92,\"SubsidiaryName\",$C92,\"YearStart\",BA$13)))),\"\")","v":""},{"$f":"IFERROR(IF(BA92=\".\",\".\",IF(BA92=\"n/a\",\"n/a\",\nGETPIVOTDATA(BB$21 & \"\",PivotTableB!$A$3,\"SchoolName\",$B92,\"SubsidiaryName\",$C92,\"YearStart\",BA$13))),\"\")","v":""},{"$f":"IFERROR(IF(BB92=\".\",\".\",IF(BB92=\"n/a\",\"n/a\",\nGETPIVOTDATA(BC$21 & \"\",PivotTableB!$A$3,\"SchoolName\",$B92,\"SubsidiaryName\",$C92,\"YearStart\",BA$13))),\"\")","v":""},{"$f":"IFERROR(IF(BC92=\".\",\".\",IF(BC92=\"n/a\",\"n/a\",\nGETPIVOTDATA(BD$21 & \"\",PivotTableB!$A$3,\"SchoolName\",$B92,\"SubsidiaryName\",$C92,\"YearStart\",BB$13))),\"\")","v":""},0,{"$f":"IFERROR(IF(BE92=\".\",\".\",IF(BE92=\"n/a\",\"n/a\",\nGETPIVOTDATA(BF$21 & \"\",PivotTableB!$A$3,\"SchoolName\",$B92,\"SubsidiaryName\",$C92,\"YearStart\",BA$13))),\"\")","v":""},{"$f":"IFERROR(IF(BF92=\".\",\".\",IF(BF92=\"n/a\",\"n/a\",\nGETPIVOTDATA(BG$21 & \"\",PivotTableB!$A$3,\"SchoolName\",$B92,\"SubsidiaryName\",$C92,\"YearStart\",BA$13))),\"\")","v":""},{"$f":"IFERROR(IF($B92=\"\",\"\",\nIF(OR($L92=\"Nursery School\",$L92=\"All-through PRU\",$M92=\"True\"),\"n/a\",\nIF(GETPIVOTDATA(BH$21 & \"\",PivotTableB!$A$3,\"SchoolName\",$B92,\"SubsidiaryName\",$C92,\"YearStart\",BH$13)=\"\",\".\",\nGETPIVOTDATA(BH$21 & \"\",PivotTableB!$A$3,\"SchoolName\",$B92,\"SubsidiaryName\",$C92,\"YearStart\",BH$13)))),\"\")","v":""},{"$f":"IFERROR(IF(BH92=\".\",\".\",IF(BH92=\"n/a\",\"n/a\",\nGETPIVOTDATA(BI$21 & \"\",PivotTableB!$A$3,\"SchoolName\",$B92,\"SubsidiaryName\",$C92,\"YearStart\",BH$13))),\"\")","v":""},{"$f":"IFERROR(IF(BI92=\".\",\".\",IF(BI92=\"n/a\",\"n/a\",\nGETPIVOTDATA(BJ$21 & \"\",PivotTableB!$A$3,\"SchoolName\",$B92,\"SubsidiaryName\",$C92,\"YearStart\",BH$13))),\"\")","v":""},{"$f":"IFERROR(IF(BJ92=\".\",\".\",IF(BJ92=\"n/a\",\"n/a\",\nGETPIVOTDATA(BK$21 & \"\",PivotTableB!$A$3,\"SchoolName\",$B92,\"SubsidiaryName\",$C92,\"YearStart\",BH$13))),\"\")","v":""},0,{"$f":"IFERROR(IF(BL92=\".\",\".\",IF(BL92=\"n/a\",\"n/a\",\nGETPIVOTDATA(BM$21 & \"\",PivotTableB!$A$3,\"SchoolName\",$B92,\"SubsidiaryName\",$C92,\"YearStart\",BH$13))),\"\")","v":""},{"$f":"IFERROR(IF(BM92=\".\",\".\",IF(BM92=\"n/a\",\"n/a\",\nGETPIVOTDATA(BN$21 & \"\",PivotTableB!$A$3,\"SchoolName\",$B92,\"SubsidiaryName\",$C92,\"YearStart\",BH$13))),\"\")","v":""},{"$f":"IFERROR(IF($B92=\"\",\"\",\nIF(OR($L92=\"Nursery School\",$L92=\"All-through PRU\",$M92=\"True\"),\"n/a\",\nIF(GETPIVOTDATA(BO$21 & \"\",PivotTableB!$A$3,\"SchoolName\",$B92,\"SubsidiaryName\",$C92,\"YearStart\",BO$13)=\"\",\".\",\nGETPIVOTDATA(BO$21 & \"\",PivotTableB!$A$3,\"SchoolName\",$B92,\"SubsidiaryName\",$C92,\"YearStart\",BO$13)))),\"\")","v":""},{"$f":"IFERROR(IF(BO92=\".\",\".\",IF(BO92=\"n/a\",\"n/a\",\nGETPIVOTDATA(BP$21 & \"\",PivotTableB!$A$3,\"SchoolName\",$B92,\"SubsidiaryName\",$C92,\"YearStart\",BO$13))),\"\")","v":""},{"$f":"IFERROR(IF(BP92=\".\",\".\",IF(BP92=\"n/a\",\"n/a\",\nGETPIVOTDATA(BQ$21 & \"\",PivotTableB!$A$3,\"SchoolName\",$B92,\"SubsidiaryName\",$C92,\"YearStart\",BO$13))),\"\")","v":""},{"$f":"IFERROR(IF(BQ92=\".\",\".\",IF(BQ92=\"n/a\",\"n/a\",\nGETPIVOTDATA(BR$21 & \"\",PivotTableB!$A$3,\"SchoolName\",$B92,\"SubsidiaryName\",$C92,\"YearStart\",BP$13))),\"\")","v":""},0,{"$f":"IFERROR(IF(BS92=\".\",\".\",IF(BS92=\"n/a\",\"n/a\",\nGETPIVOTDATA(BT$21 & \"\",PivotTableB!$A$3,\"SchoolName\",$B92,\"SubsidiaryName\",$C92,\"YearStart\",BO$13))),\"\")","v":""},{"$f":"IFERROR(IF(BT92=\".\",\".\",IF(BT92=\"n/a\",\"n/a\",\nGETPIVOTDATA(BU$21 & \"\",PivotTableB!$A$3,\"SchoolName\",$B92,\"SubsidiaryName\",$C92,\"YearStart\",BO$13))),\"\")","v":""},{"$f":"IFERROR(IF($B92=\"\",\"\",\nIF(OR($L92=\"Nursery School\",$L92=\"All-through PRU\",$M92=\"True\"),\"n/a\",\nIF(GETPIVOTDATA(BV$21 & \"\",PivotTableB!$A$3,\"SchoolName\",$B92,\"SubsidiaryName\",$C92,\"YearStart\",BV$13)=\"\",\".\",\nGETPIVOTDATA(BV$21 & \"\",PivotTableB!$A$3,\"SchoolName\",$B92,\"SubsidiaryName\",$C92,\"YearStart\",BV$13)))),\"\")","v":""},{"$f":"IFERROR(IF(BV92=\".\",\".\",IF(BV92=\"n/a\",\"n/a\",\nGETPIVOTDATA(BW$21 & \"\",PivotTableB!$A$3,\"SchoolName\",$B92,\"SubsidiaryName\",$C92,\"YearStart\",BV$13))),\"\")","v":""},{"$f":"IFERROR(IF(BW92=\".\",\".\",IF(BW92=\"n/a\",\"n/a\",\nGETPIVOTDATA(BX$21 & \"\",PivotTableB!$A$3,\"SchoolName\",$B92,\"SubsidiaryName\",$C92,\"YearStart\",BV$13))),\"\")","v":""},{"$f":"IFERROR(IF(BX92=\".\",\".\",IF(BX92=\"n/a\",\"n/a\",\nGETPIVOTDATA(BY$21 & \"\",PivotTableB!$A$3,\"SchoolName\",$B92,\"SubsidiaryName\",$C92,\"YearStart\",BV$13))),\"\")","v":""},0,{"$f":"IFERROR(IF(BZ92=\".\",\".\",IF(BZ92=\"n/a\",\"n/a\",\nGETPIVOTDATA(CA$21 & \"\",PivotTableB!$A$3,\"SchoolName\",$B92,\"SubsidiaryName\",$C92,\"YearStart\",BV$13))),\"\")","v":""},{"$f":"IFERROR(IF(CA92=\".\",\".\",IF(CA92=\"n/a\",\"n/a\",\nGETPIVOTDATA(CB$21 & \"\",PivotTableB!$A$3,\"SchoolName\",$B92,\"SubsidiaryName\",$C92,\"YearStart\",BV$13))),\"\")","v":""}]
[null,{"$f":"IF(PivotTableA!A80=\"\",\"n/a\",PivotTableA!A80)","v":"n/a"},{"$f":"IF(B93=\"n/a\",\"\",PivotTableA!B80)","v":""},{"$f":"IF($B93=\"n/a\",\"\",PivotTableA!C80)","v":""},{"$f":"IF($B93=\"n/a\",\"\",PivotTableA!D80)","v":""},{"$f":"IF($B93=\"n/a\",\"\",PivotTableA!E80)","v":""},{"$f":"IF($B93=\"n/a\",\"\",PivotTableA!F80)","v":""},{"$f":"IF($B93=\"n/a\",\"\",PivotTableA!G80)","v":""},{"$f":"IF($B93=\"n/a\",\"\",PivotTableA!H80)","v":""},{"$f":"IF($B93=\"n/a\",\"\",PivotTableA!I80)","v":""},{"$f":"IF($B93=\"n/a\",\"\",PivotTableA!J80)","v":""},{"$f":"IF($B93=\"n/a\",\"\",PivotTableA!K80)","v":""},{"$f":"IF($B93=\"n/a\",\"\",PivotTableA!O80)","v":""},{"$f":"IF($B93=\"n/a\",\"\",PivotTableA!L80)","v":""},{"$f":"IF($B93=\"n/a\",\"\",PivotTableA!M80)","v":""},{"$f":"IF($B93=\"n/a\",\"\",PivotTableA!N80)","v":""},{"$f":"IFERROR(IF($B93=\"\",\"\",\nIF(OR($L93=\"Nursery School\",$L93=\"All-through PRU\",$M93=\"True\"),\"n/a\",\nIF(GETPIVOTDATA(Q$21 & \"\",PivotTableB!$A$3,\"SchoolName\",$B93,\"SubsidiaryName\",$C93,\"YearStart\",Q$13)=\"\",\".\",\nGETPIVOTDATA(Q$21 & \"\",PivotTableB!$A$3,\"SchoolName\",$B93,\"SubsidiaryName\",$C93,\"YearStart\",Q$13)))),\"\")","v":""},{"$f":"IFERROR(IF(Q93=\".\",\".\",IF(Q93=\"n/a\",\"n/a\",\nGETPIVOTDATA(R$21 & \"\",PivotTableB!$A$3,\"SchoolName\",$B93,\"SubsidiaryName\",$C93,\"YearStart\",Q$13))),\"\")","v":""},{"$f":"IFERROR(IF(R93=\".\",\".\",IF(R93=\"n/a\",\"n/a\",\nGETPIVOTDATA(S$21 & \"\",PivotTableB!$A$3,\"SchoolName\",$B93,\"SubsidiaryName\",$C93,\"YearStart\",Q$13))),\"\")","v":""},0,{"$f":"IFERROR(IF(T93=\".\",\".\",IF(T93=\"n/a\",\"n/a\",\nGETPIVOTDATA(U$21 & \"\",PivotTableB!$A$3,\"SchoolName\",$B93,\"SubsidiaryName\",$C93,\"YearStart\",Q$13))),\"\")","v":""},{"$f":"IFERROR(IF(U93=\".\",\".\",IF(U93=\"n/a\",\"n/a\",\nGETPIVOTDATA(V$21 & \"\",PivotTableB!$A$3,\"SchoolName\",$B93,\"SubsidiaryName\",$C93,\"YearStart\",Q$13))),\"\")","v":""},{"$f":"IFERROR(IF($B93=\"\",\"\",\nIF(OR($L93=\"Nursery School\",$L93=\"All-through PRU\",$M93=\"True\"),\"n/a\",\nIF(GETPIVOTDATA(W$21 & \"\",PivotTableB!$A$3,\"SchoolName\",$B93,\"SubsidiaryName\",$C93,\"YearStart\",W$13)=\"\",\".\",\nGETPIVOTDATA(W$21 & \"\",PivotTableB!$A$3,\"SchoolName\",$B93,\"SubsidiaryName\",$C93,\"YearStart\",W$13)))),\"\")","v":""},{"$f":"IFERROR(IF(W93=\".\",\".\",IF(W93=\"n/a\",\"n/a\",\nGETPIVOTDATA(X$21 & \"\",PivotTableB!$A$3,\"SchoolName\",$B93,\"SubsidiaryName\",$C93,\"YearStart\",W$13))),\"\")","v":""},{"$f":"IFERROR(IF(X93=\".\",\".\",IF(X93=\"n/a\",\"n/a\",\nGETPIVOTDATA(Y$21 & \"\",PivotTableB!$A$3,\"SchoolName\",$B93,\"SubsidiaryName\",$C93,\"YearStart\",W$13))),\"\")","v":""},0,{"$f":"IFERROR(IF(Z93=\".\",\".\",IF(Z93=\"n/a\",\"n/a\",\nGETPIVOTDATA(AA$21 & \"\",PivotTableB!$A$3,\"SchoolName\",$B93,\"SubsidiaryName\",$C93,\"YearStart\",W$13))),\"\")","v":""},{"$f":"IFERROR(IF(AA93=\".\",\".\",IF(AA93=\"n/a\",\"n/a\",\nGETPIVOTDATA(AB$21 & \"\",PivotTableB!$A$3,\"SchoolName\",$B93,\"SubsidiaryName\",$C93,\"YearStart\",W$13))),\"\")","v":""},{"$f":"IFERROR(IF($B93=\"\",\"\",\nIF(OR($L93=\"Nursery School\",$L93=\"All-through PRU\",$M93=\"True\"),\"n/a\",\nIF(GETPIVOTDATA(AC$21 & \"\",PivotTableB!$A$3,\"SchoolName\",$B93,\"SubsidiaryName\",$C93,\"YearStart\",AC$13)=\"\",\".\",\nGETPIVOTDATA(AC$21 & \"\",PivotTableB!$A$3,\"SchoolName\",$B93,\"SubsidiaryName\",$C93,\"YearStart\",AC$13)))),\"\")","v":""},{"$f":"IFERROR(IF(AC93=\".\",\".\",IF(AC93=\"n/a\",\"n/a\",\nGETPIVOTDATA(AD$21 & \"\",PivotTableB!$A$3,\"SchoolName\",$B93,\"SubsidiaryName\",$C93,\"YearStart\",AC$13))),\"\")","v":""},{"$f":"IFERROR(IF(AD93=\".\",\".\",IF(AD93=\"n/a\",\"n/a\",\nGETPIVOTDATA(AE$21 & \"\",PivotTableB!$A$3,\"SchoolName\",$B93,\"SubsidiaryName\",$C93,\"YearStart\",AC$13))),\"\")","v":""},0,{"$f":"IFERROR(IF(AF93=\".\",\".\",IF(AF93=\"n/a\",\"n/a\",\nGETPIVOTDATA(AG$21 & \"\",PivotTableB!$A$3,\"SchoolName\",$B93,\"SubsidiaryName\",$C93,\"YearStart\",AC$13))),\"\")","v":""},{"$f":"IFERROR(IF(AG93=\".\",\".\",IF(AG93=\"n/a\",\"n/a\",\nGETPIVOTDATA(AH$21 & \"\",PivotTableB!$A$3,\"SchoolName\",$B93,\"SubsidiaryName\",$C93,\"YearStart\",AC$13))),\"\")","v":""},{"$f":"IFERROR(IF($B93=\"\",\"\",\nIF(OR($L93=\"Nursery School\",$L93=\"All-through PRU\",$M93=\"True\"),\"n/a\",\nIF(GETPIVOTDATA(AI$21 & \"\",PivotTableB!$A$3,\"SchoolName\",$B93,\"SubsidiaryName\",$C93,\"YearStart\",AI$13)=\"\",\".\",\nGETPIVOTDATA(AI$21 & \"\",PivotTableB!$A$3,\"SchoolName\",$B93,\"SubsidiaryName\",$C93,\"YearStart\",AI$13)))),\"\")","v":""},{"$f":"IFERROR(IF(AI93=\".\",\".\",IF(AI93=\"n/a\",\"n/a\",\nGETPIVOTDATA(AJ$21 & \"\",PivotTableB!$A$3,\"SchoolName\",$B93,\"SubsidiaryName\",$C93,\"YearStart\",AI$13))),\"\")","v":""},{"$f":"IFERROR(IF(AJ93=\".\",\".\",IF(AJ93=\"n/a\",\"n/a\",\nGETPIVOTDATA(AK$21 & \"\",PivotTableB!$A$3,\"SchoolName\",$B93,\"SubsidiaryName\",$C93,\"YearStart\",AI$13))),\"\")","v":""},0,{"$f":"IFERROR(IF(AL93=\".\",\".\",IF(AL93=\"n/a\",\"n/a\",\nGETPIVOTDATA(AM$21 & \"\",PivotTableB!$A$3,\"SchoolName\",$B93,\"SubsidiaryName\",$C93,\"YearStart\",AI$13))),\"\")","v":""},{"$f":"IFERROR(IF(AM93=\".\",\".\",IF(AM93=\"n/a\",\"n/a\",\nGETPIVOTDATA(AN$21 & \"\",PivotTableB!$A$3,\"SchoolName\",$B93,\"SubsidiaryName\",$C93,\"YearStart\",AI$13))),\"\")","v":""},{"$f":"IFERROR(IF($B93=\"\",\"\",\nIF(OR($L93=\"Nursery School\",$L93=\"All-through PRU\",$M93=\"True\"),\"n/a\",\nIF(GETPIVOTDATA(AO$21 & \"\",PivotTableB!$A$3,\"SchoolName\",$B93,\"SubsidiaryName\",$C93,\"YearStart\",AO$13)=\"\",\".\",\nGETPIVOTDATA(AO$21 & \"\",PivotTableB!$A$3,\"SchoolName\",$B93,\"SubsidiaryName\",$C93,\"YearStart\",AO$13)))),\"\")","v":""},{"$f":"IFERROR(IF(AO93=\".\",\".\",IF(AO93=\"n/a\",\"n/a\",\nGETPIVOTDATA(AP$21 & \"\",PivotTableB!$A$3,\"SchoolName\",$B93,\"SubsidiaryName\",$C93,\"YearStart\",AO$13))),\"\")","v":""},{"$f":"IFERROR(IF(AP93=\".\",\".\",IF(AP93=\"n/a\",\"n/a\",\nGETPIVOTDATA(AQ$21 & \"\",PivotTableB!$A$3,\"SchoolName\",$B93,\"SubsidiaryName\",$C93,\"YearStart\",AO$13))),\"\")","v":""},0,{"$f":"IFERROR(IF(AR93=\".\",\".\",IF(AR93=\"n/a\",\"n/a\",\nGETPIVOTDATA(AS$21 & \"\",PivotTableB!$A$3,\"SchoolName\",$B93,\"SubsidiaryName\",$C93,\"YearStart\",AO$13))),\"\")","v":""},{"$f":"IFERROR(IF(AS93=\".\",\".\",IF(AS93=\"n/a\",\"n/a\",\nGETPIVOTDATA(AT$21 & \"\",PivotTableB!$A$3,\"SchoolName\",$B93,\"SubsidiaryName\",$C93,\"YearStart\",AO$13))),\"\")","v":""},{"$f":"IFERROR(IF($B93=\"\",\"\",\nIF(OR($L93=\"Nursery School\",$L93=\"All-through PRU\",$M93=\"True\"),\"n/a\",\nIF(GETPIVOTDATA(AU$21 & \"\",PivotTableB!$A$3,\"SchoolName\",$B93,\"SubsidiaryName\",$C93,\"YearStart\",AU$13)=\"\",\".\",\nGETPIVOTDATA(AU$21 & \"\",PivotTableB!$A$3,\"SchoolName\",$B93,\"SubsidiaryName\",$C93,\"YearStart\",AU$13)))),\"\")","v":""},{"$f":"IFERROR(IF(AU93=\".\",\".\",IF(AU93=\"n/a\",\"n/a\",\nGETPIVOTDATA(AV$21 & \"\",PivotTableB!$A$3,\"SchoolName\",$B93,\"SubsidiaryName\",$C93,\"YearStart\",AU$13))),\"\")","v":""},{"$f":"IFERROR(IF(AV93=\".\",\".\",IF(AV93=\"n/a\",\"n/a\",\nGETPIVOTDATA(AW$21 & \"\",PivotTableB!$A$3,\"SchoolName\",$B93,\"SubsidiaryName\",$C93,\"YearStart\",AU$13))),\"\")","v":""},0,{"$f":"IFERROR(IF(AX93=\".\",\".\",IF(AX93=\"n/a\",\"n/a\",\nGETPIVOTDATA(AY$21 & \"\",PivotTableB!$A$3,\"SchoolName\",$B93,\"SubsidiaryName\",$C93,\"YearStart\",AU$13))),\"\")","v":""},{"$f":"IFERROR(IF(AY93=\".\",\".\",IF(AY93=\"n/a\",\"n/a\",\nGETPIVOTDATA(AZ$21 & \"\",PivotTableB!$A$3,\"SchoolName\",$B93,\"SubsidiaryName\",$C93,\"YearStart\",AU$13))),\"\")","v":""},{"$f":"IFERROR(IF($B93=\"\",\"\",\nIF(OR($L93=\"Nursery School\",$L93=\"All-through PRU\",$M93=\"True\"),\"n/a\",\nIF(GETPIVOTDATA(BA$21 & \"\",PivotTableB!$A$3,\"SchoolName\",$B93,\"SubsidiaryName\",$C93,\"YearStart\",BA$13)=\"\",\".\",\nGETPIVOTDATA(BA$21 & \"\",PivotTableB!$A$3,\"SchoolName\",$B93,\"SubsidiaryName\",$C93,\"YearStart\",BA$13)))),\"\")","v":""},{"$f":"IFERROR(IF(BA93=\".\",\".\",IF(BA93=\"n/a\",\"n/a\",\nGETPIVOTDATA(BB$21 & \"\",PivotTableB!$A$3,\"SchoolName\",$B93,\"SubsidiaryName\",$C93,\"YearStart\",BA$13))),\"\")","v":""},{"$f":"IFERROR(IF(BB93=\".\",\".\",IF(BB93=\"n/a\",\"n/a\",\nGETPIVOTDATA(BC$21 & \"\",PivotTableB!$A$3,\"SchoolName\",$B93,\"SubsidiaryName\",$C93,\"YearStart\",BA$13))),\"\")","v":""},{"$f":"IFERROR(IF(BC93=\".\",\".\",IF(BC93=\"n/a\",\"n/a\",\nGETPIVOTDATA(BD$21 & \"\",PivotTableB!$A$3,\"SchoolName\",$B93,\"SubsidiaryName\",$C93,\"YearStart\",BB$13))),\"\")","v":""},0,{"$f":"IFERROR(IF(BE93=\".\",\".\",IF(BE93=\"n/a\",\"n/a\",\nGETPIVOTDATA(BF$21 & \"\",PivotTableB!$A$3,\"SchoolName\",$B93,\"SubsidiaryName\",$C93,\"YearStart\",BA$13))),\"\")","v":""},{"$f":"IFERROR(IF(BF93=\".\",\".\",IF(BF93=\"n/a\",\"n/a\",\nGETPIVOTDATA(BG$21 & \"\",PivotTableB!$A$3,\"SchoolName\",$B93,\"SubsidiaryName\",$C93,\"YearStart\",BA$13))),\"\")","v":""},{"$f":"IFERROR(IF($B93=\"\",\"\",\nIF(OR($L93=\"Nursery School\",$L93=\"All-through PRU\",$M93=\"True\"),\"n/a\",\nIF(GETPIVOTDATA(BH$21 & \"\",PivotTableB!$A$3,\"SchoolName\",$B93,\"SubsidiaryName\",$C93,\"YearStart\",BH$13)=\"\",\".\",\nGETPIVOTDATA(BH$21 & \"\",PivotTableB!$A$3,\"SchoolName\",$B93,\"SubsidiaryName\",$C93,\"YearStart\",BH$13)))),\"\")","v":""},{"$f":"IFERROR(IF(BH93=\".\",\".\",IF(BH93=\"n/a\",\"n/a\",\nGETPIVOTDATA(BI$21 & \"\",PivotTableB!$A$3,\"SchoolName\",$B93,\"SubsidiaryName\",$C93,\"YearStart\",BH$13))),\"\")","v":""},{"$f":"IFERROR(IF(BI93=\".\",\".\",IF(BI93=\"n/a\",\"n/a\",\nGETPIVOTDATA(BJ$21 & \"\",PivotTableB!$A$3,\"SchoolName\",$B93,\"SubsidiaryName\",$C93,\"YearStart\",BH$13))),\"\")","v":""},{"$f":"IFERROR(IF(BJ93=\".\",\".\",IF(BJ93=\"n/a\",\"n/a\",\nGETPIVOTDATA(BK$21 & \"\",PivotTableB!$A$3,\"SchoolName\",$B93,\"SubsidiaryName\",$C93,\"YearStart\",BH$13))),\"\")","v":""},0,{"$f":"IFERROR(IF(BL93=\".\",\".\",IF(BL93=\"n/a\",\"n/a\",\nGETPIVOTDATA(BM$21 & \"\",PivotTableB!$A$3,\"SchoolName\",$B93,\"SubsidiaryName\",$C93,\"YearStart\",BH$13))),\"\")","v":""},{"$f":"IFERROR(IF(BM93=\".\",\".\",IF(BM93=\"n/a\",\"n/a\",\nGETPIVOTDATA(BN$21 & \"\",PivotTableB!$A$3,\"SchoolName\",$B93,\"SubsidiaryName\",$C93,\"YearStart\",BH$13))),\"\")","v":""},{"$f":"IFERROR(IF($B93=\"\",\"\",\nIF(OR($L93=\"Nursery School\",$L93=\"All-through PRU\",$M93=\"True\"),\"n/a\",\nIF(GETPIVOTDATA(BO$21 & \"\",PivotTableB!$A$3,\"SchoolName\",$B93,\"SubsidiaryName\",$C93,\"YearStart\",BO$13)=\"\",\".\",\nGETPIVOTDATA(BO$21 & \"\",PivotTableB!$A$3,\"SchoolName\",$B93,\"SubsidiaryName\",$C93,\"YearStart\",BO$13)))),\"\")","v":""},{"$f":"IFERROR(IF(BO93=\".\",\".\",IF(BO93=\"n/a\",\"n/a\",\nGETPIVOTDATA(BP$21 & \"\",PivotTableB!$A$3,\"SchoolName\",$B93,\"SubsidiaryName\",$C93,\"YearStart\",BO$13))),\"\")","v":""},{"$f":"IFERROR(IF(BP93=\".\",\".\",IF(BP93=\"n/a\",\"n/a\",\nGETPIVOTDATA(BQ$21 & \"\",PivotTableB!$A$3,\"SchoolName\",$B93,\"SubsidiaryName\",$C93,\"YearStart\",BO$13))),\"\")","v":""},{"$f":"IFERROR(IF(BQ93=\".\",\".\",IF(BQ93=\"n/a\",\"n/a\",\nGETPIVOTDATA(BR$21 & \"\",PivotTableB!$A$3,\"SchoolName\",$B93,\"SubsidiaryName\",$C93,\"YearStart\",BP$13))),\"\")","v":""},0,{"$f":"IFERROR(IF(BS93=\".\",\".\",IF(BS93=\"n/a\",\"n/a\",\nGETPIVOTDATA(BT$21 & \"\",PivotTableB!$A$3,\"SchoolName\",$B93,\"SubsidiaryName\",$C93,\"YearStart\",BO$13))),\"\")","v":""},{"$f":"IFERROR(IF(BT93=\".\",\".\",IF(BT93=\"n/a\",\"n/a\",\nGETPIVOTDATA(BU$21 & \"\",PivotTableB!$A$3,\"SchoolName\",$B93,\"SubsidiaryName\",$C93,\"YearStart\",BO$13))),\"\")","v":""},{"$f":"IFERROR(IF($B93=\"\",\"\",\nIF(OR($L93=\"Nursery School\",$L93=\"All-through PRU\",$M93=\"True\"),\"n/a\",\nIF(GETPIVOTDATA(BV$21 & \"\",PivotTableB!$A$3,\"SchoolName\",$B93,\"SubsidiaryName\",$C93,\"YearStart\",BV$13)=\"\",\".\",\nGETPIVOTDATA(BV$21 & \"\",PivotTableB!$A$3,\"SchoolName\",$B93,\"SubsidiaryName\",$C93,\"YearStart\",BV$13)))),\"\")","v":""},{"$f":"IFERROR(IF(BV93=\".\",\".\",IF(BV93=\"n/a\",\"n/a\",\nGETPIVOTDATA(BW$21 & \"\",PivotTableB!$A$3,\"SchoolName\",$B93,\"SubsidiaryName\",$C93,\"YearStart\",BV$13))),\"\")","v":""},{"$f":"IFERROR(IF(BW93=\".\",\".\",IF(BW93=\"n/a\",\"n/a\",\nGETPIVOTDATA(BX$21 & \"\",PivotTableB!$A$3,\"SchoolName\",$B93,\"SubsidiaryName\",$C93,\"YearStart\",BV$13))),\"\")","v":""},{"$f":"IFERROR(IF(BX93=\".\",\".\",IF(BX93=\"n/a\",\"n/a\",\nGETPIVOTDATA(BY$21 & \"\",PivotTableB!$A$3,\"SchoolName\",$B93,\"SubsidiaryName\",$C93,\"YearStart\",BV$13))),\"\")","v":""},0,{"$f":"IFERROR(IF(BZ93=\".\",\".\",IF(BZ93=\"n/a\",\"n/a\",\nGETPIVOTDATA(CA$21 & \"\",PivotTableB!$A$3,\"SchoolName\",$B93,\"SubsidiaryName\",$C93,\"YearStart\",BV$13))),\"\")","v":""},{"$f":"IFERROR(IF(CA93=\".\",\".\",IF(CA93=\"n/a\",\"n/a\",\nGETPIVOTDATA(CB$21 & \"\",PivotTableB!$A$3,\"SchoolName\",$B93,\"SubsidiaryName\",$C93,\"YearStart\",BV$13))),\"\")","v":""}]
[null,{"$f":"IF(PivotTableA!A81=\"\",\"n/a\",PivotTableA!A81)","v":"n/a"},{"$f":"IF(B94=\"n/a\",\"\",PivotTableA!B81)","v":""},{"$f":"IF($B94=\"n/a\",\"\",PivotTableA!C81)","v":""},{"$f":"IF($B94=\"n/a\",\"\",PivotTableA!D81)","v":""},{"$f":"IF($B94=\"n/a\",\"\",PivotTableA!E81)","v":""},{"$f":"IF($B94=\"n/a\",\"\",PivotTableA!F81)","v":""},{"$f":"IF($B94=\"n/a\",\"\",PivotTableA!G81)","v":""},{"$f":"IF($B94=\"n/a\",\"\",PivotTableA!H81)","v":""},{"$f":"IF($B94=\"n/a\",\"\",PivotTableA!I81)","v":""},{"$f":"IF($B94=\"n/a\",\"\",PivotTableA!J81)","v":""},{"$f":"IF($B94=\"n/a\",\"\",PivotTableA!K81)","v":""},{"$f":"IF($B94=\"n/a\",\"\",PivotTableA!O81)","v":""},{"$f":"IF($B94=\"n/a\",\"\",PivotTableA!L81)","v":""},{"$f":"IF($B94=\"n/a\",\"\",PivotTableA!M81)","v":""},{"$f":"IF($B94=\"n/a\",\"\",PivotTableA!N81)","v":""},{"$f":"IFERROR(IF($B94=\"\",\"\",\nIF(OR($L94=\"Nursery School\",$L94=\"All-through PRU\",$M94=\"True\"),\"n/a\",\nIF(GETPIVOTDATA(Q$21 & \"\",PivotTableB!$A$3,\"SchoolName\",$B94,\"SubsidiaryName\",$C94,\"YearStart\",Q$13)=\"\",\".\",\nGETPIVOTDATA(Q$21 & \"\",PivotTableB!$A$3,\"SchoolName\",$B94,\"SubsidiaryName\",$C94,\"YearStart\",Q$13)))),\"\")","v":""},{"$f":"IFERROR(IF(Q94=\".\",\".\",IF(Q94=\"n/a\",\"n/a\",\nGETPIVOTDATA(R$21 & \"\",PivotTableB!$A$3,\"SchoolName\",$B94,\"SubsidiaryName\",$C94,\"YearStart\",Q$13))),\"\")","v":""},{"$f":"IFERROR(IF(R94=\".\",\".\",IF(R94=\"n/a\",\"n/a\",\nGETPIVOTDATA(S$21 & \"\",PivotTableB!$A$3,\"SchoolName\",$B94,\"SubsidiaryName\",$C94,\"YearStart\",Q$13))),\"\")","v":""},0,{"$f":"IFERROR(IF(T94=\".\",\".\",IF(T94=\"n/a\",\"n/a\",\nGETPIVOTDATA(U$21 & \"\",PivotTableB!$A$3,\"SchoolName\",$B94,\"SubsidiaryName\",$C94,\"YearStart\",Q$13))),\"\")","v":""},{"$f":"IFERROR(IF(U94=\".\",\".\",IF(U94=\"n/a\",\"n/a\",\nGETPIVOTDATA(V$21 & \"\",PivotTableB!$A$3,\"SchoolName\",$B94,\"SubsidiaryName\",$C94,\"YearStart\",Q$13))),\"\")","v":""},{"$f":"IFERROR(IF($B94=\"\",\"\",\nIF(OR($L94=\"Nursery School\",$L94=\"All-through PRU\",$M94=\"True\"),\"n/a\",\nIF(GETPIVOTDATA(W$21 & \"\",PivotTableB!$A$3,\"SchoolName\",$B94,\"SubsidiaryName\",$C94,\"YearStart\",W$13)=\"\",\".\",\nGETPIVOTDATA(W$21 & \"\",PivotTableB!$A$3,\"SchoolName\",$B94,\"SubsidiaryName\",$C94,\"YearStart\",W$13)))),\"\")","v":""},{"$f":"IFERROR(IF(W94=\".\",\".\",IF(W94=\"n/a\",\"n/a\",\nGETPIVOTDATA(X$21 & \"\",PivotTableB!$A$3,\"SchoolName\",$B94,\"SubsidiaryName\",$C94,\"YearStart\",W$13))),\"\")","v":""},{"$f":"IFERROR(IF(X94=\".\",\".\",IF(X94=\"n/a\",\"n/a\",\nGETPIVOTDATA(Y$21 & \"\",PivotTableB!$A$3,\"SchoolName\",$B94,\"SubsidiaryName\",$C94,\"YearStart\",W$13))),\"\")","v":""},0,{"$f":"IFERROR(IF(Z94=\".\",\".\",IF(Z94=\"n/a\",\"n/a\",\nGETPIVOTDATA(AA$21 & \"\",PivotTableB!$A$3,\"SchoolName\",$B94,\"SubsidiaryName\",$C94,\"YearStart\",W$13))),\"\")","v":""},{"$f":"IFERROR(IF(AA94=\".\",\".\",IF(AA94=\"n/a\",\"n/a\",\nGETPIVOTDATA(AB$21 & \"\",PivotTableB!$A$3,\"SchoolName\",$B94,\"SubsidiaryName\",$C94,\"YearStart\",W$13))),\"\")","v":""},{"$f":"IFERROR(IF($B94=\"\",\"\",\nIF(OR($L94=\"Nursery School\",$L94=\"All-through PRU\",$M94=\"True\"),\"n/a\",\nIF(GETPIVOTDATA(AC$21 & \"\",PivotTableB!$A$3,\"SchoolName\",$B94,\"SubsidiaryName\",$C94,\"YearStart\",AC$13)=\"\",\".\",\nGETPIVOTDATA(AC$21 & \"\",PivotTableB!$A$3,\"SchoolName\",$B94,\"SubsidiaryName\",$C94,\"YearStart\",AC$13)))),\"\")","v":""},{"$f":"IFERROR(IF(AC94=\".\",\".\",IF(AC94=\"n/a\",\"n/a\",\nGETPIVOTDATA(AD$21 & \"\",PivotTableB!$A$3,\"SchoolName\",$B94,\"SubsidiaryName\",$C94,\"YearStart\",AC$13))),\"\")","v":""},{"$f":"IFERROR(IF(AD94=\".\",\".\",IF(AD94=\"n/a\",\"n/a\",\nGETPIVOTDATA(AE$21 & \"\",PivotTableB!$A$3,\"SchoolName\",$B94,\"SubsidiaryName\",$C94,\"YearStart\",AC$13))),\"\")","v":""},0,{"$f":"IFERROR(IF(AF94=\".\",\".\",IF(AF94=\"n/a\",\"n/a\",\nGETPIVOTDATA(AG$21 & \"\",PivotTableB!$A$3,\"SchoolName\",$B94,\"SubsidiaryName\",$C94,\"YearStart\",AC$13))),\"\")","v":""},{"$f":"IFERROR(IF(AG94=\".\",\".\",IF(AG94=\"n/a\",\"n/a\",\nGETPIVOTDATA(AH$21 & \"\",PivotTableB!$A$3,\"SchoolName\",$B94,\"SubsidiaryName\",$C94,\"YearStart\",AC$13))),\"\")","v":""},{"$f":"IFERROR(IF($B94=\"\",\"\",\nIF(OR($L94=\"Nursery School\",$L94=\"All-through PRU\",$M94=\"True\"),\"n/a\",\nIF(GETPIVOTDATA(AI$21 & \"\",PivotTableB!$A$3,\"SchoolName\",$B94,\"SubsidiaryName\",$C94,\"YearStart\",AI$13)=\"\",\".\",\nGETPIVOTDATA(AI$21 & \"\",PivotTableB!$A$3,\"SchoolName\",$B94,\"SubsidiaryName\",$C94,\"YearStart\",AI$13)))),\"\")","v":""},{"$f":"IFERROR(IF(AI94=\".\",\".\",IF(AI94=\"n/a\",\"n/a\",\nGETPIVOTDATA(AJ$21 & \"\",PivotTableB!$A$3,\"SchoolName\",$B94,\"SubsidiaryName\",$C94,\"YearStart\",AI$13))),\"\")","v":""},{"$f":"IFERROR(IF(AJ94=\".\",\".\",IF(AJ94=\"n/a\",\"n/a\",\nGETPIVOTDATA(AK$21 & \"\",PivotTableB!$A$3,\"SchoolName\",$B94,\"SubsidiaryName\",$C94,\"YearStart\",AI$13))),\"\")","v":""},0,{"$f":"IFERROR(IF(AL94=\".\",\".\",IF(AL94=\"n/a\",\"n/a\",\nGETPIVOTDATA(AM$21 & \"\",PivotTableB!$A$3,\"SchoolName\",$B94,\"SubsidiaryName\",$C94,\"YearStart\",AI$13))),\"\")","v":""},{"$f":"IFERROR(IF(AM94=\".\",\".\",IF(AM94=\"n/a\",\"n/a\",\nGETPIVOTDATA(AN$21 & \"\",PivotTableB!$A$3,\"SchoolName\",$B94,\"SubsidiaryName\",$C94,\"YearStart\",AI$13))),\"\")","v":""},{"$f":"IFERROR(IF($B94=\"\",\"\",\nIF(OR($L94=\"Nursery School\",$L94=\"All-through PRU\",$M94=\"True\"),\"n/a\",\nIF(GETPIVOTDATA(AO$21 & \"\",PivotTableB!$A$3,\"SchoolName\",$B94,\"SubsidiaryName\",$C94,\"YearStart\",AO$13)=\"\",\".\",\nGETPIVOTDATA(AO$21 & \"\",PivotTableB!$A$3,\"SchoolName\",$B94,\"SubsidiaryName\",$C94,\"YearStart\",AO$13)))),\"\")","v":""},{"$f":"IFERROR(IF(AO94=\".\",\".\",IF(AO94=\"n/a\",\"n/a\",\nGETPIVOTDATA(AP$21 & \"\",PivotTableB!$A$3,\"SchoolName\",$B94,\"SubsidiaryName\",$C94,\"YearStart\",AO$13))),\"\")","v":""},{"$f":"IFERROR(IF(AP94=\".\",\".\",IF(AP94=\"n/a\",\"n/a\",\nGETPIVOTDATA(AQ$21 & \"\",PivotTableB!$A$3,\"SchoolName\",$B94,\"SubsidiaryName\",$C94,\"YearStart\",AO$13))),\"\")","v":""},0,{"$f":"IFERROR(IF(AR94=\".\",\".\",IF(AR94=\"n/a\",\"n/a\",\nGETPIVOTDATA(AS$21 & \"\",PivotTableB!$A$3,\"SchoolName\",$B94,\"SubsidiaryName\",$C94,\"YearStart\",AO$13))),\"\")","v":""},{"$f":"IFERROR(IF(AS94=\".\",\".\",IF(AS94=\"n/a\",\"n/a\",\nGETPIVOTDATA(AT$21 & \"\",PivotTableB!$A$3,\"SchoolName\",$B94,\"SubsidiaryName\",$C94,\"YearStart\",AO$13))),\"\")","v":""},{"$f":"IFERROR(IF($B94=\"\",\"\",\nIF(OR($L94=\"Nursery School\",$L94=\"All-through PRU\",$M94=\"True\"),\"n/a\",\nIF(GETPIVOTDATA(AU$21 & \"\",PivotTableB!$A$3,\"SchoolName\",$B94,\"SubsidiaryName\",$C94,\"YearStart\",AU$13)=\"\",\".\",\nGETPIVOTDATA(AU$21 & \"\",PivotTableB!$A$3,\"SchoolName\",$B94,\"SubsidiaryName\",$C94,\"YearStart\",AU$13)))),\"\")","v":""},{"$f":"IFERROR(IF(AU94=\".\",\".\",IF(AU94=\"n/a\",\"n/a\",\nGETPIVOTDATA(AV$21 & \"\",PivotTableB!$A$3,\"SchoolName\",$B94,\"SubsidiaryName\",$C94,\"YearStart\",AU$13))),\"\")","v":""},{"$f":"IFERROR(IF(AV94=\".\",\".\",IF(AV94=\"n/a\",\"n/a\",\nGETPIVOTDATA(AW$21 & \"\",PivotTableB!$A$3,\"SchoolName\",$B94,\"SubsidiaryName\",$C94,\"YearStart\",AU$13))),\"\")","v":""},0,{"$f":"IFERROR(IF(AX94=\".\",\".\",IF(AX94=\"n/a\",\"n/a\",\nGETPIVOTDATA(AY$21 & \"\",PivotTableB!$A$3,\"SchoolName\",$B94,\"SubsidiaryName\",$C94,\"YearStart\",AU$13))),\"\")","v":""},{"$f":"IFERROR(IF(AY94=\".\",\".\",IF(AY94=\"n/a\",\"n/a\",\nGETPIVOTDATA(AZ$21 & \"\",PivotTableB!$A$3,\"SchoolName\",$B94,\"SubsidiaryName\",$C94,\"YearStart\",AU$13))),\"\")","v":""},{"$f":"IFERROR(IF($B94=\"\",\"\",\nIF(OR($L94=\"Nursery School\",$L94=\"All-through PRU\",$M94=\"True\"),\"n/a\",\nIF(GETPIVOTDATA(BA$21 & \"\",PivotTableB!$A$3,\"SchoolName\",$B94,\"SubsidiaryName\",$C94,\"YearStart\",BA$13)=\"\",\".\",\nGETPIVOTDATA(BA$21 & \"\",PivotTableB!$A$3,\"SchoolName\",$B94,\"SubsidiaryName\",$C94,\"YearStart\",BA$13)))),\"\")","v":""},{"$f":"IFERROR(IF(BA94=\".\",\".\",IF(BA94=\"n/a\",\"n/a\",\nGETPIVOTDATA(BB$21 & \"\",PivotTableB!$A$3,\"SchoolName\",$B94,\"SubsidiaryName\",$C94,\"YearStart\",BA$13))),\"\")","v":""},{"$f":"IFERROR(IF(BB94=\".\",\".\",IF(BB94=\"n/a\",\"n/a\",\nGETPIVOTDATA(BC$21 & \"\",PivotTableB!$A$3,\"SchoolName\",$B94,\"SubsidiaryName\",$C94,\"YearStart\",BA$13))),\"\")","v":""},{"$f":"IFERROR(IF(BC94=\".\",\".\",IF(BC94=\"n/a\",\"n/a\",\nGETPIVOTDATA(BD$21 & \"\",PivotTableB!$A$3,\"SchoolName\",$B94,\"SubsidiaryName\",$C94,\"YearStart\",BB$13))),\"\")","v":""},0,{"$f":"IFERROR(IF(BE94=\".\",\".\",IF(BE94=\"n/a\",\"n/a\",\nGETPIVOTDATA(BF$21 & \"\",PivotTableB!$A$3,\"SchoolName\",$B94,\"SubsidiaryName\",$C94,\"YearStart\",BA$13))),\"\")","v":""},{"$f":"IFERROR(IF(BF94=\".\",\".\",IF(BF94=\"n/a\",\"n/a\",\nGETPIVOTDATA(BG$21 & \"\",PivotTableB!$A$3,\"SchoolName\",$B94,\"SubsidiaryName\",$C94,\"YearStart\",BA$13))),\"\")","v":""},{"$f":"IFERROR(IF($B94=\"\",\"\",\nIF(OR($L94=\"Nursery School\",$L94=\"All-through PRU\",$M94=\"True\"),\"n/a\",\nIF(GETPIVOTDATA(BH$21 & \"\",PivotTableB!$A$3,\"SchoolName\",$B94,\"SubsidiaryName\",$C94,\"YearStart\",BH$13)=\"\",\".\",\nGETPIVOTDATA(BH$21 & \"\",PivotTableB!$A$3,\"SchoolName\",$B94,\"SubsidiaryName\",$C94,\"YearStart\",BH$13)))),\"\")","v":""},{"$f":"IFERROR(IF(BH94=\".\",\".\",IF(BH94=\"n/a\",\"n/a\",\nGETPIVOTDATA(BI$21 & \"\",PivotTableB!$A$3,\"SchoolName\",$B94,\"SubsidiaryName\",$C94,\"YearStart\",BH$13))),\"\")","v":""},{"$f":"IFERROR(IF(BI94=\".\",\".\",IF(BI94=\"n/a\",\"n/a\",\nGETPIVOTDATA(BJ$21 & \"\",PivotTableB!$A$3,\"SchoolName\",$B94,\"SubsidiaryName\",$C94,\"YearStart\",BH$13))),\"\")","v":""},{"$f":"IFERROR(IF(BJ94=\".\",\".\",IF(BJ94=\"n/a\",\"n/a\",\nGETPIVOTDATA(BK$21 & \"\",PivotTableB!$A$3,\"SchoolName\",$B94,\"SubsidiaryName\",$C94,\"YearStart\",BH$13))),\"\")","v":""},0,{"$f":"IFERROR(IF(BL94=\".\",\".\",IF(BL94=\"n/a\",\"n/a\",\nGETPIVOTDATA(BM$21 & \"\",PivotTableB!$A$3,\"SchoolName\",$B94,\"SubsidiaryName\",$C94,\"YearStart\",BH$13))),\"\")","v":""},{"$f":"IFERROR(IF(BM94=\".\",\".\",IF(BM94=\"n/a\",\"n/a\",\nGETPIVOTDATA(BN$21 & \"\",PivotTableB!$A$3,\"SchoolName\",$B94,\"SubsidiaryName\",$C94,\"YearStart\",BH$13))),\"\")","v":""},{"$f":"IFERROR(IF($B94=\"\",\"\",\nIF(OR($L94=\"Nursery School\",$L94=\"All-through PRU\",$M94=\"True\"),\"n/a\",\nIF(GETPIVOTDATA(BO$21 & \"\",PivotTableB!$A$3,\"SchoolName\",$B94,\"SubsidiaryName\",$C94,\"YearStart\",BO$13)=\"\",\".\",\nGETPIVOTDATA(BO$21 & \"\",PivotTableB!$A$3,\"SchoolName\",$B94,\"SubsidiaryName\",$C94,\"YearStart\",BO$13)))),\"\")","v":""},{"$f":"IFERROR(IF(BO94=\".\",\".\",IF(BO94=\"n/a\",\"n/a\",\nGETPIVOTDATA(BP$21 & \"\",PivotTableB!$A$3,\"SchoolName\",$B94,\"SubsidiaryName\",$C94,\"YearStart\",BO$13))),\"\")","v":""},{"$f":"IFERROR(IF(BP94=\".\",\".\",IF(BP94=\"n/a\",\"n/a\",\nGETPIVOTDATA(BQ$21 & \"\",PivotTableB!$A$3,\"SchoolName\",$B94,\"SubsidiaryName\",$C94,\"YearStart\",BO$13))),\"\")","v":""},{"$f":"IFERROR(IF(BQ94=\".\",\".\",IF(BQ94=\"n/a\",\"n/a\",\nGETPIVOTDATA(BR$21 & \"\",PivotTableB!$A$3,\"SchoolName\",$B94,\"SubsidiaryName\",$C94,\"YearStart\",BP$13))),\"\")","v":""},0,{"$f":"IFERROR(IF(BS94=\".\",\".\",IF(BS94=\"n/a\",\"n/a\",\nGETPIVOTDATA(BT$21 & \"\",PivotTableB!$A$3,\"SchoolName\",$B94,\"SubsidiaryName\",$C94,\"YearStart\",BO$13))),\"\")","v":""},{"$f":"IFERROR(IF(BT94=\".\",\".\",IF(BT94=\"n/a\",\"n/a\",\nGETPIVOTDATA(BU$21 & \"\",PivotTableB!$A$3,\"SchoolName\",$B94,\"SubsidiaryName\",$C94,\"YearStart\",BO$13))),\"\")","v":""},{"$f":"IFERROR(IF($B94=\"\",\"\",\nIF(OR($L94=\"Nursery School\",$L94=\"All-through PRU\",$M94=\"True\"),\"n/a\",\nIF(GETPIVOTDATA(BV$21 & \"\",PivotTableB!$A$3,\"SchoolName\",$B94,\"SubsidiaryName\",$C94,\"YearStart\",BV$13)=\"\",\".\",\nGETPIVOTDATA(BV$21 & \"\",PivotTableB!$A$3,\"SchoolName\",$B94,\"SubsidiaryName\",$C94,\"YearStart\",BV$13)))),\"\")","v":""},{"$f":"IFERROR(IF(BV94=\".\",\".\",IF(BV94=\"n/a\",\"n/a\",\nGETPIVOTDATA(BW$21 & \"\",PivotTableB!$A$3,\"SchoolName\",$B94,\"SubsidiaryName\",$C94,\"YearStart\",BV$13))),\"\")","v":""},{"$f":"IFERROR(IF(BW94=\".\",\".\",IF(BW94=\"n/a\",\"n/a\",\nGETPIVOTDATA(BX$21 & \"\",PivotTableB!$A$3,\"SchoolName\",$B94,\"SubsidiaryName\",$C94,\"YearStart\",BV$13))),\"\")","v":""},{"$f":"IFERROR(IF(BX94=\".\",\".\",IF(BX94=\"n/a\",\"n/a\",\nGETPIVOTDATA(BY$21 & \"\",PivotTableB!$A$3,\"SchoolName\",$B94,\"SubsidiaryName\",$C94,\"YearStart\",BV$13))),\"\")","v":""},0,{"$f":"IFERROR(IF(BZ94=\".\",\".\",IF(BZ94=\"n/a\",\"n/a\",\nGETPIVOTDATA(CA$21 & \"\",PivotTableB!$A$3,\"SchoolName\",$B94,\"SubsidiaryName\",$C94,\"YearStart\",BV$13))),\"\")","v":""},{"$f":"IFERROR(IF(CA94=\".\",\".\",IF(CA94=\"n/a\",\"n/a\",\nGETPIVOTDATA(CB$21 & \"\",PivotTableB!$A$3,\"SchoolName\",$B94,\"SubsidiaryName\",$C94,\"YearStart\",BV$13))),\"\")","v":""}]
[null,{"$f":"IF(PivotTableA!A82=\"\",\"n/a\",PivotTableA!A82)","v":"n/a"},{"$f":"IF(B95=\"n/a\",\"\",PivotTableA!B82)","v":""},{"$f":"IF($B95=\"n/a\",\"\",PivotTableA!C82)","v":""},{"$f":"IF($B95=\"n/a\",\"\",PivotTableA!D82)","v":""},{"$f":"IF($B95=\"n/a\",\"\",PivotTableA!E82)","v":""},{"$f":"IF($B95=\"n/a\",\"\",PivotTableA!F82)","v":""},{"$f":"IF($B95=\"n/a\",\"\",PivotTableA!G82)","v":""},{"$f":"IF($B95=\"n/a\",\"\",PivotTableA!H82)","v":""},{"$f":"IF($B95=\"n/a\",\"\",PivotTableA!I82)","v":""},{"$f":"IF($B95=\"n/a\",\"\",PivotTableA!J82)","v":""},{"$f":"IF($B95=\"n/a\",\"\",PivotTableA!K82)","v":""},{"$f":"IF($B95=\"n/a\",\"\",PivotTableA!O82)","v":""},{"$f":"IF($B95=\"n/a\",\"\",PivotTableA!L82)","v":""},{"$f":"IF($B95=\"n/a\",\"\",PivotTableA!M82)","v":""},{"$f":"IF($B95=\"n/a\",\"\",PivotTableA!N82)","v":""},{"$f":"IFERROR(IF($B95=\"\",\"\",\nIF(OR($L95=\"Nursery School\",$L95=\"All-through PRU\",$M95=\"True\"),\"n/a\",\nIF(GETPIVOTDATA(Q$21 & \"\",PivotTableB!$A$3,\"SchoolName\",$B95,\"SubsidiaryName\",$C95,\"YearStart\",Q$13)=\"\",\".\",\nGETPIVOTDATA(Q$21 & \"\",PivotTableB!$A$3,\"SchoolName\",$B95,\"SubsidiaryName\",$C95,\"YearStart\",Q$13)))),\"\")","v":""},{"$f":"IFERROR(IF(Q95=\".\",\".\",IF(Q95=\"n/a\",\"n/a\",\nGETPIVOTDATA(R$21 & \"\",PivotTableB!$A$3,\"SchoolName\",$B95,\"SubsidiaryName\",$C95,\"YearStart\",Q$13))),\"\")","v":""},{"$f":"IFERROR(IF(R95=\".\",\".\",IF(R95=\"n/a\",\"n/a\",\nGETPIVOTDATA(S$21 & \"\",PivotTableB!$A$3,\"SchoolName\",$B95,\"SubsidiaryName\",$C95,\"YearStart\",Q$13))),\"\")","v":""},0,{"$f":"IFERROR(IF(T95=\".\",\".\",IF(T95=\"n/a\",\"n/a\",\nGETPIVOTDATA(U$21 & \"\",PivotTableB!$A$3,\"SchoolName\",$B95,\"SubsidiaryName\",$C95,\"YearStart\",Q$13))),\"\")","v":""},{"$f":"IFERROR(IF(U95=\".\",\".\",IF(U95=\"n/a\",\"n/a\",\nGETPIVOTDATA(V$21 & \"\",PivotTableB!$A$3,\"SchoolName\",$B95,\"SubsidiaryName\",$C95,\"YearStart\",Q$13))),\"\")","v":""},{"$f":"IFERROR(IF($B95=\"\",\"\",\nIF(OR($L95=\"Nursery School\",$L95=\"All-through PRU\",$M95=\"True\"),\"n/a\",\nIF(GETPIVOTDATA(W$21 & \"\",PivotTableB!$A$3,\"SchoolName\",$B95,\"SubsidiaryName\",$C95,\"YearStart\",W$13)=\"\",\".\",\nGETPIVOTDATA(W$21 & \"\",PivotTableB!$A$3,\"SchoolName\",$B95,\"SubsidiaryName\",$C95,\"YearStart\",W$13)))),\"\")","v":""},{"$f":"IFERROR(IF(W95=\".\",\".\",IF(W95=\"n/a\",\"n/a\",\nGETPIVOTDATA(X$21 & \"\",PivotTableB!$A$3,\"SchoolName\",$B95,\"SubsidiaryName\",$C95,\"YearStart\",W$13))),\"\")","v":""},{"$f":"IFERROR(IF(X95=\".\",\".\",IF(X95=\"n/a\",\"n/a\",\nGETPIVOTDATA(Y$21 & \"\",PivotTableB!$A$3,\"SchoolName\",$B95,\"SubsidiaryName\",$C95,\"YearStart\",W$13))),\"\")","v":""},0,{"$f":"IFERROR(IF(Z95=\".\",\".\",IF(Z95=\"n/a\",\"n/a\",\nGETPIVOTDATA(AA$21 & \"\",PivotTableB!$A$3,\"SchoolName\",$B95,\"SubsidiaryName\",$C95,\"YearStart\",W$13))),\"\")","v":""},{"$f":"IFERROR(IF(AA95=\".\",\".\",IF(AA95=\"n/a\",\"n/a\",\nGETPIVOTDATA(AB$21 & \"\",PivotTableB!$A$3,\"SchoolName\",$B95,\"SubsidiaryName\",$C95,\"YearStart\",W$13))),\"\")","v":""},{"$f":"IFERROR(IF($B95=\"\",\"\",\nIF(OR($L95=\"Nursery School\",$L95=\"All-through PRU\",$M95=\"True\"),\"n/a\",\nIF(GETPIVOTDATA(AC$21 & \"\",PivotTableB!$A$3,\"SchoolName\",$B95,\"SubsidiaryName\",$C95,\"YearStart\",AC$13)=\"\",\".\",\nGETPIVOTDATA(AC$21 & \"\",PivotTableB!$A$3,\"SchoolName\",$B95,\"SubsidiaryName\",$C95,\"YearStart\",AC$13)))),\"\")","v":""},{"$f":"IFERROR(IF(AC95=\".\",\".\",IF(AC95=\"n/a\",\"n/a\",\nGETPIVOTDATA(AD$21 & \"\",PivotTableB!$A$3,\"SchoolName\",$B95,\"SubsidiaryName\",$C95,\"YearStart\",AC$13))),\"\")","v":""},{"$f":"IFERROR(IF(AD95=\".\",\".\",IF(AD95=\"n/a\",\"n/a\",\nGETPIVOTDATA(AE$21 & \"\",PivotTableB!$A$3,\"SchoolName\",$B95,\"SubsidiaryName\",$C95,\"YearStart\",AC$13))),\"\")","v":""},0,{"$f":"IFERROR(IF(AF95=\".\",\".\",IF(AF95=\"n/a\",\"n/a\",\nGETPIVOTDATA(AG$21 & \"\",PivotTableB!$A$3,\"SchoolName\",$B95,\"SubsidiaryName\",$C95,\"YearStart\",AC$13))),\"\")","v":""},{"$f":"IFERROR(IF(AG95=\".\",\".\",IF(AG95=\"n/a\",\"n/a\",\nGETPIVOTDATA(AH$21 & \"\",PivotTableB!$A$3,\"SchoolName\",$B95,\"SubsidiaryName\",$C95,\"YearStart\",AC$13))),\"\")","v":""},{"$f":"IFERROR(IF($B95=\"\",\"\",\nIF(OR($L95=\"Nursery School\",$L95=\"All-through PRU\",$M95=\"True\"),\"n/a\",\nIF(GETPIVOTDATA(AI$21 & \"\",PivotTableB!$A$3,\"SchoolName\",$B95,\"SubsidiaryName\",$C95,\"YearStart\",AI$13)=\"\",\".\",\nGETPIVOTDATA(AI$21 & \"\",PivotTableB!$A$3,\"SchoolName\",$B95,\"SubsidiaryName\",$C95,\"YearStart\",AI$13)))),\"\")","v":""},{"$f":"IFERROR(IF(AI95=\".\",\".\",IF(AI95=\"n/a\",\"n/a\",\nGETPIVOTDATA(AJ$21 & \"\",PivotTableB!$A$3,\"SchoolName\",$B95,\"SubsidiaryName\",$C95,\"YearStart\",AI$13))),\"\")","v":""},{"$f":"IFERROR(IF(AJ95=\".\",\".\",IF(AJ95=\"n/a\",\"n/a\",\nGETPIVOTDATA(AK$21 & \"\",PivotTableB!$A$3,\"SchoolName\",$B95,\"SubsidiaryName\",$C95,\"YearStart\",AI$13))),\"\")","v":""},0,{"$f":"IFERROR(IF(AL95=\".\",\".\",IF(AL95=\"n/a\",\"n/a\",\nGETPIVOTDATA(AM$21 & \"\",PivotTableB!$A$3,\"SchoolName\",$B95,\"SubsidiaryName\",$C95,\"YearStart\",AI$13))),\"\")","v":""},{"$f":"IFERROR(IF(AM95=\".\",\".\",IF(AM95=\"n/a\",\"n/a\",\nGETPIVOTDATA(AN$21 & \"\",PivotTableB!$A$3,\"SchoolName\",$B95,\"SubsidiaryName\",$C95,\"YearStart\",AI$13))),\"\")","v":""},{"$f":"IFERROR(IF($B95=\"\",\"\",\nIF(OR($L95=\"Nursery School\",$L95=\"All-through PRU\",$M95=\"True\"),\"n/a\",\nIF(GETPIVOTDATA(AO$21 & \"\",PivotTableB!$A$3,\"SchoolName\",$B95,\"SubsidiaryName\",$C95,\"YearStart\",AO$13)=\"\",\".\",\nGETPIVOTDATA(AO$21 & \"\",PivotTableB!$A$3,\"SchoolName\",$B95,\"SubsidiaryName\",$C95,\"YearStart\",AO$13)))),\"\")","v":""},{"$f":"IFERROR(IF(AO95=\".\",\".\",IF(AO95=\"n/a\",\"n/a\",\nGETPIVOTDATA(AP$21 & \"\",PivotTableB!$A$3,\"SchoolName\",$B95,\"SubsidiaryName\",$C95,\"YearStart\",AO$13))),\"\")","v":""},{"$f":"IFERROR(IF(AP95=\".\",\".\",IF(AP95=\"n/a\",\"n/a\",\nGETPIVOTDATA(AQ$21 & \"\",PivotTableB!$A$3,\"SchoolName\",$B95,\"SubsidiaryName\",$C95,\"YearStart\",AO$13))),\"\")","v":""},0,{"$f":"IFERROR(IF(AR95=\".\",\".\",IF(AR95=\"n/a\",\"n/a\",\nGETPIVOTDATA(AS$21 & \"\",PivotTableB!$A$3,\"SchoolName\",$B95,\"SubsidiaryName\",$C95,\"YearStart\",AO$13))),\"\")","v":""},{"$f":"IFERROR(IF(AS95=\".\",\".\",IF(AS95=\"n/a\",\"n/a\",\nGETPIVOTDATA(AT$21 & \"\",PivotTableB!$A$3,\"SchoolName\",$B95,\"SubsidiaryName\",$C95,\"YearStart\",AO$13))),\"\")","v":""},{"$f":"IFERROR(IF($B95=\"\",\"\",\nIF(OR($L95=\"Nursery School\",$L95=\"All-through PRU\",$M95=\"True\"),\"n/a\",\nIF(GETPIVOTDATA(AU$21 & \"\",PivotTableB!$A$3,\"SchoolName\",$B95,\"SubsidiaryName\",$C95,\"YearStart\",AU$13)=\"\",\".\",\nGETPIVOTDATA(AU$21 & \"\",PivotTableB!$A$3,\"SchoolName\",$B95,\"SubsidiaryName\",$C95,\"YearStart\",AU$13)))),\"\")","v":""},{"$f":"IFERROR(IF(AU95=\".\",\".\",IF(AU95=\"n/a\",\"n/a\",\nGETPIVOTDATA(AV$21 & \"\",PivotTableB!$A$3,\"SchoolName\",$B95,\"SubsidiaryName\",$C95,\"YearStart\",AU$13))),\"\")","v":""},{"$f":"IFERROR(IF(AV95=\".\",\".\",IF(AV95=\"n/a\",\"n/a\",\nGETPIVOTDATA(AW$21 & \"\",PivotTableB!$A$3,\"SchoolName\",$B95,\"SubsidiaryName\",$C95,\"YearStart\",AU$13))),\"\")","v":""},0,{"$f":"IFERROR(IF(AX95=\".\",\".\",IF(AX95=\"n/a\",\"n/a\",\nGETPIVOTDATA(AY$21 & \"\",PivotTableB!$A$3,\"SchoolName\",$B95,\"SubsidiaryName\",$C95,\"YearStart\",AU$13))),\"\")","v":""},{"$f":"IFERROR(IF(AY95=\".\",\".\",IF(AY95=\"n/a\",\"n/a\",\nGETPIVOTDATA(AZ$21 & \"\",PivotTableB!$A$3,\"SchoolName\",$B95,\"SubsidiaryName\",$C95,\"YearStart\",AU$13))),\"\")","v":""},{"$f":"IFERROR(IF($B95=\"\",\"\",\nIF(OR($L95=\"Nursery School\",$L95=\"All-through PRU\",$M95=\"True\"),\"n/a\",\nIF(GETPIVOTDATA(BA$21 & \"\",PivotTableB!$A$3,\"SchoolName\",$B95,\"SubsidiaryName\",$C95,\"YearStart\",BA$13)=\"\",\".\",\nGETPIVOTDATA(BA$21 & \"\",PivotTableB!$A$3,\"SchoolName\",$B95,\"SubsidiaryName\",$C95,\"YearStart\",BA$13)))),\"\")","v":""},{"$f":"IFERROR(IF(BA95=\".\",\".\",IF(BA95=\"n/a\",\"n/a\",\nGETPIVOTDATA(BB$21 & \"\",PivotTableB!$A$3,\"SchoolName\",$B95,\"SubsidiaryName\",$C95,\"YearStart\",BA$13))),\"\")","v":""},{"$f":"IFERROR(IF(BB95=\".\",\".\",IF(BB95=\"n/a\",\"n/a\",\nGETPIVOTDATA(BC$21 & \"\",PivotTableB!$A$3,\"SchoolName\",$B95,\"SubsidiaryName\",$C95,\"YearStart\",BA$13))),\"\")","v":""},{"$f":"IFERROR(IF(BC95=\".\",\".\",IF(BC95=\"n/a\",\"n/a\",\nGETPIVOTDATA(BD$21 & \"\",PivotTableB!$A$3,\"SchoolName\",$B95,\"SubsidiaryName\",$C95,\"YearStart\",BB$13))),\"\")","v":""},0,{"$f":"IFERROR(IF(BE95=\".\",\".\",IF(BE95=\"n/a\",\"n/a\",\nGETPIVOTDATA(BF$21 & \"\",PivotTableB!$A$3,\"SchoolName\",$B95,\"SubsidiaryName\",$C95,\"YearStart\",BA$13))),\"\")","v":""},{"$f":"IFERROR(IF(BF95=\".\",\".\",IF(BF95=\"n/a\",\"n/a\",\nGETPIVOTDATA(BG$21 & \"\",PivotTableB!$A$3,\"SchoolName\",$B95,\"SubsidiaryName\",$C95,\"YearStart\",BA$13))),\"\")","v":""},{"$f":"IFERROR(IF($B95=\"\",\"\",\nIF(OR($L95=\"Nursery School\",$L95=\"All-through PRU\",$M95=\"True\"),\"n/a\",\nIF(GETPIVOTDATA(BH$21 & \"\",PivotTableB!$A$3,\"SchoolName\",$B95,\"SubsidiaryName\",$C95,\"YearStart\",BH$13)=\"\",\".\",\nGETPIVOTDATA(BH$21 & \"\",PivotTableB!$A$3,\"SchoolName\",$B95,\"SubsidiaryName\",$C95,\"YearStart\",BH$13)))),\"\")","v":""},{"$f":"IFERROR(IF(BH95=\".\",\".\",IF(BH95=\"n/a\",\"n/a\",\nGETPIVOTDATA(BI$21 & \"\",PivotTableB!$A$3,\"SchoolName\",$B95,\"SubsidiaryName\",$C95,\"YearStart\",BH$13))),\"\")","v":""},{"$f":"IFERROR(IF(BI95=\".\",\".\",IF(BI95=\"n/a\",\"n/a\",\nGETPIVOTDATA(BJ$21 & \"\",PivotTableB!$A$3,\"SchoolName\",$B95,\"SubsidiaryName\",$C95,\"YearStart\",BH$13))),\"\")","v":""},{"$f":"IFERROR(IF(BJ95=\".\",\".\",IF(BJ95=\"n/a\",\"n/a\",\nGETPIVOTDATA(BK$21 & \"\",PivotTableB!$A$3,\"SchoolName\",$B95,\"SubsidiaryName\",$C95,\"YearStart\",BH$13))),\"\")","v":""},0,{"$f":"IFERROR(IF(BL95=\".\",\".\",IF(BL95=\"n/a\",\"n/a\",\nGETPIVOTDATA(BM$21 & \"\",PivotTableB!$A$3,\"SchoolName\",$B95,\"SubsidiaryName\",$C95,\"YearStart\",BH$13))),\"\")","v":""},{"$f":"IFERROR(IF(BM95=\".\",\".\",IF(BM95=\"n/a\",\"n/a\",\nGETPIVOTDATA(BN$21 & \"\",PivotTableB!$A$3,\"SchoolName\",$B95,\"SubsidiaryName\",$C95,\"YearStart\",BH$13))),\"\")","v":""},{"$f":"IFERROR(IF($B95=\"\",\"\",\nIF(OR($L95=\"Nursery School\",$L95=\"All-through PRU\",$M95=\"True\"),\"n/a\",\nIF(GETPIVOTDATA(BO$21 & \"\",PivotTableB!$A$3,\"SchoolName\",$B95,\"SubsidiaryName\",$C95,\"YearStart\",BO$13)=\"\",\".\",\nGETPIVOTDATA(BO$21 & \"\",PivotTableB!$A$3,\"SchoolName\",$B95,\"SubsidiaryName\",$C95,\"YearStart\",BO$13)))),\"\")","v":""},{"$f":"IFERROR(IF(BO95=\".\",\".\",IF(BO95=\"n/a\",\"n/a\",\nGETPIVOTDATA(BP$21 & \"\",PivotTableB!$A$3,\"SchoolName\",$B95,\"SubsidiaryName\",$C95,\"YearStart\",BO$13))),\"\")","v":""},{"$f":"IFERROR(IF(BP95=\".\",\".\",IF(BP95=\"n/a\",\"n/a\",\nGETPIVOTDATA(BQ$21 & \"\",PivotTableB!$A$3,\"SchoolName\",$B95,\"SubsidiaryName\",$C95,\"YearStart\",BO$13))),\"\")","v":""},{"$f":"IFERROR(IF(BQ95=\".\",\".\",IF(BQ95=\"n/a\",\"n/a\",\nGETPIVOTDATA(BR$21 & \"\",PivotTableB!$A$3,\"SchoolName\",$B95,\"SubsidiaryName\",$C95,\"YearStart\",BP$13))),\"\")","v":""},0,{"$f":"IFERROR(IF(BS95=\".\",\".\",IF(BS95=\"n/a\",\"n/a\",\nGETPIVOTDATA(BT$21 & \"\",PivotTableB!$A$3,\"SchoolName\",$B95,\"SubsidiaryName\",$C95,\"YearStart\",BO$13))),\"\")","v":""},{"$f":"IFERROR(IF(BT95=\".\",\".\",IF(BT95=\"n/a\",\"n/a\",\nGETPIVOTDATA(BU$21 & \"\",PivotTableB!$A$3,\"SchoolName\",$B95,\"SubsidiaryName\",$C95,\"YearStart\",BO$13))),\"\")","v":""},{"$f":"IFERROR(IF($B95=\"\",\"\",\nIF(OR($L95=\"Nursery School\",$L95=\"All-through PRU\",$M95=\"True\"),\"n/a\",\nIF(GETPIVOTDATA(BV$21 & \"\",PivotTableB!$A$3,\"SchoolName\",$B95,\"SubsidiaryName\",$C95,\"YearStart\",BV$13)=\"\",\".\",\nGETPIVOTDATA(BV$21 & \"\",PivotTableB!$A$3,\"SchoolName\",$B95,\"SubsidiaryName\",$C95,\"YearStart\",BV$13)))),\"\")","v":""},{"$f":"IFERROR(IF(BV95=\".\",\".\",IF(BV95=\"n/a\",\"n/a\",\nGETPIVOTDATA(BW$21 & \"\",PivotTableB!$A$3,\"SchoolName\",$B95,\"SubsidiaryName\",$C95,\"YearStart\",BV$13))),\"\")","v":""},{"$f":"IFERROR(IF(BW95=\".\",\".\",IF(BW95=\"n/a\",\"n/a\",\nGETPIVOTDATA(BX$21 & \"\",PivotTableB!$A$3,\"SchoolName\",$B95,\"SubsidiaryName\",$C95,\"YearStart\",BV$13))),\"\")","v":""},{"$f":"IFERROR(IF(BX95=\".\",\".\",IF(BX95=\"n/a\",\"n/a\",\nGETPIVOTDATA(BY$21 & \"\",PivotTableB!$A$3,\"SchoolName\",$B95,\"SubsidiaryName\",$C95,\"YearStart\",BV$13))),\"\")","v":""},0,{"$f":"IFERROR(IF(BZ95=\".\",\".\",IF(BZ95=\"n/a\",\"n/a\",\nGETPIVOTDATA(CA$21 & \"\",PivotTableB!$A$3,\"SchoolName\",$B95,\"SubsidiaryName\",$C95,\"YearStart\",BV$13))),\"\")","v":""},{"$f":"IFERROR(IF(CA95=\".\",\".\",IF(CA95=\"n/a\",\"n/a\",\nGETPIVOTDATA(CB$21 & \"\",PivotTableB!$A$3,\"SchoolName\",$B95,\"SubsidiaryName\",$C95,\"YearStart\",BV$13))),\"\")","v":""}]
[null,{"$f":"IF(PivotTableA!A83=\"\",\"n/a\",PivotTableA!A83)","v":"n/a"},{"$f":"IF(B96=\"n/a\",\"\",PivotTableA!B83)","v":""},{"$f":"IF($B96=\"n/a\",\"\",PivotTableA!C83)","v":""},{"$f":"IF($B96=\"n/a\",\"\",PivotTableA!D83)","v":""},{"$f":"IF($B96=\"n/a\",\"\",PivotTableA!E83)","v":""},{"$f":"IF($B96=\"n/a\",\"\",PivotTableA!F83)","v":""},{"$f":"IF($B96=\"n/a\",\"\",PivotTableA!G83)","v":""},{"$f":"IF($B96=\"n/a\",\"\",PivotTableA!H83)","v":""},{"$f":"IF($B96=\"n/a\",\"\",PivotTableA!I83)","v":""},{"$f":"IF($B96=\"n/a\",\"\",PivotTableA!J83)","v":""},{"$f":"IF($B96=\"n/a\",\"\",PivotTableA!K83)","v":""},{"$f":"IF($B96=\"n/a\",\"\",PivotTableA!O83)","v":""},{"$f":"IF($B96=\"n/a\",\"\",PivotTableA!L83)","v":""},{"$f":"IF($B96=\"n/a\",\"\",PivotTableA!M83)","v":""},{"$f":"IF($B96=\"n/a\",\"\",PivotTableA!N83)","v":""},{"$f":"IFERROR(IF($B96=\"\",\"\",\nIF(OR($L96=\"Nursery School\",$L96=\"All-through PRU\",$M96=\"True\"),\"n/a\",\nIF(GETPIVOTDATA(Q$21 & \"\",PivotTableB!$A$3,\"SchoolName\",$B96,\"SubsidiaryName\",$C96,\"YearStart\",Q$13)=\"\",\".\",\nGETPIVOTDATA(Q$21 & \"\",PivotTableB!$A$3,\"SchoolName\",$B96,\"SubsidiaryName\",$C96,\"YearStart\",Q$13)))),\"\")","v":""},{"$f":"IFERROR(IF(Q96=\".\",\".\",IF(Q96=\"n/a\",\"n/a\",\nGETPIVOTDATA(R$21 & \"\",PivotTableB!$A$3,\"SchoolName\",$B96,\"SubsidiaryName\",$C96,\"YearStart\",Q$13))),\"\")","v":""},{"$f":"IFERROR(IF(R96=\".\",\".\",IF(R96=\"n/a\",\"n/a\",\nGETPIVOTDATA(S$21 & \"\",PivotTableB!$A$3,\"SchoolName\",$B96,\"SubsidiaryName\",$C96,\"YearStart\",Q$13))),\"\")","v":""},0,{"$f":"IFERROR(IF(T96=\".\",\".\",IF(T96=\"n/a\",\"n/a\",\nGETPIVOTDATA(U$21 & \"\",PivotTableB!$A$3,\"SchoolName\",$B96,\"SubsidiaryName\",$C96,\"YearStart\",Q$13))),\"\")","v":""},{"$f":"IFERROR(IF(U96=\".\",\".\",IF(U96=\"n/a\",\"n/a\",\nGETPIVOTDATA(V$21 & \"\",PivotTableB!$A$3,\"SchoolName\",$B96,\"SubsidiaryName\",$C96,\"YearStart\",Q$13))),\"\")","v":""},{"$f":"IFERROR(IF($B96=\"\",\"\",\nIF(OR($L96=\"Nursery School\",$L96=\"All-through PRU\",$M96=\"True\"),\"n/a\",\nIF(GETPIVOTDATA(W$21 & \"\",PivotTableB!$A$3,\"SchoolName\",$B96,\"SubsidiaryName\",$C96,\"YearStart\",W$13)=\"\",\".\",\nGETPIVOTDATA(W$21 & \"\",PivotTableB!$A$3,\"SchoolName\",$B96,\"SubsidiaryName\",$C96,\"YearStart\",W$13)))),\"\")","v":""},{"$f":"IFERROR(IF(W96=\".\",\".\",IF(W96=\"n/a\",\"n/a\",\nGETPIVOTDATA(X$21 & \"\",PivotTableB!$A$3,\"SchoolName\",$B96,\"SubsidiaryName\",$C96,\"YearStart\",W$13))),\"\")","v":""},{"$f":"IFERROR(IF(X96=\".\",\".\",IF(X96=\"n/a\",\"n/a\",\nGETPIVOTDATA(Y$21 & \"\",PivotTableB!$A$3,\"SchoolName\",$B96,\"SubsidiaryName\",$C96,\"YearStart\",W$13))),\"\")","v":""},0,{"$f":"IFERROR(IF(Z96=\".\",\".\",IF(Z96=\"n/a\",\"n/a\",\nGETPIVOTDATA(AA$21 & \"\",PivotTableB!$A$3,\"SchoolName\",$B96,\"SubsidiaryName\",$C96,\"YearStart\",W$13))),\"\")","v":""},{"$f":"IFERROR(IF(AA96=\".\",\".\",IF(AA96=\"n/a\",\"n/a\",\nGETPIVOTDATA(AB$21 & \"\",PivotTableB!$A$3,\"SchoolName\",$B96,\"SubsidiaryName\",$C96,\"YearStart\",W$13))),\"\")","v":""},{"$f":"IFERROR(IF($B96=\"\",\"\",\nIF(OR($L96=\"Nursery School\",$L96=\"All-through PRU\",$M96=\"True\"),\"n/a\",\nIF(GETPIVOTDATA(AC$21 & \"\",PivotTableB!$A$3,\"SchoolName\",$B96,\"SubsidiaryName\",$C96,\"YearStart\",AC$13)=\"\",\".\",\nGETPIVOTDATA(AC$21 & \"\",PivotTableB!$A$3,\"SchoolName\",$B96,\"SubsidiaryName\",$C96,\"YearStart\",AC$13)))),\"\")","v":""},{"$f":"IFERROR(IF(AC96=\".\",\".\",IF(AC96=\"n/a\",\"n/a\",\nGETPIVOTDATA(AD$21 & \"\",PivotTableB!$A$3,\"SchoolName\",$B96,\"SubsidiaryName\",$C96,\"YearStart\",AC$13))),\"\")","v":""},{"$f":"IFERROR(IF(AD96=\".\",\".\",IF(AD96=\"n/a\",\"n/a\",\nGETPIVOTDATA(AE$21 & \"\",PivotTableB!$A$3,\"SchoolName\",$B96,\"SubsidiaryName\",$C96,\"YearStart\",AC$13))),\"\")","v":""},0,{"$f":"IFERROR(IF(AF96=\".\",\".\",IF(AF96=\"n/a\",\"n/a\",\nGETPIVOTDATA(AG$21 & \"\",PivotTableB!$A$3,\"SchoolName\",$B96,\"SubsidiaryName\",$C96,\"YearStart\",AC$13))),\"\")","v":""},{"$f":"IFERROR(IF(AG96=\".\",\".\",IF(AG96=\"n/a\",\"n/a\",\nGETPIVOTDATA(AH$21 & \"\",PivotTableB!$A$3,\"SchoolName\",$B96,\"SubsidiaryName\",$C96,\"YearStart\",AC$13))),\"\")","v":""},{"$f":"IFERROR(IF($B96=\"\",\"\",\nIF(OR($L96=\"Nursery School\",$L96=\"All-through PRU\",$M96=\"True\"),\"n/a\",\nIF(GETPIVOTDATA(AI$21 & \"\",PivotTableB!$A$3,\"SchoolName\",$B96,\"SubsidiaryName\",$C96,\"YearStart\",AI$13)=\"\",\".\",\nGETPIVOTDATA(AI$21 & \"\",PivotTableB!$A$3,\"SchoolName\",$B96,\"SubsidiaryName\",$C96,\"YearStart\",AI$13)))),\"\")","v":""},{"$f":"IFERROR(IF(AI96=\".\",\".\",IF(AI96=\"n/a\",\"n/a\",\nGETPIVOTDATA(AJ$21 & \"\",PivotTableB!$A$3,\"SchoolName\",$B96,\"SubsidiaryName\",$C96,\"YearStart\",AI$13))),\"\")","v":""},{"$f":"IFERROR(IF(AJ96=\".\",\".\",IF(AJ96=\"n/a\",\"n/a\",\nGETPIVOTDATA(AK$21 & \"\",PivotTableB!$A$3,\"SchoolName\",$B96,\"SubsidiaryName\",$C96,\"YearStart\",AI$13))),\"\")","v":""},0,{"$f":"IFERROR(IF(AL96=\".\",\".\",IF(AL96=\"n/a\",\"n/a\",\nGETPIVOTDATA(AM$21 & \"\",PivotTableB!$A$3,\"SchoolName\",$B96,\"SubsidiaryName\",$C96,\"YearStart\",AI$13))),\"\")","v":""},{"$f":"IFERROR(IF(AM96=\".\",\".\",IF(AM96=\"n/a\",\"n/a\",\nGETPIVOTDATA(AN$21 & \"\",PivotTableB!$A$3,\"SchoolName\",$B96,\"SubsidiaryName\",$C96,\"YearStart\",AI$13))),\"\")","v":""},{"$f":"IFERROR(IF($B96=\"\",\"\",\nIF(OR($L96=\"Nursery School\",$L96=\"All-through PRU\",$M96=\"True\"),\"n/a\",\nIF(GETPIVOTDATA(AO$21 & \"\",PivotTableB!$A$3,\"SchoolName\",$B96,\"SubsidiaryName\",$C96,\"YearStart\",AO$13)=\"\",\".\",\nGETPIVOTDATA(AO$21 & \"\",PivotTableB!$A$3,\"SchoolName\",$B96,\"SubsidiaryName\",$C96,\"YearStart\",AO$13)))),\"\")","v":""},{"$f":"IFERROR(IF(AO96=\".\",\".\",IF(AO96=\"n/a\",\"n/a\",\nGETPIVOTDATA(AP$21 & \"\",PivotTableB!$A$3,\"SchoolName\",$B96,\"SubsidiaryName\",$C96,\"YearStart\",AO$13))),\"\")","v":""},{"$f":"IFERROR(IF(AP96=\".\",\".\",IF(AP96=\"n/a\",\"n/a\",\nGETPIVOTDATA(AQ$21 & \"\",PivotTableB!$A$3,\"SchoolName\",$B96,\"SubsidiaryName\",$C96,\"YearStart\",AO$13))),\"\")","v":""},0,{"$f":"IFERROR(IF(AR96=\".\",\".\",IF(AR96=\"n/a\",\"n/a\",\nGETPIVOTDATA(AS$21 & \"\",PivotTableB!$A$3,\"SchoolName\",$B96,\"SubsidiaryName\",$C96,\"YearStart\",AO$13))),\"\")","v":""},{"$f":"IFERROR(IF(AS96=\".\",\".\",IF(AS96=\"n/a\",\"n/a\",\nGETPIVOTDATA(AT$21 & \"\",PivotTableB!$A$3,\"SchoolName\",$B96,\"SubsidiaryName\",$C96,\"YearStart\",AO$13))),\"\")","v":""},{"$f":"IFERROR(IF($B96=\"\",\"\",\nIF(OR($L96=\"Nursery School\",$L96=\"All-through PRU\",$M96=\"True\"),\"n/a\",\nIF(GETPIVOTDATA(AU$21 & \"\",PivotTableB!$A$3,\"SchoolName\",$B96,\"SubsidiaryName\",$C96,\"YearStart\",AU$13)=\"\",\".\",\nGETPIVOTDATA(AU$21 & \"\",PivotTableB!$A$3,\"SchoolName\",$B96,\"SubsidiaryName\",$C96,\"YearStart\",AU$13)))),\"\")","v":""},{"$f":"IFERROR(IF(AU96=\".\",\".\",IF(AU96=\"n/a\",\"n/a\",\nGETPIVOTDATA(AV$21 & \"\",PivotTableB!$A$3,\"SchoolName\",$B96,\"SubsidiaryName\",$C96,\"YearStart\",AU$13))),\"\")","v":""},{"$f":"IFERROR(IF(AV96=\".\",\".\",IF(AV96=\"n/a\",\"n/a\",\nGETPIVOTDATA(AW$21 & \"\",PivotTableB!$A$3,\"SchoolName\",$B96,\"SubsidiaryName\",$C96,\"YearStart\",AU$13))),\"\")","v":""},0,{"$f":"IFERROR(IF(AX96=\".\",\".\",IF(AX96=\"n/a\",\"n/a\",\nGETPIVOTDATA(AY$21 & \"\",PivotTableB!$A$3,\"SchoolName\",$B96,\"SubsidiaryName\",$C96,\"YearStart\",AU$13))),\"\")","v":""},{"$f":"IFERROR(IF(AY96=\".\",\".\",IF(AY96=\"n/a\",\"n/a\",\nGETPIVOTDATA(AZ$21 & \"\",PivotTableB!$A$3,\"SchoolName\",$B96,\"SubsidiaryName\",$C96,\"YearStart\",AU$13))),\"\")","v":""},{"$f":"IFERROR(IF($B96=\"\",\"\",\nIF(OR($L96=\"Nursery School\",$L96=\"All-through PRU\",$M96=\"True\"),\"n/a\",\nIF(GETPIVOTDATA(BA$21 & \"\",PivotTableB!$A$3,\"SchoolName\",$B96,\"SubsidiaryName\",$C96,\"YearStart\",BA$13)=\"\",\".\",\nGETPIVOTDATA(BA$21 & \"\",PivotTableB!$A$3,\"SchoolName\",$B96,\"SubsidiaryName\",$C96,\"YearStart\",BA$13)))),\"\")","v":""},{"$f":"IFERROR(IF(BA96=\".\",\".\",IF(BA96=\"n/a\",\"n/a\",\nGETPIVOTDATA(BB$21 & \"\",PivotTableB!$A$3,\"SchoolName\",$B96,\"SubsidiaryName\",$C96,\"YearStart\",BA$13))),\"\")","v":""},{"$f":"IFERROR(IF(BB96=\".\",\".\",IF(BB96=\"n/a\",\"n/a\",\nGETPIVOTDATA(BC$21 & \"\",PivotTableB!$A$3,\"SchoolName\",$B96,\"SubsidiaryName\",$C96,\"YearStart\",BA$13))),\"\")","v":""},{"$f":"IFERROR(IF(BC96=\".\",\".\",IF(BC96=\"n/a\",\"n/a\",\nGETPIVOTDATA(BD$21 & \"\",PivotTableB!$A$3,\"SchoolName\",$B96,\"SubsidiaryName\",$C96,\"YearStart\",BB$13))),\"\")","v":""},0,{"$f":"IFERROR(IF(BE96=\".\",\".\",IF(BE96=\"n/a\",\"n/a\",\nGETPIVOTDATA(BF$21 & \"\",PivotTableB!$A$3,\"SchoolName\",$B96,\"SubsidiaryName\",$C96,\"YearStart\",BA$13))),\"\")","v":""},{"$f":"IFERROR(IF(BF96=\".\",\".\",IF(BF96=\"n/a\",\"n/a\",\nGETPIVOTDATA(BG$21 & \"\",PivotTableB!$A$3,\"SchoolName\",$B96,\"SubsidiaryName\",$C96,\"YearStart\",BA$13))),\"\")","v":""},{"$f":"IFERROR(IF($B96=\"\",\"\",\nIF(OR($L96=\"Nursery School\",$L96=\"All-through PRU\",$M96=\"True\"),\"n/a\",\nIF(GETPIVOTDATA(BH$21 & \"\",PivotTableB!$A$3,\"SchoolName\",$B96,\"SubsidiaryName\",$C96,\"YearStart\",BH$13)=\"\",\".\",\nGETPIVOTDATA(BH$21 & \"\",PivotTableB!$A$3,\"SchoolName\",$B96,\"SubsidiaryName\",$C96,\"YearStart\",BH$13)))),\"\")","v":""},{"$f":"IFERROR(IF(BH96=\".\",\".\",IF(BH96=\"n/a\",\"n/a\",\nGETPIVOTDATA(BI$21 & \"\",PivotTableB!$A$3,\"SchoolName\",$B96,\"SubsidiaryName\",$C96,\"YearStart\",BH$13))),\"\")","v":""},{"$f":"IFERROR(IF(BI96=\".\",\".\",IF(BI96=\"n/a\",\"n/a\",\nGETPIVOTDATA(BJ$21 & \"\",PivotTableB!$A$3,\"SchoolName\",$B96,\"SubsidiaryName\",$C96,\"YearStart\",BH$13))),\"\")","v":""},{"$f":"IFERROR(IF(BJ96=\".\",\".\",IF(BJ96=\"n/a\",\"n/a\",\nGETPIVOTDATA(BK$21 & \"\",PivotTableB!$A$3,\"SchoolName\",$B96,\"SubsidiaryName\",$C96,\"YearStart\",BH$13))),\"\")","v":""},0,{"$f":"IFERROR(IF(BL96=\".\",\".\",IF(BL96=\"n/a\",\"n/a\",\nGETPIVOTDATA(BM$21 & \"\",PivotTableB!$A$3,\"SchoolName\",$B96,\"SubsidiaryName\",$C96,\"YearStart\",BH$13))),\"\")","v":""},{"$f":"IFERROR(IF(BM96=\".\",\".\",IF(BM96=\"n/a\",\"n/a\",\nGETPIVOTDATA(BN$21 & \"\",PivotTableB!$A$3,\"SchoolName\",$B96,\"SubsidiaryName\",$C96,\"YearStart\",BH$13))),\"\")","v":""},{"$f":"IFERROR(IF($B96=\"\",\"\",\nIF(OR($L96=\"Nursery School\",$L96=\"All-through PRU\",$M96=\"True\"),\"n/a\",\nIF(GETPIVOTDATA(BO$21 & \"\",PivotTableB!$A$3,\"SchoolName\",$B96,\"SubsidiaryName\",$C96,\"YearStart\",BO$13)=\"\",\".\",\nGETPIVOTDATA(BO$21 & \"\",PivotTableB!$A$3,\"SchoolName\",$B96,\"SubsidiaryName\",$C96,\"YearStart\",BO$13)))),\"\")","v":""},{"$f":"IFERROR(IF(BO96=\".\",\".\",IF(BO96=\"n/a\",\"n/a\",\nGETPIVOTDATA(BP$21 & \"\",PivotTableB!$A$3,\"SchoolName\",$B96,\"SubsidiaryName\",$C96,\"YearStart\",BO$13))),\"\")","v":""},{"$f":"IFERROR(IF(BP96=\".\",\".\",IF(BP96=\"n/a\",\"n/a\",\nGETPIVOTDATA(BQ$21 & \"\",PivotTableB!$A$3,\"SchoolName\",$B96,\"SubsidiaryName\",$C96,\"YearStart\",BO$13))),\"\")","v":""},{"$f":"IFERROR(IF(BQ96=\".\",\".\",IF(BQ96=\"n/a\",\"n/a\",\nGETPIVOTDATA(BR$21 & \"\",PivotTableB!$A$3,\"SchoolName\",$B96,\"SubsidiaryName\",$C96,\"YearStart\",BP$13))),\"\")","v":""},0,{"$f":"IFERROR(IF(BS96=\".\",\".\",IF(BS96=\"n/a\",\"n/a\",\nGETPIVOTDATA(BT$21 & \"\",PivotTableB!$A$3,\"SchoolName\",$B96,\"SubsidiaryName\",$C96,\"YearStart\",BO$13))),\"\")","v":""},{"$f":"IFERROR(IF(BT96=\".\",\".\",IF(BT96=\"n/a\",\"n/a\",\nGETPIVOTDATA(BU$21 & \"\",PivotTableB!$A$3,\"SchoolName\",$B96,\"SubsidiaryName\",$C96,\"YearStart\",BO$13))),\"\")","v":""},{"$f":"IFERROR(IF($B96=\"\",\"\",\nIF(OR($L96=\"Nursery School\",$L96=\"All-through PRU\",$M96=\"True\"),\"n/a\",\nIF(GETPIVOTDATA(BV$21 & \"\",PivotTableB!$A$3,\"SchoolName\",$B96,\"SubsidiaryName\",$C96,\"YearStart\",BV$13)=\"\",\".\",\nGETPIVOTDATA(BV$21 & \"\",PivotTableB!$A$3,\"SchoolName\",$B96,\"SubsidiaryName\",$C96,\"YearStart\",BV$13)))),\"\")","v":""},{"$f":"IFERROR(IF(BV96=\".\",\".\",IF(BV96=\"n/a\",\"n/a\",\nGETPIVOTDATA(BW$21 & \"\",PivotTableB!$A$3,\"SchoolName\",$B96,\"SubsidiaryName\",$C96,\"YearStart\",BV$13))),\"\")","v":""},{"$f":"IFERROR(IF(BW96=\".\",\".\",IF(BW96=\"n/a\",\"n/a\",\nGETPIVOTDATA(BX$21 & \"\",PivotTableB!$A$3,\"SchoolName\",$B96,\"SubsidiaryName\",$C96,\"YearStart\",BV$13))),\"\")","v":""},{"$f":"IFERROR(IF(BX96=\".\",\".\",IF(BX96=\"n/a\",\"n/a\",\nGETPIVOTDATA(BY$21 & \"\",PivotTableB!$A$3,\"SchoolName\",$B96,\"SubsidiaryName\",$C96,\"YearStart\",BV$13))),\"\")","v":""},0,{"$f":"IFERROR(IF(BZ96=\".\",\".\",IF(BZ96=\"n/a\",\"n/a\",\nGETPIVOTDATA(CA$21 & \"\",PivotTableB!$A$3,\"SchoolName\",$B96,\"SubsidiaryName\",$C96,\"YearStart\",BV$13))),\"\")","v":""},{"$f":"IFERROR(IF(CA96=\".\",\".\",IF(CA96=\"n/a\",\"n/a\",\nGETPIVOTDATA(CB$21 & \"\",PivotTableB!$A$3,\"SchoolName\",$B96,\"SubsidiaryName\",$C96,\"YearStart\",BV$13))),\"\")","v":""}]
[]
[null,{"$f":"IF(SUBTOTAL(3,B22:B96)<COUNTIF(B22:B96,\"<>n/a\"),SUBTOTAL(3,B22:B96)-1 & \" schools\",COUNTIF(B22:B96,\"<>n/a\")-1 &\" schools\")","v":"66 schools"},null,null,null,null,null,null,null,null,null,null,null,null,null,null,{"$f":"SUBTOTAL(9,Q22:Q96)","v":4011},{"$f":"SUBTOTAL(9,R21:R95)","v":77},0,{"$f":"SUBTOTAL(9,T22:T96)","v":4088},{"$f":"SUBTOTAL(9,U22:U96)","v":0},{"$f":"SUBTOTAL(9,V22:V96)","v":21801},4190,{"$f":"SUBTOTAL(9,X21:X95)","v":183},36,4373,0,22662,4214,{"$f":"SUBTOTAL(9,AD21:AD95)","v":70},36,4284,0,23249,{"$f":"SUBTOTAL(9,AI22:AI96)","v":4239},{"$f":"SUBTOTAL(9,AJ21:AJ95)","v":134},36,4373,0,23405,4351,{"$f":"SUBTOTAL(9,AP21:AP95)","v":107},36,4458,0,23550,{"$f":"SUBTOTAL(9,AU22:AU96)","v":4400},{"$f":"SUBTOTAL(9,AV21:AV95)","v":24},36,4424,41,24493,4434,{"$f":"SUBTOTAL(9,BB21:BB95)","v":14},60,0,4508,41,24403,{"$f":"SUBTOTAL(9,BH22:BH96)","v":4417},{"$f":"SUBTOTAL(9,BI21:BI95)","v":14},60,36,4491,41,24403,4417,{"$f":"SUBTOTAL(9,BP21:BP95)","v":14},60,0,4491,41,24343,{"$f":"SUBTOTAL(9,BV22:BV96)","v":4417},{"$f":"SUBTOTAL(9,BW21:BW95)","v":14},60,{"$f":"SUBTOTAL(9,BY22:BY96)","v":36},4491,41,24343]